BEGIN:VCALENDAR
VERSION:2.0
PRODID:-//12 Step Outreach - ECPv6.11.2.1//NONSGML v1.0//EN
CALSCALE:GREGORIAN
METHOD:PUBLISH
X-ORIGINAL-URL:https://cp12stepoutreach.org
X-WR-CALDESC:Events for 12 Step Outreach
REFRESH-INTERVAL;VALUE=DURATION:PT1H
X-Robots-Tag:noindex
X-PUBLISHED-TTL:PT1H
BEGIN:VTIMEZONE
TZID:Europe/London
BEGIN:DAYLIGHT
TZOFFSETFROM:+0000
TZOFFSETTO:+0100
TZNAME:BST
DTSTART:20220327T010000
END:DAYLIGHT
BEGIN:STANDARD
TZOFFSETFROM:+0100
TZOFFSETTO:+0000
TZNAME:GMT
DTSTART:20221030T010000
END:STANDARD
END:VTIMEZONE
BEGIN:VEVENT
DTSTART;TZID=Europe/London:20221105T150000
DTEND;TZID=Europe/London:20221105T160000
DTSTAMP:20260420T042427
CREATED:20201112T224737Z
LAST-MODIFIED:20250219T230704Z
UID:10060840-1667660400-1667664000@cp12stepoutreach.org
SUMMARY:Guttermonks CP 12 Step Group - Sat. at 9am CST/3pm GMT - United Kingdom
DESCRIPTION:Topic: Guttermonks 12 step Centering prayer\nTime: 9 AM CST / 3 PM GMT\nWhen: Every week on Saturday\n\nZoom ID: 869 7014 7138 \nPassword: 310112 \nZoom ID: https://us05web.zoom.us/j/86970147138
URL:https://cp12stepoutreach.org/meeting-or-group/united-kingdom-saturday-uk-guttermonks-cp-12-step-group-9-am-cst/2022-11-05/
LOCATION:Zoom Meeting
CATEGORIES:Online 12 Step Centering Prayer Groups
ORGANIZER;CN="Barry B":MAILTO:barryburns1@hotmail.co.uk
END:VEVENT
BEGIN:VEVENT
DTSTART;TZID=Europe/London:20221029T150000
DTEND;TZID=Europe/London:20221029T160000
DTSTAMP:20260420T042427
CREATED:20201112T224737Z
LAST-MODIFIED:20250219T230704Z
UID:10060839-1667055600-1667059200@cp12stepoutreach.org
SUMMARY:Guttermonks CP 12 Step Group - Sat. at 9am CST/3pm GMT - United Kingdom
DESCRIPTION:Topic: Guttermonks 12 step Centering prayer\nTime: 9 AM CST / 3 PM GMT\nWhen: Every week on Saturday\n\nZoom ID: 869 7014 7138 \nPassword: 310112 \nZoom ID: https://us05web.zoom.us/j/86970147138
URL:https://cp12stepoutreach.org/meeting-or-group/united-kingdom-saturday-uk-guttermonks-cp-12-step-group-9-am-cst/2022-10-29/
LOCATION:Zoom Meeting
CATEGORIES:Online 12 Step Centering Prayer Groups
ORGANIZER;CN="Barry B":MAILTO:barryburns1@hotmail.co.uk
END:VEVENT
BEGIN:VEVENT
DTSTART;TZID=Europe/London:20221022T150000
DTEND;TZID=Europe/London:20221022T160000
DTSTAMP:20260420T042427
CREATED:20201112T224737Z
LAST-MODIFIED:20250219T230704Z
UID:10060838-1666450800-1666454400@cp12stepoutreach.org
SUMMARY:Guttermonks CP 12 Step Group - Sat. at 9am CST/3pm GMT - United Kingdom
DESCRIPTION:Topic: Guttermonks 12 step Centering prayer\nTime: 9 AM CST / 3 PM GMT\nWhen: Every week on Saturday\n\nZoom ID: 869 7014 7138 \nPassword: 310112 \nZoom ID: https://us05web.zoom.us/j/86970147138
URL:https://cp12stepoutreach.org/meeting-or-group/united-kingdom-saturday-uk-guttermonks-cp-12-step-group-9-am-cst/2022-10-22/
LOCATION:Zoom Meeting
CATEGORIES:Online 12 Step Centering Prayer Groups
ORGANIZER;CN="Barry B":MAILTO:barryburns1@hotmail.co.uk
END:VEVENT
BEGIN:VEVENT
DTSTART;TZID=Europe/London:20221015T150000
DTEND;TZID=Europe/London:20221015T160000
DTSTAMP:20260420T042427
CREATED:20201112T224737Z
LAST-MODIFIED:20250219T230704Z
UID:10060837-1665846000-1665849600@cp12stepoutreach.org
SUMMARY:Guttermonks CP 12 Step Group - Sat. at 9am CST/3pm GMT - United Kingdom
DESCRIPTION:Topic: Guttermonks 12 step Centering prayer\nTime: 9 AM CST / 3 PM GMT\nWhen: Every week on Saturday\n\nZoom ID: 869 7014 7138 \nPassword: 310112 \nZoom ID: https://us05web.zoom.us/j/86970147138
URL:https://cp12stepoutreach.org/meeting-or-group/united-kingdom-saturday-uk-guttermonks-cp-12-step-group-9-am-cst/2022-10-15/
LOCATION:Zoom Meeting
CATEGORIES:Online 12 Step Centering Prayer Groups
ORGANIZER;CN="Barry B":MAILTO:barryburns1@hotmail.co.uk
END:VEVENT
BEGIN:VEVENT
DTSTART;TZID=Europe/London:20221008T150000
DTEND;TZID=Europe/London:20221008T160000
DTSTAMP:20260420T042427
CREATED:20201112T224737Z
LAST-MODIFIED:20250219T230704Z
UID:10060836-1665241200-1665244800@cp12stepoutreach.org
SUMMARY:Guttermonks CP 12 Step Group - Sat. at 9am CST/3pm GMT - United Kingdom
DESCRIPTION:Topic: Guttermonks 12 step Centering prayer\nTime: 9 AM CST / 3 PM GMT\nWhen: Every week on Saturday\n\nZoom ID: 869 7014 7138 \nPassword: 310112 \nZoom ID: https://us05web.zoom.us/j/86970147138
URL:https://cp12stepoutreach.org/meeting-or-group/united-kingdom-saturday-uk-guttermonks-cp-12-step-group-9-am-cst/2022-10-08/
LOCATION:Zoom Meeting
CATEGORIES:Online 12 Step Centering Prayer Groups
ORGANIZER;CN="Barry B":MAILTO:barryburns1@hotmail.co.uk
END:VEVENT
BEGIN:VEVENT
DTSTART;TZID=Europe/London:20221001T150000
DTEND;TZID=Europe/London:20221001T160000
DTSTAMP:20260420T042427
CREATED:20201112T224737Z
LAST-MODIFIED:20250219T230704Z
UID:10060835-1664636400-1664640000@cp12stepoutreach.org
SUMMARY:Guttermonks CP 12 Step Group - Sat. at 9am CST/3pm GMT - United Kingdom
DESCRIPTION:Topic: Guttermonks 12 step Centering prayer\nTime: 9 AM CST / 3 PM GMT\nWhen: Every week on Saturday\n\nZoom ID: 869 7014 7138 \nPassword: 310112 \nZoom ID: https://us05web.zoom.us/j/86970147138
URL:https://cp12stepoutreach.org/meeting-or-group/united-kingdom-saturday-uk-guttermonks-cp-12-step-group-9-am-cst/2022-10-01/
LOCATION:Zoom Meeting
CATEGORIES:Online 12 Step Centering Prayer Groups
ORGANIZER;CN="Barry B":MAILTO:barryburns1@hotmail.co.uk
END:VEVENT
BEGIN:VEVENT
DTSTART;TZID=Europe/London:20220924T150000
DTEND;TZID=Europe/London:20220924T160000
DTSTAMP:20260420T042427
CREATED:20201112T224737Z
LAST-MODIFIED:20250219T230704Z
UID:10060834-1664031600-1664035200@cp12stepoutreach.org
SUMMARY:Guttermonks CP 12 Step Group - Sat. at 9am CST/3pm GMT - United Kingdom
DESCRIPTION:Topic: Guttermonks 12 step Centering prayer\nTime: 9 AM CST / 3 PM GMT\nWhen: Every week on Saturday\n\nZoom ID: 869 7014 7138 \nPassword: 310112 \nZoom ID: https://us05web.zoom.us/j/86970147138
URL:https://cp12stepoutreach.org/meeting-or-group/united-kingdom-saturday-uk-guttermonks-cp-12-step-group-9-am-cst/2022-09-24/
LOCATION:Zoom Meeting
CATEGORIES:Online 12 Step Centering Prayer Groups
ORGANIZER;CN="Barry B":MAILTO:barryburns1@hotmail.co.uk
END:VEVENT
BEGIN:VEVENT
DTSTART;TZID=Europe/London:20220917T150000
DTEND;TZID=Europe/London:20220917T160000
DTSTAMP:20260420T042427
CREATED:20201112T224737Z
LAST-MODIFIED:20250219T230704Z
UID:10060833-1663426800-1663430400@cp12stepoutreach.org
SUMMARY:Guttermonks CP 12 Step Group - Sat. at 9am CST/3pm GMT - United Kingdom
DESCRIPTION:Topic: Guttermonks 12 step Centering prayer\nTime: 9 AM CST / 3 PM GMT\nWhen: Every week on Saturday\n\nZoom ID: 869 7014 7138 \nPassword: 310112 \nZoom ID: https://us05web.zoom.us/j/86970147138
URL:https://cp12stepoutreach.org/meeting-or-group/united-kingdom-saturday-uk-guttermonks-cp-12-step-group-9-am-cst/2022-09-17/
LOCATION:Zoom Meeting
CATEGORIES:Online 12 Step Centering Prayer Groups
ORGANIZER;CN="Barry B":MAILTO:barryburns1@hotmail.co.uk
END:VEVENT
BEGIN:VEVENT
DTSTART;TZID=Europe/London:20220910T150000
DTEND;TZID=Europe/London:20220910T160000
DTSTAMP:20260420T042427
CREATED:20201112T224737Z
LAST-MODIFIED:20250219T230704Z
UID:10060832-1662822000-1662825600@cp12stepoutreach.org
SUMMARY:Guttermonks CP 12 Step Group - Sat. at 9am CST/3pm GMT - United Kingdom
DESCRIPTION:Topic: Guttermonks 12 step Centering prayer\nTime: 9 AM CST / 3 PM GMT\nWhen: Every week on Saturday\n\nZoom ID: 869 7014 7138 \nPassword: 310112 \nZoom ID: https://us05web.zoom.us/j/86970147138
URL:https://cp12stepoutreach.org/meeting-or-group/united-kingdom-saturday-uk-guttermonks-cp-12-step-group-9-am-cst/2022-09-10/
LOCATION:Zoom Meeting
CATEGORIES:Online 12 Step Centering Prayer Groups
ORGANIZER;CN="Barry B":MAILTO:barryburns1@hotmail.co.uk
END:VEVENT
BEGIN:VEVENT
DTSTART;TZID=Europe/London:20220903T150000
DTEND;TZID=Europe/London:20220903T160000
DTSTAMP:20260420T042427
CREATED:20201112T224737Z
LAST-MODIFIED:20250219T230704Z
UID:10060831-1662217200-1662220800@cp12stepoutreach.org
SUMMARY:Guttermonks CP 12 Step Group - Sat. at 9am CST/3pm GMT - United Kingdom
DESCRIPTION:Topic: Guttermonks 12 step Centering prayer\nTime: 9 AM CST / 3 PM GMT\nWhen: Every week on Saturday\n\nZoom ID: 869 7014 7138 \nPassword: 310112 \nZoom ID: https://us05web.zoom.us/j/86970147138
URL:https://cp12stepoutreach.org/meeting-or-group/united-kingdom-saturday-uk-guttermonks-cp-12-step-group-9-am-cst/2022-09-03/
LOCATION:Zoom Meeting
CATEGORIES:Online 12 Step Centering Prayer Groups
ORGANIZER;CN="Barry B":MAILTO:barryburns1@hotmail.co.uk
END:VEVENT
BEGIN:VEVENT
DTSTART;TZID=Europe/London:20220827T150000
DTEND;TZID=Europe/London:20220827T160000
DTSTAMP:20260420T042427
CREATED:20201112T224737Z
LAST-MODIFIED:20250219T230704Z
UID:10060830-1661612400-1661616000@cp12stepoutreach.org
SUMMARY:Guttermonks CP 12 Step Group - Sat. at 9am CST/3pm GMT - United Kingdom
DESCRIPTION:Topic: Guttermonks 12 step Centering prayer\nTime: 9 AM CST / 3 PM GMT\nWhen: Every week on Saturday\n\nZoom ID: 869 7014 7138 \nPassword: 310112 \nZoom ID: https://us05web.zoom.us/j/86970147138
URL:https://cp12stepoutreach.org/meeting-or-group/united-kingdom-saturday-uk-guttermonks-cp-12-step-group-9-am-cst/2022-08-27/
LOCATION:Zoom Meeting
CATEGORIES:Online 12 Step Centering Prayer Groups
ORGANIZER;CN="Barry B":MAILTO:barryburns1@hotmail.co.uk
END:VEVENT
BEGIN:VEVENT
DTSTART;TZID=Europe/London:20220820T150000
DTEND;TZID=Europe/London:20220820T160000
DTSTAMP:20260420T042427
CREATED:20201112T224737Z
LAST-MODIFIED:20250219T230704Z
UID:10060829-1661007600-1661011200@cp12stepoutreach.org
SUMMARY:Guttermonks CP 12 Step Group - Sat. at 9am CST/3pm GMT - United Kingdom
DESCRIPTION:Topic: Guttermonks 12 step Centering prayer\nTime: 9 AM CST / 3 PM GMT\nWhen: Every week on Saturday\n\nZoom ID: 869 7014 7138 \nPassword: 310112 \nZoom ID: https://us05web.zoom.us/j/86970147138
URL:https://cp12stepoutreach.org/meeting-or-group/united-kingdom-saturday-uk-guttermonks-cp-12-step-group-9-am-cst/2022-08-20/
LOCATION:Zoom Meeting
CATEGORIES:Online 12 Step Centering Prayer Groups
ORGANIZER;CN="Barry B":MAILTO:barryburns1@hotmail.co.uk
END:VEVENT
BEGIN:VEVENT
DTSTART;TZID=Europe/London:20220813T150000
DTEND;TZID=Europe/London:20220813T160000
DTSTAMP:20260420T042427
CREATED:20201112T224737Z
LAST-MODIFIED:20250219T230704Z
UID:10060828-1660402800-1660406400@cp12stepoutreach.org
SUMMARY:Guttermonks CP 12 Step Group - Sat. at 9am CST/3pm GMT - United Kingdom
DESCRIPTION:Topic: Guttermonks 12 step Centering prayer\nTime: 9 AM CST / 3 PM GMT\nWhen: Every week on Saturday\n\nZoom ID: 869 7014 7138 \nPassword: 310112 \nZoom ID: https://us05web.zoom.us/j/86970147138
URL:https://cp12stepoutreach.org/meeting-or-group/united-kingdom-saturday-uk-guttermonks-cp-12-step-group-9-am-cst/2022-08-13/
LOCATION:Zoom Meeting
CATEGORIES:Online 12 Step Centering Prayer Groups
ORGANIZER;CN="Barry B":MAILTO:barryburns1@hotmail.co.uk
END:VEVENT
BEGIN:VEVENT
DTSTART;TZID=Europe/London:20220806T150000
DTEND;TZID=Europe/London:20220806T160000
DTSTAMP:20260420T042427
CREATED:20201112T224737Z
LAST-MODIFIED:20250219T230704Z
UID:10060827-1659798000-1659801600@cp12stepoutreach.org
SUMMARY:Guttermonks CP 12 Step Group - Sat. at 9am CST/3pm GMT - United Kingdom
DESCRIPTION:Topic: Guttermonks 12 step Centering prayer\nTime: 9 AM CST / 3 PM GMT\nWhen: Every week on Saturday\n\nZoom ID: 869 7014 7138 \nPassword: 310112 \nZoom ID: https://us05web.zoom.us/j/86970147138
URL:https://cp12stepoutreach.org/meeting-or-group/united-kingdom-saturday-uk-guttermonks-cp-12-step-group-9-am-cst/2022-08-06/
LOCATION:Zoom Meeting
CATEGORIES:Online 12 Step Centering Prayer Groups
ORGANIZER;CN="Barry B":MAILTO:barryburns1@hotmail.co.uk
END:VEVENT
BEGIN:VEVENT
DTSTART;TZID=Europe/London:20220730T150000
DTEND;TZID=Europe/London:20220730T160000
DTSTAMP:20260420T042427
CREATED:20201112T224737Z
LAST-MODIFIED:20250219T230704Z
UID:10060826-1659193200-1659196800@cp12stepoutreach.org
SUMMARY:Guttermonks CP 12 Step Group - Sat. at 9am CST/3pm GMT - United Kingdom
DESCRIPTION:Topic: Guttermonks 12 step Centering prayer\nTime: 9 AM CST / 3 PM GMT\nWhen: Every week on Saturday\n\nZoom ID: 869 7014 7138 \nPassword: 310112 \nZoom ID: https://us05web.zoom.us/j/86970147138
URL:https://cp12stepoutreach.org/meeting-or-group/united-kingdom-saturday-uk-guttermonks-cp-12-step-group-9-am-cst/2022-07-30/
LOCATION:Zoom Meeting
CATEGORIES:Online 12 Step Centering Prayer Groups
ORGANIZER;CN="Barry B":MAILTO:barryburns1@hotmail.co.uk
END:VEVENT
BEGIN:VEVENT
DTSTART;TZID=Europe/London:20220723T150000
DTEND;TZID=Europe/London:20220723T160000
DTSTAMP:20260420T042427
CREATED:20201112T224737Z
LAST-MODIFIED:20250219T230704Z
UID:10060825-1658588400-1658592000@cp12stepoutreach.org
SUMMARY:Guttermonks CP 12 Step Group - Sat. at 9am CST/3pm GMT - United Kingdom
DESCRIPTION:Topic: Guttermonks 12 step Centering prayer\nTime: 9 AM CST / 3 PM GMT\nWhen: Every week on Saturday\n\nZoom ID: 869 7014 7138 \nPassword: 310112 \nZoom ID: https://us05web.zoom.us/j/86970147138
URL:https://cp12stepoutreach.org/meeting-or-group/united-kingdom-saturday-uk-guttermonks-cp-12-step-group-9-am-cst/2022-07-23/
LOCATION:Zoom Meeting
CATEGORIES:Online 12 Step Centering Prayer Groups
ORGANIZER;CN="Barry B":MAILTO:barryburns1@hotmail.co.uk
END:VEVENT
BEGIN:VEVENT
DTSTART;TZID=Europe/London:20220716T150000
DTEND;TZID=Europe/London:20220716T160000
DTSTAMP:20260420T042427
CREATED:20201112T224737Z
LAST-MODIFIED:20250219T230704Z
UID:10060824-1657983600-1657987200@cp12stepoutreach.org
SUMMARY:Guttermonks CP 12 Step Group - Sat. at 9am CST/3pm GMT - United Kingdom
DESCRIPTION:Topic: Guttermonks 12 step Centering prayer\nTime: 9 AM CST / 3 PM GMT\nWhen: Every week on Saturday\n\nZoom ID: 869 7014 7138 \nPassword: 310112 \nZoom ID: https://us05web.zoom.us/j/86970147138
URL:https://cp12stepoutreach.org/meeting-or-group/united-kingdom-saturday-uk-guttermonks-cp-12-step-group-9-am-cst/2022-07-16/
LOCATION:Zoom Meeting
CATEGORIES:Online 12 Step Centering Prayer Groups
ORGANIZER;CN="Barry B":MAILTO:barryburns1@hotmail.co.uk
END:VEVENT
BEGIN:VEVENT
DTSTART;TZID=Europe/London:20220709T150000
DTEND;TZID=Europe/London:20220709T160000
DTSTAMP:20260420T042427
CREATED:20201112T224737Z
LAST-MODIFIED:20250219T230704Z
UID:10060823-1657378800-1657382400@cp12stepoutreach.org
SUMMARY:Guttermonks CP 12 Step Group - Sat. at 9am CST/3pm GMT - United Kingdom
DESCRIPTION:Topic: Guttermonks 12 step Centering prayer\nTime: 9 AM CST / 3 PM GMT\nWhen: Every week on Saturday\n\nZoom ID: 869 7014 7138 \nPassword: 310112 \nZoom ID: https://us05web.zoom.us/j/86970147138
URL:https://cp12stepoutreach.org/meeting-or-group/united-kingdom-saturday-uk-guttermonks-cp-12-step-group-9-am-cst/2022-07-09/
LOCATION:Zoom Meeting
CATEGORIES:Online 12 Step Centering Prayer Groups
ORGANIZER;CN="Barry B":MAILTO:barryburns1@hotmail.co.uk
END:VEVENT
BEGIN:VEVENT
DTSTART;TZID=Europe/London:20220702T150000
DTEND;TZID=Europe/London:20220702T160000
DTSTAMP:20260420T042427
CREATED:20201112T224737Z
LAST-MODIFIED:20250219T230704Z
UID:10060822-1656774000-1656777600@cp12stepoutreach.org
SUMMARY:Guttermonks CP 12 Step Group - Sat. at 9am CST/3pm GMT - United Kingdom
DESCRIPTION:Topic: Guttermonks 12 step Centering prayer\nTime: 9 AM CST / 3 PM GMT\nWhen: Every week on Saturday\n\nZoom ID: 869 7014 7138 \nPassword: 310112 \nZoom ID: https://us05web.zoom.us/j/86970147138
URL:https://cp12stepoutreach.org/meeting-or-group/united-kingdom-saturday-uk-guttermonks-cp-12-step-group-9-am-cst/2022-07-02/
LOCATION:Zoom Meeting
CATEGORIES:Online 12 Step Centering Prayer Groups
ORGANIZER;CN="Barry B":MAILTO:barryburns1@hotmail.co.uk
END:VEVENT
BEGIN:VEVENT
DTSTART;TZID=Europe/London:20220625T150000
DTEND;TZID=Europe/London:20220625T160000
DTSTAMP:20260420T042427
CREATED:20201112T224737Z
LAST-MODIFIED:20250219T230704Z
UID:10060821-1656169200-1656172800@cp12stepoutreach.org
SUMMARY:Guttermonks CP 12 Step Group - Sat. at 9am CST/3pm GMT - United Kingdom
DESCRIPTION:Topic: Guttermonks 12 step Centering prayer\nTime: 9 AM CST / 3 PM GMT\nWhen: Every week on Saturday\n\nZoom ID: 869 7014 7138 \nPassword: 310112 \nZoom ID: https://us05web.zoom.us/j/86970147138
URL:https://cp12stepoutreach.org/meeting-or-group/united-kingdom-saturday-uk-guttermonks-cp-12-step-group-9-am-cst/2022-06-25/
LOCATION:Zoom Meeting
CATEGORIES:Online 12 Step Centering Prayer Groups
ORGANIZER;CN="Barry B":MAILTO:barryburns1@hotmail.co.uk
END:VEVENT
BEGIN:VEVENT
DTSTART;TZID=Europe/London:20220618T150000
DTEND;TZID=Europe/London:20220618T160000
DTSTAMP:20260420T042427
CREATED:20201112T224737Z
LAST-MODIFIED:20250219T230704Z
UID:10060820-1655564400-1655568000@cp12stepoutreach.org
SUMMARY:Guttermonks CP 12 Step Group - Sat. at 9am CST/3pm GMT - United Kingdom
DESCRIPTION:Topic: Guttermonks 12 step Centering prayer\nTime: 9 AM CST / 3 PM GMT\nWhen: Every week on Saturday\n\nZoom ID: 869 7014 7138 \nPassword: 310112 \nZoom ID: https://us05web.zoom.us/j/86970147138
URL:https://cp12stepoutreach.org/meeting-or-group/united-kingdom-saturday-uk-guttermonks-cp-12-step-group-9-am-cst/2022-06-18/
LOCATION:Zoom Meeting
CATEGORIES:Online 12 Step Centering Prayer Groups
ORGANIZER;CN="Barry B":MAILTO:barryburns1@hotmail.co.uk
END:VEVENT
BEGIN:VEVENT
DTSTART;TZID=Europe/London:20220611T150000
DTEND;TZID=Europe/London:20220611T160000
DTSTAMP:20260420T042427
CREATED:20201112T224737Z
LAST-MODIFIED:20250219T230704Z
UID:10060819-1654959600-1654963200@cp12stepoutreach.org
SUMMARY:Guttermonks CP 12 Step Group - Sat. at 9am CST/3pm GMT - United Kingdom
DESCRIPTION:Topic: Guttermonks 12 step Centering prayer\nTime: 9 AM CST / 3 PM GMT\nWhen: Every week on Saturday\n\nZoom ID: 869 7014 7138 \nPassword: 310112 \nZoom ID: https://us05web.zoom.us/j/86970147138
URL:https://cp12stepoutreach.org/meeting-or-group/united-kingdom-saturday-uk-guttermonks-cp-12-step-group-9-am-cst/2022-06-11/
LOCATION:Zoom Meeting
CATEGORIES:Online 12 Step Centering Prayer Groups
ORGANIZER;CN="Barry B":MAILTO:barryburns1@hotmail.co.uk
END:VEVENT
BEGIN:VEVENT
DTSTART;TZID=Europe/London:20220604T150000
DTEND;TZID=Europe/London:20220604T160000
DTSTAMP:20260420T042427
CREATED:20201112T224737Z
LAST-MODIFIED:20250219T230704Z
UID:10060818-1654354800-1654358400@cp12stepoutreach.org
SUMMARY:Guttermonks CP 12 Step Group - Sat. at 9am CST/3pm GMT - United Kingdom
DESCRIPTION:Topic: Guttermonks 12 step Centering prayer\nTime: 9 AM CST / 3 PM GMT\nWhen: Every week on Saturday\n\nZoom ID: 869 7014 7138 \nPassword: 310112 \nZoom ID: https://us05web.zoom.us/j/86970147138
URL:https://cp12stepoutreach.org/meeting-or-group/united-kingdom-saturday-uk-guttermonks-cp-12-step-group-9-am-cst/2022-06-04/
LOCATION:Zoom Meeting
CATEGORIES:Online 12 Step Centering Prayer Groups
ORGANIZER;CN="Barry B":MAILTO:barryburns1@hotmail.co.uk
END:VEVENT
BEGIN:VEVENT
DTSTART;TZID=Europe/London:20220528T150000
DTEND;TZID=Europe/London:20220528T160000
DTSTAMP:20260420T042427
CREATED:20201112T224737Z
LAST-MODIFIED:20250219T230704Z
UID:10060817-1653750000-1653753600@cp12stepoutreach.org
SUMMARY:Guttermonks CP 12 Step Group - Sat. at 9am CST/3pm GMT - United Kingdom
DESCRIPTION:Topic: Guttermonks 12 step Centering prayer\nTime: 9 AM CST / 3 PM GMT\nWhen: Every week on Saturday\n\nZoom ID: 869 7014 7138 \nPassword: 310112 \nZoom ID: https://us05web.zoom.us/j/86970147138
URL:https://cp12stepoutreach.org/meeting-or-group/united-kingdom-saturday-uk-guttermonks-cp-12-step-group-9-am-cst/2022-05-28/
LOCATION:Zoom Meeting
CATEGORIES:Online 12 Step Centering Prayer Groups
ORGANIZER;CN="Barry B":MAILTO:barryburns1@hotmail.co.uk
END:VEVENT
BEGIN:VEVENT
DTSTART;TZID=Europe/London:20220521T150000
DTEND;TZID=Europe/London:20220521T160000
DTSTAMP:20260420T042427
CREATED:20201112T224737Z
LAST-MODIFIED:20250219T230704Z
UID:10060816-1653145200-1653148800@cp12stepoutreach.org
SUMMARY:Guttermonks CP 12 Step Group - Sat. at 9am CST/3pm GMT - United Kingdom
DESCRIPTION:Topic: Guttermonks 12 step Centering prayer\nTime: 9 AM CST / 3 PM GMT\nWhen: Every week on Saturday\n\nZoom ID: 869 7014 7138 \nPassword: 310112 \nZoom ID: https://us05web.zoom.us/j/86970147138
URL:https://cp12stepoutreach.org/meeting-or-group/united-kingdom-saturday-uk-guttermonks-cp-12-step-group-9-am-cst/2022-05-21/
LOCATION:Zoom Meeting
CATEGORIES:Online 12 Step Centering Prayer Groups
ORGANIZER;CN="Barry B":MAILTO:barryburns1@hotmail.co.uk
END:VEVENT
BEGIN:VEVENT
DTSTART;TZID=Europe/London:20220514T150000
DTEND;TZID=Europe/London:20220514T160000
DTSTAMP:20260420T042427
CREATED:20201112T224737Z
LAST-MODIFIED:20250219T230704Z
UID:10060815-1652540400-1652544000@cp12stepoutreach.org
SUMMARY:Guttermonks CP 12 Step Group - Sat. at 9am CST/3pm GMT - United Kingdom
DESCRIPTION:Topic: Guttermonks 12 step Centering prayer\nTime: 9 AM CST / 3 PM GMT\nWhen: Every week on Saturday\n\nZoom ID: 869 7014 7138 \nPassword: 310112 \nZoom ID: https://us05web.zoom.us/j/86970147138
URL:https://cp12stepoutreach.org/meeting-or-group/united-kingdom-saturday-uk-guttermonks-cp-12-step-group-9-am-cst/2022-05-14/
LOCATION:Zoom Meeting
CATEGORIES:Online 12 Step Centering Prayer Groups
ORGANIZER;CN="Barry B":MAILTO:barryburns1@hotmail.co.uk
END:VEVENT
BEGIN:VEVENT
DTSTART;TZID=Europe/London:20220507T150000
DTEND;TZID=Europe/London:20220507T160000
DTSTAMP:20260420T042427
CREATED:20201112T224737Z
LAST-MODIFIED:20250219T230704Z
UID:10060814-1651935600-1651939200@cp12stepoutreach.org
SUMMARY:Guttermonks CP 12 Step Group - Sat. at 9am CST/3pm GMT - United Kingdom
DESCRIPTION:Topic: Guttermonks 12 step Centering prayer\nTime: 9 AM CST / 3 PM GMT\nWhen: Every week on Saturday\n\nZoom ID: 869 7014 7138 \nPassword: 310112 \nZoom ID: https://us05web.zoom.us/j/86970147138
URL:https://cp12stepoutreach.org/meeting-or-group/united-kingdom-saturday-uk-guttermonks-cp-12-step-group-9-am-cst/2022-05-07/
LOCATION:Zoom Meeting
CATEGORIES:Online 12 Step Centering Prayer Groups
ORGANIZER;CN="Barry B":MAILTO:barryburns1@hotmail.co.uk
END:VEVENT
BEGIN:VEVENT
DTSTART;TZID=Europe/London:20220430T150000
DTEND;TZID=Europe/London:20220430T160000
DTSTAMP:20260420T042427
CREATED:20201112T224737Z
LAST-MODIFIED:20250219T230704Z
UID:10060813-1651330800-1651334400@cp12stepoutreach.org
SUMMARY:Guttermonks CP 12 Step Group - Sat. at 9am CST/3pm GMT - United Kingdom
DESCRIPTION:Topic: Guttermonks 12 step Centering prayer\nTime: 9 AM CST / 3 PM GMT\nWhen: Every week on Saturday\n\nZoom ID: 869 7014 7138 \nPassword: 310112 \nZoom ID: https://us05web.zoom.us/j/86970147138
URL:https://cp12stepoutreach.org/meeting-or-group/united-kingdom-saturday-uk-guttermonks-cp-12-step-group-9-am-cst/2022-04-30/
LOCATION:Zoom Meeting
CATEGORIES:Online 12 Step Centering Prayer Groups
ORGANIZER;CN="Barry B":MAILTO:barryburns1@hotmail.co.uk
END:VEVENT
BEGIN:VEVENT
DTSTART;TZID=Europe/London:20220423T150000
DTEND;TZID=Europe/London:20220423T160000
DTSTAMP:20260420T042427
CREATED:20201112T224737Z
LAST-MODIFIED:20250219T230704Z
UID:10060812-1650726000-1650729600@cp12stepoutreach.org
SUMMARY:Guttermonks CP 12 Step Group - Sat. at 9am CST/3pm GMT - United Kingdom
DESCRIPTION:Topic: Guttermonks 12 step Centering prayer\nTime: 9 AM CST / 3 PM GMT\nWhen: Every week on Saturday\n\nZoom ID: 869 7014 7138 \nPassword: 310112 \nZoom ID: https://us05web.zoom.us/j/86970147138
URL:https://cp12stepoutreach.org/meeting-or-group/united-kingdom-saturday-uk-guttermonks-cp-12-step-group-9-am-cst/2022-04-23/
LOCATION:Zoom Meeting
CATEGORIES:Online 12 Step Centering Prayer Groups
ORGANIZER;CN="Barry B":MAILTO:barryburns1@hotmail.co.uk
END:VEVENT
BEGIN:VEVENT
DTSTART;TZID=Europe/London:20220416T150000
DTEND;TZID=Europe/London:20220416T160000
DTSTAMP:20260420T042427
CREATED:20201112T224737Z
LAST-MODIFIED:20250219T230704Z
UID:10060811-1650121200-1650124800@cp12stepoutreach.org
SUMMARY:Guttermonks CP 12 Step Group - Sat. at 9am CST/3pm GMT - United Kingdom
DESCRIPTION:Topic: Guttermonks 12 step Centering prayer\nTime: 9 AM CST / 3 PM GMT\nWhen: Every week on Saturday\n\nZoom ID: 869 7014 7138 \nPassword: 310112 \nZoom ID: https://us05web.zoom.us/j/86970147138
URL:https://cp12stepoutreach.org/meeting-or-group/united-kingdom-saturday-uk-guttermonks-cp-12-step-group-9-am-cst/2022-04-16/
LOCATION:Zoom Meeting
CATEGORIES:Online 12 Step Centering Prayer Groups
ORGANIZER;CN="Barry B":MAILTO:barryburns1@hotmail.co.uk
END:VEVENT
END:VCALENDAR