BEGIN:VCALENDAR
VERSION:2.0
PRODID:-//12 Step Outreach - ECPv6.11.2.1//NONSGML v1.0//EN
CALSCALE:GREGORIAN
METHOD:PUBLISH
X-ORIGINAL-URL:https://cp12stepoutreach.org
X-WR-CALDESC:Events for 12 Step Outreach
REFRESH-INTERVAL;VALUE=DURATION:PT1H
X-Robots-Tag:noindex
X-PUBLISHED-TTL:PT1H
BEGIN:VTIMEZONE
TZID:America/Chicago
BEGIN:DAYLIGHT
TZOFFSETFROM:-0600
TZOFFSETTO:-0500
TZNAME:CDT
DTSTART:20290311T080000
END:DAYLIGHT
BEGIN:STANDARD
TZOFFSETFROM:-0500
TZOFFSETTO:-0600
TZNAME:CST
DTSTART:20291104T070000
END:STANDARD
BEGIN:DAYLIGHT
TZOFFSETFROM:-0600
TZOFFSETTO:-0500
TZNAME:CDT
DTSTART:20300310T080000
END:DAYLIGHT
BEGIN:STANDARD
TZOFFSETFROM:-0500
TZOFFSETTO:-0600
TZNAME:CST
DTSTART:20301103T070000
END:STANDARD
END:VTIMEZONE
BEGIN:VEVENT
DTSTART;TZID=America/Chicago:20291006T090000
DTEND;TZID=America/Chicago:20291006T100000
DTSTAMP:20260420T030140
CREATED:20250324T182144Z
LAST-MODIFIED:20250324T182144Z
UID:10069321-1885971600-1885975200@cp12stepoutreach.org
SUMMARY:Guttermonks CP 12 Step Group - Sat. at 9am CST/3pm GMT - United Kingdom
DESCRIPTION:Topic: Guttermonks 12 step Centering prayer\nTime: 9 AM CST / 3 PM GMT\nWhen: Every week on Saturday\n\nZoom ID: 869 7014 7138 \nPassword: 310112 \nZoom ID: https://us05web.zoom.us/j/86970147138
URL:https://cp12stepoutreach.org/meeting-or-group/united-kingdom-saturday-uk-guttermonks-cp-12-step-group-9-am-cst-2/2029-10-06/
LOCATION:Zoom Meeting
CATEGORIES:Online 12 Step Centering Prayer Groups
ORGANIZER;CN="Barry B":MAILTO:barryburns1@hotmail.co.uk
END:VEVENT
BEGIN:VEVENT
DTSTART;TZID=America/Chicago:20291013T090000
DTEND;TZID=America/Chicago:20291013T100000
DTSTAMP:20260420T030140
CREATED:20250324T182144Z
LAST-MODIFIED:20250324T182144Z
UID:10069322-1886576400-1886580000@cp12stepoutreach.org
SUMMARY:Guttermonks CP 12 Step Group - Sat. at 9am CST/3pm GMT - United Kingdom
DESCRIPTION:Topic: Guttermonks 12 step Centering prayer\nTime: 9 AM CST / 3 PM GMT\nWhen: Every week on Saturday\n\nZoom ID: 869 7014 7138 \nPassword: 310112 \nZoom ID: https://us05web.zoom.us/j/86970147138
URL:https://cp12stepoutreach.org/meeting-or-group/united-kingdom-saturday-uk-guttermonks-cp-12-step-group-9-am-cst-2/2029-10-13/
LOCATION:Zoom Meeting
CATEGORIES:Online 12 Step Centering Prayer Groups
ORGANIZER;CN="Barry B":MAILTO:barryburns1@hotmail.co.uk
END:VEVENT
BEGIN:VEVENT
DTSTART;TZID=America/Chicago:20291020T090000
DTEND;TZID=America/Chicago:20291020T100000
DTSTAMP:20260420T030140
CREATED:20250324T182144Z
LAST-MODIFIED:20250324T182144Z
UID:10069323-1887181200-1887184800@cp12stepoutreach.org
SUMMARY:Guttermonks CP 12 Step Group - Sat. at 9am CST/3pm GMT - United Kingdom
DESCRIPTION:Topic: Guttermonks 12 step Centering prayer\nTime: 9 AM CST / 3 PM GMT\nWhen: Every week on Saturday\n\nZoom ID: 869 7014 7138 \nPassword: 310112 \nZoom ID: https://us05web.zoom.us/j/86970147138
URL:https://cp12stepoutreach.org/meeting-or-group/united-kingdom-saturday-uk-guttermonks-cp-12-step-group-9-am-cst-2/2029-10-20/
LOCATION:Zoom Meeting
CATEGORIES:Online 12 Step Centering Prayer Groups
ORGANIZER;CN="Barry B":MAILTO:barryburns1@hotmail.co.uk
END:VEVENT
BEGIN:VEVENT
DTSTART;TZID=America/Chicago:20291027T090000
DTEND;TZID=America/Chicago:20291027T100000
DTSTAMP:20260420T030140
CREATED:20250324T182144Z
LAST-MODIFIED:20250324T182144Z
UID:10069324-1887786000-1887789600@cp12stepoutreach.org
SUMMARY:Guttermonks CP 12 Step Group - Sat. at 9am CST/3pm GMT - United Kingdom
DESCRIPTION:Topic: Guttermonks 12 step Centering prayer\nTime: 9 AM CST / 3 PM GMT\nWhen: Every week on Saturday\n\nZoom ID: 869 7014 7138 \nPassword: 310112 \nZoom ID: https://us05web.zoom.us/j/86970147138
URL:https://cp12stepoutreach.org/meeting-or-group/united-kingdom-saturday-uk-guttermonks-cp-12-step-group-9-am-cst-2/2029-10-27/
LOCATION:Zoom Meeting
CATEGORIES:Online 12 Step Centering Prayer Groups
ORGANIZER;CN="Barry B":MAILTO:barryburns1@hotmail.co.uk
END:VEVENT
BEGIN:VEVENT
DTSTART;TZID=America/Chicago:20291103T090000
DTEND;TZID=America/Chicago:20291103T100000
DTSTAMP:20260420T030140
CREATED:20250324T182144Z
LAST-MODIFIED:20250324T182144Z
UID:10069325-1888390800-1888394400@cp12stepoutreach.org
SUMMARY:Guttermonks CP 12 Step Group - Sat. at 9am CST/3pm GMT - United Kingdom
DESCRIPTION:Topic: Guttermonks 12 step Centering prayer\nTime: 9 AM CST / 3 PM GMT\nWhen: Every week on Saturday\n\nZoom ID: 869 7014 7138 \nPassword: 310112 \nZoom ID: https://us05web.zoom.us/j/86970147138
URL:https://cp12stepoutreach.org/meeting-or-group/united-kingdom-saturday-uk-guttermonks-cp-12-step-group-9-am-cst-2/2029-11-03/
LOCATION:Zoom Meeting
CATEGORIES:Online 12 Step Centering Prayer Groups
ORGANIZER;CN="Barry B":MAILTO:barryburns1@hotmail.co.uk
END:VEVENT
BEGIN:VEVENT
DTSTART;TZID=America/Chicago:20291110T090000
DTEND;TZID=America/Chicago:20291110T100000
DTSTAMP:20260420T030140
CREATED:20250324T182144Z
LAST-MODIFIED:20250324T182144Z
UID:10069326-1888995600-1888999200@cp12stepoutreach.org
SUMMARY:Guttermonks CP 12 Step Group - Sat. at 9am CST/3pm GMT - United Kingdom
DESCRIPTION:Topic: Guttermonks 12 step Centering prayer\nTime: 9 AM CST / 3 PM GMT\nWhen: Every week on Saturday\n\nZoom ID: 869 7014 7138 \nPassword: 310112 \nZoom ID: https://us05web.zoom.us/j/86970147138
URL:https://cp12stepoutreach.org/meeting-or-group/united-kingdom-saturday-uk-guttermonks-cp-12-step-group-9-am-cst-2/2029-11-10/
LOCATION:Zoom Meeting
CATEGORIES:Online 12 Step Centering Prayer Groups
ORGANIZER;CN="Barry B":MAILTO:barryburns1@hotmail.co.uk
END:VEVENT
BEGIN:VEVENT
DTSTART;TZID=America/Chicago:20291117T090000
DTEND;TZID=America/Chicago:20291117T100000
DTSTAMP:20260420T030140
CREATED:20250324T182144Z
LAST-MODIFIED:20250324T182144Z
UID:10069327-1889600400-1889604000@cp12stepoutreach.org
SUMMARY:Guttermonks CP 12 Step Group - Sat. at 9am CST/3pm GMT - United Kingdom
DESCRIPTION:Topic: Guttermonks 12 step Centering prayer\nTime: 9 AM CST / 3 PM GMT\nWhen: Every week on Saturday\n\nZoom ID: 869 7014 7138 \nPassword: 310112 \nZoom ID: https://us05web.zoom.us/j/86970147138
URL:https://cp12stepoutreach.org/meeting-or-group/united-kingdom-saturday-uk-guttermonks-cp-12-step-group-9-am-cst-2/2029-11-17/
LOCATION:Zoom Meeting
CATEGORIES:Online 12 Step Centering Prayer Groups
ORGANIZER;CN="Barry B":MAILTO:barryburns1@hotmail.co.uk
END:VEVENT
BEGIN:VEVENT
DTSTART;TZID=America/Chicago:20291124T090000
DTEND;TZID=America/Chicago:20291124T100000
DTSTAMP:20260420T030140
CREATED:20250324T182144Z
LAST-MODIFIED:20250324T182144Z
UID:10069328-1890205200-1890208800@cp12stepoutreach.org
SUMMARY:Guttermonks CP 12 Step Group - Sat. at 9am CST/3pm GMT - United Kingdom
DESCRIPTION:Topic: Guttermonks 12 step Centering prayer\nTime: 9 AM CST / 3 PM GMT\nWhen: Every week on Saturday\n\nZoom ID: 869 7014 7138 \nPassword: 310112 \nZoom ID: https://us05web.zoom.us/j/86970147138
URL:https://cp12stepoutreach.org/meeting-or-group/united-kingdom-saturday-uk-guttermonks-cp-12-step-group-9-am-cst-2/2029-11-24/
LOCATION:Zoom Meeting
CATEGORIES:Online 12 Step Centering Prayer Groups
ORGANIZER;CN="Barry B":MAILTO:barryburns1@hotmail.co.uk
END:VEVENT
BEGIN:VEVENT
DTSTART;TZID=America/Chicago:20291201T090000
DTEND;TZID=America/Chicago:20291201T100000
DTSTAMP:20260420T030140
CREATED:20250324T182144Z
LAST-MODIFIED:20250324T182144Z
UID:10069329-1890810000-1890813600@cp12stepoutreach.org
SUMMARY:Guttermonks CP 12 Step Group - Sat. at 9am CST/3pm GMT - United Kingdom
DESCRIPTION:Topic: Guttermonks 12 step Centering prayer\nTime: 9 AM CST / 3 PM GMT\nWhen: Every week on Saturday\n\nZoom ID: 869 7014 7138 \nPassword: 310112 \nZoom ID: https://us05web.zoom.us/j/86970147138
URL:https://cp12stepoutreach.org/meeting-or-group/united-kingdom-saturday-uk-guttermonks-cp-12-step-group-9-am-cst-2/2029-12-01/
LOCATION:Zoom Meeting
CATEGORIES:Online 12 Step Centering Prayer Groups
ORGANIZER;CN="Barry B":MAILTO:barryburns1@hotmail.co.uk
END:VEVENT
BEGIN:VEVENT
DTSTART;TZID=America/Chicago:20291208T090000
DTEND;TZID=America/Chicago:20291208T100000
DTSTAMP:20260420T030140
CREATED:20250324T182144Z
LAST-MODIFIED:20250324T182144Z
UID:10069330-1891414800-1891418400@cp12stepoutreach.org
SUMMARY:Guttermonks CP 12 Step Group - Sat. at 9am CST/3pm GMT - United Kingdom
DESCRIPTION:Topic: Guttermonks 12 step Centering prayer\nTime: 9 AM CST / 3 PM GMT\nWhen: Every week on Saturday\n\nZoom ID: 869 7014 7138 \nPassword: 310112 \nZoom ID: https://us05web.zoom.us/j/86970147138
URL:https://cp12stepoutreach.org/meeting-or-group/united-kingdom-saturday-uk-guttermonks-cp-12-step-group-9-am-cst-2/2029-12-08/
LOCATION:Zoom Meeting
CATEGORIES:Online 12 Step Centering Prayer Groups
ORGANIZER;CN="Barry B":MAILTO:barryburns1@hotmail.co.uk
END:VEVENT
BEGIN:VEVENT
DTSTART;TZID=America/Chicago:20291215T090000
DTEND;TZID=America/Chicago:20291215T100000
DTSTAMP:20260420T030140
CREATED:20250324T182144Z
LAST-MODIFIED:20250324T182144Z
UID:10069331-1892019600-1892023200@cp12stepoutreach.org
SUMMARY:Guttermonks CP 12 Step Group - Sat. at 9am CST/3pm GMT - United Kingdom
DESCRIPTION:Topic: Guttermonks 12 step Centering prayer\nTime: 9 AM CST / 3 PM GMT\nWhen: Every week on Saturday\n\nZoom ID: 869 7014 7138 \nPassword: 310112 \nZoom ID: https://us05web.zoom.us/j/86970147138
URL:https://cp12stepoutreach.org/meeting-or-group/united-kingdom-saturday-uk-guttermonks-cp-12-step-group-9-am-cst-2/2029-12-15/
LOCATION:Zoom Meeting
CATEGORIES:Online 12 Step Centering Prayer Groups
ORGANIZER;CN="Barry B":MAILTO:barryburns1@hotmail.co.uk
END:VEVENT
BEGIN:VEVENT
DTSTART;TZID=America/Chicago:20291222T090000
DTEND;TZID=America/Chicago:20291222T100000
DTSTAMP:20260420T030140
CREATED:20250324T182144Z
LAST-MODIFIED:20250324T182144Z
UID:10069332-1892624400-1892628000@cp12stepoutreach.org
SUMMARY:Guttermonks CP 12 Step Group - Sat. at 9am CST/3pm GMT - United Kingdom
DESCRIPTION:Topic: Guttermonks 12 step Centering prayer\nTime: 9 AM CST / 3 PM GMT\nWhen: Every week on Saturday\n\nZoom ID: 869 7014 7138 \nPassword: 310112 \nZoom ID: https://us05web.zoom.us/j/86970147138
URL:https://cp12stepoutreach.org/meeting-or-group/united-kingdom-saturday-uk-guttermonks-cp-12-step-group-9-am-cst-2/2029-12-22/
LOCATION:Zoom Meeting
CATEGORIES:Online 12 Step Centering Prayer Groups
ORGANIZER;CN="Barry B":MAILTO:barryburns1@hotmail.co.uk
END:VEVENT
BEGIN:VEVENT
DTSTART;TZID=America/Chicago:20291229T090000
DTEND;TZID=America/Chicago:20291229T100000
DTSTAMP:20260420T030140
CREATED:20250324T182144Z
LAST-MODIFIED:20250324T182144Z
UID:10069333-1893229200-1893232800@cp12stepoutreach.org
SUMMARY:Guttermonks CP 12 Step Group - Sat. at 9am CST/3pm GMT - United Kingdom
DESCRIPTION:Topic: Guttermonks 12 step Centering prayer\nTime: 9 AM CST / 3 PM GMT\nWhen: Every week on Saturday\n\nZoom ID: 869 7014 7138 \nPassword: 310112 \nZoom ID: https://us05web.zoom.us/j/86970147138
URL:https://cp12stepoutreach.org/meeting-or-group/united-kingdom-saturday-uk-guttermonks-cp-12-step-group-9-am-cst-2/2029-12-29/
LOCATION:Zoom Meeting
CATEGORIES:Online 12 Step Centering Prayer Groups
ORGANIZER;CN="Barry B":MAILTO:barryburns1@hotmail.co.uk
END:VEVENT
BEGIN:VEVENT
DTSTART;TZID=America/Chicago:20300105T090000
DTEND;TZID=America/Chicago:20300105T100000
DTSTAMP:20260420T030140
CREATED:20250324T182144Z
LAST-MODIFIED:20250324T182144Z
UID:10069334-1893834000-1893837600@cp12stepoutreach.org
SUMMARY:Guttermonks CP 12 Step Group - Sat. at 9am CST/3pm GMT - United Kingdom
DESCRIPTION:Topic: Guttermonks 12 step Centering prayer\nTime: 9 AM CST / 3 PM GMT\nWhen: Every week on Saturday\n\nZoom ID: 869 7014 7138 \nPassword: 310112 \nZoom ID: https://us05web.zoom.us/j/86970147138
URL:https://cp12stepoutreach.org/meeting-or-group/united-kingdom-saturday-uk-guttermonks-cp-12-step-group-9-am-cst-2/2030-01-05/
LOCATION:Zoom Meeting
CATEGORIES:Online 12 Step Centering Prayer Groups
ORGANIZER;CN="Barry B":MAILTO:barryburns1@hotmail.co.uk
END:VEVENT
BEGIN:VEVENT
DTSTART;TZID=America/Chicago:20300112T090000
DTEND;TZID=America/Chicago:20300112T100000
DTSTAMP:20260420T030140
CREATED:20250324T182144Z
LAST-MODIFIED:20250324T182144Z
UID:10069335-1894438800-1894442400@cp12stepoutreach.org
SUMMARY:Guttermonks CP 12 Step Group - Sat. at 9am CST/3pm GMT - United Kingdom
DESCRIPTION:Topic: Guttermonks 12 step Centering prayer\nTime: 9 AM CST / 3 PM GMT\nWhen: Every week on Saturday\n\nZoom ID: 869 7014 7138 \nPassword: 310112 \nZoom ID: https://us05web.zoom.us/j/86970147138
URL:https://cp12stepoutreach.org/meeting-or-group/united-kingdom-saturday-uk-guttermonks-cp-12-step-group-9-am-cst-2/2030-01-12/
LOCATION:Zoom Meeting
CATEGORIES:Online 12 Step Centering Prayer Groups
ORGANIZER;CN="Barry B":MAILTO:barryburns1@hotmail.co.uk
END:VEVENT
BEGIN:VEVENT
DTSTART;TZID=America/Chicago:20300119T090000
DTEND;TZID=America/Chicago:20300119T100000
DTSTAMP:20260420T030140
CREATED:20250324T182144Z
LAST-MODIFIED:20250324T182144Z
UID:10069336-1895043600-1895047200@cp12stepoutreach.org
SUMMARY:Guttermonks CP 12 Step Group - Sat. at 9am CST/3pm GMT - United Kingdom
DESCRIPTION:Topic: Guttermonks 12 step Centering prayer\nTime: 9 AM CST / 3 PM GMT\nWhen: Every week on Saturday\n\nZoom ID: 869 7014 7138 \nPassword: 310112 \nZoom ID: https://us05web.zoom.us/j/86970147138
URL:https://cp12stepoutreach.org/meeting-or-group/united-kingdom-saturday-uk-guttermonks-cp-12-step-group-9-am-cst-2/2030-01-19/
LOCATION:Zoom Meeting
CATEGORIES:Online 12 Step Centering Prayer Groups
ORGANIZER;CN="Barry B":MAILTO:barryburns1@hotmail.co.uk
END:VEVENT
BEGIN:VEVENT
DTSTART;TZID=America/Chicago:20300126T090000
DTEND;TZID=America/Chicago:20300126T100000
DTSTAMP:20260420T030140
CREATED:20250324T182144Z
LAST-MODIFIED:20250324T182144Z
UID:10069337-1895648400-1895652000@cp12stepoutreach.org
SUMMARY:Guttermonks CP 12 Step Group - Sat. at 9am CST/3pm GMT - United Kingdom
DESCRIPTION:Topic: Guttermonks 12 step Centering prayer\nTime: 9 AM CST / 3 PM GMT\nWhen: Every week on Saturday\n\nZoom ID: 869 7014 7138 \nPassword: 310112 \nZoom ID: https://us05web.zoom.us/j/86970147138
URL:https://cp12stepoutreach.org/meeting-or-group/united-kingdom-saturday-uk-guttermonks-cp-12-step-group-9-am-cst-2/2030-01-26/
LOCATION:Zoom Meeting
CATEGORIES:Online 12 Step Centering Prayer Groups
ORGANIZER;CN="Barry B":MAILTO:barryburns1@hotmail.co.uk
END:VEVENT
BEGIN:VEVENT
DTSTART;TZID=America/Chicago:20300202T090000
DTEND;TZID=America/Chicago:20300202T100000
DTSTAMP:20260420T030140
CREATED:20250324T182144Z
LAST-MODIFIED:20250324T182144Z
UID:10069338-1896253200-1896256800@cp12stepoutreach.org
SUMMARY:Guttermonks CP 12 Step Group - Sat. at 9am CST/3pm GMT - United Kingdom
DESCRIPTION:Topic: Guttermonks 12 step Centering prayer\nTime: 9 AM CST / 3 PM GMT\nWhen: Every week on Saturday\n\nZoom ID: 869 7014 7138 \nPassword: 310112 \nZoom ID: https://us05web.zoom.us/j/86970147138
URL:https://cp12stepoutreach.org/meeting-or-group/united-kingdom-saturday-uk-guttermonks-cp-12-step-group-9-am-cst-2/2030-02-02/
LOCATION:Zoom Meeting
CATEGORIES:Online 12 Step Centering Prayer Groups
ORGANIZER;CN="Barry B":MAILTO:barryburns1@hotmail.co.uk
END:VEVENT
BEGIN:VEVENT
DTSTART;TZID=America/Chicago:20300209T090000
DTEND;TZID=America/Chicago:20300209T100000
DTSTAMP:20260420T030140
CREATED:20250324T182144Z
LAST-MODIFIED:20250324T182144Z
UID:10069339-1896858000-1896861600@cp12stepoutreach.org
SUMMARY:Guttermonks CP 12 Step Group - Sat. at 9am CST/3pm GMT - United Kingdom
DESCRIPTION:Topic: Guttermonks 12 step Centering prayer\nTime: 9 AM CST / 3 PM GMT\nWhen: Every week on Saturday\n\nZoom ID: 869 7014 7138 \nPassword: 310112 \nZoom ID: https://us05web.zoom.us/j/86970147138
URL:https://cp12stepoutreach.org/meeting-or-group/united-kingdom-saturday-uk-guttermonks-cp-12-step-group-9-am-cst-2/2030-02-09/
LOCATION:Zoom Meeting
CATEGORIES:Online 12 Step Centering Prayer Groups
ORGANIZER;CN="Barry B":MAILTO:barryburns1@hotmail.co.uk
END:VEVENT
BEGIN:VEVENT
DTSTART;TZID=America/Chicago:20300216T090000
DTEND;TZID=America/Chicago:20300216T100000
DTSTAMP:20260420T030140
CREATED:20250324T182144Z
LAST-MODIFIED:20250324T182144Z
UID:10069340-1897462800-1897466400@cp12stepoutreach.org
SUMMARY:Guttermonks CP 12 Step Group - Sat. at 9am CST/3pm GMT - United Kingdom
DESCRIPTION:Topic: Guttermonks 12 step Centering prayer\nTime: 9 AM CST / 3 PM GMT\nWhen: Every week on Saturday\n\nZoom ID: 869 7014 7138 \nPassword: 310112 \nZoom ID: https://us05web.zoom.us/j/86970147138
URL:https://cp12stepoutreach.org/meeting-or-group/united-kingdom-saturday-uk-guttermonks-cp-12-step-group-9-am-cst-2/2030-02-16/
LOCATION:Zoom Meeting
CATEGORIES:Online 12 Step Centering Prayer Groups
ORGANIZER;CN="Barry B":MAILTO:barryburns1@hotmail.co.uk
END:VEVENT
BEGIN:VEVENT
DTSTART;TZID=America/Chicago:20300223T090000
DTEND;TZID=America/Chicago:20300223T100000
DTSTAMP:20260420T030140
CREATED:20250324T182144Z
LAST-MODIFIED:20250324T182144Z
UID:10069341-1898067600-1898071200@cp12stepoutreach.org
SUMMARY:Guttermonks CP 12 Step Group - Sat. at 9am CST/3pm GMT - United Kingdom
DESCRIPTION:Topic: Guttermonks 12 step Centering prayer\nTime: 9 AM CST / 3 PM GMT\nWhen: Every week on Saturday\n\nZoom ID: 869 7014 7138 \nPassword: 310112 \nZoom ID: https://us05web.zoom.us/j/86970147138
URL:https://cp12stepoutreach.org/meeting-or-group/united-kingdom-saturday-uk-guttermonks-cp-12-step-group-9-am-cst-2/2030-02-23/
LOCATION:Zoom Meeting
CATEGORIES:Online 12 Step Centering Prayer Groups
ORGANIZER;CN="Barry B":MAILTO:barryburns1@hotmail.co.uk
END:VEVENT
BEGIN:VEVENT
DTSTART;TZID=America/Chicago:20300302T090000
DTEND;TZID=America/Chicago:20300302T100000
DTSTAMP:20260420T030140
CREATED:20250324T182144Z
LAST-MODIFIED:20250324T182144Z
UID:10069342-1898672400-1898676000@cp12stepoutreach.org
SUMMARY:Guttermonks CP 12 Step Group - Sat. at 9am CST/3pm GMT - United Kingdom
DESCRIPTION:Topic: Guttermonks 12 step Centering prayer\nTime: 9 AM CST / 3 PM GMT\nWhen: Every week on Saturday\n\nZoom ID: 869 7014 7138 \nPassword: 310112 \nZoom ID: https://us05web.zoom.us/j/86970147138
URL:https://cp12stepoutreach.org/meeting-or-group/united-kingdom-saturday-uk-guttermonks-cp-12-step-group-9-am-cst-2/2030-03-02/
LOCATION:Zoom Meeting
CATEGORIES:Online 12 Step Centering Prayer Groups
ORGANIZER;CN="Barry B":MAILTO:barryburns1@hotmail.co.uk
END:VEVENT
BEGIN:VEVENT
DTSTART;TZID=America/Chicago:20300309T090000
DTEND;TZID=America/Chicago:20300309T100000
DTSTAMP:20260420T030140
CREATED:20250324T182144Z
LAST-MODIFIED:20250324T182144Z
UID:10069343-1899277200-1899280800@cp12stepoutreach.org
SUMMARY:Guttermonks CP 12 Step Group - Sat. at 9am CST/3pm GMT - United Kingdom
DESCRIPTION:Topic: Guttermonks 12 step Centering prayer\nTime: 9 AM CST / 3 PM GMT\nWhen: Every week on Saturday\n\nZoom ID: 869 7014 7138 \nPassword: 310112 \nZoom ID: https://us05web.zoom.us/j/86970147138
URL:https://cp12stepoutreach.org/meeting-or-group/united-kingdom-saturday-uk-guttermonks-cp-12-step-group-9-am-cst-2/2030-03-09/
LOCATION:Zoom Meeting
CATEGORIES:Online 12 Step Centering Prayer Groups
ORGANIZER;CN="Barry B":MAILTO:barryburns1@hotmail.co.uk
END:VEVENT
BEGIN:VEVENT
DTSTART;TZID=America/Chicago:20300316T090000
DTEND;TZID=America/Chicago:20300316T100000
DTSTAMP:20260420T030140
CREATED:20250324T182144Z
LAST-MODIFIED:20250324T182144Z
UID:10069344-1899882000-1899885600@cp12stepoutreach.org
SUMMARY:Guttermonks CP 12 Step Group - Sat. at 9am CST/3pm GMT - United Kingdom
DESCRIPTION:Topic: Guttermonks 12 step Centering prayer\nTime: 9 AM CST / 3 PM GMT\nWhen: Every week on Saturday\n\nZoom ID: 869 7014 7138 \nPassword: 310112 \nZoom ID: https://us05web.zoom.us/j/86970147138
URL:https://cp12stepoutreach.org/meeting-or-group/united-kingdom-saturday-uk-guttermonks-cp-12-step-group-9-am-cst-2/2030-03-16/
LOCATION:Zoom Meeting
CATEGORIES:Online 12 Step Centering Prayer Groups
ORGANIZER;CN="Barry B":MAILTO:barryburns1@hotmail.co.uk
END:VEVENT
BEGIN:VEVENT
DTSTART;TZID=America/Chicago:20300323T090000
DTEND;TZID=America/Chicago:20300323T100000
DTSTAMP:20260420T030140
CREATED:20250324T182144Z
LAST-MODIFIED:20250324T182144Z
UID:10069345-1900486800-1900490400@cp12stepoutreach.org
SUMMARY:Guttermonks CP 12 Step Group - Sat. at 9am CST/3pm GMT - United Kingdom
DESCRIPTION:Topic: Guttermonks 12 step Centering prayer\nTime: 9 AM CST / 3 PM GMT\nWhen: Every week on Saturday\n\nZoom ID: 869 7014 7138 \nPassword: 310112 \nZoom ID: https://us05web.zoom.us/j/86970147138
URL:https://cp12stepoutreach.org/meeting-or-group/united-kingdom-saturday-uk-guttermonks-cp-12-step-group-9-am-cst-2/2030-03-23/
LOCATION:Zoom Meeting
CATEGORIES:Online 12 Step Centering Prayer Groups
ORGANIZER;CN="Barry B":MAILTO:barryburns1@hotmail.co.uk
END:VEVENT
END:VCALENDAR