BEGIN:VCALENDAR
VERSION:2.0
PRODID:-//12 Step Outreach - ECPv6.11.2.1//NONSGML v1.0//EN
CALSCALE:GREGORIAN
METHOD:PUBLISH
X-ORIGINAL-URL:https://cp12stepoutreach.org
X-WR-CALDESC:Events for 12 Step Outreach
REFRESH-INTERVAL;VALUE=DURATION:PT1H
X-Robots-Tag:noindex
X-PUBLISHED-TTL:PT1H
BEGIN:VTIMEZONE
TZID:Europe/London
BEGIN:DAYLIGHT
TZOFFSETFROM:+0000
TZOFFSETTO:+0100
TZNAME:BST
DTSTART:20210328T010000
END:DAYLIGHT
BEGIN:STANDARD
TZOFFSETFROM:+0100
TZOFFSETTO:+0000
TZNAME:GMT
DTSTART:20211031T010000
END:STANDARD
BEGIN:DAYLIGHT
TZOFFSETFROM:+0000
TZOFFSETTO:+0100
TZNAME:BST
DTSTART:20220327T010000
END:DAYLIGHT
BEGIN:STANDARD
TZOFFSETFROM:+0100
TZOFFSETTO:+0000
TZNAME:GMT
DTSTART:20221030T010000
END:STANDARD
END:VTIMEZONE
BEGIN:VEVENT
DTSTART;TZID=Europe/London:20220618T150000
DTEND;TZID=Europe/London:20220618T160000
DTSTAMP:20260420T054117
CREATED:20201112T224737Z
LAST-MODIFIED:20250219T230704Z
UID:10060820-1655564400-1655568000@cp12stepoutreach.org
SUMMARY:Guttermonks CP 12 Step Group - Sat. at 9am CST/3pm GMT - United Kingdom
DESCRIPTION:Topic: Guttermonks 12 step Centering prayer\nTime: 9 AM CST / 3 PM GMT\nWhen: Every week on Saturday\n\nZoom ID: 869 7014 7138 \nPassword: 310112 \nZoom ID: https://us05web.zoom.us/j/86970147138
URL:https://cp12stepoutreach.org/meeting-or-group/united-kingdom-saturday-uk-guttermonks-cp-12-step-group-9-am-cst/2022-06-18/
LOCATION:Zoom Meeting
CATEGORIES:Online 12 Step Centering Prayer Groups
ORGANIZER;CN="Barry B":MAILTO:barryburns1@hotmail.co.uk
END:VEVENT
BEGIN:VEVENT
DTSTART;TZID=Europe/London:20220611T150000
DTEND;TZID=Europe/London:20220611T160000
DTSTAMP:20260420T054117
CREATED:20201112T224737Z
LAST-MODIFIED:20250219T230704Z
UID:10060819-1654959600-1654963200@cp12stepoutreach.org
SUMMARY:Guttermonks CP 12 Step Group - Sat. at 9am CST/3pm GMT - United Kingdom
DESCRIPTION:Topic: Guttermonks 12 step Centering prayer\nTime: 9 AM CST / 3 PM GMT\nWhen: Every week on Saturday\n\nZoom ID: 869 7014 7138 \nPassword: 310112 \nZoom ID: https://us05web.zoom.us/j/86970147138
URL:https://cp12stepoutreach.org/meeting-or-group/united-kingdom-saturday-uk-guttermonks-cp-12-step-group-9-am-cst/2022-06-11/
LOCATION:Zoom Meeting
CATEGORIES:Online 12 Step Centering Prayer Groups
ORGANIZER;CN="Barry B":MAILTO:barryburns1@hotmail.co.uk
END:VEVENT
BEGIN:VEVENT
DTSTART;TZID=Europe/London:20220604T150000
DTEND;TZID=Europe/London:20220604T160000
DTSTAMP:20260420T054117
CREATED:20201112T224737Z
LAST-MODIFIED:20250219T230704Z
UID:10060818-1654354800-1654358400@cp12stepoutreach.org
SUMMARY:Guttermonks CP 12 Step Group - Sat. at 9am CST/3pm GMT - United Kingdom
DESCRIPTION:Topic: Guttermonks 12 step Centering prayer\nTime: 9 AM CST / 3 PM GMT\nWhen: Every week on Saturday\n\nZoom ID: 869 7014 7138 \nPassword: 310112 \nZoom ID: https://us05web.zoom.us/j/86970147138
URL:https://cp12stepoutreach.org/meeting-or-group/united-kingdom-saturday-uk-guttermonks-cp-12-step-group-9-am-cst/2022-06-04/
LOCATION:Zoom Meeting
CATEGORIES:Online 12 Step Centering Prayer Groups
ORGANIZER;CN="Barry B":MAILTO:barryburns1@hotmail.co.uk
END:VEVENT
BEGIN:VEVENT
DTSTART;TZID=Europe/London:20220528T150000
DTEND;TZID=Europe/London:20220528T160000
DTSTAMP:20260420T054117
CREATED:20201112T224737Z
LAST-MODIFIED:20250219T230704Z
UID:10060817-1653750000-1653753600@cp12stepoutreach.org
SUMMARY:Guttermonks CP 12 Step Group - Sat. at 9am CST/3pm GMT - United Kingdom
DESCRIPTION:Topic: Guttermonks 12 step Centering prayer\nTime: 9 AM CST / 3 PM GMT\nWhen: Every week on Saturday\n\nZoom ID: 869 7014 7138 \nPassword: 310112 \nZoom ID: https://us05web.zoom.us/j/86970147138
URL:https://cp12stepoutreach.org/meeting-or-group/united-kingdom-saturday-uk-guttermonks-cp-12-step-group-9-am-cst/2022-05-28/
LOCATION:Zoom Meeting
CATEGORIES:Online 12 Step Centering Prayer Groups
ORGANIZER;CN="Barry B":MAILTO:barryburns1@hotmail.co.uk
END:VEVENT
BEGIN:VEVENT
DTSTART;TZID=Europe/London:20220521T150000
DTEND;TZID=Europe/London:20220521T160000
DTSTAMP:20260420T054117
CREATED:20201112T224737Z
LAST-MODIFIED:20250219T230704Z
UID:10060816-1653145200-1653148800@cp12stepoutreach.org
SUMMARY:Guttermonks CP 12 Step Group - Sat. at 9am CST/3pm GMT - United Kingdom
DESCRIPTION:Topic: Guttermonks 12 step Centering prayer\nTime: 9 AM CST / 3 PM GMT\nWhen: Every week on Saturday\n\nZoom ID: 869 7014 7138 \nPassword: 310112 \nZoom ID: https://us05web.zoom.us/j/86970147138
URL:https://cp12stepoutreach.org/meeting-or-group/united-kingdom-saturday-uk-guttermonks-cp-12-step-group-9-am-cst/2022-05-21/
LOCATION:Zoom Meeting
CATEGORIES:Online 12 Step Centering Prayer Groups
ORGANIZER;CN="Barry B":MAILTO:barryburns1@hotmail.co.uk
END:VEVENT
BEGIN:VEVENT
DTSTART;TZID=Europe/London:20220514T150000
DTEND;TZID=Europe/London:20220514T160000
DTSTAMP:20260420T054117
CREATED:20201112T224737Z
LAST-MODIFIED:20250219T230704Z
UID:10060815-1652540400-1652544000@cp12stepoutreach.org
SUMMARY:Guttermonks CP 12 Step Group - Sat. at 9am CST/3pm GMT - United Kingdom
DESCRIPTION:Topic: Guttermonks 12 step Centering prayer\nTime: 9 AM CST / 3 PM GMT\nWhen: Every week on Saturday\n\nZoom ID: 869 7014 7138 \nPassword: 310112 \nZoom ID: https://us05web.zoom.us/j/86970147138
URL:https://cp12stepoutreach.org/meeting-or-group/united-kingdom-saturday-uk-guttermonks-cp-12-step-group-9-am-cst/2022-05-14/
LOCATION:Zoom Meeting
CATEGORIES:Online 12 Step Centering Prayer Groups
ORGANIZER;CN="Barry B":MAILTO:barryburns1@hotmail.co.uk
END:VEVENT
BEGIN:VEVENT
DTSTART;TZID=Europe/London:20220507T150000
DTEND;TZID=Europe/London:20220507T160000
DTSTAMP:20260420T054117
CREATED:20201112T224737Z
LAST-MODIFIED:20250219T230704Z
UID:10060814-1651935600-1651939200@cp12stepoutreach.org
SUMMARY:Guttermonks CP 12 Step Group - Sat. at 9am CST/3pm GMT - United Kingdom
DESCRIPTION:Topic: Guttermonks 12 step Centering prayer\nTime: 9 AM CST / 3 PM GMT\nWhen: Every week on Saturday\n\nZoom ID: 869 7014 7138 \nPassword: 310112 \nZoom ID: https://us05web.zoom.us/j/86970147138
URL:https://cp12stepoutreach.org/meeting-or-group/united-kingdom-saturday-uk-guttermonks-cp-12-step-group-9-am-cst/2022-05-07/
LOCATION:Zoom Meeting
CATEGORIES:Online 12 Step Centering Prayer Groups
ORGANIZER;CN="Barry B":MAILTO:barryburns1@hotmail.co.uk
END:VEVENT
BEGIN:VEVENT
DTSTART;TZID=Europe/London:20220430T150000
DTEND;TZID=Europe/London:20220430T160000
DTSTAMP:20260420T054117
CREATED:20201112T224737Z
LAST-MODIFIED:20250219T230704Z
UID:10060813-1651330800-1651334400@cp12stepoutreach.org
SUMMARY:Guttermonks CP 12 Step Group - Sat. at 9am CST/3pm GMT - United Kingdom
DESCRIPTION:Topic: Guttermonks 12 step Centering prayer\nTime: 9 AM CST / 3 PM GMT\nWhen: Every week on Saturday\n\nZoom ID: 869 7014 7138 \nPassword: 310112 \nZoom ID: https://us05web.zoom.us/j/86970147138
URL:https://cp12stepoutreach.org/meeting-or-group/united-kingdom-saturday-uk-guttermonks-cp-12-step-group-9-am-cst/2022-04-30/
LOCATION:Zoom Meeting
CATEGORIES:Online 12 Step Centering Prayer Groups
ORGANIZER;CN="Barry B":MAILTO:barryburns1@hotmail.co.uk
END:VEVENT
BEGIN:VEVENT
DTSTART;TZID=Europe/London:20220423T150000
DTEND;TZID=Europe/London:20220423T160000
DTSTAMP:20260420T054117
CREATED:20201112T224737Z
LAST-MODIFIED:20250219T230704Z
UID:10060812-1650726000-1650729600@cp12stepoutreach.org
SUMMARY:Guttermonks CP 12 Step Group - Sat. at 9am CST/3pm GMT - United Kingdom
DESCRIPTION:Topic: Guttermonks 12 step Centering prayer\nTime: 9 AM CST / 3 PM GMT\nWhen: Every week on Saturday\n\nZoom ID: 869 7014 7138 \nPassword: 310112 \nZoom ID: https://us05web.zoom.us/j/86970147138
URL:https://cp12stepoutreach.org/meeting-or-group/united-kingdom-saturday-uk-guttermonks-cp-12-step-group-9-am-cst/2022-04-23/
LOCATION:Zoom Meeting
CATEGORIES:Online 12 Step Centering Prayer Groups
ORGANIZER;CN="Barry B":MAILTO:barryburns1@hotmail.co.uk
END:VEVENT
BEGIN:VEVENT
DTSTART;TZID=Europe/London:20220416T150000
DTEND;TZID=Europe/London:20220416T160000
DTSTAMP:20260420T054117
CREATED:20201112T224737Z
LAST-MODIFIED:20250219T230704Z
UID:10060811-1650121200-1650124800@cp12stepoutreach.org
SUMMARY:Guttermonks CP 12 Step Group - Sat. at 9am CST/3pm GMT - United Kingdom
DESCRIPTION:Topic: Guttermonks 12 step Centering prayer\nTime: 9 AM CST / 3 PM GMT\nWhen: Every week on Saturday\n\nZoom ID: 869 7014 7138 \nPassword: 310112 \nZoom ID: https://us05web.zoom.us/j/86970147138
URL:https://cp12stepoutreach.org/meeting-or-group/united-kingdom-saturday-uk-guttermonks-cp-12-step-group-9-am-cst/2022-04-16/
LOCATION:Zoom Meeting
CATEGORIES:Online 12 Step Centering Prayer Groups
ORGANIZER;CN="Barry B":MAILTO:barryburns1@hotmail.co.uk
END:VEVENT
BEGIN:VEVENT
DTSTART;TZID=Europe/London:20220409T150000
DTEND;TZID=Europe/London:20220409T160000
DTSTAMP:20260420T054117
CREATED:20201112T224737Z
LAST-MODIFIED:20250219T230704Z
UID:10060810-1649516400-1649520000@cp12stepoutreach.org
SUMMARY:Guttermonks CP 12 Step Group - Sat. at 9am CST/3pm GMT - United Kingdom
DESCRIPTION:Topic: Guttermonks 12 step Centering prayer\nTime: 9 AM CST / 3 PM GMT\nWhen: Every week on Saturday\n\nZoom ID: 869 7014 7138 \nPassword: 310112 \nZoom ID: https://us05web.zoom.us/j/86970147138
URL:https://cp12stepoutreach.org/meeting-or-group/united-kingdom-saturday-uk-guttermonks-cp-12-step-group-9-am-cst/2022-04-09/
LOCATION:Zoom Meeting
CATEGORIES:Online 12 Step Centering Prayer Groups
ORGANIZER;CN="Barry B":MAILTO:barryburns1@hotmail.co.uk
END:VEVENT
BEGIN:VEVENT
DTSTART;TZID=Europe/London:20220402T150000
DTEND;TZID=Europe/London:20220402T160000
DTSTAMP:20260420T054117
CREATED:20201112T224737Z
LAST-MODIFIED:20250219T230704Z
UID:10060809-1648911600-1648915200@cp12stepoutreach.org
SUMMARY:Guttermonks CP 12 Step Group - Sat. at 9am CST/3pm GMT - United Kingdom
DESCRIPTION:Topic: Guttermonks 12 step Centering prayer\nTime: 9 AM CST / 3 PM GMT\nWhen: Every week on Saturday\n\nZoom ID: 869 7014 7138 \nPassword: 310112 \nZoom ID: https://us05web.zoom.us/j/86970147138
URL:https://cp12stepoutreach.org/meeting-or-group/united-kingdom-saturday-uk-guttermonks-cp-12-step-group-9-am-cst/2022-04-02/
LOCATION:Zoom Meeting
CATEGORIES:Online 12 Step Centering Prayer Groups
ORGANIZER;CN="Barry B":MAILTO:barryburns1@hotmail.co.uk
END:VEVENT
BEGIN:VEVENT
DTSTART;TZID=Europe/London:20220326T150000
DTEND;TZID=Europe/London:20220326T160000
DTSTAMP:20260420T054117
CREATED:20201112T224737Z
LAST-MODIFIED:20250219T230704Z
UID:10060808-1648306800-1648310400@cp12stepoutreach.org
SUMMARY:Guttermonks CP 12 Step Group - Sat. at 9am CST/3pm GMT - United Kingdom
DESCRIPTION:Topic: Guttermonks 12 step Centering prayer\nTime: 9 AM CST / 3 PM GMT\nWhen: Every week on Saturday\n\nZoom ID: 869 7014 7138 \nPassword: 310112 \nZoom ID: https://us05web.zoom.us/j/86970147138
URL:https://cp12stepoutreach.org/meeting-or-group/united-kingdom-saturday-uk-guttermonks-cp-12-step-group-9-am-cst/2022-03-26/
LOCATION:Zoom Meeting
CATEGORIES:Online 12 Step Centering Prayer Groups
ORGANIZER;CN="Barry B":MAILTO:barryburns1@hotmail.co.uk
END:VEVENT
BEGIN:VEVENT
DTSTART;TZID=Europe/London:20220319T150000
DTEND;TZID=Europe/London:20220319T160000
DTSTAMP:20260420T054117
CREATED:20201112T224737Z
LAST-MODIFIED:20250219T230704Z
UID:10060807-1647702000-1647705600@cp12stepoutreach.org
SUMMARY:Guttermonks CP 12 Step Group - Sat. at 9am CST/3pm GMT - United Kingdom
DESCRIPTION:Topic: Guttermonks 12 step Centering prayer\nTime: 9 AM CST / 3 PM GMT\nWhen: Every week on Saturday\n\nZoom ID: 869 7014 7138 \nPassword: 310112 \nZoom ID: https://us05web.zoom.us/j/86970147138
URL:https://cp12stepoutreach.org/meeting-or-group/united-kingdom-saturday-uk-guttermonks-cp-12-step-group-9-am-cst/2022-03-19/
LOCATION:Zoom Meeting
CATEGORIES:Online 12 Step Centering Prayer Groups
ORGANIZER;CN="Barry B":MAILTO:barryburns1@hotmail.co.uk
END:VEVENT
BEGIN:VEVENT
DTSTART;TZID=Europe/London:20220312T150000
DTEND;TZID=Europe/London:20220312T160000
DTSTAMP:20260420T054117
CREATED:20201112T224737Z
LAST-MODIFIED:20250219T230704Z
UID:10060806-1647097200-1647100800@cp12stepoutreach.org
SUMMARY:Guttermonks CP 12 Step Group - Sat. at 9am CST/3pm GMT - United Kingdom
DESCRIPTION:Topic: Guttermonks 12 step Centering prayer\nTime: 9 AM CST / 3 PM GMT\nWhen: Every week on Saturday\n\nZoom ID: 869 7014 7138 \nPassword: 310112 \nZoom ID: https://us05web.zoom.us/j/86970147138
URL:https://cp12stepoutreach.org/meeting-or-group/united-kingdom-saturday-uk-guttermonks-cp-12-step-group-9-am-cst/2022-03-12/
LOCATION:Zoom Meeting
CATEGORIES:Online 12 Step Centering Prayer Groups
ORGANIZER;CN="Barry B":MAILTO:barryburns1@hotmail.co.uk
END:VEVENT
BEGIN:VEVENT
DTSTART;TZID=Europe/London:20220305T150000
DTEND;TZID=Europe/London:20220305T160000
DTSTAMP:20260420T054117
CREATED:20201112T224737Z
LAST-MODIFIED:20250219T230704Z
UID:10060805-1646492400-1646496000@cp12stepoutreach.org
SUMMARY:Guttermonks CP 12 Step Group - Sat. at 9am CST/3pm GMT - United Kingdom
DESCRIPTION:Topic: Guttermonks 12 step Centering prayer\nTime: 9 AM CST / 3 PM GMT\nWhen: Every week on Saturday\n\nZoom ID: 869 7014 7138 \nPassword: 310112 \nZoom ID: https://us05web.zoom.us/j/86970147138
URL:https://cp12stepoutreach.org/meeting-or-group/united-kingdom-saturday-uk-guttermonks-cp-12-step-group-9-am-cst/2022-03-05/
LOCATION:Zoom Meeting
CATEGORIES:Online 12 Step Centering Prayer Groups
ORGANIZER;CN="Barry B":MAILTO:barryburns1@hotmail.co.uk
END:VEVENT
BEGIN:VEVENT
DTSTART;TZID=Europe/London:20220226T150000
DTEND;TZID=Europe/London:20220226T160000
DTSTAMP:20260420T054117
CREATED:20201112T224737Z
LAST-MODIFIED:20250219T230704Z
UID:10060804-1645887600-1645891200@cp12stepoutreach.org
SUMMARY:Guttermonks CP 12 Step Group - Sat. at 9am CST/3pm GMT - United Kingdom
DESCRIPTION:Topic: Guttermonks 12 step Centering prayer\nTime: 9 AM CST / 3 PM GMT\nWhen: Every week on Saturday\n\nZoom ID: 869 7014 7138 \nPassword: 310112 \nZoom ID: https://us05web.zoom.us/j/86970147138
URL:https://cp12stepoutreach.org/meeting-or-group/united-kingdom-saturday-uk-guttermonks-cp-12-step-group-9-am-cst/2022-02-26/
LOCATION:Zoom Meeting
CATEGORIES:Online 12 Step Centering Prayer Groups
ORGANIZER;CN="Barry B":MAILTO:barryburns1@hotmail.co.uk
END:VEVENT
BEGIN:VEVENT
DTSTART;TZID=Europe/London:20220219T150000
DTEND;TZID=Europe/London:20220219T160000
DTSTAMP:20260420T054117
CREATED:20201112T224737Z
LAST-MODIFIED:20250219T230704Z
UID:10060803-1645282800-1645286400@cp12stepoutreach.org
SUMMARY:Guttermonks CP 12 Step Group - Sat. at 9am CST/3pm GMT - United Kingdom
DESCRIPTION:Topic: Guttermonks 12 step Centering prayer\nTime: 9 AM CST / 3 PM GMT\nWhen: Every week on Saturday\n\nZoom ID: 869 7014 7138 \nPassword: 310112 \nZoom ID: https://us05web.zoom.us/j/86970147138
URL:https://cp12stepoutreach.org/meeting-or-group/united-kingdom-saturday-uk-guttermonks-cp-12-step-group-9-am-cst/2022-02-19/
LOCATION:Zoom Meeting
CATEGORIES:Online 12 Step Centering Prayer Groups
ORGANIZER;CN="Barry B":MAILTO:barryburns1@hotmail.co.uk
END:VEVENT
BEGIN:VEVENT
DTSTART;TZID=Europe/London:20220212T150000
DTEND;TZID=Europe/London:20220212T160000
DTSTAMP:20260420T054117
CREATED:20201112T224737Z
LAST-MODIFIED:20250219T230704Z
UID:10060802-1644678000-1644681600@cp12stepoutreach.org
SUMMARY:Guttermonks CP 12 Step Group - Sat. at 9am CST/3pm GMT - United Kingdom
DESCRIPTION:Topic: Guttermonks 12 step Centering prayer\nTime: 9 AM CST / 3 PM GMT\nWhen: Every week on Saturday\n\nZoom ID: 869 7014 7138 \nPassword: 310112 \nZoom ID: https://us05web.zoom.us/j/86970147138
URL:https://cp12stepoutreach.org/meeting-or-group/united-kingdom-saturday-uk-guttermonks-cp-12-step-group-9-am-cst/2022-02-12/
LOCATION:Zoom Meeting
CATEGORIES:Online 12 Step Centering Prayer Groups
ORGANIZER;CN="Barry B":MAILTO:barryburns1@hotmail.co.uk
END:VEVENT
BEGIN:VEVENT
DTSTART;TZID=Europe/London:20220205T150000
DTEND;TZID=Europe/London:20220205T160000
DTSTAMP:20260420T054117
CREATED:20201112T224737Z
LAST-MODIFIED:20250219T230704Z
UID:10060801-1644073200-1644076800@cp12stepoutreach.org
SUMMARY:Guttermonks CP 12 Step Group - Sat. at 9am CST/3pm GMT - United Kingdom
DESCRIPTION:Topic: Guttermonks 12 step Centering prayer\nTime: 9 AM CST / 3 PM GMT\nWhen: Every week on Saturday\n\nZoom ID: 869 7014 7138 \nPassword: 310112 \nZoom ID: https://us05web.zoom.us/j/86970147138
URL:https://cp12stepoutreach.org/meeting-or-group/united-kingdom-saturday-uk-guttermonks-cp-12-step-group-9-am-cst/2022-02-05/
LOCATION:Zoom Meeting
CATEGORIES:Online 12 Step Centering Prayer Groups
ORGANIZER;CN="Barry B":MAILTO:barryburns1@hotmail.co.uk
END:VEVENT
BEGIN:VEVENT
DTSTART;TZID=Europe/London:20220129T150000
DTEND;TZID=Europe/London:20220129T160000
DTSTAMP:20260420T054117
CREATED:20201112T224737Z
LAST-MODIFIED:20250219T230704Z
UID:10060800-1643468400-1643472000@cp12stepoutreach.org
SUMMARY:Guttermonks CP 12 Step Group - Sat. at 9am CST/3pm GMT - United Kingdom
DESCRIPTION:Topic: Guttermonks 12 step Centering prayer\nTime: 9 AM CST / 3 PM GMT\nWhen: Every week on Saturday\n\nZoom ID: 869 7014 7138 \nPassword: 310112 \nZoom ID: https://us05web.zoom.us/j/86970147138
URL:https://cp12stepoutreach.org/meeting-or-group/united-kingdom-saturday-uk-guttermonks-cp-12-step-group-9-am-cst/2022-01-29/
LOCATION:Zoom Meeting
CATEGORIES:Online 12 Step Centering Prayer Groups
ORGANIZER;CN="Barry B":MAILTO:barryburns1@hotmail.co.uk
END:VEVENT
BEGIN:VEVENT
DTSTART;TZID=Europe/London:20220122T150000
DTEND;TZID=Europe/London:20220122T160000
DTSTAMP:20260420T054117
CREATED:20201112T224737Z
LAST-MODIFIED:20250219T230704Z
UID:10060799-1642863600-1642867200@cp12stepoutreach.org
SUMMARY:Guttermonks CP 12 Step Group - Sat. at 9am CST/3pm GMT - United Kingdom
DESCRIPTION:Topic: Guttermonks 12 step Centering prayer\nTime: 9 AM CST / 3 PM GMT\nWhen: Every week on Saturday\n\nZoom ID: 869 7014 7138 \nPassword: 310112 \nZoom ID: https://us05web.zoom.us/j/86970147138
URL:https://cp12stepoutreach.org/meeting-or-group/united-kingdom-saturday-uk-guttermonks-cp-12-step-group-9-am-cst/2022-01-22/
LOCATION:Zoom Meeting
CATEGORIES:Online 12 Step Centering Prayer Groups
ORGANIZER;CN="Barry B":MAILTO:barryburns1@hotmail.co.uk
END:VEVENT
BEGIN:VEVENT
DTSTART;TZID=Europe/London:20220115T150000
DTEND;TZID=Europe/London:20220115T160000
DTSTAMP:20260420T054117
CREATED:20201112T224737Z
LAST-MODIFIED:20250219T230704Z
UID:10060798-1642258800-1642262400@cp12stepoutreach.org
SUMMARY:Guttermonks CP 12 Step Group - Sat. at 9am CST/3pm GMT - United Kingdom
DESCRIPTION:Topic: Guttermonks 12 step Centering prayer\nTime: 9 AM CST / 3 PM GMT\nWhen: Every week on Saturday\n\nZoom ID: 869 7014 7138 \nPassword: 310112 \nZoom ID: https://us05web.zoom.us/j/86970147138
URL:https://cp12stepoutreach.org/meeting-or-group/united-kingdom-saturday-uk-guttermonks-cp-12-step-group-9-am-cst/2022-01-15/
LOCATION:Zoom Meeting
CATEGORIES:Online 12 Step Centering Prayer Groups
ORGANIZER;CN="Barry B":MAILTO:barryburns1@hotmail.co.uk
END:VEVENT
BEGIN:VEVENT
DTSTART;TZID=Europe/London:20220108T150000
DTEND;TZID=Europe/London:20220108T160000
DTSTAMP:20260420T054117
CREATED:20201112T224737Z
LAST-MODIFIED:20250219T230704Z
UID:10060797-1641654000-1641657600@cp12stepoutreach.org
SUMMARY:Guttermonks CP 12 Step Group - Sat. at 9am CST/3pm GMT - United Kingdom
DESCRIPTION:Topic: Guttermonks 12 step Centering prayer\nTime: 9 AM CST / 3 PM GMT\nWhen: Every week on Saturday\n\nZoom ID: 869 7014 7138 \nPassword: 310112 \nZoom ID: https://us05web.zoom.us/j/86970147138
URL:https://cp12stepoutreach.org/meeting-or-group/united-kingdom-saturday-uk-guttermonks-cp-12-step-group-9-am-cst/2022-01-08/
LOCATION:Zoom Meeting
CATEGORIES:Online 12 Step Centering Prayer Groups
ORGANIZER;CN="Barry B":MAILTO:barryburns1@hotmail.co.uk
END:VEVENT
BEGIN:VEVENT
DTSTART;TZID=Europe/London:20220101T150000
DTEND;TZID=Europe/London:20220101T160000
DTSTAMP:20260420T054117
CREATED:20201112T224737Z
LAST-MODIFIED:20250219T230704Z
UID:10060796-1641049200-1641052800@cp12stepoutreach.org
SUMMARY:Guttermonks CP 12 Step Group - Sat. at 9am CST/3pm GMT - United Kingdom
DESCRIPTION:Topic: Guttermonks 12 step Centering prayer\nTime: 9 AM CST / 3 PM GMT\nWhen: Every week on Saturday\n\nZoom ID: 869 7014 7138 \nPassword: 310112 \nZoom ID: https://us05web.zoom.us/j/86970147138
URL:https://cp12stepoutreach.org/meeting-or-group/united-kingdom-saturday-uk-guttermonks-cp-12-step-group-9-am-cst/2022-01-01/
LOCATION:Zoom Meeting
CATEGORIES:Online 12 Step Centering Prayer Groups
ORGANIZER;CN="Barry B":MAILTO:barryburns1@hotmail.co.uk
END:VEVENT
BEGIN:VEVENT
DTSTART;TZID=Europe/London:20211225T150000
DTEND;TZID=Europe/London:20211225T160000
DTSTAMP:20260420T054117
CREATED:20201112T224737Z
LAST-MODIFIED:20250219T230704Z
UID:10060795-1640444400-1640448000@cp12stepoutreach.org
SUMMARY:Guttermonks CP 12 Step Group - Sat. at 9am CST/3pm GMT - United Kingdom
DESCRIPTION:Topic: Guttermonks 12 step Centering prayer\nTime: 9 AM CST / 3 PM GMT\nWhen: Every week on Saturday\n\nZoom ID: 869 7014 7138 \nPassword: 310112 \nZoom ID: https://us05web.zoom.us/j/86970147138
URL:https://cp12stepoutreach.org/meeting-or-group/united-kingdom-saturday-uk-guttermonks-cp-12-step-group-9-am-cst/2021-12-25/
LOCATION:Zoom Meeting
CATEGORIES:Online 12 Step Centering Prayer Groups
ORGANIZER;CN="Barry B":MAILTO:barryburns1@hotmail.co.uk
END:VEVENT
BEGIN:VEVENT
DTSTART;TZID=Europe/London:20211218T150000
DTEND;TZID=Europe/London:20211218T160000
DTSTAMP:20260420T054117
CREATED:20201112T224737Z
LAST-MODIFIED:20250219T230704Z
UID:10060794-1639839600-1639843200@cp12stepoutreach.org
SUMMARY:Guttermonks CP 12 Step Group - Sat. at 9am CST/3pm GMT - United Kingdom
DESCRIPTION:Topic: Guttermonks 12 step Centering prayer\nTime: 9 AM CST / 3 PM GMT\nWhen: Every week on Saturday\n\nZoom ID: 869 7014 7138 \nPassword: 310112 \nZoom ID: https://us05web.zoom.us/j/86970147138
URL:https://cp12stepoutreach.org/meeting-or-group/united-kingdom-saturday-uk-guttermonks-cp-12-step-group-9-am-cst/2021-12-18/
LOCATION:Zoom Meeting
CATEGORIES:Online 12 Step Centering Prayer Groups
ORGANIZER;CN="Barry B":MAILTO:barryburns1@hotmail.co.uk
END:VEVENT
BEGIN:VEVENT
DTSTART;TZID=Europe/London:20211211T150000
DTEND;TZID=Europe/London:20211211T160000
DTSTAMP:20260420T054117
CREATED:20201112T224737Z
LAST-MODIFIED:20250219T230704Z
UID:10060793-1639234800-1639238400@cp12stepoutreach.org
SUMMARY:Guttermonks CP 12 Step Group - Sat. at 9am CST/3pm GMT - United Kingdom
DESCRIPTION:Topic: Guttermonks 12 step Centering prayer\nTime: 9 AM CST / 3 PM GMT\nWhen: Every week on Saturday\n\nZoom ID: 869 7014 7138 \nPassword: 310112 \nZoom ID: https://us05web.zoom.us/j/86970147138
URL:https://cp12stepoutreach.org/meeting-or-group/united-kingdom-saturday-uk-guttermonks-cp-12-step-group-9-am-cst/2021-12-11/
LOCATION:Zoom Meeting
CATEGORIES:Online 12 Step Centering Prayer Groups
ORGANIZER;CN="Barry B":MAILTO:barryburns1@hotmail.co.uk
END:VEVENT
BEGIN:VEVENT
DTSTART;TZID=Europe/London:20211204T150000
DTEND;TZID=Europe/London:20211204T160000
DTSTAMP:20260420T054117
CREATED:20201112T224737Z
LAST-MODIFIED:20250219T230704Z
UID:10060792-1638630000-1638633600@cp12stepoutreach.org
SUMMARY:Guttermonks CP 12 Step Group - Sat. at 9am CST/3pm GMT - United Kingdom
DESCRIPTION:Topic: Guttermonks 12 step Centering prayer\nTime: 9 AM CST / 3 PM GMT\nWhen: Every week on Saturday\n\nZoom ID: 869 7014 7138 \nPassword: 310112 \nZoom ID: https://us05web.zoom.us/j/86970147138
URL:https://cp12stepoutreach.org/meeting-or-group/united-kingdom-saturday-uk-guttermonks-cp-12-step-group-9-am-cst/2021-12-04/
LOCATION:Zoom Meeting
CATEGORIES:Online 12 Step Centering Prayer Groups
ORGANIZER;CN="Barry B":MAILTO:barryburns1@hotmail.co.uk
END:VEVENT
BEGIN:VEVENT
DTSTART;TZID=Europe/London:20211127T150000
DTEND;TZID=Europe/London:20211127T160000
DTSTAMP:20260420T054117
CREATED:20201112T224737Z
LAST-MODIFIED:20250219T230704Z
UID:10060791-1638025200-1638028800@cp12stepoutreach.org
SUMMARY:Guttermonks CP 12 Step Group - Sat. at 9am CST/3pm GMT - United Kingdom
DESCRIPTION:Topic: Guttermonks 12 step Centering prayer\nTime: 9 AM CST / 3 PM GMT\nWhen: Every week on Saturday\n\nZoom ID: 869 7014 7138 \nPassword: 310112 \nZoom ID: https://us05web.zoom.us/j/86970147138
URL:https://cp12stepoutreach.org/meeting-or-group/united-kingdom-saturday-uk-guttermonks-cp-12-step-group-9-am-cst/2021-11-27/
LOCATION:Zoom Meeting
CATEGORIES:Online 12 Step Centering Prayer Groups
ORGANIZER;CN="Barry B":MAILTO:barryburns1@hotmail.co.uk
END:VEVENT
END:VCALENDAR