BEGIN:VCALENDAR
VERSION:2.0
PRODID:-//12 Step Outreach - ECPv6.11.2.1//NONSGML v1.0//EN
CALSCALE:GREGORIAN
METHOD:PUBLISH
X-WR-CALNAME:12 Step Outreach
X-ORIGINAL-URL:https://cp12stepoutreach.org
X-WR-CALDESC:Events for 12 Step Outreach
REFRESH-INTERVAL;VALUE=DURATION:PT1H
X-Robots-Tag:noindex
X-PUBLISHED-TTL:PT1H
BEGIN:VTIMEZONE
TZID:America/Chicago
BEGIN:DAYLIGHT
TZOFFSETFROM:-0600
TZOFFSETTO:-0500
TZNAME:CDT
DTSTART:20250309T080000
END:DAYLIGHT
BEGIN:STANDARD
TZOFFSETFROM:-0500
TZOFFSETTO:-0600
TZNAME:CST
DTSTART:20251102T070000
END:STANDARD
END:VTIMEZONE
BEGIN:VTIMEZONE
TZID:Europe/London
BEGIN:DAYLIGHT
TZOFFSETFROM:+0000
TZOFFSETTO:+0100
TZNAME:BST
DTSTART:20240331T010000
END:DAYLIGHT
BEGIN:STANDARD
TZOFFSETFROM:+0100
TZOFFSETTO:+0000
TZNAME:GMT
DTSTART:20241027T010000
END:STANDARD
BEGIN:DAYLIGHT
TZOFFSETFROM:+0000
TZOFFSETTO:+0100
TZNAME:BST
DTSTART:20250330T010000
END:DAYLIGHT
BEGIN:STANDARD
TZOFFSETFROM:+0100
TZOFFSETTO:+0000
TZNAME:GMT
DTSTART:20251026T010000
END:STANDARD
END:VTIMEZONE
BEGIN:VEVENT
DTSTART;TZID=America/Chicago:20250712T090000
DTEND;TZID=America/Chicago:20250712T100000
DTSTAMP:20260419T185307
CREATED:20250324T182144Z
LAST-MODIFIED:20250324T182144Z
UID:10069100-1752310800-1752314400@cp12stepoutreach.org
SUMMARY:Guttermonks CP 12 Step Group - Sat. at 9am CST/3pm GMT - United Kingdom
DESCRIPTION:Topic: Guttermonks 12 step Centering prayer\nTime: 9 AM CST / 3 PM GMT\nWhen: Every week on Saturday\n\nZoom ID: 869 7014 7138 \nPassword: 310112 \nZoom ID: https://us05web.zoom.us/j/86970147138
URL:https://cp12stepoutreach.org/meeting-or-group/united-kingdom-saturday-uk-guttermonks-cp-12-step-group-9-am-cst-2/2025-07-12/
LOCATION:Zoom Meeting
CATEGORIES:Online 12 Step Centering Prayer Groups
ORGANIZER;CN="Barry B":MAILTO:barryburns1@hotmail.co.uk
END:VEVENT
BEGIN:VEVENT
DTSTART;TZID=America/Chicago:20250705T090000
DTEND;TZID=America/Chicago:20250705T100000
DTSTAMP:20260419T185307
CREATED:20250324T182144Z
LAST-MODIFIED:20250324T182144Z
UID:10069099-1751706000-1751709600@cp12stepoutreach.org
SUMMARY:Guttermonks CP 12 Step Group - Sat. at 9am CST/3pm GMT - United Kingdom
DESCRIPTION:Topic: Guttermonks 12 step Centering prayer\nTime: 9 AM CST / 3 PM GMT\nWhen: Every week on Saturday\n\nZoom ID: 869 7014 7138 \nPassword: 310112 \nZoom ID: https://us05web.zoom.us/j/86970147138
URL:https://cp12stepoutreach.org/meeting-or-group/united-kingdom-saturday-uk-guttermonks-cp-12-step-group-9-am-cst-2/2025-07-05/
LOCATION:Zoom Meeting
CATEGORIES:Online 12 Step Centering Prayer Groups
ORGANIZER;CN="Barry B":MAILTO:barryburns1@hotmail.co.uk
END:VEVENT
BEGIN:VEVENT
DTSTART;TZID=America/Chicago:20250628T090000
DTEND;TZID=America/Chicago:20250628T100000
DTSTAMP:20260419T185307
CREATED:20250324T182144Z
LAST-MODIFIED:20250324T182144Z
UID:10069098-1751101200-1751104800@cp12stepoutreach.org
SUMMARY:Guttermonks CP 12 Step Group - Sat. at 9am CST/3pm GMT - United Kingdom
DESCRIPTION:Topic: Guttermonks 12 step Centering prayer\nTime: 9 AM CST / 3 PM GMT\nWhen: Every week on Saturday\n\nZoom ID: 869 7014 7138 \nPassword: 310112 \nZoom ID: https://us05web.zoom.us/j/86970147138
URL:https://cp12stepoutreach.org/meeting-or-group/united-kingdom-saturday-uk-guttermonks-cp-12-step-group-9-am-cst-2/2025-06-28/
LOCATION:Zoom Meeting
CATEGORIES:Online 12 Step Centering Prayer Groups
ORGANIZER;CN="Barry B":MAILTO:barryburns1@hotmail.co.uk
END:VEVENT
BEGIN:VEVENT
DTSTART;TZID=America/Chicago:20250621T090000
DTEND;TZID=America/Chicago:20250621T100000
DTSTAMP:20260419T185307
CREATED:20250324T182144Z
LAST-MODIFIED:20250324T182144Z
UID:10069097-1750496400-1750500000@cp12stepoutreach.org
SUMMARY:Guttermonks CP 12 Step Group - Sat. at 9am CST/3pm GMT - United Kingdom
DESCRIPTION:Topic: Guttermonks 12 step Centering prayer\nTime: 9 AM CST / 3 PM GMT\nWhen: Every week on Saturday\n\nZoom ID: 869 7014 7138 \nPassword: 310112 \nZoom ID: https://us05web.zoom.us/j/86970147138
URL:https://cp12stepoutreach.org/meeting-or-group/united-kingdom-saturday-uk-guttermonks-cp-12-step-group-9-am-cst-2/2025-06-21/
LOCATION:Zoom Meeting
CATEGORIES:Online 12 Step Centering Prayer Groups
ORGANIZER;CN="Barry B":MAILTO:barryburns1@hotmail.co.uk
END:VEVENT
BEGIN:VEVENT
DTSTART;TZID=America/Chicago:20250614T090000
DTEND;TZID=America/Chicago:20250614T100000
DTSTAMP:20260419T185307
CREATED:20250324T182144Z
LAST-MODIFIED:20250324T182144Z
UID:10069096-1749891600-1749895200@cp12stepoutreach.org
SUMMARY:Guttermonks CP 12 Step Group - Sat. at 9am CST/3pm GMT - United Kingdom
DESCRIPTION:Topic: Guttermonks 12 step Centering prayer\nTime: 9 AM CST / 3 PM GMT\nWhen: Every week on Saturday\n\nZoom ID: 869 7014 7138 \nPassword: 310112 \nZoom ID: https://us05web.zoom.us/j/86970147138
URL:https://cp12stepoutreach.org/meeting-or-group/united-kingdom-saturday-uk-guttermonks-cp-12-step-group-9-am-cst-2/2025-06-14/
LOCATION:Zoom Meeting
CATEGORIES:Online 12 Step Centering Prayer Groups
ORGANIZER;CN="Barry B":MAILTO:barryburns1@hotmail.co.uk
END:VEVENT
BEGIN:VEVENT
DTSTART;TZID=America/Chicago:20250607T090000
DTEND;TZID=America/Chicago:20250607T100000
DTSTAMP:20260419T185307
CREATED:20250324T182144Z
LAST-MODIFIED:20250324T182144Z
UID:10069095-1749286800-1749290400@cp12stepoutreach.org
SUMMARY:Guttermonks CP 12 Step Group - Sat. at 9am CST/3pm GMT - United Kingdom
DESCRIPTION:Topic: Guttermonks 12 step Centering prayer\nTime: 9 AM CST / 3 PM GMT\nWhen: Every week on Saturday\n\nZoom ID: 869 7014 7138 \nPassword: 310112 \nZoom ID: https://us05web.zoom.us/j/86970147138
URL:https://cp12stepoutreach.org/meeting-or-group/united-kingdom-saturday-uk-guttermonks-cp-12-step-group-9-am-cst-2/2025-06-07/
LOCATION:Zoom Meeting
CATEGORIES:Online 12 Step Centering Prayer Groups
ORGANIZER;CN="Barry B":MAILTO:barryburns1@hotmail.co.uk
END:VEVENT
BEGIN:VEVENT
DTSTART;TZID=America/Chicago:20250531T090000
DTEND;TZID=America/Chicago:20250531T100000
DTSTAMP:20260419T185307
CREATED:20250324T182144Z
LAST-MODIFIED:20250324T182144Z
UID:10069094-1748682000-1748685600@cp12stepoutreach.org
SUMMARY:Guttermonks CP 12 Step Group - Sat. at 9am CST/3pm GMT - United Kingdom
DESCRIPTION:Topic: Guttermonks 12 step Centering prayer\nTime: 9 AM CST / 3 PM GMT\nWhen: Every week on Saturday\n\nZoom ID: 869 7014 7138 \nPassword: 310112 \nZoom ID: https://us05web.zoom.us/j/86970147138
URL:https://cp12stepoutreach.org/meeting-or-group/united-kingdom-saturday-uk-guttermonks-cp-12-step-group-9-am-cst-2/2025-05-31/
LOCATION:Zoom Meeting
CATEGORIES:Online 12 Step Centering Prayer Groups
ORGANIZER;CN="Barry B":MAILTO:barryburns1@hotmail.co.uk
END:VEVENT
BEGIN:VEVENT
DTSTART;TZID=America/Chicago:20250524T090000
DTEND;TZID=America/Chicago:20250524T100000
DTSTAMP:20260419T185307
CREATED:20250324T182144Z
LAST-MODIFIED:20250324T182144Z
UID:10069093-1748077200-1748080800@cp12stepoutreach.org
SUMMARY:Guttermonks CP 12 Step Group - Sat. at 9am CST/3pm GMT - United Kingdom
DESCRIPTION:Topic: Guttermonks 12 step Centering prayer\nTime: 9 AM CST / 3 PM GMT\nWhen: Every week on Saturday\n\nZoom ID: 869 7014 7138 \nPassword: 310112 \nZoom ID: https://us05web.zoom.us/j/86970147138
URL:https://cp12stepoutreach.org/meeting-or-group/united-kingdom-saturday-uk-guttermonks-cp-12-step-group-9-am-cst-2/2025-05-24/
LOCATION:Zoom Meeting
CATEGORIES:Online 12 Step Centering Prayer Groups
ORGANIZER;CN="Barry B":MAILTO:barryburns1@hotmail.co.uk
END:VEVENT
BEGIN:VEVENT
DTSTART;TZID=America/Chicago:20250517T090000
DTEND;TZID=America/Chicago:20250517T100000
DTSTAMP:20260419T185307
CREATED:20250324T182144Z
LAST-MODIFIED:20250324T182144Z
UID:10069092-1747472400-1747476000@cp12stepoutreach.org
SUMMARY:Guttermonks CP 12 Step Group - Sat. at 9am CST/3pm GMT - United Kingdom
DESCRIPTION:Topic: Guttermonks 12 step Centering prayer\nTime: 9 AM CST / 3 PM GMT\nWhen: Every week on Saturday\n\nZoom ID: 869 7014 7138 \nPassword: 310112 \nZoom ID: https://us05web.zoom.us/j/86970147138
URL:https://cp12stepoutreach.org/meeting-or-group/united-kingdom-saturday-uk-guttermonks-cp-12-step-group-9-am-cst-2/2025-05-17/
LOCATION:Zoom Meeting
CATEGORIES:Online 12 Step Centering Prayer Groups
ORGANIZER;CN="Barry B":MAILTO:barryburns1@hotmail.co.uk
END:VEVENT
BEGIN:VEVENT
DTSTART;TZID=America/Chicago:20250510T090000
DTEND;TZID=America/Chicago:20250510T100000
DTSTAMP:20260419T185307
CREATED:20250324T182144Z
LAST-MODIFIED:20250324T182144Z
UID:10069091-1746867600-1746871200@cp12stepoutreach.org
SUMMARY:Guttermonks CP 12 Step Group - Sat. at 9am CST/3pm GMT - United Kingdom
DESCRIPTION:Topic: Guttermonks 12 step Centering prayer\nTime: 9 AM CST / 3 PM GMT\nWhen: Every week on Saturday\n\nZoom ID: 869 7014 7138 \nPassword: 310112 \nZoom ID: https://us05web.zoom.us/j/86970147138
URL:https://cp12stepoutreach.org/meeting-or-group/united-kingdom-saturday-uk-guttermonks-cp-12-step-group-9-am-cst-2/2025-05-10/
LOCATION:Zoom Meeting
CATEGORIES:Online 12 Step Centering Prayer Groups
ORGANIZER;CN="Barry B":MAILTO:barryburns1@hotmail.co.uk
END:VEVENT
BEGIN:VEVENT
DTSTART;TZID=America/Chicago:20250503T090000
DTEND;TZID=America/Chicago:20250503T100000
DTSTAMP:20260419T185307
CREATED:20250324T182144Z
LAST-MODIFIED:20250324T182144Z
UID:10069090-1746262800-1746266400@cp12stepoutreach.org
SUMMARY:Guttermonks CP 12 Step Group - Sat. at 9am CST/3pm GMT - United Kingdom
DESCRIPTION:Topic: Guttermonks 12 step Centering prayer\nTime: 9 AM CST / 3 PM GMT\nWhen: Every week on Saturday\n\nZoom ID: 869 7014 7138 \nPassword: 310112 \nZoom ID: https://us05web.zoom.us/j/86970147138
URL:https://cp12stepoutreach.org/meeting-or-group/united-kingdom-saturday-uk-guttermonks-cp-12-step-group-9-am-cst-2/2025-05-03/
LOCATION:Zoom Meeting
CATEGORIES:Online 12 Step Centering Prayer Groups
ORGANIZER;CN="Barry B":MAILTO:barryburns1@hotmail.co.uk
END:VEVENT
BEGIN:VEVENT
DTSTART;TZID=America/Chicago:20250426T090000
DTEND;TZID=America/Chicago:20250426T100000
DTSTAMP:20260419T185307
CREATED:20250324T182144Z
LAST-MODIFIED:20250324T182144Z
UID:10069089-1745658000-1745661600@cp12stepoutreach.org
SUMMARY:Guttermonks CP 12 Step Group - Sat. at 9am CST/3pm GMT - United Kingdom
DESCRIPTION:Topic: Guttermonks 12 step Centering prayer\nTime: 9 AM CST / 3 PM GMT\nWhen: Every week on Saturday\n\nZoom ID: 869 7014 7138 \nPassword: 310112 \nZoom ID: https://us05web.zoom.us/j/86970147138
URL:https://cp12stepoutreach.org/meeting-or-group/united-kingdom-saturday-uk-guttermonks-cp-12-step-group-9-am-cst-2/2025-04-26/
LOCATION:Zoom Meeting
CATEGORIES:Online 12 Step Centering Prayer Groups
ORGANIZER;CN="Barry B":MAILTO:barryburns1@hotmail.co.uk
END:VEVENT
BEGIN:VEVENT
DTSTART;TZID=America/Chicago:20250419T090000
DTEND;TZID=America/Chicago:20250419T100000
DTSTAMP:20260419T185307
CREATED:20250324T182144Z
LAST-MODIFIED:20250324T182144Z
UID:10069088-1745053200-1745056800@cp12stepoutreach.org
SUMMARY:Guttermonks CP 12 Step Group - Sat. at 9am CST/3pm GMT - United Kingdom
DESCRIPTION:Topic: Guttermonks 12 step Centering prayer\nTime: 9 AM CST / 3 PM GMT\nWhen: Every week on Saturday\n\nZoom ID: 869 7014 7138 \nPassword: 310112 \nZoom ID: https://us05web.zoom.us/j/86970147138
URL:https://cp12stepoutreach.org/meeting-or-group/united-kingdom-saturday-uk-guttermonks-cp-12-step-group-9-am-cst-2/2025-04-19/
LOCATION:Zoom Meeting
CATEGORIES:Online 12 Step Centering Prayer Groups
ORGANIZER;CN="Barry B":MAILTO:barryburns1@hotmail.co.uk
END:VEVENT
BEGIN:VEVENT
DTSTART;TZID=America/Chicago:20250412T090000
DTEND;TZID=America/Chicago:20250412T100000
DTSTAMP:20260419T185307
CREATED:20250324T182144Z
LAST-MODIFIED:20250324T182144Z
UID:10069087-1744448400-1744452000@cp12stepoutreach.org
SUMMARY:Guttermonks CP 12 Step Group - Sat. at 9am CST/3pm GMT - United Kingdom
DESCRIPTION:Topic: Guttermonks 12 step Centering prayer\nTime: 9 AM CST / 3 PM GMT\nWhen: Every week on Saturday\n\nZoom ID: 869 7014 7138 \nPassword: 310112 \nZoom ID: https://us05web.zoom.us/j/86970147138
URL:https://cp12stepoutreach.org/meeting-or-group/united-kingdom-saturday-uk-guttermonks-cp-12-step-group-9-am-cst-2/2025-04-12/
LOCATION:Zoom Meeting
CATEGORIES:Online 12 Step Centering Prayer Groups
ORGANIZER;CN="Barry B":MAILTO:barryburns1@hotmail.co.uk
END:VEVENT
BEGIN:VEVENT
DTSTART;TZID=America/Chicago:20250405T090000
DTEND;TZID=America/Chicago:20250405T100000
DTSTAMP:20260419T185307
CREATED:20250324T182144Z
LAST-MODIFIED:20250324T182144Z
UID:10069086-1743843600-1743847200@cp12stepoutreach.org
SUMMARY:Guttermonks CP 12 Step Group - Sat. at 9am CST/3pm GMT - United Kingdom
DESCRIPTION:Topic: Guttermonks 12 step Centering prayer\nTime: 9 AM CST / 3 PM GMT\nWhen: Every week on Saturday\n\nZoom ID: 869 7014 7138 \nPassword: 310112 \nZoom ID: https://us05web.zoom.us/j/86970147138
URL:https://cp12stepoutreach.org/meeting-or-group/united-kingdom-saturday-uk-guttermonks-cp-12-step-group-9-am-cst-2/2025-04-05/
LOCATION:Zoom Meeting
CATEGORIES:Online 12 Step Centering Prayer Groups
ORGANIZER;CN="Barry B":MAILTO:barryburns1@hotmail.co.uk
END:VEVENT
BEGIN:VEVENT
DTSTART;TZID=America/Chicago:20250329T090000
DTEND;TZID=America/Chicago:20250329T100000
DTSTAMP:20260419T185307
CREATED:20250324T182144Z
LAST-MODIFIED:20250324T182144Z
UID:10068819-1743238800-1743242400@cp12stepoutreach.org
SUMMARY:Guttermonks CP 12 Step Group - Sat. at 9am CST/3pm GMT - United Kingdom
DESCRIPTION:Topic: Guttermonks 12 step Centering prayer\nTime: 9 AM CST / 3 PM GMT\nWhen: Every week on Saturday\n\nZoom ID: 869 7014 7138 \nPassword: 310112 \nZoom ID: https://us05web.zoom.us/j/86970147138
URL:https://cp12stepoutreach.org/meeting-or-group/united-kingdom-saturday-uk-guttermonks-cp-12-step-group-9-am-cst-2/2025-03-29/
LOCATION:Zoom Meeting
CATEGORIES:Online 12 Step Centering Prayer Groups
ORGANIZER;CN="Barry B":MAILTO:barryburns1@hotmail.co.uk
END:VEVENT
BEGIN:VEVENT
DTSTART;TZID=Europe/London:20250322T150000
DTEND;TZID=Europe/London:20250322T160000
DTSTAMP:20260419T185307
CREATED:20201112T224737Z
LAST-MODIFIED:20250219T230704Z
UID:10068818-1742655600-1742659200@cp12stepoutreach.org
SUMMARY:Guttermonks CP 12 Step Group - Sat. at 9am CST/3pm GMT - United Kingdom
DESCRIPTION:Topic: Guttermonks 12 step Centering prayer\nTime: 9 AM CST / 3 PM GMT\nWhen: Every week on Saturday\n\nZoom ID: 869 7014 7138 \nPassword: 310112 \nZoom ID: https://us05web.zoom.us/j/86970147138
URL:https://cp12stepoutreach.org/meeting-or-group/united-kingdom-saturday-uk-guttermonks-cp-12-step-group-9-am-cst/2025-03-22/
LOCATION:Zoom Meeting
CATEGORIES:Online 12 Step Centering Prayer Groups
ORGANIZER;CN="Barry B":MAILTO:barryburns1@hotmail.co.uk
END:VEVENT
BEGIN:VEVENT
DTSTART;TZID=Europe/London:20250315T150000
DTEND;TZID=Europe/London:20250315T160000
DTSTAMP:20260419T185307
CREATED:20201112T224737Z
LAST-MODIFIED:20250219T230704Z
UID:10068817-1742050800-1742054400@cp12stepoutreach.org
SUMMARY:Guttermonks CP 12 Step Group - Sat. at 9am CST/3pm GMT - United Kingdom
DESCRIPTION:Topic: Guttermonks 12 step Centering prayer\nTime: 9 AM CST / 3 PM GMT\nWhen: Every week on Saturday\n\nZoom ID: 869 7014 7138 \nPassword: 310112 \nZoom ID: https://us05web.zoom.us/j/86970147138
URL:https://cp12stepoutreach.org/meeting-or-group/united-kingdom-saturday-uk-guttermonks-cp-12-step-group-9-am-cst/2025-03-15/
LOCATION:Zoom Meeting
CATEGORIES:Online 12 Step Centering Prayer Groups
ORGANIZER;CN="Barry B":MAILTO:barryburns1@hotmail.co.uk
END:VEVENT
BEGIN:VEVENT
DTSTART;TZID=Europe/London:20250308T150000
DTEND;TZID=Europe/London:20250308T160000
DTSTAMP:20260419T185307
CREATED:20201112T224737Z
LAST-MODIFIED:20250219T230704Z
UID:10068816-1741446000-1741449600@cp12stepoutreach.org
SUMMARY:Guttermonks CP 12 Step Group - Sat. at 9am CST/3pm GMT - United Kingdom
DESCRIPTION:Topic: Guttermonks 12 step Centering prayer\nTime: 9 AM CST / 3 PM GMT\nWhen: Every week on Saturday\n\nZoom ID: 869 7014 7138 \nPassword: 310112 \nZoom ID: https://us05web.zoom.us/j/86970147138
URL:https://cp12stepoutreach.org/meeting-or-group/united-kingdom-saturday-uk-guttermonks-cp-12-step-group-9-am-cst/2025-03-08/
LOCATION:Zoom Meeting
CATEGORIES:Online 12 Step Centering Prayer Groups
ORGANIZER;CN="Barry B":MAILTO:barryburns1@hotmail.co.uk
END:VEVENT
BEGIN:VEVENT
DTSTART;TZID=Europe/London:20250301T150000
DTEND;TZID=Europe/London:20250301T160000
DTSTAMP:20260419T185307
CREATED:20201112T224737Z
LAST-MODIFIED:20250219T230704Z
UID:10068815-1740841200-1740844800@cp12stepoutreach.org
SUMMARY:Guttermonks CP 12 Step Group - Sat. at 9am CST/3pm GMT - United Kingdom
DESCRIPTION:Topic: Guttermonks 12 step Centering prayer\nTime: 9 AM CST / 3 PM GMT\nWhen: Every week on Saturday\n\nZoom ID: 869 7014 7138 \nPassword: 310112 \nZoom ID: https://us05web.zoom.us/j/86970147138
URL:https://cp12stepoutreach.org/meeting-or-group/united-kingdom-saturday-uk-guttermonks-cp-12-step-group-9-am-cst/2025-03-01/
LOCATION:Zoom Meeting
CATEGORIES:Online 12 Step Centering Prayer Groups
ORGANIZER;CN="Barry B":MAILTO:barryburns1@hotmail.co.uk
END:VEVENT
BEGIN:VEVENT
DTSTART;TZID=Europe/London:20250222T150000
DTEND;TZID=Europe/London:20250222T160000
DTSTAMP:20260419T185307
CREATED:20201112T224737Z
LAST-MODIFIED:20250219T230704Z
UID:10068814-1740236400-1740240000@cp12stepoutreach.org
SUMMARY:Guttermonks CP 12 Step Group - Sat. at 9am CST/3pm GMT - United Kingdom
DESCRIPTION:Topic: Guttermonks 12 step Centering prayer\nTime: 9 AM CST / 3 PM GMT\nWhen: Every week on Saturday\n\nZoom ID: 869 7014 7138 \nPassword: 310112 \nZoom ID: https://us05web.zoom.us/j/86970147138
URL:https://cp12stepoutreach.org/meeting-or-group/united-kingdom-saturday-uk-guttermonks-cp-12-step-group-9-am-cst/2025-02-22/
LOCATION:Zoom Meeting
CATEGORIES:Online 12 Step Centering Prayer Groups
ORGANIZER;CN="Barry B":MAILTO:barryburns1@hotmail.co.uk
END:VEVENT
BEGIN:VEVENT
DTSTART;TZID=Europe/London:20250215T150000
DTEND;TZID=Europe/London:20250215T160000
DTSTAMP:20260419T185307
CREATED:20201112T224737Z
LAST-MODIFIED:20250219T230704Z
UID:10068813-1739631600-1739635200@cp12stepoutreach.org
SUMMARY:Guttermonks CP 12 Step Group - Sat. at 9am CST/3pm GMT - United Kingdom
DESCRIPTION:Topic: Guttermonks 12 step Centering prayer\nTime: 9 AM CST / 3 PM GMT\nWhen: Every week on Saturday\n\nZoom ID: 869 7014 7138 \nPassword: 310112 \nZoom ID: https://us05web.zoom.us/j/86970147138
URL:https://cp12stepoutreach.org/meeting-or-group/united-kingdom-saturday-uk-guttermonks-cp-12-step-group-9-am-cst/2025-02-15/
LOCATION:Zoom Meeting
CATEGORIES:Online 12 Step Centering Prayer Groups
ORGANIZER;CN="Barry B":MAILTO:barryburns1@hotmail.co.uk
END:VEVENT
BEGIN:VEVENT
DTSTART;TZID=Europe/London:20250208T150000
DTEND;TZID=Europe/London:20250208T160000
DTSTAMP:20260419T185307
CREATED:20201112T224737Z
LAST-MODIFIED:20250219T230704Z
UID:10068812-1739026800-1739030400@cp12stepoutreach.org
SUMMARY:Guttermonks CP 12 Step Group - Sat. at 9am CST/3pm GMT - United Kingdom
DESCRIPTION:Topic: Guttermonks 12 step Centering prayer\nTime: 9 AM CST / 3 PM GMT\nWhen: Every week on Saturday\n\nZoom ID: 869 7014 7138 \nPassword: 310112 \nZoom ID: https://us05web.zoom.us/j/86970147138
URL:https://cp12stepoutreach.org/meeting-or-group/united-kingdom-saturday-uk-guttermonks-cp-12-step-group-9-am-cst/2025-02-08/
LOCATION:Zoom Meeting
CATEGORIES:Online 12 Step Centering Prayer Groups
ORGANIZER;CN="Barry B":MAILTO:barryburns1@hotmail.co.uk
END:VEVENT
BEGIN:VEVENT
DTSTART;TZID=Europe/London:20250201T150000
DTEND;TZID=Europe/London:20250201T160000
DTSTAMP:20260419T185307
CREATED:20201112T224737Z
LAST-MODIFIED:20250219T230704Z
UID:10060957-1738422000-1738425600@cp12stepoutreach.org
SUMMARY:Guttermonks CP 12 Step Group - Sat. at 9am CST/3pm GMT - United Kingdom
DESCRIPTION:Topic: Guttermonks 12 step Centering prayer\nTime: 9 AM CST / 3 PM GMT\nWhen: Every week on Saturday\n\nZoom ID: 869 7014 7138 \nPassword: 310112 \nZoom ID: https://us05web.zoom.us/j/86970147138
URL:https://cp12stepoutreach.org/meeting-or-group/united-kingdom-saturday-uk-guttermonks-cp-12-step-group-9-am-cst/2025-02-01/
LOCATION:Zoom Meeting
CATEGORIES:Online 12 Step Centering Prayer Groups
ORGANIZER;CN="Barry B":MAILTO:barryburns1@hotmail.co.uk
END:VEVENT
BEGIN:VEVENT
DTSTART;TZID=Europe/London:20250125T150000
DTEND;TZID=Europe/London:20250125T160000
DTSTAMP:20260419T185307
CREATED:20201112T224737Z
LAST-MODIFIED:20250219T230704Z
UID:10060956-1737817200-1737820800@cp12stepoutreach.org
SUMMARY:Guttermonks CP 12 Step Group - Sat. at 9am CST/3pm GMT - United Kingdom
DESCRIPTION:Topic: Guttermonks 12 step Centering prayer\nTime: 9 AM CST / 3 PM GMT\nWhen: Every week on Saturday\n\nZoom ID: 869 7014 7138 \nPassword: 310112 \nZoom ID: https://us05web.zoom.us/j/86970147138
URL:https://cp12stepoutreach.org/meeting-or-group/united-kingdom-saturday-uk-guttermonks-cp-12-step-group-9-am-cst/2025-01-25/
LOCATION:Zoom Meeting
CATEGORIES:Online 12 Step Centering Prayer Groups
ORGANIZER;CN="Barry B":MAILTO:barryburns1@hotmail.co.uk
END:VEVENT
BEGIN:VEVENT
DTSTART;TZID=Europe/London:20250118T150000
DTEND;TZID=Europe/London:20250118T160000
DTSTAMP:20260419T185307
CREATED:20201112T224737Z
LAST-MODIFIED:20250219T230704Z
UID:10060955-1737212400-1737216000@cp12stepoutreach.org
SUMMARY:Guttermonks CP 12 Step Group - Sat. at 9am CST/3pm GMT - United Kingdom
DESCRIPTION:Topic: Guttermonks 12 step Centering prayer\nTime: 9 AM CST / 3 PM GMT\nWhen: Every week on Saturday\n\nZoom ID: 869 7014 7138 \nPassword: 310112 \nZoom ID: https://us05web.zoom.us/j/86970147138
URL:https://cp12stepoutreach.org/meeting-or-group/united-kingdom-saturday-uk-guttermonks-cp-12-step-group-9-am-cst/2025-01-18/
LOCATION:Zoom Meeting
CATEGORIES:Online 12 Step Centering Prayer Groups
ORGANIZER;CN="Barry B":MAILTO:barryburns1@hotmail.co.uk
END:VEVENT
BEGIN:VEVENT
DTSTART;TZID=Europe/London:20250111T150000
DTEND;TZID=Europe/London:20250111T160000
DTSTAMP:20260419T185307
CREATED:20201112T224737Z
LAST-MODIFIED:20250219T230704Z
UID:10060954-1736607600-1736611200@cp12stepoutreach.org
SUMMARY:Guttermonks CP 12 Step Group - Sat. at 9am CST/3pm GMT - United Kingdom
DESCRIPTION:Topic: Guttermonks 12 step Centering prayer\nTime: 9 AM CST / 3 PM GMT\nWhen: Every week on Saturday\n\nZoom ID: 869 7014 7138 \nPassword: 310112 \nZoom ID: https://us05web.zoom.us/j/86970147138
URL:https://cp12stepoutreach.org/meeting-or-group/united-kingdom-saturday-uk-guttermonks-cp-12-step-group-9-am-cst/2025-01-11/
LOCATION:Zoom Meeting
CATEGORIES:Online 12 Step Centering Prayer Groups
ORGANIZER;CN="Barry B":MAILTO:barryburns1@hotmail.co.uk
END:VEVENT
BEGIN:VEVENT
DTSTART;TZID=Europe/London:20250104T150000
DTEND;TZID=Europe/London:20250104T160000
DTSTAMP:20260419T185307
CREATED:20201112T224737Z
LAST-MODIFIED:20250219T230704Z
UID:10060953-1736002800-1736006400@cp12stepoutreach.org
SUMMARY:Guttermonks CP 12 Step Group - Sat. at 9am CST/3pm GMT - United Kingdom
DESCRIPTION:Topic: Guttermonks 12 step Centering prayer\nTime: 9 AM CST / 3 PM GMT\nWhen: Every week on Saturday\n\nZoom ID: 869 7014 7138 \nPassword: 310112 \nZoom ID: https://us05web.zoom.us/j/86970147138
URL:https://cp12stepoutreach.org/meeting-or-group/united-kingdom-saturday-uk-guttermonks-cp-12-step-group-9-am-cst/2025-01-04/
LOCATION:Zoom Meeting
CATEGORIES:Online 12 Step Centering Prayer Groups
ORGANIZER;CN="Barry B":MAILTO:barryburns1@hotmail.co.uk
END:VEVENT
BEGIN:VEVENT
DTSTART;TZID=Europe/London:20241228T150000
DTEND;TZID=Europe/London:20241228T160000
DTSTAMP:20260419T185307
CREATED:20201112T224737Z
LAST-MODIFIED:20250219T230704Z
UID:10060952-1735398000-1735401600@cp12stepoutreach.org
SUMMARY:Guttermonks CP 12 Step Group - Sat. at 9am CST/3pm GMT - United Kingdom
DESCRIPTION:Topic: Guttermonks 12 step Centering prayer\nTime: 9 AM CST / 3 PM GMT\nWhen: Every week on Saturday\n\nZoom ID: 869 7014 7138 \nPassword: 310112 \nZoom ID: https://us05web.zoom.us/j/86970147138
URL:https://cp12stepoutreach.org/meeting-or-group/united-kingdom-saturday-uk-guttermonks-cp-12-step-group-9-am-cst/2024-12-28/
LOCATION:Zoom Meeting
CATEGORIES:Online 12 Step Centering Prayer Groups
ORGANIZER;CN="Barry B":MAILTO:barryburns1@hotmail.co.uk
END:VEVENT
BEGIN:VEVENT
DTSTART;TZID=Europe/London:20241221T150000
DTEND;TZID=Europe/London:20241221T160000
DTSTAMP:20260419T185307
CREATED:20201112T224737Z
LAST-MODIFIED:20250219T230704Z
UID:10060951-1734793200-1734796800@cp12stepoutreach.org
SUMMARY:Guttermonks CP 12 Step Group - Sat. at 9am CST/3pm GMT - United Kingdom
DESCRIPTION:Topic: Guttermonks 12 step Centering prayer\nTime: 9 AM CST / 3 PM GMT\nWhen: Every week on Saturday\n\nZoom ID: 869 7014 7138 \nPassword: 310112 \nZoom ID: https://us05web.zoom.us/j/86970147138
URL:https://cp12stepoutreach.org/meeting-or-group/united-kingdom-saturday-uk-guttermonks-cp-12-step-group-9-am-cst/2024-12-21/
LOCATION:Zoom Meeting
CATEGORIES:Online 12 Step Centering Prayer Groups
ORGANIZER;CN="Barry B":MAILTO:barryburns1@hotmail.co.uk
END:VEVENT
END:VCALENDAR