BEGIN:VCALENDAR
VERSION:2.0
PRODID:-//12 Step Outreach - ECPv6.11.2.1//NONSGML v1.0//EN
CALSCALE:GREGORIAN
METHOD:PUBLISH
X-ORIGINAL-URL:https://cp12stepoutreach.org
X-WR-CALDESC:Events for 12 Step Outreach
REFRESH-INTERVAL;VALUE=DURATION:PT1H
X-Robots-Tag:noindex
X-PUBLISHED-TTL:PT1H
BEGIN:VTIMEZONE
TZID:Europe/London
BEGIN:DAYLIGHT
TZOFFSETFROM:+0000
TZOFFSETTO:+0100
TZNAME:BST
DTSTART:20230326T010000
END:DAYLIGHT
BEGIN:STANDARD
TZOFFSETFROM:+0100
TZOFFSETTO:+0000
TZNAME:GMT
DTSTART:20231029T010000
END:STANDARD
END:VTIMEZONE
BEGIN:VEVENT
DTSTART;TZID=Europe/London:20230812T150000
DTEND;TZID=Europe/London:20230812T160000
DTSTAMP:20260420T014407
CREATED:20201112T224737Z
LAST-MODIFIED:20250219T230704Z
UID:10060880-1691852400-1691856000@cp12stepoutreach.org
SUMMARY:Guttermonks CP 12 Step Group - Sat. at 9am CST/3pm GMT - United Kingdom
DESCRIPTION:Topic: Guttermonks 12 step Centering prayer\nTime: 9 AM CST / 3 PM GMT\nWhen: Every week on Saturday\n\nZoom ID: 869 7014 7138 \nPassword: 310112 \nZoom ID: https://us05web.zoom.us/j/86970147138
URL:https://cp12stepoutreach.org/meeting-or-group/united-kingdom-saturday-uk-guttermonks-cp-12-step-group-9-am-cst/2023-08-12/
LOCATION:Zoom Meeting
CATEGORIES:Online 12 Step Centering Prayer Groups
ORGANIZER;CN="Barry B":MAILTO:barryburns1@hotmail.co.uk
END:VEVENT
BEGIN:VEVENT
DTSTART;TZID=Europe/London:20230805T150000
DTEND;TZID=Europe/London:20230805T160000
DTSTAMP:20260420T014407
CREATED:20201112T224737Z
LAST-MODIFIED:20250219T230704Z
UID:10060879-1691247600-1691251200@cp12stepoutreach.org
SUMMARY:Guttermonks CP 12 Step Group - Sat. at 9am CST/3pm GMT - United Kingdom
DESCRIPTION:Topic: Guttermonks 12 step Centering prayer\nTime: 9 AM CST / 3 PM GMT\nWhen: Every week on Saturday\n\nZoom ID: 869 7014 7138 \nPassword: 310112 \nZoom ID: https://us05web.zoom.us/j/86970147138
URL:https://cp12stepoutreach.org/meeting-or-group/united-kingdom-saturday-uk-guttermonks-cp-12-step-group-9-am-cst/2023-08-05/
LOCATION:Zoom Meeting
CATEGORIES:Online 12 Step Centering Prayer Groups
ORGANIZER;CN="Barry B":MAILTO:barryburns1@hotmail.co.uk
END:VEVENT
BEGIN:VEVENT
DTSTART;TZID=Europe/London:20230729T150000
DTEND;TZID=Europe/London:20230729T160000
DTSTAMP:20260420T014407
CREATED:20201112T224737Z
LAST-MODIFIED:20250219T230704Z
UID:10060878-1690642800-1690646400@cp12stepoutreach.org
SUMMARY:Guttermonks CP 12 Step Group - Sat. at 9am CST/3pm GMT - United Kingdom
DESCRIPTION:Topic: Guttermonks 12 step Centering prayer\nTime: 9 AM CST / 3 PM GMT\nWhen: Every week on Saturday\n\nZoom ID: 869 7014 7138 \nPassword: 310112 \nZoom ID: https://us05web.zoom.us/j/86970147138
URL:https://cp12stepoutreach.org/meeting-or-group/united-kingdom-saturday-uk-guttermonks-cp-12-step-group-9-am-cst/2023-07-29/
LOCATION:Zoom Meeting
CATEGORIES:Online 12 Step Centering Prayer Groups
ORGANIZER;CN="Barry B":MAILTO:barryburns1@hotmail.co.uk
END:VEVENT
BEGIN:VEVENT
DTSTART;TZID=Europe/London:20230722T150000
DTEND;TZID=Europe/London:20230722T160000
DTSTAMP:20260420T014407
CREATED:20201112T224737Z
LAST-MODIFIED:20250219T230704Z
UID:10060877-1690038000-1690041600@cp12stepoutreach.org
SUMMARY:Guttermonks CP 12 Step Group - Sat. at 9am CST/3pm GMT - United Kingdom
DESCRIPTION:Topic: Guttermonks 12 step Centering prayer\nTime: 9 AM CST / 3 PM GMT\nWhen: Every week on Saturday\n\nZoom ID: 869 7014 7138 \nPassword: 310112 \nZoom ID: https://us05web.zoom.us/j/86970147138
URL:https://cp12stepoutreach.org/meeting-or-group/united-kingdom-saturday-uk-guttermonks-cp-12-step-group-9-am-cst/2023-07-22/
LOCATION:Zoom Meeting
CATEGORIES:Online 12 Step Centering Prayer Groups
ORGANIZER;CN="Barry B":MAILTO:barryburns1@hotmail.co.uk
END:VEVENT
BEGIN:VEVENT
DTSTART;TZID=Europe/London:20230715T150000
DTEND;TZID=Europe/London:20230715T160000
DTSTAMP:20260420T014407
CREATED:20201112T224737Z
LAST-MODIFIED:20250219T230704Z
UID:10060876-1689433200-1689436800@cp12stepoutreach.org
SUMMARY:Guttermonks CP 12 Step Group - Sat. at 9am CST/3pm GMT - United Kingdom
DESCRIPTION:Topic: Guttermonks 12 step Centering prayer\nTime: 9 AM CST / 3 PM GMT\nWhen: Every week on Saturday\n\nZoom ID: 869 7014 7138 \nPassword: 310112 \nZoom ID: https://us05web.zoom.us/j/86970147138
URL:https://cp12stepoutreach.org/meeting-or-group/united-kingdom-saturday-uk-guttermonks-cp-12-step-group-9-am-cst/2023-07-15/
LOCATION:Zoom Meeting
CATEGORIES:Online 12 Step Centering Prayer Groups
ORGANIZER;CN="Barry B":MAILTO:barryburns1@hotmail.co.uk
END:VEVENT
BEGIN:VEVENT
DTSTART;TZID=Europe/London:20230708T150000
DTEND;TZID=Europe/London:20230708T160000
DTSTAMP:20260420T014407
CREATED:20201112T224737Z
LAST-MODIFIED:20250219T230704Z
UID:10060875-1688828400-1688832000@cp12stepoutreach.org
SUMMARY:Guttermonks CP 12 Step Group - Sat. at 9am CST/3pm GMT - United Kingdom
DESCRIPTION:Topic: Guttermonks 12 step Centering prayer\nTime: 9 AM CST / 3 PM GMT\nWhen: Every week on Saturday\n\nZoom ID: 869 7014 7138 \nPassword: 310112 \nZoom ID: https://us05web.zoom.us/j/86970147138
URL:https://cp12stepoutreach.org/meeting-or-group/united-kingdom-saturday-uk-guttermonks-cp-12-step-group-9-am-cst/2023-07-08/
LOCATION:Zoom Meeting
CATEGORIES:Online 12 Step Centering Prayer Groups
ORGANIZER;CN="Barry B":MAILTO:barryburns1@hotmail.co.uk
END:VEVENT
BEGIN:VEVENT
DTSTART;TZID=Europe/London:20230701T150000
DTEND;TZID=Europe/London:20230701T160000
DTSTAMP:20260420T014407
CREATED:20201112T224737Z
LAST-MODIFIED:20250219T230704Z
UID:10060874-1688223600-1688227200@cp12stepoutreach.org
SUMMARY:Guttermonks CP 12 Step Group - Sat. at 9am CST/3pm GMT - United Kingdom
DESCRIPTION:Topic: Guttermonks 12 step Centering prayer\nTime: 9 AM CST / 3 PM GMT\nWhen: Every week on Saturday\n\nZoom ID: 869 7014 7138 \nPassword: 310112 \nZoom ID: https://us05web.zoom.us/j/86970147138
URL:https://cp12stepoutreach.org/meeting-or-group/united-kingdom-saturday-uk-guttermonks-cp-12-step-group-9-am-cst/2023-07-01/
LOCATION:Zoom Meeting
CATEGORIES:Online 12 Step Centering Prayer Groups
ORGANIZER;CN="Barry B":MAILTO:barryburns1@hotmail.co.uk
END:VEVENT
BEGIN:VEVENT
DTSTART;TZID=Europe/London:20230624T150000
DTEND;TZID=Europe/London:20230624T160000
DTSTAMP:20260420T014407
CREATED:20201112T224737Z
LAST-MODIFIED:20250219T230704Z
UID:10060873-1687618800-1687622400@cp12stepoutreach.org
SUMMARY:Guttermonks CP 12 Step Group - Sat. at 9am CST/3pm GMT - United Kingdom
DESCRIPTION:Topic: Guttermonks 12 step Centering prayer\nTime: 9 AM CST / 3 PM GMT\nWhen: Every week on Saturday\n\nZoom ID: 869 7014 7138 \nPassword: 310112 \nZoom ID: https://us05web.zoom.us/j/86970147138
URL:https://cp12stepoutreach.org/meeting-or-group/united-kingdom-saturday-uk-guttermonks-cp-12-step-group-9-am-cst/2023-06-24/
LOCATION:Zoom Meeting
CATEGORIES:Online 12 Step Centering Prayer Groups
ORGANIZER;CN="Barry B":MAILTO:barryburns1@hotmail.co.uk
END:VEVENT
BEGIN:VEVENT
DTSTART;TZID=Europe/London:20230617T150000
DTEND;TZID=Europe/London:20230617T160000
DTSTAMP:20260420T014407
CREATED:20201112T224737Z
LAST-MODIFIED:20250219T230704Z
UID:10060872-1687014000-1687017600@cp12stepoutreach.org
SUMMARY:Guttermonks CP 12 Step Group - Sat. at 9am CST/3pm GMT - United Kingdom
DESCRIPTION:Topic: Guttermonks 12 step Centering prayer\nTime: 9 AM CST / 3 PM GMT\nWhen: Every week on Saturday\n\nZoom ID: 869 7014 7138 \nPassword: 310112 \nZoom ID: https://us05web.zoom.us/j/86970147138
URL:https://cp12stepoutreach.org/meeting-or-group/united-kingdom-saturday-uk-guttermonks-cp-12-step-group-9-am-cst/2023-06-17/
LOCATION:Zoom Meeting
CATEGORIES:Online 12 Step Centering Prayer Groups
ORGANIZER;CN="Barry B":MAILTO:barryburns1@hotmail.co.uk
END:VEVENT
BEGIN:VEVENT
DTSTART;TZID=Europe/London:20230610T150000
DTEND;TZID=Europe/London:20230610T160000
DTSTAMP:20260420T014407
CREATED:20201112T224737Z
LAST-MODIFIED:20250219T230704Z
UID:10060871-1686409200-1686412800@cp12stepoutreach.org
SUMMARY:Guttermonks CP 12 Step Group - Sat. at 9am CST/3pm GMT - United Kingdom
DESCRIPTION:Topic: Guttermonks 12 step Centering prayer\nTime: 9 AM CST / 3 PM GMT\nWhen: Every week on Saturday\n\nZoom ID: 869 7014 7138 \nPassword: 310112 \nZoom ID: https://us05web.zoom.us/j/86970147138
URL:https://cp12stepoutreach.org/meeting-or-group/united-kingdom-saturday-uk-guttermonks-cp-12-step-group-9-am-cst/2023-06-10/
LOCATION:Zoom Meeting
CATEGORIES:Online 12 Step Centering Prayer Groups
ORGANIZER;CN="Barry B":MAILTO:barryburns1@hotmail.co.uk
END:VEVENT
BEGIN:VEVENT
DTSTART;TZID=Europe/London:20230603T150000
DTEND;TZID=Europe/London:20230603T160000
DTSTAMP:20260420T014407
CREATED:20201112T224737Z
LAST-MODIFIED:20250219T230704Z
UID:10060870-1685804400-1685808000@cp12stepoutreach.org
SUMMARY:Guttermonks CP 12 Step Group - Sat. at 9am CST/3pm GMT - United Kingdom
DESCRIPTION:Topic: Guttermonks 12 step Centering prayer\nTime: 9 AM CST / 3 PM GMT\nWhen: Every week on Saturday\n\nZoom ID: 869 7014 7138 \nPassword: 310112 \nZoom ID: https://us05web.zoom.us/j/86970147138
URL:https://cp12stepoutreach.org/meeting-or-group/united-kingdom-saturday-uk-guttermonks-cp-12-step-group-9-am-cst/2023-06-03/
LOCATION:Zoom Meeting
CATEGORIES:Online 12 Step Centering Prayer Groups
ORGANIZER;CN="Barry B":MAILTO:barryburns1@hotmail.co.uk
END:VEVENT
BEGIN:VEVENT
DTSTART;TZID=Europe/London:20230527T150000
DTEND;TZID=Europe/London:20230527T160000
DTSTAMP:20260420T014407
CREATED:20201112T224737Z
LAST-MODIFIED:20250219T230704Z
UID:10060869-1685199600-1685203200@cp12stepoutreach.org
SUMMARY:Guttermonks CP 12 Step Group - Sat. at 9am CST/3pm GMT - United Kingdom
DESCRIPTION:Topic: Guttermonks 12 step Centering prayer\nTime: 9 AM CST / 3 PM GMT\nWhen: Every week on Saturday\n\nZoom ID: 869 7014 7138 \nPassword: 310112 \nZoom ID: https://us05web.zoom.us/j/86970147138
URL:https://cp12stepoutreach.org/meeting-or-group/united-kingdom-saturday-uk-guttermonks-cp-12-step-group-9-am-cst/2023-05-27/
LOCATION:Zoom Meeting
CATEGORIES:Online 12 Step Centering Prayer Groups
ORGANIZER;CN="Barry B":MAILTO:barryburns1@hotmail.co.uk
END:VEVENT
BEGIN:VEVENT
DTSTART;TZID=Europe/London:20230520T150000
DTEND;TZID=Europe/London:20230520T160000
DTSTAMP:20260420T014407
CREATED:20201112T224737Z
LAST-MODIFIED:20250219T230704Z
UID:10060868-1684594800-1684598400@cp12stepoutreach.org
SUMMARY:Guttermonks CP 12 Step Group - Sat. at 9am CST/3pm GMT - United Kingdom
DESCRIPTION:Topic: Guttermonks 12 step Centering prayer\nTime: 9 AM CST / 3 PM GMT\nWhen: Every week on Saturday\n\nZoom ID: 869 7014 7138 \nPassword: 310112 \nZoom ID: https://us05web.zoom.us/j/86970147138
URL:https://cp12stepoutreach.org/meeting-or-group/united-kingdom-saturday-uk-guttermonks-cp-12-step-group-9-am-cst/2023-05-20/
LOCATION:Zoom Meeting
CATEGORIES:Online 12 Step Centering Prayer Groups
ORGANIZER;CN="Barry B":MAILTO:barryburns1@hotmail.co.uk
END:VEVENT
BEGIN:VEVENT
DTSTART;TZID=Europe/London:20230513T150000
DTEND;TZID=Europe/London:20230513T160000
DTSTAMP:20260420T014407
CREATED:20201112T224737Z
LAST-MODIFIED:20250219T230704Z
UID:10060867-1683990000-1683993600@cp12stepoutreach.org
SUMMARY:Guttermonks CP 12 Step Group - Sat. at 9am CST/3pm GMT - United Kingdom
DESCRIPTION:Topic: Guttermonks 12 step Centering prayer\nTime: 9 AM CST / 3 PM GMT\nWhen: Every week on Saturday\n\nZoom ID: 869 7014 7138 \nPassword: 310112 \nZoom ID: https://us05web.zoom.us/j/86970147138
URL:https://cp12stepoutreach.org/meeting-or-group/united-kingdom-saturday-uk-guttermonks-cp-12-step-group-9-am-cst/2023-05-13/
LOCATION:Zoom Meeting
CATEGORIES:Online 12 Step Centering Prayer Groups
ORGANIZER;CN="Barry B":MAILTO:barryburns1@hotmail.co.uk
END:VEVENT
BEGIN:VEVENT
DTSTART;TZID=Europe/London:20230506T150000
DTEND;TZID=Europe/London:20230506T160000
DTSTAMP:20260420T014407
CREATED:20201112T224737Z
LAST-MODIFIED:20250219T230704Z
UID:10060866-1683385200-1683388800@cp12stepoutreach.org
SUMMARY:Guttermonks CP 12 Step Group - Sat. at 9am CST/3pm GMT - United Kingdom
DESCRIPTION:Topic: Guttermonks 12 step Centering prayer\nTime: 9 AM CST / 3 PM GMT\nWhen: Every week on Saturday\n\nZoom ID: 869 7014 7138 \nPassword: 310112 \nZoom ID: https://us05web.zoom.us/j/86970147138
URL:https://cp12stepoutreach.org/meeting-or-group/united-kingdom-saturday-uk-guttermonks-cp-12-step-group-9-am-cst/2023-05-06/
LOCATION:Zoom Meeting
CATEGORIES:Online 12 Step Centering Prayer Groups
ORGANIZER;CN="Barry B":MAILTO:barryburns1@hotmail.co.uk
END:VEVENT
BEGIN:VEVENT
DTSTART;TZID=Europe/London:20230429T150000
DTEND;TZID=Europe/London:20230429T160000
DTSTAMP:20260420T014407
CREATED:20201112T224737Z
LAST-MODIFIED:20250219T230704Z
UID:10060865-1682780400-1682784000@cp12stepoutreach.org
SUMMARY:Guttermonks CP 12 Step Group - Sat. at 9am CST/3pm GMT - United Kingdom
DESCRIPTION:Topic: Guttermonks 12 step Centering prayer\nTime: 9 AM CST / 3 PM GMT\nWhen: Every week on Saturday\n\nZoom ID: 869 7014 7138 \nPassword: 310112 \nZoom ID: https://us05web.zoom.us/j/86970147138
URL:https://cp12stepoutreach.org/meeting-or-group/united-kingdom-saturday-uk-guttermonks-cp-12-step-group-9-am-cst/2023-04-29/
LOCATION:Zoom Meeting
CATEGORIES:Online 12 Step Centering Prayer Groups
ORGANIZER;CN="Barry B":MAILTO:barryburns1@hotmail.co.uk
END:VEVENT
BEGIN:VEVENT
DTSTART;TZID=Europe/London:20230422T150000
DTEND;TZID=Europe/London:20230422T160000
DTSTAMP:20260420T014407
CREATED:20201112T224737Z
LAST-MODIFIED:20250219T230704Z
UID:10060864-1682175600-1682179200@cp12stepoutreach.org
SUMMARY:Guttermonks CP 12 Step Group - Sat. at 9am CST/3pm GMT - United Kingdom
DESCRIPTION:Topic: Guttermonks 12 step Centering prayer\nTime: 9 AM CST / 3 PM GMT\nWhen: Every week on Saturday\n\nZoom ID: 869 7014 7138 \nPassword: 310112 \nZoom ID: https://us05web.zoom.us/j/86970147138
URL:https://cp12stepoutreach.org/meeting-or-group/united-kingdom-saturday-uk-guttermonks-cp-12-step-group-9-am-cst/2023-04-22/
LOCATION:Zoom Meeting
CATEGORIES:Online 12 Step Centering Prayer Groups
ORGANIZER;CN="Barry B":MAILTO:barryburns1@hotmail.co.uk
END:VEVENT
BEGIN:VEVENT
DTSTART;TZID=Europe/London:20230415T150000
DTEND;TZID=Europe/London:20230415T160000
DTSTAMP:20260420T014407
CREATED:20201112T224737Z
LAST-MODIFIED:20250219T230704Z
UID:10060863-1681570800-1681574400@cp12stepoutreach.org
SUMMARY:Guttermonks CP 12 Step Group - Sat. at 9am CST/3pm GMT - United Kingdom
DESCRIPTION:Topic: Guttermonks 12 step Centering prayer\nTime: 9 AM CST / 3 PM GMT\nWhen: Every week on Saturday\n\nZoom ID: 869 7014 7138 \nPassword: 310112 \nZoom ID: https://us05web.zoom.us/j/86970147138
URL:https://cp12stepoutreach.org/meeting-or-group/united-kingdom-saturday-uk-guttermonks-cp-12-step-group-9-am-cst/2023-04-15/
LOCATION:Zoom Meeting
CATEGORIES:Online 12 Step Centering Prayer Groups
ORGANIZER;CN="Barry B":MAILTO:barryburns1@hotmail.co.uk
END:VEVENT
BEGIN:VEVENT
DTSTART;TZID=Europe/London:20230408T150000
DTEND;TZID=Europe/London:20230408T160000
DTSTAMP:20260420T014407
CREATED:20201112T224737Z
LAST-MODIFIED:20250219T230704Z
UID:10060862-1680966000-1680969600@cp12stepoutreach.org
SUMMARY:Guttermonks CP 12 Step Group - Sat. at 9am CST/3pm GMT - United Kingdom
DESCRIPTION:Topic: Guttermonks 12 step Centering prayer\nTime: 9 AM CST / 3 PM GMT\nWhen: Every week on Saturday\n\nZoom ID: 869 7014 7138 \nPassword: 310112 \nZoom ID: https://us05web.zoom.us/j/86970147138
URL:https://cp12stepoutreach.org/meeting-or-group/united-kingdom-saturday-uk-guttermonks-cp-12-step-group-9-am-cst/2023-04-08/
LOCATION:Zoom Meeting
CATEGORIES:Online 12 Step Centering Prayer Groups
ORGANIZER;CN="Barry B":MAILTO:barryburns1@hotmail.co.uk
END:VEVENT
BEGIN:VEVENT
DTSTART;TZID=Europe/London:20230401T150000
DTEND;TZID=Europe/London:20230401T160000
DTSTAMP:20260420T014407
CREATED:20201112T224737Z
LAST-MODIFIED:20250219T230704Z
UID:10060861-1680361200-1680364800@cp12stepoutreach.org
SUMMARY:Guttermonks CP 12 Step Group - Sat. at 9am CST/3pm GMT - United Kingdom
DESCRIPTION:Topic: Guttermonks 12 step Centering prayer\nTime: 9 AM CST / 3 PM GMT\nWhen: Every week on Saturday\n\nZoom ID: 869 7014 7138 \nPassword: 310112 \nZoom ID: https://us05web.zoom.us/j/86970147138
URL:https://cp12stepoutreach.org/meeting-or-group/united-kingdom-saturday-uk-guttermonks-cp-12-step-group-9-am-cst/2023-04-01/
LOCATION:Zoom Meeting
CATEGORIES:Online 12 Step Centering Prayer Groups
ORGANIZER;CN="Barry B":MAILTO:barryburns1@hotmail.co.uk
END:VEVENT
BEGIN:VEVENT
DTSTART;TZID=Europe/London:20230325T150000
DTEND;TZID=Europe/London:20230325T160000
DTSTAMP:20260420T014407
CREATED:20201112T224737Z
LAST-MODIFIED:20250219T230704Z
UID:10060860-1679756400-1679760000@cp12stepoutreach.org
SUMMARY:Guttermonks CP 12 Step Group - Sat. at 9am CST/3pm GMT - United Kingdom
DESCRIPTION:Topic: Guttermonks 12 step Centering prayer\nTime: 9 AM CST / 3 PM GMT\nWhen: Every week on Saturday\n\nZoom ID: 869 7014 7138 \nPassword: 310112 \nZoom ID: https://us05web.zoom.us/j/86970147138
URL:https://cp12stepoutreach.org/meeting-or-group/united-kingdom-saturday-uk-guttermonks-cp-12-step-group-9-am-cst/2023-03-25/
LOCATION:Zoom Meeting
CATEGORIES:Online 12 Step Centering Prayer Groups
ORGANIZER;CN="Barry B":MAILTO:barryburns1@hotmail.co.uk
END:VEVENT
BEGIN:VEVENT
DTSTART;TZID=Europe/London:20230318T150000
DTEND;TZID=Europe/London:20230318T160000
DTSTAMP:20260420T014407
CREATED:20201112T224737Z
LAST-MODIFIED:20250219T230704Z
UID:10060859-1679151600-1679155200@cp12stepoutreach.org
SUMMARY:Guttermonks CP 12 Step Group - Sat. at 9am CST/3pm GMT - United Kingdom
DESCRIPTION:Topic: Guttermonks 12 step Centering prayer\nTime: 9 AM CST / 3 PM GMT\nWhen: Every week on Saturday\n\nZoom ID: 869 7014 7138 \nPassword: 310112 \nZoom ID: https://us05web.zoom.us/j/86970147138
URL:https://cp12stepoutreach.org/meeting-or-group/united-kingdom-saturday-uk-guttermonks-cp-12-step-group-9-am-cst/2023-03-18/
LOCATION:Zoom Meeting
CATEGORIES:Online 12 Step Centering Prayer Groups
ORGANIZER;CN="Barry B":MAILTO:barryburns1@hotmail.co.uk
END:VEVENT
BEGIN:VEVENT
DTSTART;TZID=Europe/London:20230311T150000
DTEND;TZID=Europe/London:20230311T160000
DTSTAMP:20260420T014407
CREATED:20201112T224737Z
LAST-MODIFIED:20250219T230704Z
UID:10060858-1678546800-1678550400@cp12stepoutreach.org
SUMMARY:Guttermonks CP 12 Step Group - Sat. at 9am CST/3pm GMT - United Kingdom
DESCRIPTION:Topic: Guttermonks 12 step Centering prayer\nTime: 9 AM CST / 3 PM GMT\nWhen: Every week on Saturday\n\nZoom ID: 869 7014 7138 \nPassword: 310112 \nZoom ID: https://us05web.zoom.us/j/86970147138
URL:https://cp12stepoutreach.org/meeting-or-group/united-kingdom-saturday-uk-guttermonks-cp-12-step-group-9-am-cst/2023-03-11/
LOCATION:Zoom Meeting
CATEGORIES:Online 12 Step Centering Prayer Groups
ORGANIZER;CN="Barry B":MAILTO:barryburns1@hotmail.co.uk
END:VEVENT
BEGIN:VEVENT
DTSTART;TZID=Europe/London:20230304T150000
DTEND;TZID=Europe/London:20230304T160000
DTSTAMP:20260420T014407
CREATED:20201112T224737Z
LAST-MODIFIED:20250219T230704Z
UID:10060857-1677942000-1677945600@cp12stepoutreach.org
SUMMARY:Guttermonks CP 12 Step Group - Sat. at 9am CST/3pm GMT - United Kingdom
DESCRIPTION:Topic: Guttermonks 12 step Centering prayer\nTime: 9 AM CST / 3 PM GMT\nWhen: Every week on Saturday\n\nZoom ID: 869 7014 7138 \nPassword: 310112 \nZoom ID: https://us05web.zoom.us/j/86970147138
URL:https://cp12stepoutreach.org/meeting-or-group/united-kingdom-saturday-uk-guttermonks-cp-12-step-group-9-am-cst/2023-03-04/
LOCATION:Zoom Meeting
CATEGORIES:Online 12 Step Centering Prayer Groups
ORGANIZER;CN="Barry B":MAILTO:barryburns1@hotmail.co.uk
END:VEVENT
BEGIN:VEVENT
DTSTART;TZID=Europe/London:20230225T150000
DTEND;TZID=Europe/London:20230225T160000
DTSTAMP:20260420T014407
CREATED:20201112T224737Z
LAST-MODIFIED:20250219T230704Z
UID:10060856-1677337200-1677340800@cp12stepoutreach.org
SUMMARY:Guttermonks CP 12 Step Group - Sat. at 9am CST/3pm GMT - United Kingdom
DESCRIPTION:Topic: Guttermonks 12 step Centering prayer\nTime: 9 AM CST / 3 PM GMT\nWhen: Every week on Saturday\n\nZoom ID: 869 7014 7138 \nPassword: 310112 \nZoom ID: https://us05web.zoom.us/j/86970147138
URL:https://cp12stepoutreach.org/meeting-or-group/united-kingdom-saturday-uk-guttermonks-cp-12-step-group-9-am-cst/2023-02-25/
LOCATION:Zoom Meeting
CATEGORIES:Online 12 Step Centering Prayer Groups
ORGANIZER;CN="Barry B":MAILTO:barryburns1@hotmail.co.uk
END:VEVENT
BEGIN:VEVENT
DTSTART;TZID=Europe/London:20230218T150000
DTEND;TZID=Europe/London:20230218T160000
DTSTAMP:20260420T014407
CREATED:20201112T224737Z
LAST-MODIFIED:20250219T230704Z
UID:10060855-1676732400-1676736000@cp12stepoutreach.org
SUMMARY:Guttermonks CP 12 Step Group - Sat. at 9am CST/3pm GMT - United Kingdom
DESCRIPTION:Topic: Guttermonks 12 step Centering prayer\nTime: 9 AM CST / 3 PM GMT\nWhen: Every week on Saturday\n\nZoom ID: 869 7014 7138 \nPassword: 310112 \nZoom ID: https://us05web.zoom.us/j/86970147138
URL:https://cp12stepoutreach.org/meeting-or-group/united-kingdom-saturday-uk-guttermonks-cp-12-step-group-9-am-cst/2023-02-18/
LOCATION:Zoom Meeting
CATEGORIES:Online 12 Step Centering Prayer Groups
ORGANIZER;CN="Barry B":MAILTO:barryburns1@hotmail.co.uk
END:VEVENT
BEGIN:VEVENT
DTSTART;TZID=Europe/London:20230211T150000
DTEND;TZID=Europe/London:20230211T160000
DTSTAMP:20260420T014407
CREATED:20201112T224737Z
LAST-MODIFIED:20250219T230704Z
UID:10060854-1676127600-1676131200@cp12stepoutreach.org
SUMMARY:Guttermonks CP 12 Step Group - Sat. at 9am CST/3pm GMT - United Kingdom
DESCRIPTION:Topic: Guttermonks 12 step Centering prayer\nTime: 9 AM CST / 3 PM GMT\nWhen: Every week on Saturday\n\nZoom ID: 869 7014 7138 \nPassword: 310112 \nZoom ID: https://us05web.zoom.us/j/86970147138
URL:https://cp12stepoutreach.org/meeting-or-group/united-kingdom-saturday-uk-guttermonks-cp-12-step-group-9-am-cst/2023-02-11/
LOCATION:Zoom Meeting
CATEGORIES:Online 12 Step Centering Prayer Groups
ORGANIZER;CN="Barry B":MAILTO:barryburns1@hotmail.co.uk
END:VEVENT
BEGIN:VEVENT
DTSTART;TZID=Europe/London:20230204T150000
DTEND;TZID=Europe/London:20230204T160000
DTSTAMP:20260420T014407
CREATED:20201112T224737Z
LAST-MODIFIED:20250219T230704Z
UID:10060853-1675522800-1675526400@cp12stepoutreach.org
SUMMARY:Guttermonks CP 12 Step Group - Sat. at 9am CST/3pm GMT - United Kingdom
DESCRIPTION:Topic: Guttermonks 12 step Centering prayer\nTime: 9 AM CST / 3 PM GMT\nWhen: Every week on Saturday\n\nZoom ID: 869 7014 7138 \nPassword: 310112 \nZoom ID: https://us05web.zoom.us/j/86970147138
URL:https://cp12stepoutreach.org/meeting-or-group/united-kingdom-saturday-uk-guttermonks-cp-12-step-group-9-am-cst/2023-02-04/
LOCATION:Zoom Meeting
CATEGORIES:Online 12 Step Centering Prayer Groups
ORGANIZER;CN="Barry B":MAILTO:barryburns1@hotmail.co.uk
END:VEVENT
BEGIN:VEVENT
DTSTART;TZID=Europe/London:20230128T150000
DTEND;TZID=Europe/London:20230128T160000
DTSTAMP:20260420T014407
CREATED:20201112T224737Z
LAST-MODIFIED:20250219T230704Z
UID:10060852-1674918000-1674921600@cp12stepoutreach.org
SUMMARY:Guttermonks CP 12 Step Group - Sat. at 9am CST/3pm GMT - United Kingdom
DESCRIPTION:Topic: Guttermonks 12 step Centering prayer\nTime: 9 AM CST / 3 PM GMT\nWhen: Every week on Saturday\n\nZoom ID: 869 7014 7138 \nPassword: 310112 \nZoom ID: https://us05web.zoom.us/j/86970147138
URL:https://cp12stepoutreach.org/meeting-or-group/united-kingdom-saturday-uk-guttermonks-cp-12-step-group-9-am-cst/2023-01-28/
LOCATION:Zoom Meeting
CATEGORIES:Online 12 Step Centering Prayer Groups
ORGANIZER;CN="Barry B":MAILTO:barryburns1@hotmail.co.uk
END:VEVENT
BEGIN:VEVENT
DTSTART;TZID=Europe/London:20230121T150000
DTEND;TZID=Europe/London:20230121T160000
DTSTAMP:20260420T014407
CREATED:20201112T224737Z
LAST-MODIFIED:20250219T230704Z
UID:10060851-1674313200-1674316800@cp12stepoutreach.org
SUMMARY:Guttermonks CP 12 Step Group - Sat. at 9am CST/3pm GMT - United Kingdom
DESCRIPTION:Topic: Guttermonks 12 step Centering prayer\nTime: 9 AM CST / 3 PM GMT\nWhen: Every week on Saturday\n\nZoom ID: 869 7014 7138 \nPassword: 310112 \nZoom ID: https://us05web.zoom.us/j/86970147138
URL:https://cp12stepoutreach.org/meeting-or-group/united-kingdom-saturday-uk-guttermonks-cp-12-step-group-9-am-cst/2023-01-21/
LOCATION:Zoom Meeting
CATEGORIES:Online 12 Step Centering Prayer Groups
ORGANIZER;CN="Barry B":MAILTO:barryburns1@hotmail.co.uk
END:VEVENT
END:VCALENDAR