BEGIN:VCALENDAR
VERSION:2.0
PRODID:-//12 Step Outreach - ECPv6.11.2.1//NONSGML v1.0//EN
CALSCALE:GREGORIAN
METHOD:PUBLISH
X-ORIGINAL-URL:https://cp12stepoutreach.org
X-WR-CALDESC:Events for 12 Step Outreach
REFRESH-INTERVAL;VALUE=DURATION:PT1H
X-Robots-Tag:noindex
X-PUBLISHED-TTL:PT1H
BEGIN:VTIMEZONE
TZID:America/Chicago
BEGIN:DAYLIGHT
TZOFFSETFROM:-0600
TZOFFSETTO:-0500
TZNAME:CDT
DTSTART:20240310T080000
END:DAYLIGHT
BEGIN:STANDARD
TZOFFSETFROM:-0500
TZOFFSETTO:-0600
TZNAME:CST
DTSTART:20241103T070000
END:STANDARD
END:VTIMEZONE
BEGIN:VEVENT
DTSTART;TZID=America/Chicago:20240903T183000
DTEND;TZID=America/Chicago:20240903T193000
DTSTAMP:20260421T060549
CREATED:20240828T210134Z
LAST-MODIFIED:20240828T215956Z
UID:10057794-1725388200-1725391800@cp12stepoutreach.org
SUMMARY:12 Step Centering Prayer meeting Santa Fe\, New Mexico
DESCRIPTION:We are a 12 Step Centering Prayer Group in Santa Fe\, New Mexico (Mountain Time). We are a long established group and want to invite and welcome Centering Prayer practitioners who also practice the 12 Steps. Our format is that one person reads a selection from various inspirational sources. Some examples are Thomas Keating or Mary Oliver. Then we do a 20 minute CP sit. Then the person rereads the reading and opens the meeting for sharing. \n  \nMeeting Zoom Link: 577 107 7058\nMeeting Password: silence \n  \nMeeting Contact: Dianna Woods\ndiannawoods13@gmail.com
URL:https://cp12stepoutreach.org/meeting-or-group/12-step-centering-prayer-meeting/
CATEGORIES:Online 12 Step Centering Prayer Groups
ORGANIZER;CN="Dianna Woods":MAILTO:diannawoods13@gmail.com
END:VEVENT
END:VCALENDAR