BEGIN:VCALENDAR
VERSION:2.0
PRODID:-//12 Step Outreach - ECPv6.11.2.1//NONSGML v1.0//EN
CALSCALE:GREGORIAN
METHOD:PUBLISH
X-WR-CALNAME:12 Step Outreach
X-ORIGINAL-URL:https://cp12stepoutreach.org
X-WR-CALDESC:Events for 12 Step Outreach
REFRESH-INTERVAL;VALUE=DURATION:PT1H
X-Robots-Tag:noindex
X-PUBLISHED-TTL:PT1H
BEGIN:VTIMEZONE
TZID:America/Chicago
BEGIN:DAYLIGHT
TZOFFSETFROM:-0600
TZOFFSETTO:-0500
TZNAME:CDT
DTSTART:20250309T080000
END:DAYLIGHT
BEGIN:STANDARD
TZOFFSETFROM:-0500
TZOFFSETTO:-0600
TZNAME:CST
DTSTART:20251102T070000
END:STANDARD
BEGIN:DAYLIGHT
TZOFFSETFROM:-0600
TZOFFSETTO:-0500
TZNAME:CDT
DTSTART:20260308T080000
END:DAYLIGHT
BEGIN:STANDARD
TZOFFSETFROM:-0500
TZOFFSETTO:-0600
TZNAME:CST
DTSTART:20261101T070000
END:STANDARD
END:VTIMEZONE
BEGIN:VEVENT
DTSTART;TZID=America/Chicago:20260418T121500
DTEND;TZID=America/Chicago:20260418T131500
DTSTAMP:20260419T173243
CREATED:20250213T214611Z
LAST-MODIFIED:20250213T214611Z
UID:10065888-1776514500-1776518100@cp12stepoutreach.org
SUMMARY:Saturday Group - 12-Step Supported Centering Prayer Online - Davenport\, Iowa
DESCRIPTION:Meeting ID: 884 8433 3580 \nContact: Dick J.\nNumber: 563-349-2542
URL:https://cp12stepoutreach.org/meeting-or-group/saturday-group-12-step-supported-centering-prayer-online-davenport-iowa/2026-04-18/
LOCATION:Zoom Meeting
CATEGORIES:Online 12 Step Centering Prayer Groups
ORGANIZER;CN="Dick Jensen":MAILTO:rrjensen65@gmail.com
END:VEVENT
BEGIN:VEVENT
DTSTART;TZID=America/Chicago:20260411T121500
DTEND;TZID=America/Chicago:20260411T131500
DTSTAMP:20260419T173243
CREATED:20250213T214611Z
LAST-MODIFIED:20250213T214611Z
UID:10065887-1775909700-1775913300@cp12stepoutreach.org
SUMMARY:Saturday Group - 12-Step Supported Centering Prayer Online - Davenport\, Iowa
DESCRIPTION:Meeting ID: 884 8433 3580 \nContact: Dick J.\nNumber: 563-349-2542
URL:https://cp12stepoutreach.org/meeting-or-group/saturday-group-12-step-supported-centering-prayer-online-davenport-iowa/2026-04-11/
LOCATION:Zoom Meeting
CATEGORIES:Online 12 Step Centering Prayer Groups
ORGANIZER;CN="Dick Jensen":MAILTO:rrjensen65@gmail.com
END:VEVENT
BEGIN:VEVENT
DTSTART;TZID=America/Chicago:20260404T121500
DTEND;TZID=America/Chicago:20260404T131500
DTSTAMP:20260419T173243
CREATED:20250213T214611Z
LAST-MODIFIED:20250213T214611Z
UID:10065886-1775304900-1775308500@cp12stepoutreach.org
SUMMARY:Saturday Group - 12-Step Supported Centering Prayer Online - Davenport\, Iowa
DESCRIPTION:Meeting ID: 884 8433 3580 \nContact: Dick J.\nNumber: 563-349-2542
URL:https://cp12stepoutreach.org/meeting-or-group/saturday-group-12-step-supported-centering-prayer-online-davenport-iowa/2026-04-04/
LOCATION:Zoom Meeting
CATEGORIES:Online 12 Step Centering Prayer Groups
ORGANIZER;CN="Dick Jensen":MAILTO:rrjensen65@gmail.com
END:VEVENT
BEGIN:VEVENT
DTSTART;TZID=America/Chicago:20260328T121500
DTEND;TZID=America/Chicago:20260328T131500
DTSTAMP:20260419T173243
CREATED:20250213T214611Z
LAST-MODIFIED:20250213T214611Z
UID:10065885-1774700100-1774703700@cp12stepoutreach.org
SUMMARY:Saturday Group - 12-Step Supported Centering Prayer Online - Davenport\, Iowa
DESCRIPTION:Meeting ID: 884 8433 3580 \nContact: Dick J.\nNumber: 563-349-2542
URL:https://cp12stepoutreach.org/meeting-or-group/saturday-group-12-step-supported-centering-prayer-online-davenport-iowa/2026-03-28/
LOCATION:Zoom Meeting
CATEGORIES:Online 12 Step Centering Prayer Groups
ORGANIZER;CN="Dick Jensen":MAILTO:rrjensen65@gmail.com
END:VEVENT
BEGIN:VEVENT
DTSTART;TZID=America/Chicago:20260321T121500
DTEND;TZID=America/Chicago:20260321T131500
DTSTAMP:20260419T173243
CREATED:20250213T214611Z
LAST-MODIFIED:20250213T214611Z
UID:10065884-1774095300-1774098900@cp12stepoutreach.org
SUMMARY:Saturday Group - 12-Step Supported Centering Prayer Online - Davenport\, Iowa
DESCRIPTION:Meeting ID: 884 8433 3580 \nContact: Dick J.\nNumber: 563-349-2542
URL:https://cp12stepoutreach.org/meeting-or-group/saturday-group-12-step-supported-centering-prayer-online-davenport-iowa/2026-03-21/
LOCATION:Zoom Meeting
CATEGORIES:Online 12 Step Centering Prayer Groups
ORGANIZER;CN="Dick Jensen":MAILTO:rrjensen65@gmail.com
END:VEVENT
BEGIN:VEVENT
DTSTART;TZID=America/Chicago:20260314T121500
DTEND;TZID=America/Chicago:20260314T131500
DTSTAMP:20260419T173243
CREATED:20250213T214611Z
LAST-MODIFIED:20250213T214611Z
UID:10065883-1773490500-1773494100@cp12stepoutreach.org
SUMMARY:Saturday Group - 12-Step Supported Centering Prayer Online - Davenport\, Iowa
DESCRIPTION:Meeting ID: 884 8433 3580 \nContact: Dick J.\nNumber: 563-349-2542
URL:https://cp12stepoutreach.org/meeting-or-group/saturday-group-12-step-supported-centering-prayer-online-davenport-iowa/2026-03-14/
LOCATION:Zoom Meeting
CATEGORIES:Online 12 Step Centering Prayer Groups
ORGANIZER;CN="Dick Jensen":MAILTO:rrjensen65@gmail.com
END:VEVENT
BEGIN:VEVENT
DTSTART;TZID=America/Chicago:20260307T121500
DTEND;TZID=America/Chicago:20260307T131500
DTSTAMP:20260419T173243
CREATED:20250213T214611Z
LAST-MODIFIED:20250213T214611Z
UID:10065882-1772885700-1772889300@cp12stepoutreach.org
SUMMARY:Saturday Group - 12-Step Supported Centering Prayer Online - Davenport\, Iowa
DESCRIPTION:Meeting ID: 884 8433 3580 \nContact: Dick J.\nNumber: 563-349-2542
URL:https://cp12stepoutreach.org/meeting-or-group/saturday-group-12-step-supported-centering-prayer-online-davenport-iowa/2026-03-07/
LOCATION:Zoom Meeting
CATEGORIES:Online 12 Step Centering Prayer Groups
ORGANIZER;CN="Dick Jensen":MAILTO:rrjensen65@gmail.com
END:VEVENT
BEGIN:VEVENT
DTSTART;TZID=America/Chicago:20260228T121500
DTEND;TZID=America/Chicago:20260228T131500
DTSTAMP:20260419T173243
CREATED:20250213T214611Z
LAST-MODIFIED:20250213T214611Z
UID:10065881-1772280900-1772284500@cp12stepoutreach.org
SUMMARY:Saturday Group - 12-Step Supported Centering Prayer Online - Davenport\, Iowa
DESCRIPTION:Meeting ID: 884 8433 3580 \nContact: Dick J.\nNumber: 563-349-2542
URL:https://cp12stepoutreach.org/meeting-or-group/saturday-group-12-step-supported-centering-prayer-online-davenport-iowa/2026-02-28/
LOCATION:Zoom Meeting
CATEGORIES:Online 12 Step Centering Prayer Groups
ORGANIZER;CN="Dick Jensen":MAILTO:rrjensen65@gmail.com
END:VEVENT
BEGIN:VEVENT
DTSTART;TZID=America/Chicago:20260221T121500
DTEND;TZID=America/Chicago:20260221T131500
DTSTAMP:20260419T173243
CREATED:20250213T214611Z
LAST-MODIFIED:20250213T214611Z
UID:10065880-1771676100-1771679700@cp12stepoutreach.org
SUMMARY:Saturday Group - 12-Step Supported Centering Prayer Online - Davenport\, Iowa
DESCRIPTION:Meeting ID: 884 8433 3580 \nContact: Dick J.\nNumber: 563-349-2542
URL:https://cp12stepoutreach.org/meeting-or-group/saturday-group-12-step-supported-centering-prayer-online-davenport-iowa/2026-02-21/
LOCATION:Zoom Meeting
CATEGORIES:Online 12 Step Centering Prayer Groups
ORGANIZER;CN="Dick Jensen":MAILTO:rrjensen65@gmail.com
END:VEVENT
BEGIN:VEVENT
DTSTART;TZID=America/Chicago:20260214T121500
DTEND;TZID=America/Chicago:20260214T131500
DTSTAMP:20260419T173243
CREATED:20250213T214611Z
LAST-MODIFIED:20250213T214611Z
UID:10065879-1771071300-1771074900@cp12stepoutreach.org
SUMMARY:Saturday Group - 12-Step Supported Centering Prayer Online - Davenport\, Iowa
DESCRIPTION:Meeting ID: 884 8433 3580 \nContact: Dick J.\nNumber: 563-349-2542
URL:https://cp12stepoutreach.org/meeting-or-group/saturday-group-12-step-supported-centering-prayer-online-davenport-iowa/2026-02-14/
LOCATION:Zoom Meeting
CATEGORIES:Online 12 Step Centering Prayer Groups
ORGANIZER;CN="Dick Jensen":MAILTO:rrjensen65@gmail.com
END:VEVENT
BEGIN:VEVENT
DTSTART;TZID=America/Chicago:20260207T121500
DTEND;TZID=America/Chicago:20260207T131500
DTSTAMP:20260419T173243
CREATED:20250213T214611Z
LAST-MODIFIED:20250213T214611Z
UID:10065878-1770466500-1770470100@cp12stepoutreach.org
SUMMARY:Saturday Group - 12-Step Supported Centering Prayer Online - Davenport\, Iowa
DESCRIPTION:Meeting ID: 884 8433 3580 \nContact: Dick J.\nNumber: 563-349-2542
URL:https://cp12stepoutreach.org/meeting-or-group/saturday-group-12-step-supported-centering-prayer-online-davenport-iowa/2026-02-07/
LOCATION:Zoom Meeting
CATEGORIES:Online 12 Step Centering Prayer Groups
ORGANIZER;CN="Dick Jensen":MAILTO:rrjensen65@gmail.com
END:VEVENT
BEGIN:VEVENT
DTSTART;TZID=America/Chicago:20260131T121500
DTEND;TZID=America/Chicago:20260131T131500
DTSTAMP:20260419T173243
CREATED:20250213T214611Z
LAST-MODIFIED:20250213T214611Z
UID:10065877-1769861700-1769865300@cp12stepoutreach.org
SUMMARY:Saturday Group - 12-Step Supported Centering Prayer Online - Davenport\, Iowa
DESCRIPTION:Meeting ID: 884 8433 3580 \nContact: Dick J.\nNumber: 563-349-2542
URL:https://cp12stepoutreach.org/meeting-or-group/saturday-group-12-step-supported-centering-prayer-online-davenport-iowa/2026-01-31/
LOCATION:Zoom Meeting
CATEGORIES:Online 12 Step Centering Prayer Groups
ORGANIZER;CN="Dick Jensen":MAILTO:rrjensen65@gmail.com
END:VEVENT
BEGIN:VEVENT
DTSTART;TZID=America/Chicago:20260124T121500
DTEND;TZID=America/Chicago:20260124T131500
DTSTAMP:20260419T173243
CREATED:20250213T214611Z
LAST-MODIFIED:20250213T214611Z
UID:10065876-1769256900-1769260500@cp12stepoutreach.org
SUMMARY:Saturday Group - 12-Step Supported Centering Prayer Online - Davenport\, Iowa
DESCRIPTION:Meeting ID: 884 8433 3580 \nContact: Dick J.\nNumber: 563-349-2542
URL:https://cp12stepoutreach.org/meeting-or-group/saturday-group-12-step-supported-centering-prayer-online-davenport-iowa/2026-01-24/
LOCATION:Zoom Meeting
CATEGORIES:Online 12 Step Centering Prayer Groups
ORGANIZER;CN="Dick Jensen":MAILTO:rrjensen65@gmail.com
END:VEVENT
BEGIN:VEVENT
DTSTART;TZID=America/Chicago:20260117T121500
DTEND;TZID=America/Chicago:20260117T131500
DTSTAMP:20260419T173243
CREATED:20250213T214611Z
LAST-MODIFIED:20250213T214611Z
UID:10065875-1768652100-1768655700@cp12stepoutreach.org
SUMMARY:Saturday Group - 12-Step Supported Centering Prayer Online - Davenport\, Iowa
DESCRIPTION:Meeting ID: 884 8433 3580 \nContact: Dick J.\nNumber: 563-349-2542
URL:https://cp12stepoutreach.org/meeting-or-group/saturday-group-12-step-supported-centering-prayer-online-davenport-iowa/2026-01-17/
LOCATION:Zoom Meeting
CATEGORIES:Online 12 Step Centering Prayer Groups
ORGANIZER;CN="Dick Jensen":MAILTO:rrjensen65@gmail.com
END:VEVENT
BEGIN:VEVENT
DTSTART;TZID=America/Chicago:20260110T121500
DTEND;TZID=America/Chicago:20260110T131500
DTSTAMP:20260419T173243
CREATED:20250213T214611Z
LAST-MODIFIED:20250213T214611Z
UID:10065874-1768047300-1768050900@cp12stepoutreach.org
SUMMARY:Saturday Group - 12-Step Supported Centering Prayer Online - Davenport\, Iowa
DESCRIPTION:Meeting ID: 884 8433 3580 \nContact: Dick J.\nNumber: 563-349-2542
URL:https://cp12stepoutreach.org/meeting-or-group/saturday-group-12-step-supported-centering-prayer-online-davenport-iowa/2026-01-10/
LOCATION:Zoom Meeting
CATEGORIES:Online 12 Step Centering Prayer Groups
ORGANIZER;CN="Dick Jensen":MAILTO:rrjensen65@gmail.com
END:VEVENT
BEGIN:VEVENT
DTSTART;TZID=America/Chicago:20260103T121500
DTEND;TZID=America/Chicago:20260103T131500
DTSTAMP:20260419T173243
CREATED:20250213T214611Z
LAST-MODIFIED:20250213T214611Z
UID:10065873-1767442500-1767446100@cp12stepoutreach.org
SUMMARY:Saturday Group - 12-Step Supported Centering Prayer Online - Davenport\, Iowa
DESCRIPTION:Meeting ID: 884 8433 3580 \nContact: Dick J.\nNumber: 563-349-2542
URL:https://cp12stepoutreach.org/meeting-or-group/saturday-group-12-step-supported-centering-prayer-online-davenport-iowa/2026-01-03/
LOCATION:Zoom Meeting
CATEGORIES:Online 12 Step Centering Prayer Groups
ORGANIZER;CN="Dick Jensen":MAILTO:rrjensen65@gmail.com
END:VEVENT
BEGIN:VEVENT
DTSTART;TZID=America/Chicago:20251227T121500
DTEND;TZID=America/Chicago:20251227T131500
DTSTAMP:20260419T173243
CREATED:20250213T214611Z
LAST-MODIFIED:20250213T214611Z
UID:10065872-1766837700-1766841300@cp12stepoutreach.org
SUMMARY:Saturday Group - 12-Step Supported Centering Prayer Online - Davenport\, Iowa
DESCRIPTION:Meeting ID: 884 8433 3580 \nContact: Dick J.\nNumber: 563-349-2542
URL:https://cp12stepoutreach.org/meeting-or-group/saturday-group-12-step-supported-centering-prayer-online-davenport-iowa/2025-12-27/
LOCATION:Zoom Meeting
CATEGORIES:Online 12 Step Centering Prayer Groups
ORGANIZER;CN="Dick Jensen":MAILTO:rrjensen65@gmail.com
END:VEVENT
BEGIN:VEVENT
DTSTART;TZID=America/Chicago:20251220T121500
DTEND;TZID=America/Chicago:20251220T131500
DTSTAMP:20260419T173243
CREATED:20250213T214611Z
LAST-MODIFIED:20250213T214611Z
UID:10065871-1766232900-1766236500@cp12stepoutreach.org
SUMMARY:Saturday Group - 12-Step Supported Centering Prayer Online - Davenport\, Iowa
DESCRIPTION:Meeting ID: 884 8433 3580 \nContact: Dick J.\nNumber: 563-349-2542
URL:https://cp12stepoutreach.org/meeting-or-group/saturday-group-12-step-supported-centering-prayer-online-davenport-iowa/2025-12-20/
LOCATION:Zoom Meeting
CATEGORIES:Online 12 Step Centering Prayer Groups
ORGANIZER;CN="Dick Jensen":MAILTO:rrjensen65@gmail.com
END:VEVENT
BEGIN:VEVENT
DTSTART;TZID=America/Chicago:20251213T121500
DTEND;TZID=America/Chicago:20251213T131500
DTSTAMP:20260419T173243
CREATED:20250213T214611Z
LAST-MODIFIED:20250213T214611Z
UID:10065870-1765628100-1765631700@cp12stepoutreach.org
SUMMARY:Saturday Group - 12-Step Supported Centering Prayer Online - Davenport\, Iowa
DESCRIPTION:Meeting ID: 884 8433 3580 \nContact: Dick J.\nNumber: 563-349-2542
URL:https://cp12stepoutreach.org/meeting-or-group/saturday-group-12-step-supported-centering-prayer-online-davenport-iowa/2025-12-13/
LOCATION:Zoom Meeting
CATEGORIES:Online 12 Step Centering Prayer Groups
ORGANIZER;CN="Dick Jensen":MAILTO:rrjensen65@gmail.com
END:VEVENT
BEGIN:VEVENT
DTSTART;TZID=America/Chicago:20251206T121500
DTEND;TZID=America/Chicago:20251206T131500
DTSTAMP:20260419T173243
CREATED:20250213T214611Z
LAST-MODIFIED:20250213T214611Z
UID:10065869-1765023300-1765026900@cp12stepoutreach.org
SUMMARY:Saturday Group - 12-Step Supported Centering Prayer Online - Davenport\, Iowa
DESCRIPTION:Meeting ID: 884 8433 3580 \nContact: Dick J.\nNumber: 563-349-2542
URL:https://cp12stepoutreach.org/meeting-or-group/saturday-group-12-step-supported-centering-prayer-online-davenport-iowa/2025-12-06/
LOCATION:Zoom Meeting
CATEGORIES:Online 12 Step Centering Prayer Groups
ORGANIZER;CN="Dick Jensen":MAILTO:rrjensen65@gmail.com
END:VEVENT
BEGIN:VEVENT
DTSTART;TZID=America/Chicago:20251129T121500
DTEND;TZID=America/Chicago:20251129T131500
DTSTAMP:20260419T173243
CREATED:20250213T214611Z
LAST-MODIFIED:20250213T214611Z
UID:10065868-1764418500-1764422100@cp12stepoutreach.org
SUMMARY:Saturday Group - 12-Step Supported Centering Prayer Online - Davenport\, Iowa
DESCRIPTION:Meeting ID: 884 8433 3580 \nContact: Dick J.\nNumber: 563-349-2542
URL:https://cp12stepoutreach.org/meeting-or-group/saturday-group-12-step-supported-centering-prayer-online-davenport-iowa/2025-11-29/
LOCATION:Zoom Meeting
CATEGORIES:Online 12 Step Centering Prayer Groups
ORGANIZER;CN="Dick Jensen":MAILTO:rrjensen65@gmail.com
END:VEVENT
BEGIN:VEVENT
DTSTART;TZID=America/Chicago:20251122T121500
DTEND;TZID=America/Chicago:20251122T131500
DTSTAMP:20260419T173243
CREATED:20250213T214611Z
LAST-MODIFIED:20250213T214611Z
UID:10065867-1763813700-1763817300@cp12stepoutreach.org
SUMMARY:Saturday Group - 12-Step Supported Centering Prayer Online - Davenport\, Iowa
DESCRIPTION:Meeting ID: 884 8433 3580 \nContact: Dick J.\nNumber: 563-349-2542
URL:https://cp12stepoutreach.org/meeting-or-group/saturday-group-12-step-supported-centering-prayer-online-davenport-iowa/2025-11-22/
LOCATION:Zoom Meeting
CATEGORIES:Online 12 Step Centering Prayer Groups
ORGANIZER;CN="Dick Jensen":MAILTO:rrjensen65@gmail.com
END:VEVENT
BEGIN:VEVENT
DTSTART;TZID=America/Chicago:20251115T121500
DTEND;TZID=America/Chicago:20251115T131500
DTSTAMP:20260419T173243
CREATED:20250213T214611Z
LAST-MODIFIED:20250213T214611Z
UID:10065866-1763208900-1763212500@cp12stepoutreach.org
SUMMARY:Saturday Group - 12-Step Supported Centering Prayer Online - Davenport\, Iowa
DESCRIPTION:Meeting ID: 884 8433 3580 \nContact: Dick J.\nNumber: 563-349-2542
URL:https://cp12stepoutreach.org/meeting-or-group/saturday-group-12-step-supported-centering-prayer-online-davenport-iowa/2025-11-15/
LOCATION:Zoom Meeting
CATEGORIES:Online 12 Step Centering Prayer Groups
ORGANIZER;CN="Dick Jensen":MAILTO:rrjensen65@gmail.com
END:VEVENT
BEGIN:VEVENT
DTSTART;TZID=America/Chicago:20251108T121500
DTEND;TZID=America/Chicago:20251108T131500
DTSTAMP:20260419T173243
CREATED:20250213T214611Z
LAST-MODIFIED:20250213T214611Z
UID:10065865-1762604100-1762607700@cp12stepoutreach.org
SUMMARY:Saturday Group - 12-Step Supported Centering Prayer Online - Davenport\, Iowa
DESCRIPTION:Meeting ID: 884 8433 3580 \nContact: Dick J.\nNumber: 563-349-2542
URL:https://cp12stepoutreach.org/meeting-or-group/saturday-group-12-step-supported-centering-prayer-online-davenport-iowa/2025-11-08/
LOCATION:Zoom Meeting
CATEGORIES:Online 12 Step Centering Prayer Groups
ORGANIZER;CN="Dick Jensen":MAILTO:rrjensen65@gmail.com
END:VEVENT
BEGIN:VEVENT
DTSTART;TZID=America/Chicago:20251101T121500
DTEND;TZID=America/Chicago:20251101T131500
DTSTAMP:20260419T173243
CREATED:20250213T214611Z
LAST-MODIFIED:20250213T214611Z
UID:10065864-1761999300-1762002900@cp12stepoutreach.org
SUMMARY:Saturday Group - 12-Step Supported Centering Prayer Online - Davenport\, Iowa
DESCRIPTION:Meeting ID: 884 8433 3580 \nContact: Dick J.\nNumber: 563-349-2542
URL:https://cp12stepoutreach.org/meeting-or-group/saturday-group-12-step-supported-centering-prayer-online-davenport-iowa/2025-11-01/
LOCATION:Zoom Meeting
CATEGORIES:Online 12 Step Centering Prayer Groups
ORGANIZER;CN="Dick Jensen":MAILTO:rrjensen65@gmail.com
END:VEVENT
BEGIN:VEVENT
DTSTART;TZID=America/Chicago:20251025T121500
DTEND;TZID=America/Chicago:20251025T131500
DTSTAMP:20260419T173243
CREATED:20250213T214611Z
LAST-MODIFIED:20250213T214611Z
UID:10065863-1761394500-1761398100@cp12stepoutreach.org
SUMMARY:Saturday Group - 12-Step Supported Centering Prayer Online - Davenport\, Iowa
DESCRIPTION:Meeting ID: 884 8433 3580 \nContact: Dick J.\nNumber: 563-349-2542
URL:https://cp12stepoutreach.org/meeting-or-group/saturday-group-12-step-supported-centering-prayer-online-davenport-iowa/2025-10-25/
LOCATION:Zoom Meeting
CATEGORIES:Online 12 Step Centering Prayer Groups
ORGANIZER;CN="Dick Jensen":MAILTO:rrjensen65@gmail.com
END:VEVENT
BEGIN:VEVENT
DTSTART;TZID=America/Chicago:20251018T121500
DTEND;TZID=America/Chicago:20251018T131500
DTSTAMP:20260419T173243
CREATED:20250213T214611Z
LAST-MODIFIED:20250213T214611Z
UID:10065862-1760789700-1760793300@cp12stepoutreach.org
SUMMARY:Saturday Group - 12-Step Supported Centering Prayer Online - Davenport\, Iowa
DESCRIPTION:Meeting ID: 884 8433 3580 \nContact: Dick J.\nNumber: 563-349-2542
URL:https://cp12stepoutreach.org/meeting-or-group/saturday-group-12-step-supported-centering-prayer-online-davenport-iowa/2025-10-18/
LOCATION:Zoom Meeting
CATEGORIES:Online 12 Step Centering Prayer Groups
ORGANIZER;CN="Dick Jensen":MAILTO:rrjensen65@gmail.com
END:VEVENT
BEGIN:VEVENT
DTSTART;TZID=America/Chicago:20251011T121500
DTEND;TZID=America/Chicago:20251011T131500
DTSTAMP:20260419T173243
CREATED:20250213T214611Z
LAST-MODIFIED:20250213T214611Z
UID:10065861-1760184900-1760188500@cp12stepoutreach.org
SUMMARY:Saturday Group - 12-Step Supported Centering Prayer Online - Davenport\, Iowa
DESCRIPTION:Meeting ID: 884 8433 3580 \nContact: Dick J.\nNumber: 563-349-2542
URL:https://cp12stepoutreach.org/meeting-or-group/saturday-group-12-step-supported-centering-prayer-online-davenport-iowa/2025-10-11/
LOCATION:Zoom Meeting
CATEGORIES:Online 12 Step Centering Prayer Groups
ORGANIZER;CN="Dick Jensen":MAILTO:rrjensen65@gmail.com
END:VEVENT
BEGIN:VEVENT
DTSTART;TZID=America/Chicago:20251004T121500
DTEND;TZID=America/Chicago:20251004T131500
DTSTAMP:20260419T173243
CREATED:20250213T214611Z
LAST-MODIFIED:20250213T214611Z
UID:10065860-1759580100-1759583700@cp12stepoutreach.org
SUMMARY:Saturday Group - 12-Step Supported Centering Prayer Online - Davenport\, Iowa
DESCRIPTION:Meeting ID: 884 8433 3580 \nContact: Dick J.\nNumber: 563-349-2542
URL:https://cp12stepoutreach.org/meeting-or-group/saturday-group-12-step-supported-centering-prayer-online-davenport-iowa/2025-10-04/
LOCATION:Zoom Meeting
CATEGORIES:Online 12 Step Centering Prayer Groups
ORGANIZER;CN="Dick Jensen":MAILTO:rrjensen65@gmail.com
END:VEVENT
BEGIN:VEVENT
DTSTART;TZID=America/Chicago:20250927T121500
DTEND;TZID=America/Chicago:20250927T131500
DTSTAMP:20260419T173243
CREATED:20250213T214611Z
LAST-MODIFIED:20250213T214611Z
UID:10065859-1758975300-1758978900@cp12stepoutreach.org
SUMMARY:Saturday Group - 12-Step Supported Centering Prayer Online - Davenport\, Iowa
DESCRIPTION:Meeting ID: 884 8433 3580 \nContact: Dick J.\nNumber: 563-349-2542
URL:https://cp12stepoutreach.org/meeting-or-group/saturday-group-12-step-supported-centering-prayer-online-davenport-iowa/2025-09-27/
LOCATION:Zoom Meeting
CATEGORIES:Online 12 Step Centering Prayer Groups
ORGANIZER;CN="Dick Jensen":MAILTO:rrjensen65@gmail.com
END:VEVENT
END:VCALENDAR