BEGIN:VCALENDAR
VERSION:2.0
PRODID:-//12 Step Outreach - ECPv6.11.2.1//NONSGML v1.0//EN
CALSCALE:GREGORIAN
METHOD:PUBLISH
X-ORIGINAL-URL:https://cp12stepoutreach.org
X-WR-CALDESC:Events for 12 Step Outreach
REFRESH-INTERVAL;VALUE=DURATION:PT1H
X-Robots-Tag:noindex
X-PUBLISHED-TTL:PT1H
BEGIN:VTIMEZONE
TZID:America/Chicago
BEGIN:DAYLIGHT
TZOFFSETFROM:-0600
TZOFFSETTO:-0500
TZNAME:CDT
DTSTART:20260308T080000
END:DAYLIGHT
BEGIN:STANDARD
TZOFFSETFROM:-0500
TZOFFSETTO:-0600
TZNAME:CST
DTSTART:20261101T070000
END:STANDARD
BEGIN:DAYLIGHT
TZOFFSETFROM:-0600
TZOFFSETTO:-0500
TZNAME:CDT
DTSTART:20270314T080000
END:DAYLIGHT
BEGIN:STANDARD
TZOFFSETFROM:-0500
TZOFFSETTO:-0600
TZNAME:CST
DTSTART:20271107T070000
END:STANDARD
END:VTIMEZONE
BEGIN:VEVENT
DTSTART;TZID=America/Chicago:20260912T121500
DTEND;TZID=America/Chicago:20260912T131500
DTSTAMP:20260419T173239
CREATED:20250213T214611Z
LAST-MODIFIED:20250213T214611Z
UID:10065909-1789215300-1789218900@cp12stepoutreach.org
SUMMARY:Saturday Group - 12-Step Supported Centering Prayer Online - Davenport\, Iowa
DESCRIPTION:Meeting ID: 884 8433 3580 \nContact: Dick J.\nNumber: 563-349-2542
URL:https://cp12stepoutreach.org/meeting-or-group/saturday-group-12-step-supported-centering-prayer-online-davenport-iowa/2026-09-12/
LOCATION:Zoom Meeting
CATEGORIES:Online 12 Step Centering Prayer Groups
ORGANIZER;CN="Dick Jensen":MAILTO:rrjensen65@gmail.com
END:VEVENT
BEGIN:VEVENT
DTSTART;TZID=America/Chicago:20260919T121500
DTEND;TZID=America/Chicago:20260919T131500
DTSTAMP:20260419T173239
CREATED:20250213T214611Z
LAST-MODIFIED:20250213T214611Z
UID:10065910-1789820100-1789823700@cp12stepoutreach.org
SUMMARY:Saturday Group - 12-Step Supported Centering Prayer Online - Davenport\, Iowa
DESCRIPTION:Meeting ID: 884 8433 3580 \nContact: Dick J.\nNumber: 563-349-2542
URL:https://cp12stepoutreach.org/meeting-or-group/saturday-group-12-step-supported-centering-prayer-online-davenport-iowa/2026-09-19/
LOCATION:Zoom Meeting
CATEGORIES:Online 12 Step Centering Prayer Groups
ORGANIZER;CN="Dick Jensen":MAILTO:rrjensen65@gmail.com
END:VEVENT
BEGIN:VEVENT
DTSTART;TZID=America/Chicago:20260926T121500
DTEND;TZID=America/Chicago:20260926T131500
DTSTAMP:20260419T173239
CREATED:20250213T214611Z
LAST-MODIFIED:20250213T214611Z
UID:10065911-1790424900-1790428500@cp12stepoutreach.org
SUMMARY:Saturday Group - 12-Step Supported Centering Prayer Online - Davenport\, Iowa
DESCRIPTION:Meeting ID: 884 8433 3580 \nContact: Dick J.\nNumber: 563-349-2542
URL:https://cp12stepoutreach.org/meeting-or-group/saturday-group-12-step-supported-centering-prayer-online-davenport-iowa/2026-09-26/
LOCATION:Zoom Meeting
CATEGORIES:Online 12 Step Centering Prayer Groups
ORGANIZER;CN="Dick Jensen":MAILTO:rrjensen65@gmail.com
END:VEVENT
BEGIN:VEVENT
DTSTART;TZID=America/Chicago:20261003T121500
DTEND;TZID=America/Chicago:20261003T131500
DTSTAMP:20260419T173239
CREATED:20250213T214611Z
LAST-MODIFIED:20250213T214611Z
UID:10065912-1791029700-1791033300@cp12stepoutreach.org
SUMMARY:Saturday Group - 12-Step Supported Centering Prayer Online - Davenport\, Iowa
DESCRIPTION:Meeting ID: 884 8433 3580 \nContact: Dick J.\nNumber: 563-349-2542
URL:https://cp12stepoutreach.org/meeting-or-group/saturday-group-12-step-supported-centering-prayer-online-davenport-iowa/2026-10-03/
LOCATION:Zoom Meeting
CATEGORIES:Online 12 Step Centering Prayer Groups
ORGANIZER;CN="Dick Jensen":MAILTO:rrjensen65@gmail.com
END:VEVENT
BEGIN:VEVENT
DTSTART;TZID=America/Chicago:20261010T121500
DTEND;TZID=America/Chicago:20261010T131500
DTSTAMP:20260419T173239
CREATED:20250213T214611Z
LAST-MODIFIED:20250213T214611Z
UID:10065913-1791634500-1791638100@cp12stepoutreach.org
SUMMARY:Saturday Group - 12-Step Supported Centering Prayer Online - Davenport\, Iowa
DESCRIPTION:Meeting ID: 884 8433 3580 \nContact: Dick J.\nNumber: 563-349-2542
URL:https://cp12stepoutreach.org/meeting-or-group/saturday-group-12-step-supported-centering-prayer-online-davenport-iowa/2026-10-10/
LOCATION:Zoom Meeting
CATEGORIES:Online 12 Step Centering Prayer Groups
ORGANIZER;CN="Dick Jensen":MAILTO:rrjensen65@gmail.com
END:VEVENT
BEGIN:VEVENT
DTSTART;TZID=America/Chicago:20261017T121500
DTEND;TZID=America/Chicago:20261017T131500
DTSTAMP:20260419T173239
CREATED:20250213T214611Z
LAST-MODIFIED:20250213T214611Z
UID:10065914-1792239300-1792242900@cp12stepoutreach.org
SUMMARY:Saturday Group - 12-Step Supported Centering Prayer Online - Davenport\, Iowa
DESCRIPTION:Meeting ID: 884 8433 3580 \nContact: Dick J.\nNumber: 563-349-2542
URL:https://cp12stepoutreach.org/meeting-or-group/saturday-group-12-step-supported-centering-prayer-online-davenport-iowa/2026-10-17/
LOCATION:Zoom Meeting
CATEGORIES:Online 12 Step Centering Prayer Groups
ORGANIZER;CN="Dick Jensen":MAILTO:rrjensen65@gmail.com
END:VEVENT
BEGIN:VEVENT
DTSTART;TZID=America/Chicago:20261024T121500
DTEND;TZID=America/Chicago:20261024T131500
DTSTAMP:20260419T173239
CREATED:20250213T214611Z
LAST-MODIFIED:20250213T214611Z
UID:10065915-1792844100-1792847700@cp12stepoutreach.org
SUMMARY:Saturday Group - 12-Step Supported Centering Prayer Online - Davenport\, Iowa
DESCRIPTION:Meeting ID: 884 8433 3580 \nContact: Dick J.\nNumber: 563-349-2542
URL:https://cp12stepoutreach.org/meeting-or-group/saturday-group-12-step-supported-centering-prayer-online-davenport-iowa/2026-10-24/
LOCATION:Zoom Meeting
CATEGORIES:Online 12 Step Centering Prayer Groups
ORGANIZER;CN="Dick Jensen":MAILTO:rrjensen65@gmail.com
END:VEVENT
BEGIN:VEVENT
DTSTART;TZID=America/Chicago:20261031T121500
DTEND;TZID=America/Chicago:20261031T131500
DTSTAMP:20260419T173239
CREATED:20250213T214611Z
LAST-MODIFIED:20250213T214611Z
UID:10065916-1793448900-1793452500@cp12stepoutreach.org
SUMMARY:Saturday Group - 12-Step Supported Centering Prayer Online - Davenport\, Iowa
DESCRIPTION:Meeting ID: 884 8433 3580 \nContact: Dick J.\nNumber: 563-349-2542
URL:https://cp12stepoutreach.org/meeting-or-group/saturday-group-12-step-supported-centering-prayer-online-davenport-iowa/2026-10-31/
LOCATION:Zoom Meeting
CATEGORIES:Online 12 Step Centering Prayer Groups
ORGANIZER;CN="Dick Jensen":MAILTO:rrjensen65@gmail.com
END:VEVENT
BEGIN:VEVENT
DTSTART;TZID=America/Chicago:20261107T121500
DTEND;TZID=America/Chicago:20261107T131500
DTSTAMP:20260419T173239
CREATED:20250213T214611Z
LAST-MODIFIED:20250213T214611Z
UID:10065917-1794053700-1794057300@cp12stepoutreach.org
SUMMARY:Saturday Group - 12-Step Supported Centering Prayer Online - Davenport\, Iowa
DESCRIPTION:Meeting ID: 884 8433 3580 \nContact: Dick J.\nNumber: 563-349-2542
URL:https://cp12stepoutreach.org/meeting-or-group/saturday-group-12-step-supported-centering-prayer-online-davenport-iowa/2026-11-07/
LOCATION:Zoom Meeting
CATEGORIES:Online 12 Step Centering Prayer Groups
ORGANIZER;CN="Dick Jensen":MAILTO:rrjensen65@gmail.com
END:VEVENT
BEGIN:VEVENT
DTSTART;TZID=America/Chicago:20261114T121500
DTEND;TZID=America/Chicago:20261114T131500
DTSTAMP:20260419T173239
CREATED:20250213T214611Z
LAST-MODIFIED:20250213T214611Z
UID:10065918-1794658500-1794662100@cp12stepoutreach.org
SUMMARY:Saturday Group - 12-Step Supported Centering Prayer Online - Davenport\, Iowa
DESCRIPTION:Meeting ID: 884 8433 3580 \nContact: Dick J.\nNumber: 563-349-2542
URL:https://cp12stepoutreach.org/meeting-or-group/saturday-group-12-step-supported-centering-prayer-online-davenport-iowa/2026-11-14/
LOCATION:Zoom Meeting
CATEGORIES:Online 12 Step Centering Prayer Groups
ORGANIZER;CN="Dick Jensen":MAILTO:rrjensen65@gmail.com
END:VEVENT
BEGIN:VEVENT
DTSTART;TZID=America/Chicago:20261121T121500
DTEND;TZID=America/Chicago:20261121T131500
DTSTAMP:20260419T173239
CREATED:20250213T214611Z
LAST-MODIFIED:20250213T214611Z
UID:10065919-1795263300-1795266900@cp12stepoutreach.org
SUMMARY:Saturday Group - 12-Step Supported Centering Prayer Online - Davenport\, Iowa
DESCRIPTION:Meeting ID: 884 8433 3580 \nContact: Dick J.\nNumber: 563-349-2542
URL:https://cp12stepoutreach.org/meeting-or-group/saturday-group-12-step-supported-centering-prayer-online-davenport-iowa/2026-11-21/
LOCATION:Zoom Meeting
CATEGORIES:Online 12 Step Centering Prayer Groups
ORGANIZER;CN="Dick Jensen":MAILTO:rrjensen65@gmail.com
END:VEVENT
BEGIN:VEVENT
DTSTART;TZID=America/Chicago:20261128T121500
DTEND;TZID=America/Chicago:20261128T131500
DTSTAMP:20260419T173239
CREATED:20250213T214611Z
LAST-MODIFIED:20250213T214611Z
UID:10065920-1795868100-1795871700@cp12stepoutreach.org
SUMMARY:Saturday Group - 12-Step Supported Centering Prayer Online - Davenport\, Iowa
DESCRIPTION:Meeting ID: 884 8433 3580 \nContact: Dick J.\nNumber: 563-349-2542
URL:https://cp12stepoutreach.org/meeting-or-group/saturday-group-12-step-supported-centering-prayer-online-davenport-iowa/2026-11-28/
LOCATION:Zoom Meeting
CATEGORIES:Online 12 Step Centering Prayer Groups
ORGANIZER;CN="Dick Jensen":MAILTO:rrjensen65@gmail.com
END:VEVENT
BEGIN:VEVENT
DTSTART;TZID=America/Chicago:20261205T121500
DTEND;TZID=America/Chicago:20261205T131500
DTSTAMP:20260419T173239
CREATED:20250213T214611Z
LAST-MODIFIED:20250213T214611Z
UID:10065921-1796472900-1796476500@cp12stepoutreach.org
SUMMARY:Saturday Group - 12-Step Supported Centering Prayer Online - Davenport\, Iowa
DESCRIPTION:Meeting ID: 884 8433 3580 \nContact: Dick J.\nNumber: 563-349-2542
URL:https://cp12stepoutreach.org/meeting-or-group/saturday-group-12-step-supported-centering-prayer-online-davenport-iowa/2026-12-05/
LOCATION:Zoom Meeting
CATEGORIES:Online 12 Step Centering Prayer Groups
ORGANIZER;CN="Dick Jensen":MAILTO:rrjensen65@gmail.com
END:VEVENT
BEGIN:VEVENT
DTSTART;TZID=America/Chicago:20261212T121500
DTEND;TZID=America/Chicago:20261212T131500
DTSTAMP:20260419T173239
CREATED:20250213T214611Z
LAST-MODIFIED:20250213T214611Z
UID:10065922-1797077700-1797081300@cp12stepoutreach.org
SUMMARY:Saturday Group - 12-Step Supported Centering Prayer Online - Davenport\, Iowa
DESCRIPTION:Meeting ID: 884 8433 3580 \nContact: Dick J.\nNumber: 563-349-2542
URL:https://cp12stepoutreach.org/meeting-or-group/saturday-group-12-step-supported-centering-prayer-online-davenport-iowa/2026-12-12/
LOCATION:Zoom Meeting
CATEGORIES:Online 12 Step Centering Prayer Groups
ORGANIZER;CN="Dick Jensen":MAILTO:rrjensen65@gmail.com
END:VEVENT
BEGIN:VEVENT
DTSTART;TZID=America/Chicago:20261219T121500
DTEND;TZID=America/Chicago:20261219T131500
DTSTAMP:20260419T173239
CREATED:20250213T214611Z
LAST-MODIFIED:20250213T214611Z
UID:10065923-1797682500-1797686100@cp12stepoutreach.org
SUMMARY:Saturday Group - 12-Step Supported Centering Prayer Online - Davenport\, Iowa
DESCRIPTION:Meeting ID: 884 8433 3580 \nContact: Dick J.\nNumber: 563-349-2542
URL:https://cp12stepoutreach.org/meeting-or-group/saturday-group-12-step-supported-centering-prayer-online-davenport-iowa/2026-12-19/
LOCATION:Zoom Meeting
CATEGORIES:Online 12 Step Centering Prayer Groups
ORGANIZER;CN="Dick Jensen":MAILTO:rrjensen65@gmail.com
END:VEVENT
BEGIN:VEVENT
DTSTART;TZID=America/Chicago:20261226T121500
DTEND;TZID=America/Chicago:20261226T131500
DTSTAMP:20260419T173239
CREATED:20250213T214611Z
LAST-MODIFIED:20250213T214611Z
UID:10065924-1798287300-1798290900@cp12stepoutreach.org
SUMMARY:Saturday Group - 12-Step Supported Centering Prayer Online - Davenport\, Iowa
DESCRIPTION:Meeting ID: 884 8433 3580 \nContact: Dick J.\nNumber: 563-349-2542
URL:https://cp12stepoutreach.org/meeting-or-group/saturday-group-12-step-supported-centering-prayer-online-davenport-iowa/2026-12-26/
LOCATION:Zoom Meeting
CATEGORIES:Online 12 Step Centering Prayer Groups
ORGANIZER;CN="Dick Jensen":MAILTO:rrjensen65@gmail.com
END:VEVENT
BEGIN:VEVENT
DTSTART;TZID=America/Chicago:20270102T121500
DTEND;TZID=America/Chicago:20270102T131500
DTSTAMP:20260419T173239
CREATED:20250213T214611Z
LAST-MODIFIED:20250213T214611Z
UID:10065925-1798892100-1798895700@cp12stepoutreach.org
SUMMARY:Saturday Group - 12-Step Supported Centering Prayer Online - Davenport\, Iowa
DESCRIPTION:Meeting ID: 884 8433 3580 \nContact: Dick J.\nNumber: 563-349-2542
URL:https://cp12stepoutreach.org/meeting-or-group/saturday-group-12-step-supported-centering-prayer-online-davenport-iowa/2027-01-02/
LOCATION:Zoom Meeting
CATEGORIES:Online 12 Step Centering Prayer Groups
ORGANIZER;CN="Dick Jensen":MAILTO:rrjensen65@gmail.com
END:VEVENT
BEGIN:VEVENT
DTSTART;TZID=America/Chicago:20270109T121500
DTEND;TZID=America/Chicago:20270109T131500
DTSTAMP:20260419T173239
CREATED:20250213T214611Z
LAST-MODIFIED:20250213T214611Z
UID:10065926-1799496900-1799500500@cp12stepoutreach.org
SUMMARY:Saturday Group - 12-Step Supported Centering Prayer Online - Davenport\, Iowa
DESCRIPTION:Meeting ID: 884 8433 3580 \nContact: Dick J.\nNumber: 563-349-2542
URL:https://cp12stepoutreach.org/meeting-or-group/saturday-group-12-step-supported-centering-prayer-online-davenport-iowa/2027-01-09/
LOCATION:Zoom Meeting
CATEGORIES:Online 12 Step Centering Prayer Groups
ORGANIZER;CN="Dick Jensen":MAILTO:rrjensen65@gmail.com
END:VEVENT
BEGIN:VEVENT
DTSTART;TZID=America/Chicago:20270116T121500
DTEND;TZID=America/Chicago:20270116T131500
DTSTAMP:20260419T173239
CREATED:20250213T214611Z
LAST-MODIFIED:20250213T214611Z
UID:10065927-1800101700-1800105300@cp12stepoutreach.org
SUMMARY:Saturday Group - 12-Step Supported Centering Prayer Online - Davenport\, Iowa
DESCRIPTION:Meeting ID: 884 8433 3580 \nContact: Dick J.\nNumber: 563-349-2542
URL:https://cp12stepoutreach.org/meeting-or-group/saturday-group-12-step-supported-centering-prayer-online-davenport-iowa/2027-01-16/
LOCATION:Zoom Meeting
CATEGORIES:Online 12 Step Centering Prayer Groups
ORGANIZER;CN="Dick Jensen":MAILTO:rrjensen65@gmail.com
END:VEVENT
BEGIN:VEVENT
DTSTART;TZID=America/Chicago:20270123T121500
DTEND;TZID=America/Chicago:20270123T131500
DTSTAMP:20260419T173239
CREATED:20250213T214611Z
LAST-MODIFIED:20250213T214611Z
UID:10065928-1800706500-1800710100@cp12stepoutreach.org
SUMMARY:Saturday Group - 12-Step Supported Centering Prayer Online - Davenport\, Iowa
DESCRIPTION:Meeting ID: 884 8433 3580 \nContact: Dick J.\nNumber: 563-349-2542
URL:https://cp12stepoutreach.org/meeting-or-group/saturday-group-12-step-supported-centering-prayer-online-davenport-iowa/2027-01-23/
LOCATION:Zoom Meeting
CATEGORIES:Online 12 Step Centering Prayer Groups
ORGANIZER;CN="Dick Jensen":MAILTO:rrjensen65@gmail.com
END:VEVENT
BEGIN:VEVENT
DTSTART;TZID=America/Chicago:20270130T121500
DTEND;TZID=America/Chicago:20270130T131500
DTSTAMP:20260419T173239
CREATED:20250213T214611Z
LAST-MODIFIED:20250213T214611Z
UID:10065929-1801311300-1801314900@cp12stepoutreach.org
SUMMARY:Saturday Group - 12-Step Supported Centering Prayer Online - Davenport\, Iowa
DESCRIPTION:Meeting ID: 884 8433 3580 \nContact: Dick J.\nNumber: 563-349-2542
URL:https://cp12stepoutreach.org/meeting-or-group/saturday-group-12-step-supported-centering-prayer-online-davenport-iowa/2027-01-30/
LOCATION:Zoom Meeting
CATEGORIES:Online 12 Step Centering Prayer Groups
ORGANIZER;CN="Dick Jensen":MAILTO:rrjensen65@gmail.com
END:VEVENT
BEGIN:VEVENT
DTSTART;TZID=America/Chicago:20270206T121500
DTEND;TZID=America/Chicago:20270206T131500
DTSTAMP:20260419T173239
CREATED:20250213T214611Z
LAST-MODIFIED:20250213T214611Z
UID:10065930-1801916100-1801919700@cp12stepoutreach.org
SUMMARY:Saturday Group - 12-Step Supported Centering Prayer Online - Davenport\, Iowa
DESCRIPTION:Meeting ID: 884 8433 3580 \nContact: Dick J.\nNumber: 563-349-2542
URL:https://cp12stepoutreach.org/meeting-or-group/saturday-group-12-step-supported-centering-prayer-online-davenport-iowa/2027-02-06/
LOCATION:Zoom Meeting
CATEGORIES:Online 12 Step Centering Prayer Groups
ORGANIZER;CN="Dick Jensen":MAILTO:rrjensen65@gmail.com
END:VEVENT
BEGIN:VEVENT
DTSTART;TZID=America/Chicago:20270213T121500
DTEND;TZID=America/Chicago:20270213T131500
DTSTAMP:20260419T173239
CREATED:20250213T214611Z
LAST-MODIFIED:20250213T214611Z
UID:10065931-1802520900-1802524500@cp12stepoutreach.org
SUMMARY:Saturday Group - 12-Step Supported Centering Prayer Online - Davenport\, Iowa
DESCRIPTION:Meeting ID: 884 8433 3580 \nContact: Dick J.\nNumber: 563-349-2542
URL:https://cp12stepoutreach.org/meeting-or-group/saturday-group-12-step-supported-centering-prayer-online-davenport-iowa/2027-02-13/
LOCATION:Zoom Meeting
CATEGORIES:Online 12 Step Centering Prayer Groups
ORGANIZER;CN="Dick Jensen":MAILTO:rrjensen65@gmail.com
END:VEVENT
BEGIN:VEVENT
DTSTART;TZID=America/Chicago:20270220T121500
DTEND;TZID=America/Chicago:20270220T131500
DTSTAMP:20260419T173239
CREATED:20250213T214611Z
LAST-MODIFIED:20250213T214611Z
UID:10065932-1803125700-1803129300@cp12stepoutreach.org
SUMMARY:Saturday Group - 12-Step Supported Centering Prayer Online - Davenport\, Iowa
DESCRIPTION:Meeting ID: 884 8433 3580 \nContact: Dick J.\nNumber: 563-349-2542
URL:https://cp12stepoutreach.org/meeting-or-group/saturday-group-12-step-supported-centering-prayer-online-davenport-iowa/2027-02-20/
LOCATION:Zoom Meeting
CATEGORIES:Online 12 Step Centering Prayer Groups
ORGANIZER;CN="Dick Jensen":MAILTO:rrjensen65@gmail.com
END:VEVENT
BEGIN:VEVENT
DTSTART;TZID=America/Chicago:20270227T121500
DTEND;TZID=America/Chicago:20270227T131500
DTSTAMP:20260419T173239
CREATED:20250213T214611Z
LAST-MODIFIED:20250213T214611Z
UID:10065933-1803730500-1803734100@cp12stepoutreach.org
SUMMARY:Saturday Group - 12-Step Supported Centering Prayer Online - Davenport\, Iowa
DESCRIPTION:Meeting ID: 884 8433 3580 \nContact: Dick J.\nNumber: 563-349-2542
URL:https://cp12stepoutreach.org/meeting-or-group/saturday-group-12-step-supported-centering-prayer-online-davenport-iowa/2027-02-27/
LOCATION:Zoom Meeting
CATEGORIES:Online 12 Step Centering Prayer Groups
ORGANIZER;CN="Dick Jensen":MAILTO:rrjensen65@gmail.com
END:VEVENT
BEGIN:VEVENT
DTSTART;TZID=America/Chicago:20270306T121500
DTEND;TZID=America/Chicago:20270306T131500
DTSTAMP:20260419T173239
CREATED:20250213T214611Z
LAST-MODIFIED:20250213T214611Z
UID:10065934-1804335300-1804338900@cp12stepoutreach.org
SUMMARY:Saturday Group - 12-Step Supported Centering Prayer Online - Davenport\, Iowa
DESCRIPTION:Meeting ID: 884 8433 3580 \nContact: Dick J.\nNumber: 563-349-2542
URL:https://cp12stepoutreach.org/meeting-or-group/saturday-group-12-step-supported-centering-prayer-online-davenport-iowa/2027-03-06/
LOCATION:Zoom Meeting
CATEGORIES:Online 12 Step Centering Prayer Groups
ORGANIZER;CN="Dick Jensen":MAILTO:rrjensen65@gmail.com
END:VEVENT
BEGIN:VEVENT
DTSTART;TZID=America/Chicago:20270313T121500
DTEND;TZID=America/Chicago:20270313T131500
DTSTAMP:20260419T173239
CREATED:20250213T214611Z
LAST-MODIFIED:20250213T214611Z
UID:10065935-1804940100-1804943700@cp12stepoutreach.org
SUMMARY:Saturday Group - 12-Step Supported Centering Prayer Online - Davenport\, Iowa
DESCRIPTION:Meeting ID: 884 8433 3580 \nContact: Dick J.\nNumber: 563-349-2542
URL:https://cp12stepoutreach.org/meeting-or-group/saturday-group-12-step-supported-centering-prayer-online-davenport-iowa/2027-03-13/
LOCATION:Zoom Meeting
CATEGORIES:Online 12 Step Centering Prayer Groups
ORGANIZER;CN="Dick Jensen":MAILTO:rrjensen65@gmail.com
END:VEVENT
BEGIN:VEVENT
DTSTART;TZID=America/Chicago:20270320T121500
DTEND;TZID=America/Chicago:20270320T131500
DTSTAMP:20260419T173239
CREATED:20250213T214611Z
LAST-MODIFIED:20250213T214611Z
UID:10065936-1805544900-1805548500@cp12stepoutreach.org
SUMMARY:Saturday Group - 12-Step Supported Centering Prayer Online - Davenport\, Iowa
DESCRIPTION:Meeting ID: 884 8433 3580 \nContact: Dick J.\nNumber: 563-349-2542
URL:https://cp12stepoutreach.org/meeting-or-group/saturday-group-12-step-supported-centering-prayer-online-davenport-iowa/2027-03-20/
LOCATION:Zoom Meeting
CATEGORIES:Online 12 Step Centering Prayer Groups
ORGANIZER;CN="Dick Jensen":MAILTO:rrjensen65@gmail.com
END:VEVENT
BEGIN:VEVENT
DTSTART;TZID=America/Chicago:20270327T121500
DTEND;TZID=America/Chicago:20270327T131500
DTSTAMP:20260419T173239
CREATED:20250213T214611Z
LAST-MODIFIED:20250213T214611Z
UID:10065937-1806149700-1806153300@cp12stepoutreach.org
SUMMARY:Saturday Group - 12-Step Supported Centering Prayer Online - Davenport\, Iowa
DESCRIPTION:Meeting ID: 884 8433 3580 \nContact: Dick J.\nNumber: 563-349-2542
URL:https://cp12stepoutreach.org/meeting-or-group/saturday-group-12-step-supported-centering-prayer-online-davenport-iowa/2027-03-27/
LOCATION:Zoom Meeting
CATEGORIES:Online 12 Step Centering Prayer Groups
ORGANIZER;CN="Dick Jensen":MAILTO:rrjensen65@gmail.com
END:VEVENT
BEGIN:VEVENT
DTSTART;TZID=America/Chicago:20270403T121500
DTEND;TZID=America/Chicago:20270403T131500
DTSTAMP:20260419T173239
CREATED:20250213T214611Z
LAST-MODIFIED:20250213T214611Z
UID:10065938-1806754500-1806758100@cp12stepoutreach.org
SUMMARY:Saturday Group - 12-Step Supported Centering Prayer Online - Davenport\, Iowa
DESCRIPTION:Meeting ID: 884 8433 3580 \nContact: Dick J.\nNumber: 563-349-2542
URL:https://cp12stepoutreach.org/meeting-or-group/saturday-group-12-step-supported-centering-prayer-online-davenport-iowa/2027-04-03/
LOCATION:Zoom Meeting
CATEGORIES:Online 12 Step Centering Prayer Groups
ORGANIZER;CN="Dick Jensen":MAILTO:rrjensen65@gmail.com
END:VEVENT
END:VCALENDAR