BEGIN:VCALENDAR
VERSION:2.0
PRODID:-//12 Step Outreach - ECPv6.11.2.1//NONSGML v1.0//EN
CALSCALE:GREGORIAN
METHOD:PUBLISH
X-WR-CALNAME:12 Step Outreach
X-ORIGINAL-URL:https://cp12stepoutreach.org
X-WR-CALDESC:Events for 12 Step Outreach
REFRESH-INTERVAL;VALUE=DURATION:PT1H
X-Robots-Tag:noindex
X-PUBLISHED-TTL:PT1H
BEGIN:VTIMEZONE
TZID:America/Chicago
BEGIN:DAYLIGHT
TZOFFSETFROM:-0600
TZOFFSETTO:-0500
TZNAME:CDT
DTSTART:20250309T080000
END:DAYLIGHT
BEGIN:STANDARD
TZOFFSETFROM:-0500
TZOFFSETTO:-0600
TZNAME:CST
DTSTART:20251102T070000
END:STANDARD
END:VTIMEZONE
BEGIN:VEVENT
DTSTART;TZID=America/Chicago:20250712T121500
DTEND;TZID=America/Chicago:20250712T131500
DTSTAMP:20260419T201606
CREATED:20250213T214611Z
LAST-MODIFIED:20250213T214611Z
UID:10065848-1752322500-1752326100@cp12stepoutreach.org
SUMMARY:Saturday Group - 12-Step Supported Centering Prayer Online - Davenport\, Iowa
DESCRIPTION:Meeting ID: 884 8433 3580 \nContact: Dick J.\nNumber: 563-349-2542
URL:https://cp12stepoutreach.org/meeting-or-group/saturday-group-12-step-supported-centering-prayer-online-davenport-iowa/2025-07-12/
LOCATION:Zoom Meeting
CATEGORIES:Online 12 Step Centering Prayer Groups
ORGANIZER;CN="Dick Jensen":MAILTO:rrjensen65@gmail.com
END:VEVENT
BEGIN:VEVENT
DTSTART;TZID=America/Chicago:20250705T121500
DTEND;TZID=America/Chicago:20250705T131500
DTSTAMP:20260419T201606
CREATED:20250213T214611Z
LAST-MODIFIED:20250213T214611Z
UID:10065847-1751717700-1751721300@cp12stepoutreach.org
SUMMARY:Saturday Group - 12-Step Supported Centering Prayer Online - Davenport\, Iowa
DESCRIPTION:Meeting ID: 884 8433 3580 \nContact: Dick J.\nNumber: 563-349-2542
URL:https://cp12stepoutreach.org/meeting-or-group/saturday-group-12-step-supported-centering-prayer-online-davenport-iowa/2025-07-05/
LOCATION:Zoom Meeting
CATEGORIES:Online 12 Step Centering Prayer Groups
ORGANIZER;CN="Dick Jensen":MAILTO:rrjensen65@gmail.com
END:VEVENT
BEGIN:VEVENT
DTSTART;TZID=America/Chicago:20250628T121500
DTEND;TZID=America/Chicago:20250628T131500
DTSTAMP:20260419T201606
CREATED:20250213T214611Z
LAST-MODIFIED:20250213T214611Z
UID:10065846-1751112900-1751116500@cp12stepoutreach.org
SUMMARY:Saturday Group - 12-Step Supported Centering Prayer Online - Davenport\, Iowa
DESCRIPTION:Meeting ID: 884 8433 3580 \nContact: Dick J.\nNumber: 563-349-2542
URL:https://cp12stepoutreach.org/meeting-or-group/saturday-group-12-step-supported-centering-prayer-online-davenport-iowa/2025-06-28/
LOCATION:Zoom Meeting
CATEGORIES:Online 12 Step Centering Prayer Groups
ORGANIZER;CN="Dick Jensen":MAILTO:rrjensen65@gmail.com
END:VEVENT
BEGIN:VEVENT
DTSTART;TZID=America/Chicago:20250621T121500
DTEND;TZID=America/Chicago:20250621T131500
DTSTAMP:20260419T201606
CREATED:20250213T214611Z
LAST-MODIFIED:20250213T214611Z
UID:10065845-1750508100-1750511700@cp12stepoutreach.org
SUMMARY:Saturday Group - 12-Step Supported Centering Prayer Online - Davenport\, Iowa
DESCRIPTION:Meeting ID: 884 8433 3580 \nContact: Dick J.\nNumber: 563-349-2542
URL:https://cp12stepoutreach.org/meeting-or-group/saturday-group-12-step-supported-centering-prayer-online-davenport-iowa/2025-06-21/
LOCATION:Zoom Meeting
CATEGORIES:Online 12 Step Centering Prayer Groups
ORGANIZER;CN="Dick Jensen":MAILTO:rrjensen65@gmail.com
END:VEVENT
BEGIN:VEVENT
DTSTART;TZID=America/Chicago:20250614T121500
DTEND;TZID=America/Chicago:20250614T131500
DTSTAMP:20260419T201606
CREATED:20250213T214611Z
LAST-MODIFIED:20250213T214611Z
UID:10065844-1749903300-1749906900@cp12stepoutreach.org
SUMMARY:Saturday Group - 12-Step Supported Centering Prayer Online - Davenport\, Iowa
DESCRIPTION:Meeting ID: 884 8433 3580 \nContact: Dick J.\nNumber: 563-349-2542
URL:https://cp12stepoutreach.org/meeting-or-group/saturday-group-12-step-supported-centering-prayer-online-davenport-iowa/2025-06-14/
LOCATION:Zoom Meeting
CATEGORIES:Online 12 Step Centering Prayer Groups
ORGANIZER;CN="Dick Jensen":MAILTO:rrjensen65@gmail.com
END:VEVENT
BEGIN:VEVENT
DTSTART;TZID=America/Chicago:20250607T121500
DTEND;TZID=America/Chicago:20250607T131500
DTSTAMP:20260419T201606
CREATED:20250213T214611Z
LAST-MODIFIED:20250213T214611Z
UID:10065843-1749298500-1749302100@cp12stepoutreach.org
SUMMARY:Saturday Group - 12-Step Supported Centering Prayer Online - Davenport\, Iowa
DESCRIPTION:Meeting ID: 884 8433 3580 \nContact: Dick J.\nNumber: 563-349-2542
URL:https://cp12stepoutreach.org/meeting-or-group/saturday-group-12-step-supported-centering-prayer-online-davenport-iowa/2025-06-07/
LOCATION:Zoom Meeting
CATEGORIES:Online 12 Step Centering Prayer Groups
ORGANIZER;CN="Dick Jensen":MAILTO:rrjensen65@gmail.com
END:VEVENT
BEGIN:VEVENT
DTSTART;TZID=America/Chicago:20250531T121500
DTEND;TZID=America/Chicago:20250531T131500
DTSTAMP:20260419T201606
CREATED:20250213T214611Z
LAST-MODIFIED:20250213T214611Z
UID:10065842-1748693700-1748697300@cp12stepoutreach.org
SUMMARY:Saturday Group - 12-Step Supported Centering Prayer Online - Davenport\, Iowa
DESCRIPTION:Meeting ID: 884 8433 3580 \nContact: Dick J.\nNumber: 563-349-2542
URL:https://cp12stepoutreach.org/meeting-or-group/saturday-group-12-step-supported-centering-prayer-online-davenport-iowa/2025-05-31/
LOCATION:Zoom Meeting
CATEGORIES:Online 12 Step Centering Prayer Groups
ORGANIZER;CN="Dick Jensen":MAILTO:rrjensen65@gmail.com
END:VEVENT
BEGIN:VEVENT
DTSTART;TZID=America/Chicago:20250524T121500
DTEND;TZID=America/Chicago:20250524T131500
DTSTAMP:20260419T201606
CREATED:20250213T214611Z
LAST-MODIFIED:20250213T214611Z
UID:10065841-1748088900-1748092500@cp12stepoutreach.org
SUMMARY:Saturday Group - 12-Step Supported Centering Prayer Online - Davenport\, Iowa
DESCRIPTION:Meeting ID: 884 8433 3580 \nContact: Dick J.\nNumber: 563-349-2542
URL:https://cp12stepoutreach.org/meeting-or-group/saturday-group-12-step-supported-centering-prayer-online-davenport-iowa/2025-05-24/
LOCATION:Zoom Meeting
CATEGORIES:Online 12 Step Centering Prayer Groups
ORGANIZER;CN="Dick Jensen":MAILTO:rrjensen65@gmail.com
END:VEVENT
BEGIN:VEVENT
DTSTART;TZID=America/Chicago:20250517T121500
DTEND;TZID=America/Chicago:20250517T131500
DTSTAMP:20260419T201606
CREATED:20250213T214611Z
LAST-MODIFIED:20250213T214611Z
UID:10065840-1747484100-1747487700@cp12stepoutreach.org
SUMMARY:Saturday Group - 12-Step Supported Centering Prayer Online - Davenport\, Iowa
DESCRIPTION:Meeting ID: 884 8433 3580 \nContact: Dick J.\nNumber: 563-349-2542
URL:https://cp12stepoutreach.org/meeting-or-group/saturday-group-12-step-supported-centering-prayer-online-davenport-iowa/2025-05-17/
LOCATION:Zoom Meeting
CATEGORIES:Online 12 Step Centering Prayer Groups
ORGANIZER;CN="Dick Jensen":MAILTO:rrjensen65@gmail.com
END:VEVENT
BEGIN:VEVENT
DTSTART;TZID=America/Chicago:20250510T121500
DTEND;TZID=America/Chicago:20250510T131500
DTSTAMP:20260419T201606
CREATED:20250213T214611Z
LAST-MODIFIED:20250213T214611Z
UID:10065839-1746879300-1746882900@cp12stepoutreach.org
SUMMARY:Saturday Group - 12-Step Supported Centering Prayer Online - Davenport\, Iowa
DESCRIPTION:Meeting ID: 884 8433 3580 \nContact: Dick J.\nNumber: 563-349-2542
URL:https://cp12stepoutreach.org/meeting-or-group/saturday-group-12-step-supported-centering-prayer-online-davenport-iowa/2025-05-10/
LOCATION:Zoom Meeting
CATEGORIES:Online 12 Step Centering Prayer Groups
ORGANIZER;CN="Dick Jensen":MAILTO:rrjensen65@gmail.com
END:VEVENT
BEGIN:VEVENT
DTSTART;TZID=America/Chicago:20250503T121500
DTEND;TZID=America/Chicago:20250503T131500
DTSTAMP:20260419T201606
CREATED:20250213T214611Z
LAST-MODIFIED:20250213T214611Z
UID:10065838-1746274500-1746278100@cp12stepoutreach.org
SUMMARY:Saturday Group - 12-Step Supported Centering Prayer Online - Davenport\, Iowa
DESCRIPTION:Meeting ID: 884 8433 3580 \nContact: Dick J.\nNumber: 563-349-2542
URL:https://cp12stepoutreach.org/meeting-or-group/saturday-group-12-step-supported-centering-prayer-online-davenport-iowa/2025-05-03/
LOCATION:Zoom Meeting
CATEGORIES:Online 12 Step Centering Prayer Groups
ORGANIZER;CN="Dick Jensen":MAILTO:rrjensen65@gmail.com
END:VEVENT
BEGIN:VEVENT
DTSTART;TZID=America/Chicago:20250426T121500
DTEND;TZID=America/Chicago:20250426T131500
DTSTAMP:20260419T201606
CREATED:20250213T214611Z
LAST-MODIFIED:20250213T214611Z
UID:10065837-1745669700-1745673300@cp12stepoutreach.org
SUMMARY:Saturday Group - 12-Step Supported Centering Prayer Online - Davenport\, Iowa
DESCRIPTION:Meeting ID: 884 8433 3580 \nContact: Dick J.\nNumber: 563-349-2542
URL:https://cp12stepoutreach.org/meeting-or-group/saturday-group-12-step-supported-centering-prayer-online-davenport-iowa/2025-04-26/
LOCATION:Zoom Meeting
CATEGORIES:Online 12 Step Centering Prayer Groups
ORGANIZER;CN="Dick Jensen":MAILTO:rrjensen65@gmail.com
END:VEVENT
BEGIN:VEVENT
DTSTART;TZID=America/Chicago:20250419T121500
DTEND;TZID=America/Chicago:20250419T131500
DTSTAMP:20260419T201606
CREATED:20250213T214611Z
LAST-MODIFIED:20250213T214611Z
UID:10065836-1745064900-1745068500@cp12stepoutreach.org
SUMMARY:Saturday Group - 12-Step Supported Centering Prayer Online - Davenport\, Iowa
DESCRIPTION:Meeting ID: 884 8433 3580 \nContact: Dick J.\nNumber: 563-349-2542
URL:https://cp12stepoutreach.org/meeting-or-group/saturday-group-12-step-supported-centering-prayer-online-davenport-iowa/2025-04-19/
LOCATION:Zoom Meeting
CATEGORIES:Online 12 Step Centering Prayer Groups
ORGANIZER;CN="Dick Jensen":MAILTO:rrjensen65@gmail.com
END:VEVENT
BEGIN:VEVENT
DTSTART;TZID=America/Chicago:20250412T121500
DTEND;TZID=America/Chicago:20250412T131500
DTSTAMP:20260419T201606
CREATED:20250213T214611Z
LAST-MODIFIED:20250213T214611Z
UID:10065835-1744460100-1744463700@cp12stepoutreach.org
SUMMARY:Saturday Group - 12-Step Supported Centering Prayer Online - Davenport\, Iowa
DESCRIPTION:Meeting ID: 884 8433 3580 \nContact: Dick J.\nNumber: 563-349-2542
URL:https://cp12stepoutreach.org/meeting-or-group/saturday-group-12-step-supported-centering-prayer-online-davenport-iowa/2025-04-12/
LOCATION:Zoom Meeting
CATEGORIES:Online 12 Step Centering Prayer Groups
ORGANIZER;CN="Dick Jensen":MAILTO:rrjensen65@gmail.com
END:VEVENT
BEGIN:VEVENT
DTSTART;TZID=America/Chicago:20250405T121500
DTEND;TZID=America/Chicago:20250405T131500
DTSTAMP:20260419T201606
CREATED:20250213T214611Z
LAST-MODIFIED:20250213T214611Z
UID:10065834-1743855300-1743858900@cp12stepoutreach.org
SUMMARY:Saturday Group - 12-Step Supported Centering Prayer Online - Davenport\, Iowa
DESCRIPTION:Meeting ID: 884 8433 3580 \nContact: Dick J.\nNumber: 563-349-2542
URL:https://cp12stepoutreach.org/meeting-or-group/saturday-group-12-step-supported-centering-prayer-online-davenport-iowa/2025-04-05/
LOCATION:Zoom Meeting
CATEGORIES:Online 12 Step Centering Prayer Groups
ORGANIZER;CN="Dick Jensen":MAILTO:rrjensen65@gmail.com
END:VEVENT
BEGIN:VEVENT
DTSTART;TZID=America/Chicago:20250329T121500
DTEND;TZID=America/Chicago:20250329T131500
DTSTAMP:20260419T201606
CREATED:20250213T214611Z
LAST-MODIFIED:20250213T214611Z
UID:10065833-1743250500-1743254100@cp12stepoutreach.org
SUMMARY:Saturday Group - 12-Step Supported Centering Prayer Online - Davenport\, Iowa
DESCRIPTION:Meeting ID: 884 8433 3580 \nContact: Dick J.\nNumber: 563-349-2542
URL:https://cp12stepoutreach.org/meeting-or-group/saturday-group-12-step-supported-centering-prayer-online-davenport-iowa/2025-03-29/
LOCATION:Zoom Meeting
CATEGORIES:Online 12 Step Centering Prayer Groups
ORGANIZER;CN="Dick Jensen":MAILTO:rrjensen65@gmail.com
END:VEVENT
BEGIN:VEVENT
DTSTART;TZID=America/Chicago:20250322T121500
DTEND;TZID=America/Chicago:20250322T131500
DTSTAMP:20260419T201606
CREATED:20250213T214611Z
LAST-MODIFIED:20250213T214611Z
UID:10065832-1742645700-1742649300@cp12stepoutreach.org
SUMMARY:Saturday Group - 12-Step Supported Centering Prayer Online - Davenport\, Iowa
DESCRIPTION:Meeting ID: 884 8433 3580 \nContact: Dick J.\nNumber: 563-349-2542
URL:https://cp12stepoutreach.org/meeting-or-group/saturday-group-12-step-supported-centering-prayer-online-davenport-iowa/2025-03-22/
LOCATION:Zoom Meeting
CATEGORIES:Online 12 Step Centering Prayer Groups
ORGANIZER;CN="Dick Jensen":MAILTO:rrjensen65@gmail.com
END:VEVENT
BEGIN:VEVENT
DTSTART;TZID=America/Chicago:20250315T121500
DTEND;TZID=America/Chicago:20250315T131500
DTSTAMP:20260419T201606
CREATED:20250213T214611Z
LAST-MODIFIED:20250213T214611Z
UID:10065831-1742040900-1742044500@cp12stepoutreach.org
SUMMARY:Saturday Group - 12-Step Supported Centering Prayer Online - Davenport\, Iowa
DESCRIPTION:Meeting ID: 884 8433 3580 \nContact: Dick J.\nNumber: 563-349-2542
URL:https://cp12stepoutreach.org/meeting-or-group/saturday-group-12-step-supported-centering-prayer-online-davenport-iowa/2025-03-15/
LOCATION:Zoom Meeting
CATEGORIES:Online 12 Step Centering Prayer Groups
ORGANIZER;CN="Dick Jensen":MAILTO:rrjensen65@gmail.com
END:VEVENT
BEGIN:VEVENT
DTSTART;TZID=America/Chicago:20250308T121500
DTEND;TZID=America/Chicago:20250308T131500
DTSTAMP:20260419T201606
CREATED:20250213T214611Z
LAST-MODIFIED:20250213T214611Z
UID:10065830-1741436100-1741439700@cp12stepoutreach.org
SUMMARY:Saturday Group - 12-Step Supported Centering Prayer Online - Davenport\, Iowa
DESCRIPTION:Meeting ID: 884 8433 3580 \nContact: Dick J.\nNumber: 563-349-2542
URL:https://cp12stepoutreach.org/meeting-or-group/saturday-group-12-step-supported-centering-prayer-online-davenport-iowa/2025-03-08/
LOCATION:Zoom Meeting
CATEGORIES:Online 12 Step Centering Prayer Groups
ORGANIZER;CN="Dick Jensen":MAILTO:rrjensen65@gmail.com
END:VEVENT
BEGIN:VEVENT
DTSTART;TZID=America/Chicago:20250301T121500
DTEND;TZID=America/Chicago:20250301T131500
DTSTAMP:20260419T201606
CREATED:20250213T214611Z
LAST-MODIFIED:20250213T214611Z
UID:10065829-1740831300-1740834900@cp12stepoutreach.org
SUMMARY:Saturday Group - 12-Step Supported Centering Prayer Online - Davenport\, Iowa
DESCRIPTION:Meeting ID: 884 8433 3580 \nContact: Dick J.\nNumber: 563-349-2542
URL:https://cp12stepoutreach.org/meeting-or-group/saturday-group-12-step-supported-centering-prayer-online-davenport-iowa/2025-03-01/
LOCATION:Zoom Meeting
CATEGORIES:Online 12 Step Centering Prayer Groups
ORGANIZER;CN="Dick Jensen":MAILTO:rrjensen65@gmail.com
END:VEVENT
BEGIN:VEVENT
DTSTART;TZID=America/Chicago:20250222T121500
DTEND;TZID=America/Chicago:20250222T131500
DTSTAMP:20260419T201606
CREATED:20250213T214611Z
LAST-MODIFIED:20250213T214611Z
UID:10065828-1740226500-1740230100@cp12stepoutreach.org
SUMMARY:Saturday Group - 12-Step Supported Centering Prayer Online - Davenport\, Iowa
DESCRIPTION:Meeting ID: 884 8433 3580 \nContact: Dick J.\nNumber: 563-349-2542
URL:https://cp12stepoutreach.org/meeting-or-group/saturday-group-12-step-supported-centering-prayer-online-davenport-iowa/2025-02-22/
LOCATION:Zoom Meeting
CATEGORIES:Online 12 Step Centering Prayer Groups
ORGANIZER;CN="Dick Jensen":MAILTO:rrjensen65@gmail.com
END:VEVENT
BEGIN:VEVENT
DTSTART;TZID=America/Chicago:20250215T121500
DTEND;TZID=America/Chicago:20250215T131500
DTSTAMP:20260419T201606
CREATED:20250213T214611Z
LAST-MODIFIED:20250213T214611Z
UID:10065827-1739621700-1739625300@cp12stepoutreach.org
SUMMARY:Saturday Group - 12-Step Supported Centering Prayer Online - Davenport\, Iowa
DESCRIPTION:Meeting ID: 884 8433 3580 \nContact: Dick J.\nNumber: 563-349-2542
URL:https://cp12stepoutreach.org/meeting-or-group/saturday-group-12-step-supported-centering-prayer-online-davenport-iowa/2025-02-15/
LOCATION:Zoom Meeting
CATEGORIES:Online 12 Step Centering Prayer Groups
ORGANIZER;CN="Dick Jensen":MAILTO:rrjensen65@gmail.com
END:VEVENT
END:VCALENDAR