BEGIN:VCALENDAR
VERSION:2.0
PRODID:-//12 Step Outreach - ECPv6.11.2.1//NONSGML v1.0//EN
CALSCALE:GREGORIAN
METHOD:PUBLISH
X-WR-CALNAME:12 Step Outreach
X-ORIGINAL-URL:https://cp12stepoutreach.org
X-WR-CALDESC:Events for 12 Step Outreach
REFRESH-INTERVAL;VALUE=DURATION:PT1H
X-Robots-Tag:noindex
X-PUBLISHED-TTL:PT1H
BEGIN:VTIMEZONE
TZID:America/Chicago
BEGIN:DAYLIGHT
TZOFFSETFROM:-0600
TZOFFSETTO:-0500
TZNAME:CDT
DTSTART:20270314T080000
END:DAYLIGHT
BEGIN:STANDARD
TZOFFSETFROM:-0500
TZOFFSETTO:-0600
TZNAME:CST
DTSTART:20271107T070000
END:STANDARD
END:VTIMEZONE
BEGIN:VEVENT
DTSTART;TZID=America/Chicago:20270130T121500
DTEND;TZID=America/Chicago:20270130T131500
DTSTAMP:20260419T185153
CREATED:20250213T214611Z
LAST-MODIFIED:20250213T214611Z
UID:10065929-1801311300-1801314900@cp12stepoutreach.org
SUMMARY:Saturday Group - 12-Step Supported Centering Prayer Online - Davenport\, Iowa
DESCRIPTION:Meeting ID: 884 8433 3580 \nContact: Dick J.\nNumber: 563-349-2542
URL:https://cp12stepoutreach.org/meeting-or-group/saturday-group-12-step-supported-centering-prayer-online-davenport-iowa/2027-01-30/
LOCATION:Zoom Meeting
CATEGORIES:Online 12 Step Centering Prayer Groups
ORGANIZER;CN="Dick Jensen":MAILTO:rrjensen65@gmail.com
END:VEVENT
BEGIN:VEVENT
DTSTART;TZID=America/Chicago:20270206T121500
DTEND;TZID=America/Chicago:20270206T131500
DTSTAMP:20260419T185153
CREATED:20250213T214611Z
LAST-MODIFIED:20250213T214611Z
UID:10065930-1801916100-1801919700@cp12stepoutreach.org
SUMMARY:Saturday Group - 12-Step Supported Centering Prayer Online - Davenport\, Iowa
DESCRIPTION:Meeting ID: 884 8433 3580 \nContact: Dick J.\nNumber: 563-349-2542
URL:https://cp12stepoutreach.org/meeting-or-group/saturday-group-12-step-supported-centering-prayer-online-davenport-iowa/2027-02-06/
LOCATION:Zoom Meeting
CATEGORIES:Online 12 Step Centering Prayer Groups
ORGANIZER;CN="Dick Jensen":MAILTO:rrjensen65@gmail.com
END:VEVENT
BEGIN:VEVENT
DTSTART;TZID=America/Chicago:20270213T121500
DTEND;TZID=America/Chicago:20270213T131500
DTSTAMP:20260419T185153
CREATED:20250213T214611Z
LAST-MODIFIED:20250213T214611Z
UID:10065931-1802520900-1802524500@cp12stepoutreach.org
SUMMARY:Saturday Group - 12-Step Supported Centering Prayer Online - Davenport\, Iowa
DESCRIPTION:Meeting ID: 884 8433 3580 \nContact: Dick J.\nNumber: 563-349-2542
URL:https://cp12stepoutreach.org/meeting-or-group/saturday-group-12-step-supported-centering-prayer-online-davenport-iowa/2027-02-13/
LOCATION:Zoom Meeting
CATEGORIES:Online 12 Step Centering Prayer Groups
ORGANIZER;CN="Dick Jensen":MAILTO:rrjensen65@gmail.com
END:VEVENT
BEGIN:VEVENT
DTSTART;TZID=America/Chicago:20270220T121500
DTEND;TZID=America/Chicago:20270220T131500
DTSTAMP:20260419T185153
CREATED:20250213T214611Z
LAST-MODIFIED:20250213T214611Z
UID:10065932-1803125700-1803129300@cp12stepoutreach.org
SUMMARY:Saturday Group - 12-Step Supported Centering Prayer Online - Davenport\, Iowa
DESCRIPTION:Meeting ID: 884 8433 3580 \nContact: Dick J.\nNumber: 563-349-2542
URL:https://cp12stepoutreach.org/meeting-or-group/saturday-group-12-step-supported-centering-prayer-online-davenport-iowa/2027-02-20/
LOCATION:Zoom Meeting
CATEGORIES:Online 12 Step Centering Prayer Groups
ORGANIZER;CN="Dick Jensen":MAILTO:rrjensen65@gmail.com
END:VEVENT
BEGIN:VEVENT
DTSTART;TZID=America/Chicago:20270227T121500
DTEND;TZID=America/Chicago:20270227T131500
DTSTAMP:20260419T185153
CREATED:20250213T214611Z
LAST-MODIFIED:20250213T214611Z
UID:10065933-1803730500-1803734100@cp12stepoutreach.org
SUMMARY:Saturday Group - 12-Step Supported Centering Prayer Online - Davenport\, Iowa
DESCRIPTION:Meeting ID: 884 8433 3580 \nContact: Dick J.\nNumber: 563-349-2542
URL:https://cp12stepoutreach.org/meeting-or-group/saturday-group-12-step-supported-centering-prayer-online-davenport-iowa/2027-02-27/
LOCATION:Zoom Meeting
CATEGORIES:Online 12 Step Centering Prayer Groups
ORGANIZER;CN="Dick Jensen":MAILTO:rrjensen65@gmail.com
END:VEVENT
BEGIN:VEVENT
DTSTART;TZID=America/Chicago:20270306T121500
DTEND;TZID=America/Chicago:20270306T131500
DTSTAMP:20260419T185153
CREATED:20250213T214611Z
LAST-MODIFIED:20250213T214611Z
UID:10065934-1804335300-1804338900@cp12stepoutreach.org
SUMMARY:Saturday Group - 12-Step Supported Centering Prayer Online - Davenport\, Iowa
DESCRIPTION:Meeting ID: 884 8433 3580 \nContact: Dick J.\nNumber: 563-349-2542
URL:https://cp12stepoutreach.org/meeting-or-group/saturday-group-12-step-supported-centering-prayer-online-davenport-iowa/2027-03-06/
LOCATION:Zoom Meeting
CATEGORIES:Online 12 Step Centering Prayer Groups
ORGANIZER;CN="Dick Jensen":MAILTO:rrjensen65@gmail.com
END:VEVENT
BEGIN:VEVENT
DTSTART;TZID=America/Chicago:20270313T121500
DTEND;TZID=America/Chicago:20270313T131500
DTSTAMP:20260419T185153
CREATED:20250213T214611Z
LAST-MODIFIED:20250213T214611Z
UID:10065935-1804940100-1804943700@cp12stepoutreach.org
SUMMARY:Saturday Group - 12-Step Supported Centering Prayer Online - Davenport\, Iowa
DESCRIPTION:Meeting ID: 884 8433 3580 \nContact: Dick J.\nNumber: 563-349-2542
URL:https://cp12stepoutreach.org/meeting-or-group/saturday-group-12-step-supported-centering-prayer-online-davenport-iowa/2027-03-13/
LOCATION:Zoom Meeting
CATEGORIES:Online 12 Step Centering Prayer Groups
ORGANIZER;CN="Dick Jensen":MAILTO:rrjensen65@gmail.com
END:VEVENT
BEGIN:VEVENT
DTSTART;TZID=America/Chicago:20270320T121500
DTEND;TZID=America/Chicago:20270320T131500
DTSTAMP:20260419T185153
CREATED:20250213T214611Z
LAST-MODIFIED:20250213T214611Z
UID:10065936-1805544900-1805548500@cp12stepoutreach.org
SUMMARY:Saturday Group - 12-Step Supported Centering Prayer Online - Davenport\, Iowa
DESCRIPTION:Meeting ID: 884 8433 3580 \nContact: Dick J.\nNumber: 563-349-2542
URL:https://cp12stepoutreach.org/meeting-or-group/saturday-group-12-step-supported-centering-prayer-online-davenport-iowa/2027-03-20/
LOCATION:Zoom Meeting
CATEGORIES:Online 12 Step Centering Prayer Groups
ORGANIZER;CN="Dick Jensen":MAILTO:rrjensen65@gmail.com
END:VEVENT
BEGIN:VEVENT
DTSTART;TZID=America/Chicago:20270327T121500
DTEND;TZID=America/Chicago:20270327T131500
DTSTAMP:20260419T185153
CREATED:20250213T214611Z
LAST-MODIFIED:20250213T214611Z
UID:10065937-1806149700-1806153300@cp12stepoutreach.org
SUMMARY:Saturday Group - 12-Step Supported Centering Prayer Online - Davenport\, Iowa
DESCRIPTION:Meeting ID: 884 8433 3580 \nContact: Dick J.\nNumber: 563-349-2542
URL:https://cp12stepoutreach.org/meeting-or-group/saturday-group-12-step-supported-centering-prayer-online-davenport-iowa/2027-03-27/
LOCATION:Zoom Meeting
CATEGORIES:Online 12 Step Centering Prayer Groups
ORGANIZER;CN="Dick Jensen":MAILTO:rrjensen65@gmail.com
END:VEVENT
BEGIN:VEVENT
DTSTART;TZID=America/Chicago:20270403T121500
DTEND;TZID=America/Chicago:20270403T131500
DTSTAMP:20260419T185153
CREATED:20250213T214611Z
LAST-MODIFIED:20250213T214611Z
UID:10065938-1806754500-1806758100@cp12stepoutreach.org
SUMMARY:Saturday Group - 12-Step Supported Centering Prayer Online - Davenport\, Iowa
DESCRIPTION:Meeting ID: 884 8433 3580 \nContact: Dick J.\nNumber: 563-349-2542
URL:https://cp12stepoutreach.org/meeting-or-group/saturday-group-12-step-supported-centering-prayer-online-davenport-iowa/2027-04-03/
LOCATION:Zoom Meeting
CATEGORIES:Online 12 Step Centering Prayer Groups
ORGANIZER;CN="Dick Jensen":MAILTO:rrjensen65@gmail.com
END:VEVENT
BEGIN:VEVENT
DTSTART;TZID=America/Chicago:20270410T121500
DTEND;TZID=America/Chicago:20270410T131500
DTSTAMP:20260419T185153
CREATED:20250213T214611Z
LAST-MODIFIED:20250213T214611Z
UID:10065939-1807359300-1807362900@cp12stepoutreach.org
SUMMARY:Saturday Group - 12-Step Supported Centering Prayer Online - Davenport\, Iowa
DESCRIPTION:Meeting ID: 884 8433 3580 \nContact: Dick J.\nNumber: 563-349-2542
URL:https://cp12stepoutreach.org/meeting-or-group/saturday-group-12-step-supported-centering-prayer-online-davenport-iowa/2027-04-10/
LOCATION:Zoom Meeting
CATEGORIES:Online 12 Step Centering Prayer Groups
ORGANIZER;CN="Dick Jensen":MAILTO:rrjensen65@gmail.com
END:VEVENT
BEGIN:VEVENT
DTSTART;TZID=America/Chicago:20270417T121500
DTEND;TZID=America/Chicago:20270417T131500
DTSTAMP:20260419T185153
CREATED:20250213T214611Z
LAST-MODIFIED:20250213T214611Z
UID:10065940-1807964100-1807967700@cp12stepoutreach.org
SUMMARY:Saturday Group - 12-Step Supported Centering Prayer Online - Davenport\, Iowa
DESCRIPTION:Meeting ID: 884 8433 3580 \nContact: Dick J.\nNumber: 563-349-2542
URL:https://cp12stepoutreach.org/meeting-or-group/saturday-group-12-step-supported-centering-prayer-online-davenport-iowa/2027-04-17/
LOCATION:Zoom Meeting
CATEGORIES:Online 12 Step Centering Prayer Groups
ORGANIZER;CN="Dick Jensen":MAILTO:rrjensen65@gmail.com
END:VEVENT
BEGIN:VEVENT
DTSTART;TZID=America/Chicago:20270424T121500
DTEND;TZID=America/Chicago:20270424T131500
DTSTAMP:20260419T185153
CREATED:20250213T214611Z
LAST-MODIFIED:20250213T214611Z
UID:10065941-1808568900-1808572500@cp12stepoutreach.org
SUMMARY:Saturday Group - 12-Step Supported Centering Prayer Online - Davenport\, Iowa
DESCRIPTION:Meeting ID: 884 8433 3580 \nContact: Dick J.\nNumber: 563-349-2542
URL:https://cp12stepoutreach.org/meeting-or-group/saturday-group-12-step-supported-centering-prayer-online-davenport-iowa/2027-04-24/
LOCATION:Zoom Meeting
CATEGORIES:Online 12 Step Centering Prayer Groups
ORGANIZER;CN="Dick Jensen":MAILTO:rrjensen65@gmail.com
END:VEVENT
BEGIN:VEVENT
DTSTART;TZID=America/Chicago:20270501T121500
DTEND;TZID=America/Chicago:20270501T131500
DTSTAMP:20260419T185153
CREATED:20250213T214611Z
LAST-MODIFIED:20250213T214611Z
UID:10065942-1809173700-1809177300@cp12stepoutreach.org
SUMMARY:Saturday Group - 12-Step Supported Centering Prayer Online - Davenport\, Iowa
DESCRIPTION:Meeting ID: 884 8433 3580 \nContact: Dick J.\nNumber: 563-349-2542
URL:https://cp12stepoutreach.org/meeting-or-group/saturday-group-12-step-supported-centering-prayer-online-davenport-iowa/2027-05-01/
LOCATION:Zoom Meeting
CATEGORIES:Online 12 Step Centering Prayer Groups
ORGANIZER;CN="Dick Jensen":MAILTO:rrjensen65@gmail.com
END:VEVENT
BEGIN:VEVENT
DTSTART;TZID=America/Chicago:20270508T121500
DTEND;TZID=America/Chicago:20270508T131500
DTSTAMP:20260419T185153
CREATED:20250213T214611Z
LAST-MODIFIED:20250213T214611Z
UID:10065943-1809778500-1809782100@cp12stepoutreach.org
SUMMARY:Saturday Group - 12-Step Supported Centering Prayer Online - Davenport\, Iowa
DESCRIPTION:Meeting ID: 884 8433 3580 \nContact: Dick J.\nNumber: 563-349-2542
URL:https://cp12stepoutreach.org/meeting-or-group/saturday-group-12-step-supported-centering-prayer-online-davenport-iowa/2027-05-08/
LOCATION:Zoom Meeting
CATEGORIES:Online 12 Step Centering Prayer Groups
ORGANIZER;CN="Dick Jensen":MAILTO:rrjensen65@gmail.com
END:VEVENT
BEGIN:VEVENT
DTSTART;TZID=America/Chicago:20270515T121500
DTEND;TZID=America/Chicago:20270515T131500
DTSTAMP:20260419T185153
CREATED:20250213T214611Z
LAST-MODIFIED:20250213T214611Z
UID:10065944-1810383300-1810386900@cp12stepoutreach.org
SUMMARY:Saturday Group - 12-Step Supported Centering Prayer Online - Davenport\, Iowa
DESCRIPTION:Meeting ID: 884 8433 3580 \nContact: Dick J.\nNumber: 563-349-2542
URL:https://cp12stepoutreach.org/meeting-or-group/saturday-group-12-step-supported-centering-prayer-online-davenport-iowa/2027-05-15/
LOCATION:Zoom Meeting
CATEGORIES:Online 12 Step Centering Prayer Groups
ORGANIZER;CN="Dick Jensen":MAILTO:rrjensen65@gmail.com
END:VEVENT
BEGIN:VEVENT
DTSTART;TZID=America/Chicago:20270522T121500
DTEND;TZID=America/Chicago:20270522T131500
DTSTAMP:20260419T185153
CREATED:20250213T214611Z
LAST-MODIFIED:20250213T214611Z
UID:10065945-1810988100-1810991700@cp12stepoutreach.org
SUMMARY:Saturday Group - 12-Step Supported Centering Prayer Online - Davenport\, Iowa
DESCRIPTION:Meeting ID: 884 8433 3580 \nContact: Dick J.\nNumber: 563-349-2542
URL:https://cp12stepoutreach.org/meeting-or-group/saturday-group-12-step-supported-centering-prayer-online-davenport-iowa/2027-05-22/
LOCATION:Zoom Meeting
CATEGORIES:Online 12 Step Centering Prayer Groups
ORGANIZER;CN="Dick Jensen":MAILTO:rrjensen65@gmail.com
END:VEVENT
BEGIN:VEVENT
DTSTART;TZID=America/Chicago:20270529T121500
DTEND;TZID=America/Chicago:20270529T131500
DTSTAMP:20260419T185153
CREATED:20250213T214611Z
LAST-MODIFIED:20250213T214611Z
UID:10065946-1811592900-1811596500@cp12stepoutreach.org
SUMMARY:Saturday Group - 12-Step Supported Centering Prayer Online - Davenport\, Iowa
DESCRIPTION:Meeting ID: 884 8433 3580 \nContact: Dick J.\nNumber: 563-349-2542
URL:https://cp12stepoutreach.org/meeting-or-group/saturday-group-12-step-supported-centering-prayer-online-davenport-iowa/2027-05-29/
LOCATION:Zoom Meeting
CATEGORIES:Online 12 Step Centering Prayer Groups
ORGANIZER;CN="Dick Jensen":MAILTO:rrjensen65@gmail.com
END:VEVENT
BEGIN:VEVENT
DTSTART;TZID=America/Chicago:20270605T121500
DTEND;TZID=America/Chicago:20270605T131500
DTSTAMP:20260419T185153
CREATED:20250213T214611Z
LAST-MODIFIED:20250213T214611Z
UID:10065947-1812197700-1812201300@cp12stepoutreach.org
SUMMARY:Saturday Group - 12-Step Supported Centering Prayer Online - Davenport\, Iowa
DESCRIPTION:Meeting ID: 884 8433 3580 \nContact: Dick J.\nNumber: 563-349-2542
URL:https://cp12stepoutreach.org/meeting-or-group/saturday-group-12-step-supported-centering-prayer-online-davenport-iowa/2027-06-05/
LOCATION:Zoom Meeting
CATEGORIES:Online 12 Step Centering Prayer Groups
ORGANIZER;CN="Dick Jensen":MAILTO:rrjensen65@gmail.com
END:VEVENT
BEGIN:VEVENT
DTSTART;TZID=America/Chicago:20270612T121500
DTEND;TZID=America/Chicago:20270612T131500
DTSTAMP:20260419T185153
CREATED:20250213T214611Z
LAST-MODIFIED:20250213T214611Z
UID:10065948-1812802500-1812806100@cp12stepoutreach.org
SUMMARY:Saturday Group - 12-Step Supported Centering Prayer Online - Davenport\, Iowa
DESCRIPTION:Meeting ID: 884 8433 3580 \nContact: Dick J.\nNumber: 563-349-2542
URL:https://cp12stepoutreach.org/meeting-or-group/saturday-group-12-step-supported-centering-prayer-online-davenport-iowa/2027-06-12/
LOCATION:Zoom Meeting
CATEGORIES:Online 12 Step Centering Prayer Groups
ORGANIZER;CN="Dick Jensen":MAILTO:rrjensen65@gmail.com
END:VEVENT
BEGIN:VEVENT
DTSTART;TZID=America/Chicago:20270619T121500
DTEND;TZID=America/Chicago:20270619T131500
DTSTAMP:20260419T185153
CREATED:20250213T214611Z
LAST-MODIFIED:20250213T214611Z
UID:10065949-1813407300-1813410900@cp12stepoutreach.org
SUMMARY:Saturday Group - 12-Step Supported Centering Prayer Online - Davenport\, Iowa
DESCRIPTION:Meeting ID: 884 8433 3580 \nContact: Dick J.\nNumber: 563-349-2542
URL:https://cp12stepoutreach.org/meeting-or-group/saturday-group-12-step-supported-centering-prayer-online-davenport-iowa/2027-06-19/
LOCATION:Zoom Meeting
CATEGORIES:Online 12 Step Centering Prayer Groups
ORGANIZER;CN="Dick Jensen":MAILTO:rrjensen65@gmail.com
END:VEVENT
BEGIN:VEVENT
DTSTART;TZID=America/Chicago:20270626T121500
DTEND;TZID=America/Chicago:20270626T131500
DTSTAMP:20260419T185153
CREATED:20250213T214611Z
LAST-MODIFIED:20250213T214611Z
UID:10065950-1814012100-1814015700@cp12stepoutreach.org
SUMMARY:Saturday Group - 12-Step Supported Centering Prayer Online - Davenport\, Iowa
DESCRIPTION:Meeting ID: 884 8433 3580 \nContact: Dick J.\nNumber: 563-349-2542
URL:https://cp12stepoutreach.org/meeting-or-group/saturday-group-12-step-supported-centering-prayer-online-davenport-iowa/2027-06-26/
LOCATION:Zoom Meeting
CATEGORIES:Online 12 Step Centering Prayer Groups
ORGANIZER;CN="Dick Jensen":MAILTO:rrjensen65@gmail.com
END:VEVENT
BEGIN:VEVENT
DTSTART;TZID=America/Chicago:20270703T121500
DTEND;TZID=America/Chicago:20270703T131500
DTSTAMP:20260419T185153
CREATED:20250213T214611Z
LAST-MODIFIED:20250213T214611Z
UID:10065951-1814616900-1814620500@cp12stepoutreach.org
SUMMARY:Saturday Group - 12-Step Supported Centering Prayer Online - Davenport\, Iowa
DESCRIPTION:Meeting ID: 884 8433 3580 \nContact: Dick J.\nNumber: 563-349-2542
URL:https://cp12stepoutreach.org/meeting-or-group/saturday-group-12-step-supported-centering-prayer-online-davenport-iowa/2027-07-03/
LOCATION:Zoom Meeting
CATEGORIES:Online 12 Step Centering Prayer Groups
ORGANIZER;CN="Dick Jensen":MAILTO:rrjensen65@gmail.com
END:VEVENT
BEGIN:VEVENT
DTSTART;TZID=America/Chicago:20270710T121500
DTEND;TZID=America/Chicago:20270710T131500
DTSTAMP:20260419T185153
CREATED:20250213T214611Z
LAST-MODIFIED:20250213T214611Z
UID:10065952-1815221700-1815225300@cp12stepoutreach.org
SUMMARY:Saturday Group - 12-Step Supported Centering Prayer Online - Davenport\, Iowa
DESCRIPTION:Meeting ID: 884 8433 3580 \nContact: Dick J.\nNumber: 563-349-2542
URL:https://cp12stepoutreach.org/meeting-or-group/saturday-group-12-step-supported-centering-prayer-online-davenport-iowa/2027-07-10/
LOCATION:Zoom Meeting
CATEGORIES:Online 12 Step Centering Prayer Groups
ORGANIZER;CN="Dick Jensen":MAILTO:rrjensen65@gmail.com
END:VEVENT
BEGIN:VEVENT
DTSTART;TZID=America/Chicago:20270717T121500
DTEND;TZID=America/Chicago:20270717T131500
DTSTAMP:20260419T185153
CREATED:20250213T214611Z
LAST-MODIFIED:20250213T214611Z
UID:10065953-1815826500-1815830100@cp12stepoutreach.org
SUMMARY:Saturday Group - 12-Step Supported Centering Prayer Online - Davenport\, Iowa
DESCRIPTION:Meeting ID: 884 8433 3580 \nContact: Dick J.\nNumber: 563-349-2542
URL:https://cp12stepoutreach.org/meeting-or-group/saturday-group-12-step-supported-centering-prayer-online-davenport-iowa/2027-07-17/
LOCATION:Zoom Meeting
CATEGORIES:Online 12 Step Centering Prayer Groups
ORGANIZER;CN="Dick Jensen":MAILTO:rrjensen65@gmail.com
END:VEVENT
BEGIN:VEVENT
DTSTART;TZID=America/Chicago:20270724T121500
DTEND;TZID=America/Chicago:20270724T131500
DTSTAMP:20260419T185153
CREATED:20250213T214611Z
LAST-MODIFIED:20250213T214611Z
UID:10065954-1816431300-1816434900@cp12stepoutreach.org
SUMMARY:Saturday Group - 12-Step Supported Centering Prayer Online - Davenport\, Iowa
DESCRIPTION:Meeting ID: 884 8433 3580 \nContact: Dick J.\nNumber: 563-349-2542
URL:https://cp12stepoutreach.org/meeting-or-group/saturday-group-12-step-supported-centering-prayer-online-davenport-iowa/2027-07-24/
LOCATION:Zoom Meeting
CATEGORIES:Online 12 Step Centering Prayer Groups
ORGANIZER;CN="Dick Jensen":MAILTO:rrjensen65@gmail.com
END:VEVENT
BEGIN:VEVENT
DTSTART;TZID=America/Chicago:20270731T121500
DTEND;TZID=America/Chicago:20270731T131500
DTSTAMP:20260419T185153
CREATED:20250213T214611Z
LAST-MODIFIED:20250213T214611Z
UID:10065955-1817036100-1817039700@cp12stepoutreach.org
SUMMARY:Saturday Group - 12-Step Supported Centering Prayer Online - Davenport\, Iowa
DESCRIPTION:Meeting ID: 884 8433 3580 \nContact: Dick J.\nNumber: 563-349-2542
URL:https://cp12stepoutreach.org/meeting-or-group/saturday-group-12-step-supported-centering-prayer-online-davenport-iowa/2027-07-31/
LOCATION:Zoom Meeting
CATEGORIES:Online 12 Step Centering Prayer Groups
ORGANIZER;CN="Dick Jensen":MAILTO:rrjensen65@gmail.com
END:VEVENT
BEGIN:VEVENT
DTSTART;TZID=America/Chicago:20270807T121500
DTEND;TZID=America/Chicago:20270807T131500
DTSTAMP:20260419T185153
CREATED:20250213T214611Z
LAST-MODIFIED:20250213T214611Z
UID:10065956-1817640900-1817644500@cp12stepoutreach.org
SUMMARY:Saturday Group - 12-Step Supported Centering Prayer Online - Davenport\, Iowa
DESCRIPTION:Meeting ID: 884 8433 3580 \nContact: Dick J.\nNumber: 563-349-2542
URL:https://cp12stepoutreach.org/meeting-or-group/saturday-group-12-step-supported-centering-prayer-online-davenport-iowa/2027-08-07/
LOCATION:Zoom Meeting
CATEGORIES:Online 12 Step Centering Prayer Groups
ORGANIZER;CN="Dick Jensen":MAILTO:rrjensen65@gmail.com
END:VEVENT
BEGIN:VEVENT
DTSTART;TZID=America/Chicago:20270814T121500
DTEND;TZID=America/Chicago:20270814T131500
DTSTAMP:20260419T185153
CREATED:20250213T214611Z
LAST-MODIFIED:20250213T214611Z
UID:10065957-1818245700-1818249300@cp12stepoutreach.org
SUMMARY:Saturday Group - 12-Step Supported Centering Prayer Online - Davenport\, Iowa
DESCRIPTION:Meeting ID: 884 8433 3580 \nContact: Dick J.\nNumber: 563-349-2542
URL:https://cp12stepoutreach.org/meeting-or-group/saturday-group-12-step-supported-centering-prayer-online-davenport-iowa/2027-08-14/
LOCATION:Zoom Meeting
CATEGORIES:Online 12 Step Centering Prayer Groups
ORGANIZER;CN="Dick Jensen":MAILTO:rrjensen65@gmail.com
END:VEVENT
BEGIN:VEVENT
DTSTART;TZID=America/Chicago:20270821T121500
DTEND;TZID=America/Chicago:20270821T131500
DTSTAMP:20260419T185153
CREATED:20250213T214611Z
LAST-MODIFIED:20250213T214611Z
UID:10065958-1818850500-1818854100@cp12stepoutreach.org
SUMMARY:Saturday Group - 12-Step Supported Centering Prayer Online - Davenport\, Iowa
DESCRIPTION:Meeting ID: 884 8433 3580 \nContact: Dick J.\nNumber: 563-349-2542
URL:https://cp12stepoutreach.org/meeting-or-group/saturday-group-12-step-supported-centering-prayer-online-davenport-iowa/2027-08-21/
LOCATION:Zoom Meeting
CATEGORIES:Online 12 Step Centering Prayer Groups
ORGANIZER;CN="Dick Jensen":MAILTO:rrjensen65@gmail.com
END:VEVENT
END:VCALENDAR