BEGIN:VCALENDAR
VERSION:2.0
PRODID:-//12 Step Outreach - ECPv6.11.2.1//NONSGML v1.0//EN
CALSCALE:GREGORIAN
METHOD:PUBLISH
X-WR-CALNAME:12 Step Outreach
X-ORIGINAL-URL:https://cp12stepoutreach.org
X-WR-CALDESC:Events for 12 Step Outreach
REFRESH-INTERVAL;VALUE=DURATION:PT1H
X-Robots-Tag:noindex
X-PUBLISHED-TTL:PT1H
BEGIN:VTIMEZONE
TZID:America/Chicago
BEGIN:DAYLIGHT
TZOFFSETFROM:-0600
TZOFFSETTO:-0500
TZNAME:CDT
DTSTART:20280312T080000
END:DAYLIGHT
BEGIN:STANDARD
TZOFFSETFROM:-0500
TZOFFSETTO:-0600
TZNAME:CST
DTSTART:20281105T070000
END:STANDARD
BEGIN:DAYLIGHT
TZOFFSETFROM:-0600
TZOFFSETTO:-0500
TZNAME:CDT
DTSTART:20290311T080000
END:DAYLIGHT
BEGIN:STANDARD
TZOFFSETFROM:-0500
TZOFFSETTO:-0600
TZNAME:CST
DTSTART:20291104T070000
END:STANDARD
END:VTIMEZONE
BEGIN:VEVENT
DTSTART;TZID=America/Chicago:20280812T121500
DTEND;TZID=America/Chicago:20280812T131500
DTSTAMP:20260420T001527
CREATED:20250213T214611Z
LAST-MODIFIED:20250213T214611Z
UID:10066009-1849695300-1849698900@cp12stepoutreach.org
SUMMARY:Saturday Group - 12-Step Supported Centering Prayer Online - Davenport\, Iowa
DESCRIPTION:Meeting ID: 884 8433 3580 \nContact: Dick J.\nNumber: 563-349-2542
URL:https://cp12stepoutreach.org/meeting-or-group/saturday-group-12-step-supported-centering-prayer-online-davenport-iowa/2028-08-12/
LOCATION:Zoom Meeting
CATEGORIES:Online 12 Step Centering Prayer Groups
ORGANIZER;CN="Dick Jensen":MAILTO:rrjensen65@gmail.com
END:VEVENT
BEGIN:VEVENT
DTSTART;TZID=America/Chicago:20280819T121500
DTEND;TZID=America/Chicago:20280819T131500
DTSTAMP:20260420T001527
CREATED:20250213T214611Z
LAST-MODIFIED:20250213T214611Z
UID:10066010-1850300100-1850303700@cp12stepoutreach.org
SUMMARY:Saturday Group - 12-Step Supported Centering Prayer Online - Davenport\, Iowa
DESCRIPTION:Meeting ID: 884 8433 3580 \nContact: Dick J.\nNumber: 563-349-2542
URL:https://cp12stepoutreach.org/meeting-or-group/saturday-group-12-step-supported-centering-prayer-online-davenport-iowa/2028-08-19/
LOCATION:Zoom Meeting
CATEGORIES:Online 12 Step Centering Prayer Groups
ORGANIZER;CN="Dick Jensen":MAILTO:rrjensen65@gmail.com
END:VEVENT
BEGIN:VEVENT
DTSTART;TZID=America/Chicago:20280826T121500
DTEND;TZID=America/Chicago:20280826T131500
DTSTAMP:20260420T001527
CREATED:20250213T214611Z
LAST-MODIFIED:20250213T214611Z
UID:10066011-1850904900-1850908500@cp12stepoutreach.org
SUMMARY:Saturday Group - 12-Step Supported Centering Prayer Online - Davenport\, Iowa
DESCRIPTION:Meeting ID: 884 8433 3580 \nContact: Dick J.\nNumber: 563-349-2542
URL:https://cp12stepoutreach.org/meeting-or-group/saturday-group-12-step-supported-centering-prayer-online-davenport-iowa/2028-08-26/
LOCATION:Zoom Meeting
CATEGORIES:Online 12 Step Centering Prayer Groups
ORGANIZER;CN="Dick Jensen":MAILTO:rrjensen65@gmail.com
END:VEVENT
BEGIN:VEVENT
DTSTART;TZID=America/Chicago:20280902T121500
DTEND;TZID=America/Chicago:20280902T131500
DTSTAMP:20260420T001527
CREATED:20250213T214611Z
LAST-MODIFIED:20250213T214611Z
UID:10066012-1851509700-1851513300@cp12stepoutreach.org
SUMMARY:Saturday Group - 12-Step Supported Centering Prayer Online - Davenport\, Iowa
DESCRIPTION:Meeting ID: 884 8433 3580 \nContact: Dick J.\nNumber: 563-349-2542
URL:https://cp12stepoutreach.org/meeting-or-group/saturday-group-12-step-supported-centering-prayer-online-davenport-iowa/2028-09-02/
LOCATION:Zoom Meeting
CATEGORIES:Online 12 Step Centering Prayer Groups
ORGANIZER;CN="Dick Jensen":MAILTO:rrjensen65@gmail.com
END:VEVENT
BEGIN:VEVENT
DTSTART;TZID=America/Chicago:20280909T121500
DTEND;TZID=America/Chicago:20280909T131500
DTSTAMP:20260420T001527
CREATED:20250213T214611Z
LAST-MODIFIED:20250213T214611Z
UID:10066013-1852114500-1852118100@cp12stepoutreach.org
SUMMARY:Saturday Group - 12-Step Supported Centering Prayer Online - Davenport\, Iowa
DESCRIPTION:Meeting ID: 884 8433 3580 \nContact: Dick J.\nNumber: 563-349-2542
URL:https://cp12stepoutreach.org/meeting-or-group/saturday-group-12-step-supported-centering-prayer-online-davenport-iowa/2028-09-09/
LOCATION:Zoom Meeting
CATEGORIES:Online 12 Step Centering Prayer Groups
ORGANIZER;CN="Dick Jensen":MAILTO:rrjensen65@gmail.com
END:VEVENT
BEGIN:VEVENT
DTSTART;TZID=America/Chicago:20280916T121500
DTEND;TZID=America/Chicago:20280916T131500
DTSTAMP:20260420T001527
CREATED:20250213T214611Z
LAST-MODIFIED:20250213T214611Z
UID:10066014-1852719300-1852722900@cp12stepoutreach.org
SUMMARY:Saturday Group - 12-Step Supported Centering Prayer Online - Davenport\, Iowa
DESCRIPTION:Meeting ID: 884 8433 3580 \nContact: Dick J.\nNumber: 563-349-2542
URL:https://cp12stepoutreach.org/meeting-or-group/saturday-group-12-step-supported-centering-prayer-online-davenport-iowa/2028-09-16/
LOCATION:Zoom Meeting
CATEGORIES:Online 12 Step Centering Prayer Groups
ORGANIZER;CN="Dick Jensen":MAILTO:rrjensen65@gmail.com
END:VEVENT
BEGIN:VEVENT
DTSTART;TZID=America/Chicago:20280923T121500
DTEND;TZID=America/Chicago:20280923T131500
DTSTAMP:20260420T001527
CREATED:20250213T214611Z
LAST-MODIFIED:20250213T214611Z
UID:10066015-1853324100-1853327700@cp12stepoutreach.org
SUMMARY:Saturday Group - 12-Step Supported Centering Prayer Online - Davenport\, Iowa
DESCRIPTION:Meeting ID: 884 8433 3580 \nContact: Dick J.\nNumber: 563-349-2542
URL:https://cp12stepoutreach.org/meeting-or-group/saturday-group-12-step-supported-centering-prayer-online-davenport-iowa/2028-09-23/
LOCATION:Zoom Meeting
CATEGORIES:Online 12 Step Centering Prayer Groups
ORGANIZER;CN="Dick Jensen":MAILTO:rrjensen65@gmail.com
END:VEVENT
BEGIN:VEVENT
DTSTART;TZID=America/Chicago:20280930T121500
DTEND;TZID=America/Chicago:20280930T131500
DTSTAMP:20260420T001527
CREATED:20250213T214611Z
LAST-MODIFIED:20250213T214611Z
UID:10066016-1853928900-1853932500@cp12stepoutreach.org
SUMMARY:Saturday Group - 12-Step Supported Centering Prayer Online - Davenport\, Iowa
DESCRIPTION:Meeting ID: 884 8433 3580 \nContact: Dick J.\nNumber: 563-349-2542
URL:https://cp12stepoutreach.org/meeting-or-group/saturday-group-12-step-supported-centering-prayer-online-davenport-iowa/2028-09-30/
LOCATION:Zoom Meeting
CATEGORIES:Online 12 Step Centering Prayer Groups
ORGANIZER;CN="Dick Jensen":MAILTO:rrjensen65@gmail.com
END:VEVENT
BEGIN:VEVENT
DTSTART;TZID=America/Chicago:20281007T121500
DTEND;TZID=America/Chicago:20281007T131500
DTSTAMP:20260420T001527
CREATED:20250213T214611Z
LAST-MODIFIED:20250213T214611Z
UID:10066017-1854533700-1854537300@cp12stepoutreach.org
SUMMARY:Saturday Group - 12-Step Supported Centering Prayer Online - Davenport\, Iowa
DESCRIPTION:Meeting ID: 884 8433 3580 \nContact: Dick J.\nNumber: 563-349-2542
URL:https://cp12stepoutreach.org/meeting-or-group/saturday-group-12-step-supported-centering-prayer-online-davenport-iowa/2028-10-07/
LOCATION:Zoom Meeting
CATEGORIES:Online 12 Step Centering Prayer Groups
ORGANIZER;CN="Dick Jensen":MAILTO:rrjensen65@gmail.com
END:VEVENT
BEGIN:VEVENT
DTSTART;TZID=America/Chicago:20281014T121500
DTEND;TZID=America/Chicago:20281014T131500
DTSTAMP:20260420T001527
CREATED:20250213T214611Z
LAST-MODIFIED:20250213T214611Z
UID:10066018-1855138500-1855142100@cp12stepoutreach.org
SUMMARY:Saturday Group - 12-Step Supported Centering Prayer Online - Davenport\, Iowa
DESCRIPTION:Meeting ID: 884 8433 3580 \nContact: Dick J.\nNumber: 563-349-2542
URL:https://cp12stepoutreach.org/meeting-or-group/saturday-group-12-step-supported-centering-prayer-online-davenport-iowa/2028-10-14/
LOCATION:Zoom Meeting
CATEGORIES:Online 12 Step Centering Prayer Groups
ORGANIZER;CN="Dick Jensen":MAILTO:rrjensen65@gmail.com
END:VEVENT
BEGIN:VEVENT
DTSTART;TZID=America/Chicago:20281021T121500
DTEND;TZID=America/Chicago:20281021T131500
DTSTAMP:20260420T001527
CREATED:20250213T214611Z
LAST-MODIFIED:20250213T214611Z
UID:10066019-1855743300-1855746900@cp12stepoutreach.org
SUMMARY:Saturday Group - 12-Step Supported Centering Prayer Online - Davenport\, Iowa
DESCRIPTION:Meeting ID: 884 8433 3580 \nContact: Dick J.\nNumber: 563-349-2542
URL:https://cp12stepoutreach.org/meeting-or-group/saturday-group-12-step-supported-centering-prayer-online-davenport-iowa/2028-10-21/
LOCATION:Zoom Meeting
CATEGORIES:Online 12 Step Centering Prayer Groups
ORGANIZER;CN="Dick Jensen":MAILTO:rrjensen65@gmail.com
END:VEVENT
BEGIN:VEVENT
DTSTART;TZID=America/Chicago:20281028T121500
DTEND;TZID=America/Chicago:20281028T131500
DTSTAMP:20260420T001527
CREATED:20250213T214611Z
LAST-MODIFIED:20250213T214611Z
UID:10066020-1856348100-1856351700@cp12stepoutreach.org
SUMMARY:Saturday Group - 12-Step Supported Centering Prayer Online - Davenport\, Iowa
DESCRIPTION:Meeting ID: 884 8433 3580 \nContact: Dick J.\nNumber: 563-349-2542
URL:https://cp12stepoutreach.org/meeting-or-group/saturday-group-12-step-supported-centering-prayer-online-davenport-iowa/2028-10-28/
LOCATION:Zoom Meeting
CATEGORIES:Online 12 Step Centering Prayer Groups
ORGANIZER;CN="Dick Jensen":MAILTO:rrjensen65@gmail.com
END:VEVENT
BEGIN:VEVENT
DTSTART;TZID=America/Chicago:20281104T121500
DTEND;TZID=America/Chicago:20281104T131500
DTSTAMP:20260420T001527
CREATED:20250213T214611Z
LAST-MODIFIED:20250213T214611Z
UID:10066021-1856952900-1856956500@cp12stepoutreach.org
SUMMARY:Saturday Group - 12-Step Supported Centering Prayer Online - Davenport\, Iowa
DESCRIPTION:Meeting ID: 884 8433 3580 \nContact: Dick J.\nNumber: 563-349-2542
URL:https://cp12stepoutreach.org/meeting-or-group/saturday-group-12-step-supported-centering-prayer-online-davenport-iowa/2028-11-04/
LOCATION:Zoom Meeting
CATEGORIES:Online 12 Step Centering Prayer Groups
ORGANIZER;CN="Dick Jensen":MAILTO:rrjensen65@gmail.com
END:VEVENT
BEGIN:VEVENT
DTSTART;TZID=America/Chicago:20281111T121500
DTEND;TZID=America/Chicago:20281111T131500
DTSTAMP:20260420T001527
CREATED:20250213T214611Z
LAST-MODIFIED:20250213T214611Z
UID:10066022-1857557700-1857561300@cp12stepoutreach.org
SUMMARY:Saturday Group - 12-Step Supported Centering Prayer Online - Davenport\, Iowa
DESCRIPTION:Meeting ID: 884 8433 3580 \nContact: Dick J.\nNumber: 563-349-2542
URL:https://cp12stepoutreach.org/meeting-or-group/saturday-group-12-step-supported-centering-prayer-online-davenport-iowa/2028-11-11/
LOCATION:Zoom Meeting
CATEGORIES:Online 12 Step Centering Prayer Groups
ORGANIZER;CN="Dick Jensen":MAILTO:rrjensen65@gmail.com
END:VEVENT
BEGIN:VEVENT
DTSTART;TZID=America/Chicago:20281118T121500
DTEND;TZID=America/Chicago:20281118T131500
DTSTAMP:20260420T001527
CREATED:20250213T214611Z
LAST-MODIFIED:20250213T214611Z
UID:10066023-1858162500-1858166100@cp12stepoutreach.org
SUMMARY:Saturday Group - 12-Step Supported Centering Prayer Online - Davenport\, Iowa
DESCRIPTION:Meeting ID: 884 8433 3580 \nContact: Dick J.\nNumber: 563-349-2542
URL:https://cp12stepoutreach.org/meeting-or-group/saturday-group-12-step-supported-centering-prayer-online-davenport-iowa/2028-11-18/
LOCATION:Zoom Meeting
CATEGORIES:Online 12 Step Centering Prayer Groups
ORGANIZER;CN="Dick Jensen":MAILTO:rrjensen65@gmail.com
END:VEVENT
BEGIN:VEVENT
DTSTART;TZID=America/Chicago:20281125T121500
DTEND;TZID=America/Chicago:20281125T131500
DTSTAMP:20260420T001527
CREATED:20250213T214611Z
LAST-MODIFIED:20250213T214611Z
UID:10066024-1858767300-1858770900@cp12stepoutreach.org
SUMMARY:Saturday Group - 12-Step Supported Centering Prayer Online - Davenport\, Iowa
DESCRIPTION:Meeting ID: 884 8433 3580 \nContact: Dick J.\nNumber: 563-349-2542
URL:https://cp12stepoutreach.org/meeting-or-group/saturday-group-12-step-supported-centering-prayer-online-davenport-iowa/2028-11-25/
LOCATION:Zoom Meeting
CATEGORIES:Online 12 Step Centering Prayer Groups
ORGANIZER;CN="Dick Jensen":MAILTO:rrjensen65@gmail.com
END:VEVENT
BEGIN:VEVENT
DTSTART;TZID=America/Chicago:20281202T121500
DTEND;TZID=America/Chicago:20281202T131500
DTSTAMP:20260420T001527
CREATED:20250213T214611Z
LAST-MODIFIED:20250213T214611Z
UID:10066025-1859372100-1859375700@cp12stepoutreach.org
SUMMARY:Saturday Group - 12-Step Supported Centering Prayer Online - Davenport\, Iowa
DESCRIPTION:Meeting ID: 884 8433 3580 \nContact: Dick J.\nNumber: 563-349-2542
URL:https://cp12stepoutreach.org/meeting-or-group/saturday-group-12-step-supported-centering-prayer-online-davenport-iowa/2028-12-02/
LOCATION:Zoom Meeting
CATEGORIES:Online 12 Step Centering Prayer Groups
ORGANIZER;CN="Dick Jensen":MAILTO:rrjensen65@gmail.com
END:VEVENT
BEGIN:VEVENT
DTSTART;TZID=America/Chicago:20281209T121500
DTEND;TZID=America/Chicago:20281209T131500
DTSTAMP:20260420T001527
CREATED:20250213T214611Z
LAST-MODIFIED:20250213T214611Z
UID:10066026-1859976900-1859980500@cp12stepoutreach.org
SUMMARY:Saturday Group - 12-Step Supported Centering Prayer Online - Davenport\, Iowa
DESCRIPTION:Meeting ID: 884 8433 3580 \nContact: Dick J.\nNumber: 563-349-2542
URL:https://cp12stepoutreach.org/meeting-or-group/saturday-group-12-step-supported-centering-prayer-online-davenport-iowa/2028-12-09/
LOCATION:Zoom Meeting
CATEGORIES:Online 12 Step Centering Prayer Groups
ORGANIZER;CN="Dick Jensen":MAILTO:rrjensen65@gmail.com
END:VEVENT
BEGIN:VEVENT
DTSTART;TZID=America/Chicago:20281216T121500
DTEND;TZID=America/Chicago:20281216T131500
DTSTAMP:20260420T001527
CREATED:20250213T214611Z
LAST-MODIFIED:20250213T214611Z
UID:10066027-1860581700-1860585300@cp12stepoutreach.org
SUMMARY:Saturday Group - 12-Step Supported Centering Prayer Online - Davenport\, Iowa
DESCRIPTION:Meeting ID: 884 8433 3580 \nContact: Dick J.\nNumber: 563-349-2542
URL:https://cp12stepoutreach.org/meeting-or-group/saturday-group-12-step-supported-centering-prayer-online-davenport-iowa/2028-12-16/
LOCATION:Zoom Meeting
CATEGORIES:Online 12 Step Centering Prayer Groups
ORGANIZER;CN="Dick Jensen":MAILTO:rrjensen65@gmail.com
END:VEVENT
BEGIN:VEVENT
DTSTART;TZID=America/Chicago:20281223T121500
DTEND;TZID=America/Chicago:20281223T131500
DTSTAMP:20260420T001527
CREATED:20250213T214611Z
LAST-MODIFIED:20250213T214611Z
UID:10066028-1861186500-1861190100@cp12stepoutreach.org
SUMMARY:Saturday Group - 12-Step Supported Centering Prayer Online - Davenport\, Iowa
DESCRIPTION:Meeting ID: 884 8433 3580 \nContact: Dick J.\nNumber: 563-349-2542
URL:https://cp12stepoutreach.org/meeting-or-group/saturday-group-12-step-supported-centering-prayer-online-davenport-iowa/2028-12-23/
LOCATION:Zoom Meeting
CATEGORIES:Online 12 Step Centering Prayer Groups
ORGANIZER;CN="Dick Jensen":MAILTO:rrjensen65@gmail.com
END:VEVENT
BEGIN:VEVENT
DTSTART;TZID=America/Chicago:20281230T121500
DTEND;TZID=America/Chicago:20281230T131500
DTSTAMP:20260420T001527
CREATED:20250213T214611Z
LAST-MODIFIED:20250213T214611Z
UID:10066029-1861791300-1861794900@cp12stepoutreach.org
SUMMARY:Saturday Group - 12-Step Supported Centering Prayer Online - Davenport\, Iowa
DESCRIPTION:Meeting ID: 884 8433 3580 \nContact: Dick J.\nNumber: 563-349-2542
URL:https://cp12stepoutreach.org/meeting-or-group/saturday-group-12-step-supported-centering-prayer-online-davenport-iowa/2028-12-30/
LOCATION:Zoom Meeting
CATEGORIES:Online 12 Step Centering Prayer Groups
ORGANIZER;CN="Dick Jensen":MAILTO:rrjensen65@gmail.com
END:VEVENT
BEGIN:VEVENT
DTSTART;TZID=America/Chicago:20290106T121500
DTEND;TZID=America/Chicago:20290106T131500
DTSTAMP:20260420T001527
CREATED:20250213T214611Z
LAST-MODIFIED:20250213T214611Z
UID:10066030-1862396100-1862399700@cp12stepoutreach.org
SUMMARY:Saturday Group - 12-Step Supported Centering Prayer Online - Davenport\, Iowa
DESCRIPTION:Meeting ID: 884 8433 3580 \nContact: Dick J.\nNumber: 563-349-2542
URL:https://cp12stepoutreach.org/meeting-or-group/saturday-group-12-step-supported-centering-prayer-online-davenport-iowa/2029-01-06/
LOCATION:Zoom Meeting
CATEGORIES:Online 12 Step Centering Prayer Groups
ORGANIZER;CN="Dick Jensen":MAILTO:rrjensen65@gmail.com
END:VEVENT
BEGIN:VEVENT
DTSTART;TZID=America/Chicago:20290113T121500
DTEND;TZID=America/Chicago:20290113T131500
DTSTAMP:20260420T001527
CREATED:20250213T214611Z
LAST-MODIFIED:20250213T214611Z
UID:10066031-1863000900-1863004500@cp12stepoutreach.org
SUMMARY:Saturday Group - 12-Step Supported Centering Prayer Online - Davenport\, Iowa
DESCRIPTION:Meeting ID: 884 8433 3580 \nContact: Dick J.\nNumber: 563-349-2542
URL:https://cp12stepoutreach.org/meeting-or-group/saturday-group-12-step-supported-centering-prayer-online-davenport-iowa/2029-01-13/
LOCATION:Zoom Meeting
CATEGORIES:Online 12 Step Centering Prayer Groups
ORGANIZER;CN="Dick Jensen":MAILTO:rrjensen65@gmail.com
END:VEVENT
BEGIN:VEVENT
DTSTART;TZID=America/Chicago:20290120T121500
DTEND;TZID=America/Chicago:20290120T131500
DTSTAMP:20260420T001527
CREATED:20250213T214611Z
LAST-MODIFIED:20250213T214611Z
UID:10066032-1863605700-1863609300@cp12stepoutreach.org
SUMMARY:Saturday Group - 12-Step Supported Centering Prayer Online - Davenport\, Iowa
DESCRIPTION:Meeting ID: 884 8433 3580 \nContact: Dick J.\nNumber: 563-349-2542
URL:https://cp12stepoutreach.org/meeting-or-group/saturday-group-12-step-supported-centering-prayer-online-davenport-iowa/2029-01-20/
LOCATION:Zoom Meeting
CATEGORIES:Online 12 Step Centering Prayer Groups
ORGANIZER;CN="Dick Jensen":MAILTO:rrjensen65@gmail.com
END:VEVENT
BEGIN:VEVENT
DTSTART;TZID=America/Chicago:20290127T121500
DTEND;TZID=America/Chicago:20290127T131500
DTSTAMP:20260420T001527
CREATED:20250213T214611Z
LAST-MODIFIED:20250213T214611Z
UID:10066033-1864210500-1864214100@cp12stepoutreach.org
SUMMARY:Saturday Group - 12-Step Supported Centering Prayer Online - Davenport\, Iowa
DESCRIPTION:Meeting ID: 884 8433 3580 \nContact: Dick J.\nNumber: 563-349-2542
URL:https://cp12stepoutreach.org/meeting-or-group/saturday-group-12-step-supported-centering-prayer-online-davenport-iowa/2029-01-27/
LOCATION:Zoom Meeting
CATEGORIES:Online 12 Step Centering Prayer Groups
ORGANIZER;CN="Dick Jensen":MAILTO:rrjensen65@gmail.com
END:VEVENT
BEGIN:VEVENT
DTSTART;TZID=America/Chicago:20290203T121500
DTEND;TZID=America/Chicago:20290203T131500
DTSTAMP:20260420T001527
CREATED:20250213T214611Z
LAST-MODIFIED:20250213T214611Z
UID:10066034-1864815300-1864818900@cp12stepoutreach.org
SUMMARY:Saturday Group - 12-Step Supported Centering Prayer Online - Davenport\, Iowa
DESCRIPTION:Meeting ID: 884 8433 3580 \nContact: Dick J.\nNumber: 563-349-2542
URL:https://cp12stepoutreach.org/meeting-or-group/saturday-group-12-step-supported-centering-prayer-online-davenport-iowa/2029-02-03/
LOCATION:Zoom Meeting
CATEGORIES:Online 12 Step Centering Prayer Groups
ORGANIZER;CN="Dick Jensen":MAILTO:rrjensen65@gmail.com
END:VEVENT
BEGIN:VEVENT
DTSTART;TZID=America/Chicago:20290210T121500
DTEND;TZID=America/Chicago:20290210T131500
DTSTAMP:20260420T001527
CREATED:20250213T214611Z
LAST-MODIFIED:20250213T214611Z
UID:10066035-1865420100-1865423700@cp12stepoutreach.org
SUMMARY:Saturday Group - 12-Step Supported Centering Prayer Online - Davenport\, Iowa
DESCRIPTION:Meeting ID: 884 8433 3580 \nContact: Dick J.\nNumber: 563-349-2542
URL:https://cp12stepoutreach.org/meeting-or-group/saturday-group-12-step-supported-centering-prayer-online-davenport-iowa/2029-02-10/
LOCATION:Zoom Meeting
CATEGORIES:Online 12 Step Centering Prayer Groups
ORGANIZER;CN="Dick Jensen":MAILTO:rrjensen65@gmail.com
END:VEVENT
BEGIN:VEVENT
DTSTART;TZID=America/Chicago:20290217T121500
DTEND;TZID=America/Chicago:20290217T131500
DTSTAMP:20260420T001527
CREATED:20250213T214611Z
LAST-MODIFIED:20250213T214611Z
UID:10066036-1866024900-1866028500@cp12stepoutreach.org
SUMMARY:Saturday Group - 12-Step Supported Centering Prayer Online - Davenport\, Iowa
DESCRIPTION:Meeting ID: 884 8433 3580 \nContact: Dick J.\nNumber: 563-349-2542
URL:https://cp12stepoutreach.org/meeting-or-group/saturday-group-12-step-supported-centering-prayer-online-davenport-iowa/2029-02-17/
LOCATION:Zoom Meeting
CATEGORIES:Online 12 Step Centering Prayer Groups
ORGANIZER;CN="Dick Jensen":MAILTO:rrjensen65@gmail.com
END:VEVENT
BEGIN:VEVENT
DTSTART;TZID=America/Chicago:20290224T121500
DTEND;TZID=America/Chicago:20290224T131500
DTSTAMP:20260420T001527
CREATED:20250213T214611Z
LAST-MODIFIED:20250213T214611Z
UID:10066037-1866629700-1866633300@cp12stepoutreach.org
SUMMARY:Saturday Group - 12-Step Supported Centering Prayer Online - Davenport\, Iowa
DESCRIPTION:Meeting ID: 884 8433 3580 \nContact: Dick J.\nNumber: 563-349-2542
URL:https://cp12stepoutreach.org/meeting-or-group/saturday-group-12-step-supported-centering-prayer-online-davenport-iowa/2029-02-24/
LOCATION:Zoom Meeting
CATEGORIES:Online 12 Step Centering Prayer Groups
ORGANIZER;CN="Dick Jensen":MAILTO:rrjensen65@gmail.com
END:VEVENT
BEGIN:VEVENT
DTSTART;TZID=America/Chicago:20290303T121500
DTEND;TZID=America/Chicago:20290303T131500
DTSTAMP:20260420T001527
CREATED:20250213T214611Z
LAST-MODIFIED:20250213T214611Z
UID:10066038-1867234500-1867238100@cp12stepoutreach.org
SUMMARY:Saturday Group - 12-Step Supported Centering Prayer Online - Davenport\, Iowa
DESCRIPTION:Meeting ID: 884 8433 3580 \nContact: Dick J.\nNumber: 563-349-2542
URL:https://cp12stepoutreach.org/meeting-or-group/saturday-group-12-step-supported-centering-prayer-online-davenport-iowa/2029-03-03/
LOCATION:Zoom Meeting
CATEGORIES:Online 12 Step Centering Prayer Groups
ORGANIZER;CN="Dick Jensen":MAILTO:rrjensen65@gmail.com
END:VEVENT
END:VCALENDAR