BEGIN:VCALENDAR
VERSION:2.0
PRODID:-//12 Step Outreach - ECPv6.11.2.1//NONSGML v1.0//EN
CALSCALE:GREGORIAN
METHOD:PUBLISH
X-WR-CALNAME:12 Step Outreach
X-ORIGINAL-URL:https://cp12stepoutreach.org
X-WR-CALDESC:Events for 12 Step Outreach
REFRESH-INTERVAL;VALUE=DURATION:PT1H
X-Robots-Tag:noindex
X-PUBLISHED-TTL:PT1H
BEGIN:VTIMEZONE
TZID:Europe/London
BEGIN:DAYLIGHT
TZOFFSETFROM:+0000
TZOFFSETTO:+0100
TZNAME:BST
DTSTART:20290325T010000
END:DAYLIGHT
BEGIN:STANDARD
TZOFFSETFROM:+0100
TZOFFSETTO:+0000
TZNAME:GMT
DTSTART:20291028T010000
END:STANDARD
BEGIN:DAYLIGHT
TZOFFSETFROM:+0000
TZOFFSETTO:+0100
TZNAME:BST
DTSTART:20300331T010000
END:DAYLIGHT
BEGIN:STANDARD
TZOFFSETFROM:+0100
TZOFFSETTO:+0000
TZNAME:GMT
DTSTART:20301027T010000
END:STANDARD
END:VTIMEZONE
BEGIN:VEVENT
DTSTART;TZID=Europe/London:20291002T203000
DTEND;TZID=Europe/London:20291002T213000
DTSTAMP:20260420T173449
CREATED:20250206T195157Z
LAST-MODIFIED:20250220T172500Z
UID:10060717-1885667400-1885671000@cp12stepoutreach.org
SUMMARY:Guttermonks D & C - Open Meeting
DESCRIPTION:Step 11 Centering Prayer Meeting \n“OPEN TO ALL FELLOWSHIPS” \nZOOM ID: 353 864 4354 \nPW: 953 660 \nNOTE: THIS MEETING IS IN THE UK\, 8:30PM BST IS 3:30PM ET\, 2:30PM CT & 12:30PM PT \n  \n 
URL:https://cp12stepoutreach.org/meeting-or-group/guttermonks-d-c-2/2029-10-02/
LOCATION:Zoom Meeting
CATEGORIES:Online 12 Step Centering Prayer Groups
END:VEVENT
BEGIN:VEVENT
DTSTART;TZID=Europe/London:20291009T203000
DTEND;TZID=Europe/London:20291009T213000
DTSTAMP:20260420T173449
CREATED:20250206T195157Z
LAST-MODIFIED:20250220T172500Z
UID:10060718-1886272200-1886275800@cp12stepoutreach.org
SUMMARY:Guttermonks D & C - Open Meeting
DESCRIPTION:Step 11 Centering Prayer Meeting \n“OPEN TO ALL FELLOWSHIPS” \nZOOM ID: 353 864 4354 \nPW: 953 660 \nNOTE: THIS MEETING IS IN THE UK\, 8:30PM BST IS 3:30PM ET\, 2:30PM CT & 12:30PM PT \n  \n 
URL:https://cp12stepoutreach.org/meeting-or-group/guttermonks-d-c-2/2029-10-09/
LOCATION:Zoom Meeting
CATEGORIES:Online 12 Step Centering Prayer Groups
END:VEVENT
BEGIN:VEVENT
DTSTART;TZID=Europe/London:20291016T203000
DTEND;TZID=Europe/London:20291016T213000
DTSTAMP:20260420T173449
CREATED:20250206T195157Z
LAST-MODIFIED:20250220T172500Z
UID:10060719-1886877000-1886880600@cp12stepoutreach.org
SUMMARY:Guttermonks D & C - Open Meeting
DESCRIPTION:Step 11 Centering Prayer Meeting \n“OPEN TO ALL FELLOWSHIPS” \nZOOM ID: 353 864 4354 \nPW: 953 660 \nNOTE: THIS MEETING IS IN THE UK\, 8:30PM BST IS 3:30PM ET\, 2:30PM CT & 12:30PM PT \n  \n 
URL:https://cp12stepoutreach.org/meeting-or-group/guttermonks-d-c-2/2029-10-16/
LOCATION:Zoom Meeting
CATEGORIES:Online 12 Step Centering Prayer Groups
END:VEVENT
BEGIN:VEVENT
DTSTART;TZID=Europe/London:20291023T203000
DTEND;TZID=Europe/London:20291023T213000
DTSTAMP:20260420T173449
CREATED:20250206T195157Z
LAST-MODIFIED:20250220T172500Z
UID:10060720-1887481800-1887485400@cp12stepoutreach.org
SUMMARY:Guttermonks D & C - Open Meeting
DESCRIPTION:Step 11 Centering Prayer Meeting \n“OPEN TO ALL FELLOWSHIPS” \nZOOM ID: 353 864 4354 \nPW: 953 660 \nNOTE: THIS MEETING IS IN THE UK\, 8:30PM BST IS 3:30PM ET\, 2:30PM CT & 12:30PM PT \n  \n 
URL:https://cp12stepoutreach.org/meeting-or-group/guttermonks-d-c-2/2029-10-23/
LOCATION:Zoom Meeting
CATEGORIES:Online 12 Step Centering Prayer Groups
END:VEVENT
BEGIN:VEVENT
DTSTART;TZID=Europe/London:20291030T203000
DTEND;TZID=Europe/London:20291030T213000
DTSTAMP:20260420T173449
CREATED:20250206T195157Z
LAST-MODIFIED:20250220T172500Z
UID:10060721-1888086600-1888090200@cp12stepoutreach.org
SUMMARY:Guttermonks D & C - Open Meeting
DESCRIPTION:Step 11 Centering Prayer Meeting \n“OPEN TO ALL FELLOWSHIPS” \nZOOM ID: 353 864 4354 \nPW: 953 660 \nNOTE: THIS MEETING IS IN THE UK\, 8:30PM BST IS 3:30PM ET\, 2:30PM CT & 12:30PM PT \n  \n 
URL:https://cp12stepoutreach.org/meeting-or-group/guttermonks-d-c-2/2029-10-30/
LOCATION:Zoom Meeting
CATEGORIES:Online 12 Step Centering Prayer Groups
END:VEVENT
BEGIN:VEVENT
DTSTART;TZID=Europe/London:20291106T203000
DTEND;TZID=Europe/London:20291106T213000
DTSTAMP:20260420T173449
CREATED:20250206T195157Z
LAST-MODIFIED:20250220T172500Z
UID:10060722-1888691400-1888695000@cp12stepoutreach.org
SUMMARY:Guttermonks D & C - Open Meeting
DESCRIPTION:Step 11 Centering Prayer Meeting \n“OPEN TO ALL FELLOWSHIPS” \nZOOM ID: 353 864 4354 \nPW: 953 660 \nNOTE: THIS MEETING IS IN THE UK\, 8:30PM BST IS 3:30PM ET\, 2:30PM CT & 12:30PM PT \n  \n 
URL:https://cp12stepoutreach.org/meeting-or-group/guttermonks-d-c-2/2029-11-06/
LOCATION:Zoom Meeting
CATEGORIES:Online 12 Step Centering Prayer Groups
END:VEVENT
BEGIN:VEVENT
DTSTART;TZID=Europe/London:20291113T203000
DTEND;TZID=Europe/London:20291113T213000
DTSTAMP:20260420T173449
CREATED:20250206T195157Z
LAST-MODIFIED:20250220T172500Z
UID:10060723-1889296200-1889299800@cp12stepoutreach.org
SUMMARY:Guttermonks D & C - Open Meeting
DESCRIPTION:Step 11 Centering Prayer Meeting \n“OPEN TO ALL FELLOWSHIPS” \nZOOM ID: 353 864 4354 \nPW: 953 660 \nNOTE: THIS MEETING IS IN THE UK\, 8:30PM BST IS 3:30PM ET\, 2:30PM CT & 12:30PM PT \n  \n 
URL:https://cp12stepoutreach.org/meeting-or-group/guttermonks-d-c-2/2029-11-13/
LOCATION:Zoom Meeting
CATEGORIES:Online 12 Step Centering Prayer Groups
END:VEVENT
BEGIN:VEVENT
DTSTART;TZID=Europe/London:20291120T203000
DTEND;TZID=Europe/London:20291120T213000
DTSTAMP:20260420T173449
CREATED:20250206T195157Z
LAST-MODIFIED:20250220T172500Z
UID:10060724-1889901000-1889904600@cp12stepoutreach.org
SUMMARY:Guttermonks D & C - Open Meeting
DESCRIPTION:Step 11 Centering Prayer Meeting \n“OPEN TO ALL FELLOWSHIPS” \nZOOM ID: 353 864 4354 \nPW: 953 660 \nNOTE: THIS MEETING IS IN THE UK\, 8:30PM BST IS 3:30PM ET\, 2:30PM CT & 12:30PM PT \n  \n 
URL:https://cp12stepoutreach.org/meeting-or-group/guttermonks-d-c-2/2029-11-20/
LOCATION:Zoom Meeting
CATEGORIES:Online 12 Step Centering Prayer Groups
END:VEVENT
BEGIN:VEVENT
DTSTART;TZID=Europe/London:20291127T203000
DTEND;TZID=Europe/London:20291127T213000
DTSTAMP:20260420T173449
CREATED:20250206T195157Z
LAST-MODIFIED:20250220T172500Z
UID:10060725-1890505800-1890509400@cp12stepoutreach.org
SUMMARY:Guttermonks D & C - Open Meeting
DESCRIPTION:Step 11 Centering Prayer Meeting \n“OPEN TO ALL FELLOWSHIPS” \nZOOM ID: 353 864 4354 \nPW: 953 660 \nNOTE: THIS MEETING IS IN THE UK\, 8:30PM BST IS 3:30PM ET\, 2:30PM CT & 12:30PM PT \n  \n 
URL:https://cp12stepoutreach.org/meeting-or-group/guttermonks-d-c-2/2029-11-27/
LOCATION:Zoom Meeting
CATEGORIES:Online 12 Step Centering Prayer Groups
END:VEVENT
BEGIN:VEVENT
DTSTART;TZID=Europe/London:20291204T203000
DTEND;TZID=Europe/London:20291204T213000
DTSTAMP:20260420T173449
CREATED:20250206T195157Z
LAST-MODIFIED:20250220T172500Z
UID:10060726-1891110600-1891114200@cp12stepoutreach.org
SUMMARY:Guttermonks D & C - Open Meeting
DESCRIPTION:Step 11 Centering Prayer Meeting \n“OPEN TO ALL FELLOWSHIPS” \nZOOM ID: 353 864 4354 \nPW: 953 660 \nNOTE: THIS MEETING IS IN THE UK\, 8:30PM BST IS 3:30PM ET\, 2:30PM CT & 12:30PM PT \n  \n 
URL:https://cp12stepoutreach.org/meeting-or-group/guttermonks-d-c-2/2029-12-04/
LOCATION:Zoom Meeting
CATEGORIES:Online 12 Step Centering Prayer Groups
END:VEVENT
BEGIN:VEVENT
DTSTART;TZID=Europe/London:20291211T203000
DTEND;TZID=Europe/London:20291211T213000
DTSTAMP:20260420T173449
CREATED:20250206T195157Z
LAST-MODIFIED:20250220T172500Z
UID:10060727-1891715400-1891719000@cp12stepoutreach.org
SUMMARY:Guttermonks D & C - Open Meeting
DESCRIPTION:Step 11 Centering Prayer Meeting \n“OPEN TO ALL FELLOWSHIPS” \nZOOM ID: 353 864 4354 \nPW: 953 660 \nNOTE: THIS MEETING IS IN THE UK\, 8:30PM BST IS 3:30PM ET\, 2:30PM CT & 12:30PM PT \n  \n 
URL:https://cp12stepoutreach.org/meeting-or-group/guttermonks-d-c-2/2029-12-11/
LOCATION:Zoom Meeting
CATEGORIES:Online 12 Step Centering Prayer Groups
END:VEVENT
BEGIN:VEVENT
DTSTART;TZID=Europe/London:20291218T203000
DTEND;TZID=Europe/London:20291218T213000
DTSTAMP:20260420T173449
CREATED:20250206T195157Z
LAST-MODIFIED:20250220T172500Z
UID:10060728-1892320200-1892323800@cp12stepoutreach.org
SUMMARY:Guttermonks D & C - Open Meeting
DESCRIPTION:Step 11 Centering Prayer Meeting \n“OPEN TO ALL FELLOWSHIPS” \nZOOM ID: 353 864 4354 \nPW: 953 660 \nNOTE: THIS MEETING IS IN THE UK\, 8:30PM BST IS 3:30PM ET\, 2:30PM CT & 12:30PM PT \n  \n 
URL:https://cp12stepoutreach.org/meeting-or-group/guttermonks-d-c-2/2029-12-18/
LOCATION:Zoom Meeting
CATEGORIES:Online 12 Step Centering Prayer Groups
END:VEVENT
BEGIN:VEVENT
DTSTART;TZID=Europe/London:20291225T203000
DTEND;TZID=Europe/London:20291225T213000
DTSTAMP:20260420T173449
CREATED:20250206T195157Z
LAST-MODIFIED:20250220T172500Z
UID:10060729-1892925000-1892928600@cp12stepoutreach.org
SUMMARY:Guttermonks D & C - Open Meeting
DESCRIPTION:Step 11 Centering Prayer Meeting \n“OPEN TO ALL FELLOWSHIPS” \nZOOM ID: 353 864 4354 \nPW: 953 660 \nNOTE: THIS MEETING IS IN THE UK\, 8:30PM BST IS 3:30PM ET\, 2:30PM CT & 12:30PM PT \n  \n 
URL:https://cp12stepoutreach.org/meeting-or-group/guttermonks-d-c-2/2029-12-25/
LOCATION:Zoom Meeting
CATEGORIES:Online 12 Step Centering Prayer Groups
END:VEVENT
BEGIN:VEVENT
DTSTART;TZID=Europe/London:20300101T203000
DTEND;TZID=Europe/London:20300101T213000
DTSTAMP:20260420T173449
CREATED:20250206T195157Z
LAST-MODIFIED:20250220T172500Z
UID:10060730-1893529800-1893533400@cp12stepoutreach.org
SUMMARY:Guttermonks D & C - Open Meeting
DESCRIPTION:Step 11 Centering Prayer Meeting \n“OPEN TO ALL FELLOWSHIPS” \nZOOM ID: 353 864 4354 \nPW: 953 660 \nNOTE: THIS MEETING IS IN THE UK\, 8:30PM BST IS 3:30PM ET\, 2:30PM CT & 12:30PM PT \n  \n 
URL:https://cp12stepoutreach.org/meeting-or-group/guttermonks-d-c-2/2030-01-01/
LOCATION:Zoom Meeting
CATEGORIES:Online 12 Step Centering Prayer Groups
END:VEVENT
BEGIN:VEVENT
DTSTART;TZID=Europe/London:20300108T203000
DTEND;TZID=Europe/London:20300108T213000
DTSTAMP:20260420T173449
CREATED:20250206T195157Z
LAST-MODIFIED:20250220T172500Z
UID:10060731-1894134600-1894138200@cp12stepoutreach.org
SUMMARY:Guttermonks D & C - Open Meeting
DESCRIPTION:Step 11 Centering Prayer Meeting \n“OPEN TO ALL FELLOWSHIPS” \nZOOM ID: 353 864 4354 \nPW: 953 660 \nNOTE: THIS MEETING IS IN THE UK\, 8:30PM BST IS 3:30PM ET\, 2:30PM CT & 12:30PM PT \n  \n 
URL:https://cp12stepoutreach.org/meeting-or-group/guttermonks-d-c-2/2030-01-08/
LOCATION:Zoom Meeting
CATEGORIES:Online 12 Step Centering Prayer Groups
END:VEVENT
BEGIN:VEVENT
DTSTART;TZID=Europe/London:20300115T203000
DTEND;TZID=Europe/London:20300115T213000
DTSTAMP:20260420T173449
CREATED:20250206T195157Z
LAST-MODIFIED:20250220T172500Z
UID:10060732-1894739400-1894743000@cp12stepoutreach.org
SUMMARY:Guttermonks D & C - Open Meeting
DESCRIPTION:Step 11 Centering Prayer Meeting \n“OPEN TO ALL FELLOWSHIPS” \nZOOM ID: 353 864 4354 \nPW: 953 660 \nNOTE: THIS MEETING IS IN THE UK\, 8:30PM BST IS 3:30PM ET\, 2:30PM CT & 12:30PM PT \n  \n 
URL:https://cp12stepoutreach.org/meeting-or-group/guttermonks-d-c-2/2030-01-15/
LOCATION:Zoom Meeting
CATEGORIES:Online 12 Step Centering Prayer Groups
END:VEVENT
BEGIN:VEVENT
DTSTART;TZID=Europe/London:20300122T203000
DTEND;TZID=Europe/London:20300122T213000
DTSTAMP:20260420T173449
CREATED:20250206T195157Z
LAST-MODIFIED:20250220T172500Z
UID:10060733-1895344200-1895347800@cp12stepoutreach.org
SUMMARY:Guttermonks D & C - Open Meeting
DESCRIPTION:Step 11 Centering Prayer Meeting \n“OPEN TO ALL FELLOWSHIPS” \nZOOM ID: 353 864 4354 \nPW: 953 660 \nNOTE: THIS MEETING IS IN THE UK\, 8:30PM BST IS 3:30PM ET\, 2:30PM CT & 12:30PM PT \n  \n 
URL:https://cp12stepoutreach.org/meeting-or-group/guttermonks-d-c-2/2030-01-22/
LOCATION:Zoom Meeting
CATEGORIES:Online 12 Step Centering Prayer Groups
END:VEVENT
BEGIN:VEVENT
DTSTART;TZID=Europe/London:20300129T203000
DTEND;TZID=Europe/London:20300129T213000
DTSTAMP:20260420T173449
CREATED:20250206T195157Z
LAST-MODIFIED:20250220T172500Z
UID:10060734-1895949000-1895952600@cp12stepoutreach.org
SUMMARY:Guttermonks D & C - Open Meeting
DESCRIPTION:Step 11 Centering Prayer Meeting \n“OPEN TO ALL FELLOWSHIPS” \nZOOM ID: 353 864 4354 \nPW: 953 660 \nNOTE: THIS MEETING IS IN THE UK\, 8:30PM BST IS 3:30PM ET\, 2:30PM CT & 12:30PM PT \n  \n 
URL:https://cp12stepoutreach.org/meeting-or-group/guttermonks-d-c-2/2030-01-29/
LOCATION:Zoom Meeting
CATEGORIES:Online 12 Step Centering Prayer Groups
END:VEVENT
BEGIN:VEVENT
DTSTART;TZID=Europe/London:20300205T203000
DTEND;TZID=Europe/London:20300205T213000
DTSTAMP:20260420T173449
CREATED:20250206T195157Z
LAST-MODIFIED:20250220T172500Z
UID:10060735-1896553800-1896557400@cp12stepoutreach.org
SUMMARY:Guttermonks D & C - Open Meeting
DESCRIPTION:Step 11 Centering Prayer Meeting \n“OPEN TO ALL FELLOWSHIPS” \nZOOM ID: 353 864 4354 \nPW: 953 660 \nNOTE: THIS MEETING IS IN THE UK\, 8:30PM BST IS 3:30PM ET\, 2:30PM CT & 12:30PM PT \n  \n 
URL:https://cp12stepoutreach.org/meeting-or-group/guttermonks-d-c-2/2030-02-05/
LOCATION:Zoom Meeting
CATEGORIES:Online 12 Step Centering Prayer Groups
END:VEVENT
BEGIN:VEVENT
DTSTART;TZID=Europe/London:20300212T203000
DTEND;TZID=Europe/London:20300212T213000
DTSTAMP:20260420T173449
CREATED:20250206T195157Z
LAST-MODIFIED:20250220T172500Z
UID:10069075-1897158600-1897162200@cp12stepoutreach.org
SUMMARY:Guttermonks D & C - Open Meeting
DESCRIPTION:Step 11 Centering Prayer Meeting \n“OPEN TO ALL FELLOWSHIPS” \nZOOM ID: 353 864 4354 \nPW: 953 660 \nNOTE: THIS MEETING IS IN THE UK\, 8:30PM BST IS 3:30PM ET\, 2:30PM CT & 12:30PM PT \n  \n 
URL:https://cp12stepoutreach.org/meeting-or-group/guttermonks-d-c-2/2030-02-12/
LOCATION:Zoom Meeting
CATEGORIES:Online 12 Step Centering Prayer Groups
END:VEVENT
BEGIN:VEVENT
DTSTART;TZID=Europe/London:20300219T203000
DTEND;TZID=Europe/London:20300219T213000
DTSTAMP:20260420T173449
CREATED:20250206T195157Z
LAST-MODIFIED:20250220T172500Z
UID:10069076-1897763400-1897767000@cp12stepoutreach.org
SUMMARY:Guttermonks D & C - Open Meeting
DESCRIPTION:Step 11 Centering Prayer Meeting \n“OPEN TO ALL FELLOWSHIPS” \nZOOM ID: 353 864 4354 \nPW: 953 660 \nNOTE: THIS MEETING IS IN THE UK\, 8:30PM BST IS 3:30PM ET\, 2:30PM CT & 12:30PM PT \n  \n 
URL:https://cp12stepoutreach.org/meeting-or-group/guttermonks-d-c-2/2030-02-19/
LOCATION:Zoom Meeting
CATEGORIES:Online 12 Step Centering Prayer Groups
END:VEVENT
END:VCALENDAR