BEGIN:VCALENDAR
VERSION:2.0
PRODID:-//12 Step Outreach - ECPv6.11.2.1//NONSGML v1.0//EN
CALSCALE:GREGORIAN
METHOD:PUBLISH
X-WR-CALNAME:12 Step Outreach
X-ORIGINAL-URL:https://cp12stepoutreach.org
X-WR-CALDESC:Events for 12 Step Outreach
REFRESH-INTERVAL;VALUE=DURATION:PT1H
X-Robots-Tag:noindex
X-PUBLISHED-TTL:PT1H
BEGIN:VTIMEZONE
TZID:Europe/London
BEGIN:DAYLIGHT
TZOFFSETFROM:+0000
TZOFFSETTO:+0100
TZNAME:BST
DTSTART:20270328T010000
END:DAYLIGHT
BEGIN:STANDARD
TZOFFSETFROM:+0100
TZOFFSETTO:+0000
TZNAME:GMT
DTSTART:20271031T010000
END:STANDARD
BEGIN:DAYLIGHT
TZOFFSETFROM:+0000
TZOFFSETTO:+0100
TZNAME:BST
DTSTART:20280326T010000
END:DAYLIGHT
BEGIN:STANDARD
TZOFFSETFROM:+0100
TZOFFSETTO:+0000
TZNAME:GMT
DTSTART:20281029T010000
END:STANDARD
END:VTIMEZONE
BEGIN:VEVENT
DTSTART;TZID=Europe/London:20270615T203000
DTEND;TZID=Europe/London:20270615T213000
DTSTAMP:20260420T084730
CREATED:20250206T195157Z
LAST-MODIFIED:20250220T172500Z
UID:10060597-1813091400-1813095000@cp12stepoutreach.org
SUMMARY:Guttermonks D & C - Open Meeting
DESCRIPTION:Step 11 Centering Prayer Meeting \n“OPEN TO ALL FELLOWSHIPS” \nZOOM ID: 353 864 4354 \nPW: 953 660 \nNOTE: THIS MEETING IS IN THE UK\, 8:30PM BST IS 3:30PM ET\, 2:30PM CT & 12:30PM PT \n  \n 
URL:https://cp12stepoutreach.org/meeting-or-group/guttermonks-d-c-2/2027-06-15/
LOCATION:Zoom Meeting
CATEGORIES:Online 12 Step Centering Prayer Groups
END:VEVENT
BEGIN:VEVENT
DTSTART;TZID=Europe/London:20270622T203000
DTEND;TZID=Europe/London:20270622T213000
DTSTAMP:20260420T084730
CREATED:20250206T195157Z
LAST-MODIFIED:20250220T172500Z
UID:10060598-1813696200-1813699800@cp12stepoutreach.org
SUMMARY:Guttermonks D & C - Open Meeting
DESCRIPTION:Step 11 Centering Prayer Meeting \n“OPEN TO ALL FELLOWSHIPS” \nZOOM ID: 353 864 4354 \nPW: 953 660 \nNOTE: THIS MEETING IS IN THE UK\, 8:30PM BST IS 3:30PM ET\, 2:30PM CT & 12:30PM PT \n  \n 
URL:https://cp12stepoutreach.org/meeting-or-group/guttermonks-d-c-2/2027-06-22/
LOCATION:Zoom Meeting
CATEGORIES:Online 12 Step Centering Prayer Groups
END:VEVENT
BEGIN:VEVENT
DTSTART;TZID=Europe/London:20270629T203000
DTEND;TZID=Europe/London:20270629T213000
DTSTAMP:20260420T084730
CREATED:20250206T195157Z
LAST-MODIFIED:20250220T172500Z
UID:10060599-1814301000-1814304600@cp12stepoutreach.org
SUMMARY:Guttermonks D & C - Open Meeting
DESCRIPTION:Step 11 Centering Prayer Meeting \n“OPEN TO ALL FELLOWSHIPS” \nZOOM ID: 353 864 4354 \nPW: 953 660 \nNOTE: THIS MEETING IS IN THE UK\, 8:30PM BST IS 3:30PM ET\, 2:30PM CT & 12:30PM PT \n  \n 
URL:https://cp12stepoutreach.org/meeting-or-group/guttermonks-d-c-2/2027-06-29/
LOCATION:Zoom Meeting
CATEGORIES:Online 12 Step Centering Prayer Groups
END:VEVENT
BEGIN:VEVENT
DTSTART;TZID=Europe/London:20270706T203000
DTEND;TZID=Europe/London:20270706T213000
DTSTAMP:20260420T084730
CREATED:20250206T195157Z
LAST-MODIFIED:20250220T172500Z
UID:10060600-1814905800-1814909400@cp12stepoutreach.org
SUMMARY:Guttermonks D & C - Open Meeting
DESCRIPTION:Step 11 Centering Prayer Meeting \n“OPEN TO ALL FELLOWSHIPS” \nZOOM ID: 353 864 4354 \nPW: 953 660 \nNOTE: THIS MEETING IS IN THE UK\, 8:30PM BST IS 3:30PM ET\, 2:30PM CT & 12:30PM PT \n  \n 
URL:https://cp12stepoutreach.org/meeting-or-group/guttermonks-d-c-2/2027-07-06/
LOCATION:Zoom Meeting
CATEGORIES:Online 12 Step Centering Prayer Groups
END:VEVENT
BEGIN:VEVENT
DTSTART;TZID=Europe/London:20270713T203000
DTEND;TZID=Europe/London:20270713T213000
DTSTAMP:20260420T084730
CREATED:20250206T195157Z
LAST-MODIFIED:20250220T172500Z
UID:10060601-1815510600-1815514200@cp12stepoutreach.org
SUMMARY:Guttermonks D & C - Open Meeting
DESCRIPTION:Step 11 Centering Prayer Meeting \n“OPEN TO ALL FELLOWSHIPS” \nZOOM ID: 353 864 4354 \nPW: 953 660 \nNOTE: THIS MEETING IS IN THE UK\, 8:30PM BST IS 3:30PM ET\, 2:30PM CT & 12:30PM PT \n  \n 
URL:https://cp12stepoutreach.org/meeting-or-group/guttermonks-d-c-2/2027-07-13/
LOCATION:Zoom Meeting
CATEGORIES:Online 12 Step Centering Prayer Groups
END:VEVENT
BEGIN:VEVENT
DTSTART;TZID=Europe/London:20270720T203000
DTEND;TZID=Europe/London:20270720T213000
DTSTAMP:20260420T084730
CREATED:20250206T195157Z
LAST-MODIFIED:20250220T172500Z
UID:10060602-1816115400-1816119000@cp12stepoutreach.org
SUMMARY:Guttermonks D & C - Open Meeting
DESCRIPTION:Step 11 Centering Prayer Meeting \n“OPEN TO ALL FELLOWSHIPS” \nZOOM ID: 353 864 4354 \nPW: 953 660 \nNOTE: THIS MEETING IS IN THE UK\, 8:30PM BST IS 3:30PM ET\, 2:30PM CT & 12:30PM PT \n  \n 
URL:https://cp12stepoutreach.org/meeting-or-group/guttermonks-d-c-2/2027-07-20/
LOCATION:Zoom Meeting
CATEGORIES:Online 12 Step Centering Prayer Groups
END:VEVENT
BEGIN:VEVENT
DTSTART;TZID=Europe/London:20270727T203000
DTEND;TZID=Europe/London:20270727T213000
DTSTAMP:20260420T084730
CREATED:20250206T195157Z
LAST-MODIFIED:20250220T172500Z
UID:10060603-1816720200-1816723800@cp12stepoutreach.org
SUMMARY:Guttermonks D & C - Open Meeting
DESCRIPTION:Step 11 Centering Prayer Meeting \n“OPEN TO ALL FELLOWSHIPS” \nZOOM ID: 353 864 4354 \nPW: 953 660 \nNOTE: THIS MEETING IS IN THE UK\, 8:30PM BST IS 3:30PM ET\, 2:30PM CT & 12:30PM PT \n  \n 
URL:https://cp12stepoutreach.org/meeting-or-group/guttermonks-d-c-2/2027-07-27/
LOCATION:Zoom Meeting
CATEGORIES:Online 12 Step Centering Prayer Groups
END:VEVENT
BEGIN:VEVENT
DTSTART;TZID=Europe/London:20270803T203000
DTEND;TZID=Europe/London:20270803T213000
DTSTAMP:20260420T084730
CREATED:20250206T195157Z
LAST-MODIFIED:20250220T172500Z
UID:10060604-1817325000-1817328600@cp12stepoutreach.org
SUMMARY:Guttermonks D & C - Open Meeting
DESCRIPTION:Step 11 Centering Prayer Meeting \n“OPEN TO ALL FELLOWSHIPS” \nZOOM ID: 353 864 4354 \nPW: 953 660 \nNOTE: THIS MEETING IS IN THE UK\, 8:30PM BST IS 3:30PM ET\, 2:30PM CT & 12:30PM PT \n  \n 
URL:https://cp12stepoutreach.org/meeting-or-group/guttermonks-d-c-2/2027-08-03/
LOCATION:Zoom Meeting
CATEGORIES:Online 12 Step Centering Prayer Groups
END:VEVENT
BEGIN:VEVENT
DTSTART;TZID=Europe/London:20270810T203000
DTEND;TZID=Europe/London:20270810T213000
DTSTAMP:20260420T084730
CREATED:20250206T195157Z
LAST-MODIFIED:20250220T172500Z
UID:10060605-1817929800-1817933400@cp12stepoutreach.org
SUMMARY:Guttermonks D & C - Open Meeting
DESCRIPTION:Step 11 Centering Prayer Meeting \n“OPEN TO ALL FELLOWSHIPS” \nZOOM ID: 353 864 4354 \nPW: 953 660 \nNOTE: THIS MEETING IS IN THE UK\, 8:30PM BST IS 3:30PM ET\, 2:30PM CT & 12:30PM PT \n  \n 
URL:https://cp12stepoutreach.org/meeting-or-group/guttermonks-d-c-2/2027-08-10/
LOCATION:Zoom Meeting
CATEGORIES:Online 12 Step Centering Prayer Groups
END:VEVENT
BEGIN:VEVENT
DTSTART;TZID=Europe/London:20270817T203000
DTEND;TZID=Europe/London:20270817T213000
DTSTAMP:20260420T084730
CREATED:20250206T195157Z
LAST-MODIFIED:20250220T172500Z
UID:10060606-1818534600-1818538200@cp12stepoutreach.org
SUMMARY:Guttermonks D & C - Open Meeting
DESCRIPTION:Step 11 Centering Prayer Meeting \n“OPEN TO ALL FELLOWSHIPS” \nZOOM ID: 353 864 4354 \nPW: 953 660 \nNOTE: THIS MEETING IS IN THE UK\, 8:30PM BST IS 3:30PM ET\, 2:30PM CT & 12:30PM PT \n  \n 
URL:https://cp12stepoutreach.org/meeting-or-group/guttermonks-d-c-2/2027-08-17/
LOCATION:Zoom Meeting
CATEGORIES:Online 12 Step Centering Prayer Groups
END:VEVENT
BEGIN:VEVENT
DTSTART;TZID=Europe/London:20270824T203000
DTEND;TZID=Europe/London:20270824T213000
DTSTAMP:20260420T084730
CREATED:20250206T195157Z
LAST-MODIFIED:20250220T172500Z
UID:10060607-1819139400-1819143000@cp12stepoutreach.org
SUMMARY:Guttermonks D & C - Open Meeting
DESCRIPTION:Step 11 Centering Prayer Meeting \n“OPEN TO ALL FELLOWSHIPS” \nZOOM ID: 353 864 4354 \nPW: 953 660 \nNOTE: THIS MEETING IS IN THE UK\, 8:30PM BST IS 3:30PM ET\, 2:30PM CT & 12:30PM PT \n  \n 
URL:https://cp12stepoutreach.org/meeting-or-group/guttermonks-d-c-2/2027-08-24/
LOCATION:Zoom Meeting
CATEGORIES:Online 12 Step Centering Prayer Groups
END:VEVENT
BEGIN:VEVENT
DTSTART;TZID=Europe/London:20270831T203000
DTEND;TZID=Europe/London:20270831T213000
DTSTAMP:20260420T084730
CREATED:20250206T195157Z
LAST-MODIFIED:20250220T172500Z
UID:10060608-1819744200-1819747800@cp12stepoutreach.org
SUMMARY:Guttermonks D & C - Open Meeting
DESCRIPTION:Step 11 Centering Prayer Meeting \n“OPEN TO ALL FELLOWSHIPS” \nZOOM ID: 353 864 4354 \nPW: 953 660 \nNOTE: THIS MEETING IS IN THE UK\, 8:30PM BST IS 3:30PM ET\, 2:30PM CT & 12:30PM PT \n  \n 
URL:https://cp12stepoutreach.org/meeting-or-group/guttermonks-d-c-2/2027-08-31/
LOCATION:Zoom Meeting
CATEGORIES:Online 12 Step Centering Prayer Groups
END:VEVENT
BEGIN:VEVENT
DTSTART;TZID=Europe/London:20270907T203000
DTEND;TZID=Europe/London:20270907T213000
DTSTAMP:20260420T084730
CREATED:20250206T195157Z
LAST-MODIFIED:20250220T172500Z
UID:10060609-1820349000-1820352600@cp12stepoutreach.org
SUMMARY:Guttermonks D & C - Open Meeting
DESCRIPTION:Step 11 Centering Prayer Meeting \n“OPEN TO ALL FELLOWSHIPS” \nZOOM ID: 353 864 4354 \nPW: 953 660 \nNOTE: THIS MEETING IS IN THE UK\, 8:30PM BST IS 3:30PM ET\, 2:30PM CT & 12:30PM PT \n  \n 
URL:https://cp12stepoutreach.org/meeting-or-group/guttermonks-d-c-2/2027-09-07/
LOCATION:Zoom Meeting
CATEGORIES:Online 12 Step Centering Prayer Groups
END:VEVENT
BEGIN:VEVENT
DTSTART;TZID=Europe/London:20270914T203000
DTEND;TZID=Europe/London:20270914T213000
DTSTAMP:20260420T084730
CREATED:20250206T195157Z
LAST-MODIFIED:20250220T172500Z
UID:10060610-1820953800-1820957400@cp12stepoutreach.org
SUMMARY:Guttermonks D & C - Open Meeting
DESCRIPTION:Step 11 Centering Prayer Meeting \n“OPEN TO ALL FELLOWSHIPS” \nZOOM ID: 353 864 4354 \nPW: 953 660 \nNOTE: THIS MEETING IS IN THE UK\, 8:30PM BST IS 3:30PM ET\, 2:30PM CT & 12:30PM PT \n  \n 
URL:https://cp12stepoutreach.org/meeting-or-group/guttermonks-d-c-2/2027-09-14/
LOCATION:Zoom Meeting
CATEGORIES:Online 12 Step Centering Prayer Groups
END:VEVENT
BEGIN:VEVENT
DTSTART;TZID=Europe/London:20270921T203000
DTEND;TZID=Europe/London:20270921T213000
DTSTAMP:20260420T084730
CREATED:20250206T195157Z
LAST-MODIFIED:20250220T172500Z
UID:10060611-1821558600-1821562200@cp12stepoutreach.org
SUMMARY:Guttermonks D & C - Open Meeting
DESCRIPTION:Step 11 Centering Prayer Meeting \n“OPEN TO ALL FELLOWSHIPS” \nZOOM ID: 353 864 4354 \nPW: 953 660 \nNOTE: THIS MEETING IS IN THE UK\, 8:30PM BST IS 3:30PM ET\, 2:30PM CT & 12:30PM PT \n  \n 
URL:https://cp12stepoutreach.org/meeting-or-group/guttermonks-d-c-2/2027-09-21/
LOCATION:Zoom Meeting
CATEGORIES:Online 12 Step Centering Prayer Groups
END:VEVENT
BEGIN:VEVENT
DTSTART;TZID=Europe/London:20270928T203000
DTEND;TZID=Europe/London:20270928T213000
DTSTAMP:20260420T084730
CREATED:20250206T195157Z
LAST-MODIFIED:20250220T172500Z
UID:10060612-1822163400-1822167000@cp12stepoutreach.org
SUMMARY:Guttermonks D & C - Open Meeting
DESCRIPTION:Step 11 Centering Prayer Meeting \n“OPEN TO ALL FELLOWSHIPS” \nZOOM ID: 353 864 4354 \nPW: 953 660 \nNOTE: THIS MEETING IS IN THE UK\, 8:30PM BST IS 3:30PM ET\, 2:30PM CT & 12:30PM PT \n  \n 
URL:https://cp12stepoutreach.org/meeting-or-group/guttermonks-d-c-2/2027-09-28/
LOCATION:Zoom Meeting
CATEGORIES:Online 12 Step Centering Prayer Groups
END:VEVENT
BEGIN:VEVENT
DTSTART;TZID=Europe/London:20271005T203000
DTEND;TZID=Europe/London:20271005T213000
DTSTAMP:20260420T084730
CREATED:20250206T195157Z
LAST-MODIFIED:20250220T172500Z
UID:10060613-1822768200-1822771800@cp12stepoutreach.org
SUMMARY:Guttermonks D & C - Open Meeting
DESCRIPTION:Step 11 Centering Prayer Meeting \n“OPEN TO ALL FELLOWSHIPS” \nZOOM ID: 353 864 4354 \nPW: 953 660 \nNOTE: THIS MEETING IS IN THE UK\, 8:30PM BST IS 3:30PM ET\, 2:30PM CT & 12:30PM PT \n  \n 
URL:https://cp12stepoutreach.org/meeting-or-group/guttermonks-d-c-2/2027-10-05/
LOCATION:Zoom Meeting
CATEGORIES:Online 12 Step Centering Prayer Groups
END:VEVENT
BEGIN:VEVENT
DTSTART;TZID=Europe/London:20271012T203000
DTEND;TZID=Europe/London:20271012T213000
DTSTAMP:20260420T084730
CREATED:20250206T195157Z
LAST-MODIFIED:20250220T172500Z
UID:10060614-1823373000-1823376600@cp12stepoutreach.org
SUMMARY:Guttermonks D & C - Open Meeting
DESCRIPTION:Step 11 Centering Prayer Meeting \n“OPEN TO ALL FELLOWSHIPS” \nZOOM ID: 353 864 4354 \nPW: 953 660 \nNOTE: THIS MEETING IS IN THE UK\, 8:30PM BST IS 3:30PM ET\, 2:30PM CT & 12:30PM PT \n  \n 
URL:https://cp12stepoutreach.org/meeting-or-group/guttermonks-d-c-2/2027-10-12/
LOCATION:Zoom Meeting
CATEGORIES:Online 12 Step Centering Prayer Groups
END:VEVENT
BEGIN:VEVENT
DTSTART;TZID=Europe/London:20271019T203000
DTEND;TZID=Europe/London:20271019T213000
DTSTAMP:20260420T084730
CREATED:20250206T195157Z
LAST-MODIFIED:20250220T172500Z
UID:10060615-1823977800-1823981400@cp12stepoutreach.org
SUMMARY:Guttermonks D & C - Open Meeting
DESCRIPTION:Step 11 Centering Prayer Meeting \n“OPEN TO ALL FELLOWSHIPS” \nZOOM ID: 353 864 4354 \nPW: 953 660 \nNOTE: THIS MEETING IS IN THE UK\, 8:30PM BST IS 3:30PM ET\, 2:30PM CT & 12:30PM PT \n  \n 
URL:https://cp12stepoutreach.org/meeting-or-group/guttermonks-d-c-2/2027-10-19/
LOCATION:Zoom Meeting
CATEGORIES:Online 12 Step Centering Prayer Groups
END:VEVENT
BEGIN:VEVENT
DTSTART;TZID=Europe/London:20271026T203000
DTEND;TZID=Europe/London:20271026T213000
DTSTAMP:20260420T084730
CREATED:20250206T195157Z
LAST-MODIFIED:20250220T172500Z
UID:10060616-1824582600-1824586200@cp12stepoutreach.org
SUMMARY:Guttermonks D & C - Open Meeting
DESCRIPTION:Step 11 Centering Prayer Meeting \n“OPEN TO ALL FELLOWSHIPS” \nZOOM ID: 353 864 4354 \nPW: 953 660 \nNOTE: THIS MEETING IS IN THE UK\, 8:30PM BST IS 3:30PM ET\, 2:30PM CT & 12:30PM PT \n  \n 
URL:https://cp12stepoutreach.org/meeting-or-group/guttermonks-d-c-2/2027-10-26/
LOCATION:Zoom Meeting
CATEGORIES:Online 12 Step Centering Prayer Groups
END:VEVENT
BEGIN:VEVENT
DTSTART;TZID=Europe/London:20271102T203000
DTEND;TZID=Europe/London:20271102T213000
DTSTAMP:20260420T084730
CREATED:20250206T195157Z
LAST-MODIFIED:20250220T172500Z
UID:10060617-1825187400-1825191000@cp12stepoutreach.org
SUMMARY:Guttermonks D & C - Open Meeting
DESCRIPTION:Step 11 Centering Prayer Meeting \n“OPEN TO ALL FELLOWSHIPS” \nZOOM ID: 353 864 4354 \nPW: 953 660 \nNOTE: THIS MEETING IS IN THE UK\, 8:30PM BST IS 3:30PM ET\, 2:30PM CT & 12:30PM PT \n  \n 
URL:https://cp12stepoutreach.org/meeting-or-group/guttermonks-d-c-2/2027-11-02/
LOCATION:Zoom Meeting
CATEGORIES:Online 12 Step Centering Prayer Groups
END:VEVENT
BEGIN:VEVENT
DTSTART;TZID=Europe/London:20271109T203000
DTEND;TZID=Europe/London:20271109T213000
DTSTAMP:20260420T084730
CREATED:20250206T195157Z
LAST-MODIFIED:20250220T172500Z
UID:10060618-1825792200-1825795800@cp12stepoutreach.org
SUMMARY:Guttermonks D & C - Open Meeting
DESCRIPTION:Step 11 Centering Prayer Meeting \n“OPEN TO ALL FELLOWSHIPS” \nZOOM ID: 353 864 4354 \nPW: 953 660 \nNOTE: THIS MEETING IS IN THE UK\, 8:30PM BST IS 3:30PM ET\, 2:30PM CT & 12:30PM PT \n  \n 
URL:https://cp12stepoutreach.org/meeting-or-group/guttermonks-d-c-2/2027-11-09/
LOCATION:Zoom Meeting
CATEGORIES:Online 12 Step Centering Prayer Groups
END:VEVENT
BEGIN:VEVENT
DTSTART;TZID=Europe/London:20271116T203000
DTEND;TZID=Europe/London:20271116T213000
DTSTAMP:20260420T084730
CREATED:20250206T195157Z
LAST-MODIFIED:20250220T172500Z
UID:10060619-1826397000-1826400600@cp12stepoutreach.org
SUMMARY:Guttermonks D & C - Open Meeting
DESCRIPTION:Step 11 Centering Prayer Meeting \n“OPEN TO ALL FELLOWSHIPS” \nZOOM ID: 353 864 4354 \nPW: 953 660 \nNOTE: THIS MEETING IS IN THE UK\, 8:30PM BST IS 3:30PM ET\, 2:30PM CT & 12:30PM PT \n  \n 
URL:https://cp12stepoutreach.org/meeting-or-group/guttermonks-d-c-2/2027-11-16/
LOCATION:Zoom Meeting
CATEGORIES:Online 12 Step Centering Prayer Groups
END:VEVENT
BEGIN:VEVENT
DTSTART;TZID=Europe/London:20271123T203000
DTEND;TZID=Europe/London:20271123T213000
DTSTAMP:20260420T084730
CREATED:20250206T195157Z
LAST-MODIFIED:20250220T172500Z
UID:10060620-1827001800-1827005400@cp12stepoutreach.org
SUMMARY:Guttermonks D & C - Open Meeting
DESCRIPTION:Step 11 Centering Prayer Meeting \n“OPEN TO ALL FELLOWSHIPS” \nZOOM ID: 353 864 4354 \nPW: 953 660 \nNOTE: THIS MEETING IS IN THE UK\, 8:30PM BST IS 3:30PM ET\, 2:30PM CT & 12:30PM PT \n  \n 
URL:https://cp12stepoutreach.org/meeting-or-group/guttermonks-d-c-2/2027-11-23/
LOCATION:Zoom Meeting
CATEGORIES:Online 12 Step Centering Prayer Groups
END:VEVENT
BEGIN:VEVENT
DTSTART;TZID=Europe/London:20271130T203000
DTEND;TZID=Europe/London:20271130T213000
DTSTAMP:20260420T084730
CREATED:20250206T195157Z
LAST-MODIFIED:20250220T172500Z
UID:10060621-1827606600-1827610200@cp12stepoutreach.org
SUMMARY:Guttermonks D & C - Open Meeting
DESCRIPTION:Step 11 Centering Prayer Meeting \n“OPEN TO ALL FELLOWSHIPS” \nZOOM ID: 353 864 4354 \nPW: 953 660 \nNOTE: THIS MEETING IS IN THE UK\, 8:30PM BST IS 3:30PM ET\, 2:30PM CT & 12:30PM PT \n  \n 
URL:https://cp12stepoutreach.org/meeting-or-group/guttermonks-d-c-2/2027-11-30/
LOCATION:Zoom Meeting
CATEGORIES:Online 12 Step Centering Prayer Groups
END:VEVENT
BEGIN:VEVENT
DTSTART;TZID=Europe/London:20271207T203000
DTEND;TZID=Europe/London:20271207T213000
DTSTAMP:20260420T084730
CREATED:20250206T195157Z
LAST-MODIFIED:20250220T172500Z
UID:10060622-1828211400-1828215000@cp12stepoutreach.org
SUMMARY:Guttermonks D & C - Open Meeting
DESCRIPTION:Step 11 Centering Prayer Meeting \n“OPEN TO ALL FELLOWSHIPS” \nZOOM ID: 353 864 4354 \nPW: 953 660 \nNOTE: THIS MEETING IS IN THE UK\, 8:30PM BST IS 3:30PM ET\, 2:30PM CT & 12:30PM PT \n  \n 
URL:https://cp12stepoutreach.org/meeting-or-group/guttermonks-d-c-2/2027-12-07/
LOCATION:Zoom Meeting
CATEGORIES:Online 12 Step Centering Prayer Groups
END:VEVENT
BEGIN:VEVENT
DTSTART;TZID=Europe/London:20271214T203000
DTEND;TZID=Europe/London:20271214T213000
DTSTAMP:20260420T084730
CREATED:20250206T195157Z
LAST-MODIFIED:20250220T172500Z
UID:10060623-1828816200-1828819800@cp12stepoutreach.org
SUMMARY:Guttermonks D & C - Open Meeting
DESCRIPTION:Step 11 Centering Prayer Meeting \n“OPEN TO ALL FELLOWSHIPS” \nZOOM ID: 353 864 4354 \nPW: 953 660 \nNOTE: THIS MEETING IS IN THE UK\, 8:30PM BST IS 3:30PM ET\, 2:30PM CT & 12:30PM PT \n  \n 
URL:https://cp12stepoutreach.org/meeting-or-group/guttermonks-d-c-2/2027-12-14/
LOCATION:Zoom Meeting
CATEGORIES:Online 12 Step Centering Prayer Groups
END:VEVENT
BEGIN:VEVENT
DTSTART;TZID=Europe/London:20271221T203000
DTEND;TZID=Europe/London:20271221T213000
DTSTAMP:20260420T084730
CREATED:20250206T195157Z
LAST-MODIFIED:20250220T172500Z
UID:10060624-1829421000-1829424600@cp12stepoutreach.org
SUMMARY:Guttermonks D & C - Open Meeting
DESCRIPTION:Step 11 Centering Prayer Meeting \n“OPEN TO ALL FELLOWSHIPS” \nZOOM ID: 353 864 4354 \nPW: 953 660 \nNOTE: THIS MEETING IS IN THE UK\, 8:30PM BST IS 3:30PM ET\, 2:30PM CT & 12:30PM PT \n  \n 
URL:https://cp12stepoutreach.org/meeting-or-group/guttermonks-d-c-2/2027-12-21/
LOCATION:Zoom Meeting
CATEGORIES:Online 12 Step Centering Prayer Groups
END:VEVENT
BEGIN:VEVENT
DTSTART;TZID=Europe/London:20271228T203000
DTEND;TZID=Europe/London:20271228T213000
DTSTAMP:20260420T084730
CREATED:20250206T195157Z
LAST-MODIFIED:20250220T172500Z
UID:10060625-1830025800-1830029400@cp12stepoutreach.org
SUMMARY:Guttermonks D & C - Open Meeting
DESCRIPTION:Step 11 Centering Prayer Meeting \n“OPEN TO ALL FELLOWSHIPS” \nZOOM ID: 353 864 4354 \nPW: 953 660 \nNOTE: THIS MEETING IS IN THE UK\, 8:30PM BST IS 3:30PM ET\, 2:30PM CT & 12:30PM PT \n  \n 
URL:https://cp12stepoutreach.org/meeting-or-group/guttermonks-d-c-2/2027-12-28/
LOCATION:Zoom Meeting
CATEGORIES:Online 12 Step Centering Prayer Groups
END:VEVENT
BEGIN:VEVENT
DTSTART;TZID=Europe/London:20280104T203000
DTEND;TZID=Europe/London:20280104T213000
DTSTAMP:20260420T084730
CREATED:20250206T195157Z
LAST-MODIFIED:20250220T172500Z
UID:10060626-1830630600-1830634200@cp12stepoutreach.org
SUMMARY:Guttermonks D & C - Open Meeting
DESCRIPTION:Step 11 Centering Prayer Meeting \n“OPEN TO ALL FELLOWSHIPS” \nZOOM ID: 353 864 4354 \nPW: 953 660 \nNOTE: THIS MEETING IS IN THE UK\, 8:30PM BST IS 3:30PM ET\, 2:30PM CT & 12:30PM PT \n  \n 
URL:https://cp12stepoutreach.org/meeting-or-group/guttermonks-d-c-2/2028-01-04/
LOCATION:Zoom Meeting
CATEGORIES:Online 12 Step Centering Prayer Groups
END:VEVENT
END:VCALENDAR