BEGIN:VCALENDAR
VERSION:2.0
PRODID:-//12 Step Outreach - ECPv6.11.2.1//NONSGML v1.0//EN
CALSCALE:GREGORIAN
METHOD:PUBLISH
X-ORIGINAL-URL:https://cp12stepoutreach.org
X-WR-CALDESC:Events for 12 Step Outreach
REFRESH-INTERVAL;VALUE=DURATION:PT1H
X-Robots-Tag:noindex
X-PUBLISHED-TTL:PT1H
BEGIN:VTIMEZONE
TZID:Europe/London
BEGIN:DAYLIGHT
TZOFFSETFROM:+0000
TZOFFSETTO:+0100
TZNAME:BST
DTSTART:20270328T010000
END:DAYLIGHT
BEGIN:STANDARD
TZOFFSETFROM:+0100
TZOFFSETTO:+0000
TZNAME:GMT
DTSTART:20271031T010000
END:STANDARD
BEGIN:DAYLIGHT
TZOFFSETFROM:+0000
TZOFFSETTO:+0100
TZNAME:BST
DTSTART:20280326T010000
END:DAYLIGHT
BEGIN:STANDARD
TZOFFSETFROM:+0100
TZOFFSETTO:+0000
TZNAME:GMT
DTSTART:20281029T010000
END:STANDARD
END:VTIMEZONE
BEGIN:VEVENT
DTSTART;TZID=Europe/London:20271102T203000
DTEND;TZID=Europe/London:20271102T213000
DTSTAMP:20260420T100312
CREATED:20250206T195157Z
LAST-MODIFIED:20250220T172500Z
UID:10060617-1825187400-1825191000@cp12stepoutreach.org
SUMMARY:Guttermonks D & C - Open Meeting
DESCRIPTION:Step 11 Centering Prayer Meeting \n“OPEN TO ALL FELLOWSHIPS” \nZOOM ID: 353 864 4354 \nPW: 953 660 \nNOTE: THIS MEETING IS IN THE UK\, 8:30PM BST IS 3:30PM ET\, 2:30PM CT & 12:30PM PT \n  \n 
URL:https://cp12stepoutreach.org/meeting-or-group/guttermonks-d-c-2/2027-11-02/
LOCATION:Zoom Meeting
CATEGORIES:Online 12 Step Centering Prayer Groups
END:VEVENT
BEGIN:VEVENT
DTSTART;TZID=Europe/London:20271109T203000
DTEND;TZID=Europe/London:20271109T213000
DTSTAMP:20260420T100312
CREATED:20250206T195157Z
LAST-MODIFIED:20250220T172500Z
UID:10060618-1825792200-1825795800@cp12stepoutreach.org
SUMMARY:Guttermonks D & C - Open Meeting
DESCRIPTION:Step 11 Centering Prayer Meeting \n“OPEN TO ALL FELLOWSHIPS” \nZOOM ID: 353 864 4354 \nPW: 953 660 \nNOTE: THIS MEETING IS IN THE UK\, 8:30PM BST IS 3:30PM ET\, 2:30PM CT & 12:30PM PT \n  \n 
URL:https://cp12stepoutreach.org/meeting-or-group/guttermonks-d-c-2/2027-11-09/
LOCATION:Zoom Meeting
CATEGORIES:Online 12 Step Centering Prayer Groups
END:VEVENT
BEGIN:VEVENT
DTSTART;TZID=Europe/London:20271116T203000
DTEND;TZID=Europe/London:20271116T213000
DTSTAMP:20260420T100312
CREATED:20250206T195157Z
LAST-MODIFIED:20250220T172500Z
UID:10060619-1826397000-1826400600@cp12stepoutreach.org
SUMMARY:Guttermonks D & C - Open Meeting
DESCRIPTION:Step 11 Centering Prayer Meeting \n“OPEN TO ALL FELLOWSHIPS” \nZOOM ID: 353 864 4354 \nPW: 953 660 \nNOTE: THIS MEETING IS IN THE UK\, 8:30PM BST IS 3:30PM ET\, 2:30PM CT & 12:30PM PT \n  \n 
URL:https://cp12stepoutreach.org/meeting-or-group/guttermonks-d-c-2/2027-11-16/
LOCATION:Zoom Meeting
CATEGORIES:Online 12 Step Centering Prayer Groups
END:VEVENT
BEGIN:VEVENT
DTSTART;TZID=Europe/London:20271123T203000
DTEND;TZID=Europe/London:20271123T213000
DTSTAMP:20260420T100312
CREATED:20250206T195157Z
LAST-MODIFIED:20250220T172500Z
UID:10060620-1827001800-1827005400@cp12stepoutreach.org
SUMMARY:Guttermonks D & C - Open Meeting
DESCRIPTION:Step 11 Centering Prayer Meeting \n“OPEN TO ALL FELLOWSHIPS” \nZOOM ID: 353 864 4354 \nPW: 953 660 \nNOTE: THIS MEETING IS IN THE UK\, 8:30PM BST IS 3:30PM ET\, 2:30PM CT & 12:30PM PT \n  \n 
URL:https://cp12stepoutreach.org/meeting-or-group/guttermonks-d-c-2/2027-11-23/
LOCATION:Zoom Meeting
CATEGORIES:Online 12 Step Centering Prayer Groups
END:VEVENT
BEGIN:VEVENT
DTSTART;TZID=Europe/London:20271130T203000
DTEND;TZID=Europe/London:20271130T213000
DTSTAMP:20260420T100312
CREATED:20250206T195157Z
LAST-MODIFIED:20250220T172500Z
UID:10060621-1827606600-1827610200@cp12stepoutreach.org
SUMMARY:Guttermonks D & C - Open Meeting
DESCRIPTION:Step 11 Centering Prayer Meeting \n“OPEN TO ALL FELLOWSHIPS” \nZOOM ID: 353 864 4354 \nPW: 953 660 \nNOTE: THIS MEETING IS IN THE UK\, 8:30PM BST IS 3:30PM ET\, 2:30PM CT & 12:30PM PT \n  \n 
URL:https://cp12stepoutreach.org/meeting-or-group/guttermonks-d-c-2/2027-11-30/
LOCATION:Zoom Meeting
CATEGORIES:Online 12 Step Centering Prayer Groups
END:VEVENT
BEGIN:VEVENT
DTSTART;TZID=Europe/London:20271207T203000
DTEND;TZID=Europe/London:20271207T213000
DTSTAMP:20260420T100312
CREATED:20250206T195157Z
LAST-MODIFIED:20250220T172500Z
UID:10060622-1828211400-1828215000@cp12stepoutreach.org
SUMMARY:Guttermonks D & C - Open Meeting
DESCRIPTION:Step 11 Centering Prayer Meeting \n“OPEN TO ALL FELLOWSHIPS” \nZOOM ID: 353 864 4354 \nPW: 953 660 \nNOTE: THIS MEETING IS IN THE UK\, 8:30PM BST IS 3:30PM ET\, 2:30PM CT & 12:30PM PT \n  \n 
URL:https://cp12stepoutreach.org/meeting-or-group/guttermonks-d-c-2/2027-12-07/
LOCATION:Zoom Meeting
CATEGORIES:Online 12 Step Centering Prayer Groups
END:VEVENT
BEGIN:VEVENT
DTSTART;TZID=Europe/London:20271214T203000
DTEND;TZID=Europe/London:20271214T213000
DTSTAMP:20260420T100312
CREATED:20250206T195157Z
LAST-MODIFIED:20250220T172500Z
UID:10060623-1828816200-1828819800@cp12stepoutreach.org
SUMMARY:Guttermonks D & C - Open Meeting
DESCRIPTION:Step 11 Centering Prayer Meeting \n“OPEN TO ALL FELLOWSHIPS” \nZOOM ID: 353 864 4354 \nPW: 953 660 \nNOTE: THIS MEETING IS IN THE UK\, 8:30PM BST IS 3:30PM ET\, 2:30PM CT & 12:30PM PT \n  \n 
URL:https://cp12stepoutreach.org/meeting-or-group/guttermonks-d-c-2/2027-12-14/
LOCATION:Zoom Meeting
CATEGORIES:Online 12 Step Centering Prayer Groups
END:VEVENT
BEGIN:VEVENT
DTSTART;TZID=Europe/London:20271221T203000
DTEND;TZID=Europe/London:20271221T213000
DTSTAMP:20260420T100312
CREATED:20250206T195157Z
LAST-MODIFIED:20250220T172500Z
UID:10060624-1829421000-1829424600@cp12stepoutreach.org
SUMMARY:Guttermonks D & C - Open Meeting
DESCRIPTION:Step 11 Centering Prayer Meeting \n“OPEN TO ALL FELLOWSHIPS” \nZOOM ID: 353 864 4354 \nPW: 953 660 \nNOTE: THIS MEETING IS IN THE UK\, 8:30PM BST IS 3:30PM ET\, 2:30PM CT & 12:30PM PT \n  \n 
URL:https://cp12stepoutreach.org/meeting-or-group/guttermonks-d-c-2/2027-12-21/
LOCATION:Zoom Meeting
CATEGORIES:Online 12 Step Centering Prayer Groups
END:VEVENT
BEGIN:VEVENT
DTSTART;TZID=Europe/London:20271228T203000
DTEND;TZID=Europe/London:20271228T213000
DTSTAMP:20260420T100312
CREATED:20250206T195157Z
LAST-MODIFIED:20250220T172500Z
UID:10060625-1830025800-1830029400@cp12stepoutreach.org
SUMMARY:Guttermonks D & C - Open Meeting
DESCRIPTION:Step 11 Centering Prayer Meeting \n“OPEN TO ALL FELLOWSHIPS” \nZOOM ID: 353 864 4354 \nPW: 953 660 \nNOTE: THIS MEETING IS IN THE UK\, 8:30PM BST IS 3:30PM ET\, 2:30PM CT & 12:30PM PT \n  \n 
URL:https://cp12stepoutreach.org/meeting-or-group/guttermonks-d-c-2/2027-12-28/
LOCATION:Zoom Meeting
CATEGORIES:Online 12 Step Centering Prayer Groups
END:VEVENT
BEGIN:VEVENT
DTSTART;TZID=Europe/London:20280104T203000
DTEND;TZID=Europe/London:20280104T213000
DTSTAMP:20260420T100312
CREATED:20250206T195157Z
LAST-MODIFIED:20250220T172500Z
UID:10060626-1830630600-1830634200@cp12stepoutreach.org
SUMMARY:Guttermonks D & C - Open Meeting
DESCRIPTION:Step 11 Centering Prayer Meeting \n“OPEN TO ALL FELLOWSHIPS” \nZOOM ID: 353 864 4354 \nPW: 953 660 \nNOTE: THIS MEETING IS IN THE UK\, 8:30PM BST IS 3:30PM ET\, 2:30PM CT & 12:30PM PT \n  \n 
URL:https://cp12stepoutreach.org/meeting-or-group/guttermonks-d-c-2/2028-01-04/
LOCATION:Zoom Meeting
CATEGORIES:Online 12 Step Centering Prayer Groups
END:VEVENT
BEGIN:VEVENT
DTSTART;TZID=Europe/London:20280111T203000
DTEND;TZID=Europe/London:20280111T213000
DTSTAMP:20260420T100312
CREATED:20250206T195157Z
LAST-MODIFIED:20250220T172500Z
UID:10060627-1831235400-1831239000@cp12stepoutreach.org
SUMMARY:Guttermonks D & C - Open Meeting
DESCRIPTION:Step 11 Centering Prayer Meeting \n“OPEN TO ALL FELLOWSHIPS” \nZOOM ID: 353 864 4354 \nPW: 953 660 \nNOTE: THIS MEETING IS IN THE UK\, 8:30PM BST IS 3:30PM ET\, 2:30PM CT & 12:30PM PT \n  \n 
URL:https://cp12stepoutreach.org/meeting-or-group/guttermonks-d-c-2/2028-01-11/
LOCATION:Zoom Meeting
CATEGORIES:Online 12 Step Centering Prayer Groups
END:VEVENT
BEGIN:VEVENT
DTSTART;TZID=Europe/London:20280118T203000
DTEND;TZID=Europe/London:20280118T213000
DTSTAMP:20260420T100312
CREATED:20250206T195157Z
LAST-MODIFIED:20250220T172500Z
UID:10060628-1831840200-1831843800@cp12stepoutreach.org
SUMMARY:Guttermonks D & C - Open Meeting
DESCRIPTION:Step 11 Centering Prayer Meeting \n“OPEN TO ALL FELLOWSHIPS” \nZOOM ID: 353 864 4354 \nPW: 953 660 \nNOTE: THIS MEETING IS IN THE UK\, 8:30PM BST IS 3:30PM ET\, 2:30PM CT & 12:30PM PT \n  \n 
URL:https://cp12stepoutreach.org/meeting-or-group/guttermonks-d-c-2/2028-01-18/
LOCATION:Zoom Meeting
CATEGORIES:Online 12 Step Centering Prayer Groups
END:VEVENT
BEGIN:VEVENT
DTSTART;TZID=Europe/London:20280125T203000
DTEND;TZID=Europe/London:20280125T213000
DTSTAMP:20260420T100312
CREATED:20250206T195157Z
LAST-MODIFIED:20250220T172500Z
UID:10060629-1832445000-1832448600@cp12stepoutreach.org
SUMMARY:Guttermonks D & C - Open Meeting
DESCRIPTION:Step 11 Centering Prayer Meeting \n“OPEN TO ALL FELLOWSHIPS” \nZOOM ID: 353 864 4354 \nPW: 953 660 \nNOTE: THIS MEETING IS IN THE UK\, 8:30PM BST IS 3:30PM ET\, 2:30PM CT & 12:30PM PT \n  \n 
URL:https://cp12stepoutreach.org/meeting-or-group/guttermonks-d-c-2/2028-01-25/
LOCATION:Zoom Meeting
CATEGORIES:Online 12 Step Centering Prayer Groups
END:VEVENT
BEGIN:VEVENT
DTSTART;TZID=Europe/London:20280201T203000
DTEND;TZID=Europe/London:20280201T213000
DTSTAMP:20260420T100312
CREATED:20250206T195157Z
LAST-MODIFIED:20250220T172500Z
UID:10060630-1833049800-1833053400@cp12stepoutreach.org
SUMMARY:Guttermonks D & C - Open Meeting
DESCRIPTION:Step 11 Centering Prayer Meeting \n“OPEN TO ALL FELLOWSHIPS” \nZOOM ID: 353 864 4354 \nPW: 953 660 \nNOTE: THIS MEETING IS IN THE UK\, 8:30PM BST IS 3:30PM ET\, 2:30PM CT & 12:30PM PT \n  \n 
URL:https://cp12stepoutreach.org/meeting-or-group/guttermonks-d-c-2/2028-02-01/
LOCATION:Zoom Meeting
CATEGORIES:Online 12 Step Centering Prayer Groups
END:VEVENT
BEGIN:VEVENT
DTSTART;TZID=Europe/London:20280208T203000
DTEND;TZID=Europe/London:20280208T213000
DTSTAMP:20260420T100312
CREATED:20250206T195157Z
LAST-MODIFIED:20250220T172500Z
UID:10060631-1833654600-1833658200@cp12stepoutreach.org
SUMMARY:Guttermonks D & C - Open Meeting
DESCRIPTION:Step 11 Centering Prayer Meeting \n“OPEN TO ALL FELLOWSHIPS” \nZOOM ID: 353 864 4354 \nPW: 953 660 \nNOTE: THIS MEETING IS IN THE UK\, 8:30PM BST IS 3:30PM ET\, 2:30PM CT & 12:30PM PT \n  \n 
URL:https://cp12stepoutreach.org/meeting-or-group/guttermonks-d-c-2/2028-02-08/
LOCATION:Zoom Meeting
CATEGORIES:Online 12 Step Centering Prayer Groups
END:VEVENT
BEGIN:VEVENT
DTSTART;TZID=Europe/London:20280215T203000
DTEND;TZID=Europe/London:20280215T213000
DTSTAMP:20260420T100312
CREATED:20250206T195157Z
LAST-MODIFIED:20250220T172500Z
UID:10060632-1834259400-1834263000@cp12stepoutreach.org
SUMMARY:Guttermonks D & C - Open Meeting
DESCRIPTION:Step 11 Centering Prayer Meeting \n“OPEN TO ALL FELLOWSHIPS” \nZOOM ID: 353 864 4354 \nPW: 953 660 \nNOTE: THIS MEETING IS IN THE UK\, 8:30PM BST IS 3:30PM ET\, 2:30PM CT & 12:30PM PT \n  \n 
URL:https://cp12stepoutreach.org/meeting-or-group/guttermonks-d-c-2/2028-02-15/
LOCATION:Zoom Meeting
CATEGORIES:Online 12 Step Centering Prayer Groups
END:VEVENT
BEGIN:VEVENT
DTSTART;TZID=Europe/London:20280222T203000
DTEND;TZID=Europe/London:20280222T213000
DTSTAMP:20260420T100312
CREATED:20250206T195157Z
LAST-MODIFIED:20250220T172500Z
UID:10060633-1834864200-1834867800@cp12stepoutreach.org
SUMMARY:Guttermonks D & C - Open Meeting
DESCRIPTION:Step 11 Centering Prayer Meeting \n“OPEN TO ALL FELLOWSHIPS” \nZOOM ID: 353 864 4354 \nPW: 953 660 \nNOTE: THIS MEETING IS IN THE UK\, 8:30PM BST IS 3:30PM ET\, 2:30PM CT & 12:30PM PT \n  \n 
URL:https://cp12stepoutreach.org/meeting-or-group/guttermonks-d-c-2/2028-02-22/
LOCATION:Zoom Meeting
CATEGORIES:Online 12 Step Centering Prayer Groups
END:VEVENT
BEGIN:VEVENT
DTSTART;TZID=Europe/London:20280229T203000
DTEND;TZID=Europe/London:20280229T213000
DTSTAMP:20260420T100312
CREATED:20250206T195157Z
LAST-MODIFIED:20250220T172500Z
UID:10060634-1835469000-1835472600@cp12stepoutreach.org
SUMMARY:Guttermonks D & C - Open Meeting
DESCRIPTION:Step 11 Centering Prayer Meeting \n“OPEN TO ALL FELLOWSHIPS” \nZOOM ID: 353 864 4354 \nPW: 953 660 \nNOTE: THIS MEETING IS IN THE UK\, 8:30PM BST IS 3:30PM ET\, 2:30PM CT & 12:30PM PT \n  \n 
URL:https://cp12stepoutreach.org/meeting-or-group/guttermonks-d-c-2/2028-02-29/
LOCATION:Zoom Meeting
CATEGORIES:Online 12 Step Centering Prayer Groups
END:VEVENT
BEGIN:VEVENT
DTSTART;TZID=Europe/London:20280307T203000
DTEND;TZID=Europe/London:20280307T213000
DTSTAMP:20260420T100312
CREATED:20250206T195157Z
LAST-MODIFIED:20250220T172500Z
UID:10060635-1836073800-1836077400@cp12stepoutreach.org
SUMMARY:Guttermonks D & C - Open Meeting
DESCRIPTION:Step 11 Centering Prayer Meeting \n“OPEN TO ALL FELLOWSHIPS” \nZOOM ID: 353 864 4354 \nPW: 953 660 \nNOTE: THIS MEETING IS IN THE UK\, 8:30PM BST IS 3:30PM ET\, 2:30PM CT & 12:30PM PT \n  \n 
URL:https://cp12stepoutreach.org/meeting-or-group/guttermonks-d-c-2/2028-03-07/
LOCATION:Zoom Meeting
CATEGORIES:Online 12 Step Centering Prayer Groups
END:VEVENT
BEGIN:VEVENT
DTSTART;TZID=Europe/London:20280314T203000
DTEND;TZID=Europe/London:20280314T213000
DTSTAMP:20260420T100312
CREATED:20250206T195157Z
LAST-MODIFIED:20250220T172500Z
UID:10060636-1836678600-1836682200@cp12stepoutreach.org
SUMMARY:Guttermonks D & C - Open Meeting
DESCRIPTION:Step 11 Centering Prayer Meeting \n“OPEN TO ALL FELLOWSHIPS” \nZOOM ID: 353 864 4354 \nPW: 953 660 \nNOTE: THIS MEETING IS IN THE UK\, 8:30PM BST IS 3:30PM ET\, 2:30PM CT & 12:30PM PT \n  \n 
URL:https://cp12stepoutreach.org/meeting-or-group/guttermonks-d-c-2/2028-03-14/
LOCATION:Zoom Meeting
CATEGORIES:Online 12 Step Centering Prayer Groups
END:VEVENT
BEGIN:VEVENT
DTSTART;TZID=Europe/London:20280321T203000
DTEND;TZID=Europe/London:20280321T213000
DTSTAMP:20260420T100312
CREATED:20250206T195157Z
LAST-MODIFIED:20250220T172500Z
UID:10060637-1837283400-1837287000@cp12stepoutreach.org
SUMMARY:Guttermonks D & C - Open Meeting
DESCRIPTION:Step 11 Centering Prayer Meeting \n“OPEN TO ALL FELLOWSHIPS” \nZOOM ID: 353 864 4354 \nPW: 953 660 \nNOTE: THIS MEETING IS IN THE UK\, 8:30PM BST IS 3:30PM ET\, 2:30PM CT & 12:30PM PT \n  \n 
URL:https://cp12stepoutreach.org/meeting-or-group/guttermonks-d-c-2/2028-03-21/
LOCATION:Zoom Meeting
CATEGORIES:Online 12 Step Centering Prayer Groups
END:VEVENT
BEGIN:VEVENT
DTSTART;TZID=Europe/London:20280328T203000
DTEND;TZID=Europe/London:20280328T213000
DTSTAMP:20260420T100312
CREATED:20250206T195157Z
LAST-MODIFIED:20250220T172500Z
UID:10060638-1837888200-1837891800@cp12stepoutreach.org
SUMMARY:Guttermonks D & C - Open Meeting
DESCRIPTION:Step 11 Centering Prayer Meeting \n“OPEN TO ALL FELLOWSHIPS” \nZOOM ID: 353 864 4354 \nPW: 953 660 \nNOTE: THIS MEETING IS IN THE UK\, 8:30PM BST IS 3:30PM ET\, 2:30PM CT & 12:30PM PT \n  \n 
URL:https://cp12stepoutreach.org/meeting-or-group/guttermonks-d-c-2/2028-03-28/
LOCATION:Zoom Meeting
CATEGORIES:Online 12 Step Centering Prayer Groups
END:VEVENT
BEGIN:VEVENT
DTSTART;TZID=Europe/London:20280404T203000
DTEND;TZID=Europe/London:20280404T213000
DTSTAMP:20260420T100312
CREATED:20250206T195157Z
LAST-MODIFIED:20250220T172500Z
UID:10060639-1838493000-1838496600@cp12stepoutreach.org
SUMMARY:Guttermonks D & C - Open Meeting
DESCRIPTION:Step 11 Centering Prayer Meeting \n“OPEN TO ALL FELLOWSHIPS” \nZOOM ID: 353 864 4354 \nPW: 953 660 \nNOTE: THIS MEETING IS IN THE UK\, 8:30PM BST IS 3:30PM ET\, 2:30PM CT & 12:30PM PT \n  \n 
URL:https://cp12stepoutreach.org/meeting-or-group/guttermonks-d-c-2/2028-04-04/
LOCATION:Zoom Meeting
CATEGORIES:Online 12 Step Centering Prayer Groups
END:VEVENT
BEGIN:VEVENT
DTSTART;TZID=Europe/London:20280411T203000
DTEND;TZID=Europe/London:20280411T213000
DTSTAMP:20260420T100312
CREATED:20250206T195157Z
LAST-MODIFIED:20250220T172500Z
UID:10060640-1839097800-1839101400@cp12stepoutreach.org
SUMMARY:Guttermonks D & C - Open Meeting
DESCRIPTION:Step 11 Centering Prayer Meeting \n“OPEN TO ALL FELLOWSHIPS” \nZOOM ID: 353 864 4354 \nPW: 953 660 \nNOTE: THIS MEETING IS IN THE UK\, 8:30PM BST IS 3:30PM ET\, 2:30PM CT & 12:30PM PT \n  \n 
URL:https://cp12stepoutreach.org/meeting-or-group/guttermonks-d-c-2/2028-04-11/
LOCATION:Zoom Meeting
CATEGORIES:Online 12 Step Centering Prayer Groups
END:VEVENT
BEGIN:VEVENT
DTSTART;TZID=Europe/London:20280418T203000
DTEND;TZID=Europe/London:20280418T213000
DTSTAMP:20260420T100312
CREATED:20250206T195157Z
LAST-MODIFIED:20250220T172500Z
UID:10060641-1839702600-1839706200@cp12stepoutreach.org
SUMMARY:Guttermonks D & C - Open Meeting
DESCRIPTION:Step 11 Centering Prayer Meeting \n“OPEN TO ALL FELLOWSHIPS” \nZOOM ID: 353 864 4354 \nPW: 953 660 \nNOTE: THIS MEETING IS IN THE UK\, 8:30PM BST IS 3:30PM ET\, 2:30PM CT & 12:30PM PT \n  \n 
URL:https://cp12stepoutreach.org/meeting-or-group/guttermonks-d-c-2/2028-04-18/
LOCATION:Zoom Meeting
CATEGORIES:Online 12 Step Centering Prayer Groups
END:VEVENT
BEGIN:VEVENT
DTSTART;TZID=Europe/London:20280425T203000
DTEND;TZID=Europe/London:20280425T213000
DTSTAMP:20260420T100312
CREATED:20250206T195157Z
LAST-MODIFIED:20250220T172500Z
UID:10060642-1840307400-1840311000@cp12stepoutreach.org
SUMMARY:Guttermonks D & C - Open Meeting
DESCRIPTION:Step 11 Centering Prayer Meeting \n“OPEN TO ALL FELLOWSHIPS” \nZOOM ID: 353 864 4354 \nPW: 953 660 \nNOTE: THIS MEETING IS IN THE UK\, 8:30PM BST IS 3:30PM ET\, 2:30PM CT & 12:30PM PT \n  \n 
URL:https://cp12stepoutreach.org/meeting-or-group/guttermonks-d-c-2/2028-04-25/
LOCATION:Zoom Meeting
CATEGORIES:Online 12 Step Centering Prayer Groups
END:VEVENT
BEGIN:VEVENT
DTSTART;TZID=Europe/London:20280502T203000
DTEND;TZID=Europe/London:20280502T213000
DTSTAMP:20260420T100312
CREATED:20250206T195157Z
LAST-MODIFIED:20250220T172500Z
UID:10060643-1840912200-1840915800@cp12stepoutreach.org
SUMMARY:Guttermonks D & C - Open Meeting
DESCRIPTION:Step 11 Centering Prayer Meeting \n“OPEN TO ALL FELLOWSHIPS” \nZOOM ID: 353 864 4354 \nPW: 953 660 \nNOTE: THIS MEETING IS IN THE UK\, 8:30PM BST IS 3:30PM ET\, 2:30PM CT & 12:30PM PT \n  \n 
URL:https://cp12stepoutreach.org/meeting-or-group/guttermonks-d-c-2/2028-05-02/
LOCATION:Zoom Meeting
CATEGORIES:Online 12 Step Centering Prayer Groups
END:VEVENT
BEGIN:VEVENT
DTSTART;TZID=Europe/London:20280509T203000
DTEND;TZID=Europe/London:20280509T213000
DTSTAMP:20260420T100312
CREATED:20250206T195157Z
LAST-MODIFIED:20250220T172500Z
UID:10060644-1841517000-1841520600@cp12stepoutreach.org
SUMMARY:Guttermonks D & C - Open Meeting
DESCRIPTION:Step 11 Centering Prayer Meeting \n“OPEN TO ALL FELLOWSHIPS” \nZOOM ID: 353 864 4354 \nPW: 953 660 \nNOTE: THIS MEETING IS IN THE UK\, 8:30PM BST IS 3:30PM ET\, 2:30PM CT & 12:30PM PT \n  \n 
URL:https://cp12stepoutreach.org/meeting-or-group/guttermonks-d-c-2/2028-05-09/
LOCATION:Zoom Meeting
CATEGORIES:Online 12 Step Centering Prayer Groups
END:VEVENT
BEGIN:VEVENT
DTSTART;TZID=Europe/London:20280516T203000
DTEND;TZID=Europe/London:20280516T213000
DTSTAMP:20260420T100312
CREATED:20250206T195157Z
LAST-MODIFIED:20250220T172500Z
UID:10060645-1842121800-1842125400@cp12stepoutreach.org
SUMMARY:Guttermonks D & C - Open Meeting
DESCRIPTION:Step 11 Centering Prayer Meeting \n“OPEN TO ALL FELLOWSHIPS” \nZOOM ID: 353 864 4354 \nPW: 953 660 \nNOTE: THIS MEETING IS IN THE UK\, 8:30PM BST IS 3:30PM ET\, 2:30PM CT & 12:30PM PT \n  \n 
URL:https://cp12stepoutreach.org/meeting-or-group/guttermonks-d-c-2/2028-05-16/
LOCATION:Zoom Meeting
CATEGORIES:Online 12 Step Centering Prayer Groups
END:VEVENT
BEGIN:VEVENT
DTSTART;TZID=Europe/London:20280523T203000
DTEND;TZID=Europe/London:20280523T213000
DTSTAMP:20260420T100312
CREATED:20250206T195157Z
LAST-MODIFIED:20250220T172500Z
UID:10060646-1842726600-1842730200@cp12stepoutreach.org
SUMMARY:Guttermonks D & C - Open Meeting
DESCRIPTION:Step 11 Centering Prayer Meeting \n“OPEN TO ALL FELLOWSHIPS” \nZOOM ID: 353 864 4354 \nPW: 953 660 \nNOTE: THIS MEETING IS IN THE UK\, 8:30PM BST IS 3:30PM ET\, 2:30PM CT & 12:30PM PT \n  \n 
URL:https://cp12stepoutreach.org/meeting-or-group/guttermonks-d-c-2/2028-05-23/
LOCATION:Zoom Meeting
CATEGORIES:Online 12 Step Centering Prayer Groups
END:VEVENT
END:VCALENDAR