BEGIN:VCALENDAR
VERSION:2.0
PRODID:-//12 Step Outreach - ECPv6.11.2.1//NONSGML v1.0//EN
CALSCALE:GREGORIAN
METHOD:PUBLISH
X-WR-CALNAME:12 Step Outreach
X-ORIGINAL-URL:https://cp12stepoutreach.org
X-WR-CALDESC:Events for 12 Step Outreach
REFRESH-INTERVAL;VALUE=DURATION:PT1H
X-Robots-Tag:noindex
X-PUBLISHED-TTL:PT1H
BEGIN:VTIMEZONE
TZID:Europe/London
BEGIN:DAYLIGHT
TZOFFSETFROM:+0000
TZOFFSETTO:+0100
TZNAME:BST
DTSTART:20280326T010000
END:DAYLIGHT
BEGIN:STANDARD
TZOFFSETFROM:+0100
TZOFFSETTO:+0000
TZNAME:GMT
DTSTART:20281029T010000
END:STANDARD
BEGIN:DAYLIGHT
TZOFFSETFROM:+0000
TZOFFSETTO:+0100
TZNAME:BST
DTSTART:20290325T010000
END:DAYLIGHT
BEGIN:STANDARD
TZOFFSETFROM:+0100
TZOFFSETTO:+0000
TZNAME:GMT
DTSTART:20291028T010000
END:STANDARD
END:VTIMEZONE
BEGIN:VEVENT
DTSTART;TZID=Europe/London:20280808T203000
DTEND;TZID=Europe/London:20280808T213000
DTSTAMP:20260420T130913
CREATED:20250206T195157Z
LAST-MODIFIED:20250220T172500Z
UID:10060657-1849379400-1849383000@cp12stepoutreach.org
SUMMARY:Guttermonks D & C - Open Meeting
DESCRIPTION:Step 11 Centering Prayer Meeting \n“OPEN TO ALL FELLOWSHIPS” \nZOOM ID: 353 864 4354 \nPW: 953 660 \nNOTE: THIS MEETING IS IN THE UK\, 8:30PM BST IS 3:30PM ET\, 2:30PM CT & 12:30PM PT \n  \n 
URL:https://cp12stepoutreach.org/meeting-or-group/guttermonks-d-c-2/2028-08-08/
LOCATION:Zoom Meeting
CATEGORIES:Online 12 Step Centering Prayer Groups
END:VEVENT
BEGIN:VEVENT
DTSTART;TZID=Europe/London:20280815T203000
DTEND;TZID=Europe/London:20280815T213000
DTSTAMP:20260420T130913
CREATED:20250206T195157Z
LAST-MODIFIED:20250220T172500Z
UID:10060658-1849984200-1849987800@cp12stepoutreach.org
SUMMARY:Guttermonks D & C - Open Meeting
DESCRIPTION:Step 11 Centering Prayer Meeting \n“OPEN TO ALL FELLOWSHIPS” \nZOOM ID: 353 864 4354 \nPW: 953 660 \nNOTE: THIS MEETING IS IN THE UK\, 8:30PM BST IS 3:30PM ET\, 2:30PM CT & 12:30PM PT \n  \n 
URL:https://cp12stepoutreach.org/meeting-or-group/guttermonks-d-c-2/2028-08-15/
LOCATION:Zoom Meeting
CATEGORIES:Online 12 Step Centering Prayer Groups
END:VEVENT
BEGIN:VEVENT
DTSTART;TZID=Europe/London:20280822T203000
DTEND;TZID=Europe/London:20280822T213000
DTSTAMP:20260420T130913
CREATED:20250206T195157Z
LAST-MODIFIED:20250220T172500Z
UID:10060659-1850589000-1850592600@cp12stepoutreach.org
SUMMARY:Guttermonks D & C - Open Meeting
DESCRIPTION:Step 11 Centering Prayer Meeting \n“OPEN TO ALL FELLOWSHIPS” \nZOOM ID: 353 864 4354 \nPW: 953 660 \nNOTE: THIS MEETING IS IN THE UK\, 8:30PM BST IS 3:30PM ET\, 2:30PM CT & 12:30PM PT \n  \n 
URL:https://cp12stepoutreach.org/meeting-or-group/guttermonks-d-c-2/2028-08-22/
LOCATION:Zoom Meeting
CATEGORIES:Online 12 Step Centering Prayer Groups
END:VEVENT
BEGIN:VEVENT
DTSTART;TZID=Europe/London:20280829T203000
DTEND;TZID=Europe/London:20280829T213000
DTSTAMP:20260420T130913
CREATED:20250206T195157Z
LAST-MODIFIED:20250220T172500Z
UID:10060660-1851193800-1851197400@cp12stepoutreach.org
SUMMARY:Guttermonks D & C - Open Meeting
DESCRIPTION:Step 11 Centering Prayer Meeting \n“OPEN TO ALL FELLOWSHIPS” \nZOOM ID: 353 864 4354 \nPW: 953 660 \nNOTE: THIS MEETING IS IN THE UK\, 8:30PM BST IS 3:30PM ET\, 2:30PM CT & 12:30PM PT \n  \n 
URL:https://cp12stepoutreach.org/meeting-or-group/guttermonks-d-c-2/2028-08-29/
LOCATION:Zoom Meeting
CATEGORIES:Online 12 Step Centering Prayer Groups
END:VEVENT
BEGIN:VEVENT
DTSTART;TZID=Europe/London:20280905T203000
DTEND;TZID=Europe/London:20280905T213000
DTSTAMP:20260420T130913
CREATED:20250206T195157Z
LAST-MODIFIED:20250220T172500Z
UID:10060661-1851798600-1851802200@cp12stepoutreach.org
SUMMARY:Guttermonks D & C - Open Meeting
DESCRIPTION:Step 11 Centering Prayer Meeting \n“OPEN TO ALL FELLOWSHIPS” \nZOOM ID: 353 864 4354 \nPW: 953 660 \nNOTE: THIS MEETING IS IN THE UK\, 8:30PM BST IS 3:30PM ET\, 2:30PM CT & 12:30PM PT \n  \n 
URL:https://cp12stepoutreach.org/meeting-or-group/guttermonks-d-c-2/2028-09-05/
LOCATION:Zoom Meeting
CATEGORIES:Online 12 Step Centering Prayer Groups
END:VEVENT
BEGIN:VEVENT
DTSTART;TZID=Europe/London:20280912T203000
DTEND;TZID=Europe/London:20280912T213000
DTSTAMP:20260420T130913
CREATED:20250206T195157Z
LAST-MODIFIED:20250220T172500Z
UID:10060662-1852403400-1852407000@cp12stepoutreach.org
SUMMARY:Guttermonks D & C - Open Meeting
DESCRIPTION:Step 11 Centering Prayer Meeting \n“OPEN TO ALL FELLOWSHIPS” \nZOOM ID: 353 864 4354 \nPW: 953 660 \nNOTE: THIS MEETING IS IN THE UK\, 8:30PM BST IS 3:30PM ET\, 2:30PM CT & 12:30PM PT \n  \n 
URL:https://cp12stepoutreach.org/meeting-or-group/guttermonks-d-c-2/2028-09-12/
LOCATION:Zoom Meeting
CATEGORIES:Online 12 Step Centering Prayer Groups
END:VEVENT
BEGIN:VEVENT
DTSTART;TZID=Europe/London:20280919T203000
DTEND;TZID=Europe/London:20280919T213000
DTSTAMP:20260420T130913
CREATED:20250206T195157Z
LAST-MODIFIED:20250220T172500Z
UID:10060663-1853008200-1853011800@cp12stepoutreach.org
SUMMARY:Guttermonks D & C - Open Meeting
DESCRIPTION:Step 11 Centering Prayer Meeting \n“OPEN TO ALL FELLOWSHIPS” \nZOOM ID: 353 864 4354 \nPW: 953 660 \nNOTE: THIS MEETING IS IN THE UK\, 8:30PM BST IS 3:30PM ET\, 2:30PM CT & 12:30PM PT \n  \n 
URL:https://cp12stepoutreach.org/meeting-or-group/guttermonks-d-c-2/2028-09-19/
LOCATION:Zoom Meeting
CATEGORIES:Online 12 Step Centering Prayer Groups
END:VEVENT
BEGIN:VEVENT
DTSTART;TZID=Europe/London:20280926T203000
DTEND;TZID=Europe/London:20280926T213000
DTSTAMP:20260420T130913
CREATED:20250206T195157Z
LAST-MODIFIED:20250220T172500Z
UID:10060664-1853613000-1853616600@cp12stepoutreach.org
SUMMARY:Guttermonks D & C - Open Meeting
DESCRIPTION:Step 11 Centering Prayer Meeting \n“OPEN TO ALL FELLOWSHIPS” \nZOOM ID: 353 864 4354 \nPW: 953 660 \nNOTE: THIS MEETING IS IN THE UK\, 8:30PM BST IS 3:30PM ET\, 2:30PM CT & 12:30PM PT \n  \n 
URL:https://cp12stepoutreach.org/meeting-or-group/guttermonks-d-c-2/2028-09-26/
LOCATION:Zoom Meeting
CATEGORIES:Online 12 Step Centering Prayer Groups
END:VEVENT
BEGIN:VEVENT
DTSTART;TZID=Europe/London:20281003T203000
DTEND;TZID=Europe/London:20281003T213000
DTSTAMP:20260420T130913
CREATED:20250206T195157Z
LAST-MODIFIED:20250220T172500Z
UID:10060665-1854217800-1854221400@cp12stepoutreach.org
SUMMARY:Guttermonks D & C - Open Meeting
DESCRIPTION:Step 11 Centering Prayer Meeting \n“OPEN TO ALL FELLOWSHIPS” \nZOOM ID: 353 864 4354 \nPW: 953 660 \nNOTE: THIS MEETING IS IN THE UK\, 8:30PM BST IS 3:30PM ET\, 2:30PM CT & 12:30PM PT \n  \n 
URL:https://cp12stepoutreach.org/meeting-or-group/guttermonks-d-c-2/2028-10-03/
LOCATION:Zoom Meeting
CATEGORIES:Online 12 Step Centering Prayer Groups
END:VEVENT
BEGIN:VEVENT
DTSTART;TZID=Europe/London:20281010T203000
DTEND;TZID=Europe/London:20281010T213000
DTSTAMP:20260420T130913
CREATED:20250206T195157Z
LAST-MODIFIED:20250220T172500Z
UID:10060666-1854822600-1854826200@cp12stepoutreach.org
SUMMARY:Guttermonks D & C - Open Meeting
DESCRIPTION:Step 11 Centering Prayer Meeting \n“OPEN TO ALL FELLOWSHIPS” \nZOOM ID: 353 864 4354 \nPW: 953 660 \nNOTE: THIS MEETING IS IN THE UK\, 8:30PM BST IS 3:30PM ET\, 2:30PM CT & 12:30PM PT \n  \n 
URL:https://cp12stepoutreach.org/meeting-or-group/guttermonks-d-c-2/2028-10-10/
LOCATION:Zoom Meeting
CATEGORIES:Online 12 Step Centering Prayer Groups
END:VEVENT
BEGIN:VEVENT
DTSTART;TZID=Europe/London:20281017T203000
DTEND;TZID=Europe/London:20281017T213000
DTSTAMP:20260420T130913
CREATED:20250206T195157Z
LAST-MODIFIED:20250220T172500Z
UID:10060667-1855427400-1855431000@cp12stepoutreach.org
SUMMARY:Guttermonks D & C - Open Meeting
DESCRIPTION:Step 11 Centering Prayer Meeting \n“OPEN TO ALL FELLOWSHIPS” \nZOOM ID: 353 864 4354 \nPW: 953 660 \nNOTE: THIS MEETING IS IN THE UK\, 8:30PM BST IS 3:30PM ET\, 2:30PM CT & 12:30PM PT \n  \n 
URL:https://cp12stepoutreach.org/meeting-or-group/guttermonks-d-c-2/2028-10-17/
LOCATION:Zoom Meeting
CATEGORIES:Online 12 Step Centering Prayer Groups
END:VEVENT
BEGIN:VEVENT
DTSTART;TZID=Europe/London:20281024T203000
DTEND;TZID=Europe/London:20281024T213000
DTSTAMP:20260420T130913
CREATED:20250206T195157Z
LAST-MODIFIED:20250220T172500Z
UID:10060668-1856032200-1856035800@cp12stepoutreach.org
SUMMARY:Guttermonks D & C - Open Meeting
DESCRIPTION:Step 11 Centering Prayer Meeting \n“OPEN TO ALL FELLOWSHIPS” \nZOOM ID: 353 864 4354 \nPW: 953 660 \nNOTE: THIS MEETING IS IN THE UK\, 8:30PM BST IS 3:30PM ET\, 2:30PM CT & 12:30PM PT \n  \n 
URL:https://cp12stepoutreach.org/meeting-or-group/guttermonks-d-c-2/2028-10-24/
LOCATION:Zoom Meeting
CATEGORIES:Online 12 Step Centering Prayer Groups
END:VEVENT
BEGIN:VEVENT
DTSTART;TZID=Europe/London:20281031T203000
DTEND;TZID=Europe/London:20281031T213000
DTSTAMP:20260420T130913
CREATED:20250206T195157Z
LAST-MODIFIED:20250220T172500Z
UID:10060669-1856637000-1856640600@cp12stepoutreach.org
SUMMARY:Guttermonks D & C - Open Meeting
DESCRIPTION:Step 11 Centering Prayer Meeting \n“OPEN TO ALL FELLOWSHIPS” \nZOOM ID: 353 864 4354 \nPW: 953 660 \nNOTE: THIS MEETING IS IN THE UK\, 8:30PM BST IS 3:30PM ET\, 2:30PM CT & 12:30PM PT \n  \n 
URL:https://cp12stepoutreach.org/meeting-or-group/guttermonks-d-c-2/2028-10-31/
LOCATION:Zoom Meeting
CATEGORIES:Online 12 Step Centering Prayer Groups
END:VEVENT
BEGIN:VEVENT
DTSTART;TZID=Europe/London:20281107T203000
DTEND;TZID=Europe/London:20281107T213000
DTSTAMP:20260420T130913
CREATED:20250206T195157Z
LAST-MODIFIED:20250220T172500Z
UID:10060670-1857241800-1857245400@cp12stepoutreach.org
SUMMARY:Guttermonks D & C - Open Meeting
DESCRIPTION:Step 11 Centering Prayer Meeting \n“OPEN TO ALL FELLOWSHIPS” \nZOOM ID: 353 864 4354 \nPW: 953 660 \nNOTE: THIS MEETING IS IN THE UK\, 8:30PM BST IS 3:30PM ET\, 2:30PM CT & 12:30PM PT \n  \n 
URL:https://cp12stepoutreach.org/meeting-or-group/guttermonks-d-c-2/2028-11-07/
LOCATION:Zoom Meeting
CATEGORIES:Online 12 Step Centering Prayer Groups
END:VEVENT
BEGIN:VEVENT
DTSTART;TZID=Europe/London:20281114T203000
DTEND;TZID=Europe/London:20281114T213000
DTSTAMP:20260420T130913
CREATED:20250206T195157Z
LAST-MODIFIED:20250220T172500Z
UID:10060671-1857846600-1857850200@cp12stepoutreach.org
SUMMARY:Guttermonks D & C - Open Meeting
DESCRIPTION:Step 11 Centering Prayer Meeting \n“OPEN TO ALL FELLOWSHIPS” \nZOOM ID: 353 864 4354 \nPW: 953 660 \nNOTE: THIS MEETING IS IN THE UK\, 8:30PM BST IS 3:30PM ET\, 2:30PM CT & 12:30PM PT \n  \n 
URL:https://cp12stepoutreach.org/meeting-or-group/guttermonks-d-c-2/2028-11-14/
LOCATION:Zoom Meeting
CATEGORIES:Online 12 Step Centering Prayer Groups
END:VEVENT
BEGIN:VEVENT
DTSTART;TZID=Europe/London:20281121T203000
DTEND;TZID=Europe/London:20281121T213000
DTSTAMP:20260420T130913
CREATED:20250206T195157Z
LAST-MODIFIED:20250220T172500Z
UID:10060672-1858451400-1858455000@cp12stepoutreach.org
SUMMARY:Guttermonks D & C - Open Meeting
DESCRIPTION:Step 11 Centering Prayer Meeting \n“OPEN TO ALL FELLOWSHIPS” \nZOOM ID: 353 864 4354 \nPW: 953 660 \nNOTE: THIS MEETING IS IN THE UK\, 8:30PM BST IS 3:30PM ET\, 2:30PM CT & 12:30PM PT \n  \n 
URL:https://cp12stepoutreach.org/meeting-or-group/guttermonks-d-c-2/2028-11-21/
LOCATION:Zoom Meeting
CATEGORIES:Online 12 Step Centering Prayer Groups
END:VEVENT
BEGIN:VEVENT
DTSTART;TZID=Europe/London:20281128T203000
DTEND;TZID=Europe/London:20281128T213000
DTSTAMP:20260420T130913
CREATED:20250206T195157Z
LAST-MODIFIED:20250220T172500Z
UID:10060673-1859056200-1859059800@cp12stepoutreach.org
SUMMARY:Guttermonks D & C - Open Meeting
DESCRIPTION:Step 11 Centering Prayer Meeting \n“OPEN TO ALL FELLOWSHIPS” \nZOOM ID: 353 864 4354 \nPW: 953 660 \nNOTE: THIS MEETING IS IN THE UK\, 8:30PM BST IS 3:30PM ET\, 2:30PM CT & 12:30PM PT \n  \n 
URL:https://cp12stepoutreach.org/meeting-or-group/guttermonks-d-c-2/2028-11-28/
LOCATION:Zoom Meeting
CATEGORIES:Online 12 Step Centering Prayer Groups
END:VEVENT
BEGIN:VEVENT
DTSTART;TZID=Europe/London:20281205T203000
DTEND;TZID=Europe/London:20281205T213000
DTSTAMP:20260420T130913
CREATED:20250206T195157Z
LAST-MODIFIED:20250220T172500Z
UID:10060674-1859661000-1859664600@cp12stepoutreach.org
SUMMARY:Guttermonks D & C - Open Meeting
DESCRIPTION:Step 11 Centering Prayer Meeting \n“OPEN TO ALL FELLOWSHIPS” \nZOOM ID: 353 864 4354 \nPW: 953 660 \nNOTE: THIS MEETING IS IN THE UK\, 8:30PM BST IS 3:30PM ET\, 2:30PM CT & 12:30PM PT \n  \n 
URL:https://cp12stepoutreach.org/meeting-or-group/guttermonks-d-c-2/2028-12-05/
LOCATION:Zoom Meeting
CATEGORIES:Online 12 Step Centering Prayer Groups
END:VEVENT
BEGIN:VEVENT
DTSTART;TZID=Europe/London:20281212T203000
DTEND;TZID=Europe/London:20281212T213000
DTSTAMP:20260420T130913
CREATED:20250206T195157Z
LAST-MODIFIED:20250220T172500Z
UID:10060675-1860265800-1860269400@cp12stepoutreach.org
SUMMARY:Guttermonks D & C - Open Meeting
DESCRIPTION:Step 11 Centering Prayer Meeting \n“OPEN TO ALL FELLOWSHIPS” \nZOOM ID: 353 864 4354 \nPW: 953 660 \nNOTE: THIS MEETING IS IN THE UK\, 8:30PM BST IS 3:30PM ET\, 2:30PM CT & 12:30PM PT \n  \n 
URL:https://cp12stepoutreach.org/meeting-or-group/guttermonks-d-c-2/2028-12-12/
LOCATION:Zoom Meeting
CATEGORIES:Online 12 Step Centering Prayer Groups
END:VEVENT
BEGIN:VEVENT
DTSTART;TZID=Europe/London:20281219T203000
DTEND;TZID=Europe/London:20281219T213000
DTSTAMP:20260420T130913
CREATED:20250206T195157Z
LAST-MODIFIED:20250220T172500Z
UID:10060676-1860870600-1860874200@cp12stepoutreach.org
SUMMARY:Guttermonks D & C - Open Meeting
DESCRIPTION:Step 11 Centering Prayer Meeting \n“OPEN TO ALL FELLOWSHIPS” \nZOOM ID: 353 864 4354 \nPW: 953 660 \nNOTE: THIS MEETING IS IN THE UK\, 8:30PM BST IS 3:30PM ET\, 2:30PM CT & 12:30PM PT \n  \n 
URL:https://cp12stepoutreach.org/meeting-or-group/guttermonks-d-c-2/2028-12-19/
LOCATION:Zoom Meeting
CATEGORIES:Online 12 Step Centering Prayer Groups
END:VEVENT
BEGIN:VEVENT
DTSTART;TZID=Europe/London:20281226T203000
DTEND;TZID=Europe/London:20281226T213000
DTSTAMP:20260420T130913
CREATED:20250206T195157Z
LAST-MODIFIED:20250220T172500Z
UID:10060677-1861475400-1861479000@cp12stepoutreach.org
SUMMARY:Guttermonks D & C - Open Meeting
DESCRIPTION:Step 11 Centering Prayer Meeting \n“OPEN TO ALL FELLOWSHIPS” \nZOOM ID: 353 864 4354 \nPW: 953 660 \nNOTE: THIS MEETING IS IN THE UK\, 8:30PM BST IS 3:30PM ET\, 2:30PM CT & 12:30PM PT \n  \n 
URL:https://cp12stepoutreach.org/meeting-or-group/guttermonks-d-c-2/2028-12-26/
LOCATION:Zoom Meeting
CATEGORIES:Online 12 Step Centering Prayer Groups
END:VEVENT
BEGIN:VEVENT
DTSTART;TZID=Europe/London:20290102T203000
DTEND;TZID=Europe/London:20290102T213000
DTSTAMP:20260420T130913
CREATED:20250206T195157Z
LAST-MODIFIED:20250220T172500Z
UID:10060678-1862080200-1862083800@cp12stepoutreach.org
SUMMARY:Guttermonks D & C - Open Meeting
DESCRIPTION:Step 11 Centering Prayer Meeting \n“OPEN TO ALL FELLOWSHIPS” \nZOOM ID: 353 864 4354 \nPW: 953 660 \nNOTE: THIS MEETING IS IN THE UK\, 8:30PM BST IS 3:30PM ET\, 2:30PM CT & 12:30PM PT \n  \n 
URL:https://cp12stepoutreach.org/meeting-or-group/guttermonks-d-c-2/2029-01-02/
LOCATION:Zoom Meeting
CATEGORIES:Online 12 Step Centering Prayer Groups
END:VEVENT
BEGIN:VEVENT
DTSTART;TZID=Europe/London:20290109T203000
DTEND;TZID=Europe/London:20290109T213000
DTSTAMP:20260420T130913
CREATED:20250206T195157Z
LAST-MODIFIED:20250220T172500Z
UID:10060679-1862685000-1862688600@cp12stepoutreach.org
SUMMARY:Guttermonks D & C - Open Meeting
DESCRIPTION:Step 11 Centering Prayer Meeting \n“OPEN TO ALL FELLOWSHIPS” \nZOOM ID: 353 864 4354 \nPW: 953 660 \nNOTE: THIS MEETING IS IN THE UK\, 8:30PM BST IS 3:30PM ET\, 2:30PM CT & 12:30PM PT \n  \n 
URL:https://cp12stepoutreach.org/meeting-or-group/guttermonks-d-c-2/2029-01-09/
LOCATION:Zoom Meeting
CATEGORIES:Online 12 Step Centering Prayer Groups
END:VEVENT
BEGIN:VEVENT
DTSTART;TZID=Europe/London:20290116T203000
DTEND;TZID=Europe/London:20290116T213000
DTSTAMP:20260420T130913
CREATED:20250206T195157Z
LAST-MODIFIED:20250220T172500Z
UID:10060680-1863289800-1863293400@cp12stepoutreach.org
SUMMARY:Guttermonks D & C - Open Meeting
DESCRIPTION:Step 11 Centering Prayer Meeting \n“OPEN TO ALL FELLOWSHIPS” \nZOOM ID: 353 864 4354 \nPW: 953 660 \nNOTE: THIS MEETING IS IN THE UK\, 8:30PM BST IS 3:30PM ET\, 2:30PM CT & 12:30PM PT \n  \n 
URL:https://cp12stepoutreach.org/meeting-or-group/guttermonks-d-c-2/2029-01-16/
LOCATION:Zoom Meeting
CATEGORIES:Online 12 Step Centering Prayer Groups
END:VEVENT
BEGIN:VEVENT
DTSTART;TZID=Europe/London:20290123T203000
DTEND;TZID=Europe/London:20290123T213000
DTSTAMP:20260420T130913
CREATED:20250206T195157Z
LAST-MODIFIED:20250220T172500Z
UID:10060681-1863894600-1863898200@cp12stepoutreach.org
SUMMARY:Guttermonks D & C - Open Meeting
DESCRIPTION:Step 11 Centering Prayer Meeting \n“OPEN TO ALL FELLOWSHIPS” \nZOOM ID: 353 864 4354 \nPW: 953 660 \nNOTE: THIS MEETING IS IN THE UK\, 8:30PM BST IS 3:30PM ET\, 2:30PM CT & 12:30PM PT \n  \n 
URL:https://cp12stepoutreach.org/meeting-or-group/guttermonks-d-c-2/2029-01-23/
LOCATION:Zoom Meeting
CATEGORIES:Online 12 Step Centering Prayer Groups
END:VEVENT
BEGIN:VEVENT
DTSTART;TZID=Europe/London:20290130T203000
DTEND;TZID=Europe/London:20290130T213000
DTSTAMP:20260420T130913
CREATED:20250206T195157Z
LAST-MODIFIED:20250220T172500Z
UID:10060682-1864499400-1864503000@cp12stepoutreach.org
SUMMARY:Guttermonks D & C - Open Meeting
DESCRIPTION:Step 11 Centering Prayer Meeting \n“OPEN TO ALL FELLOWSHIPS” \nZOOM ID: 353 864 4354 \nPW: 953 660 \nNOTE: THIS MEETING IS IN THE UK\, 8:30PM BST IS 3:30PM ET\, 2:30PM CT & 12:30PM PT \n  \n 
URL:https://cp12stepoutreach.org/meeting-or-group/guttermonks-d-c-2/2029-01-30/
LOCATION:Zoom Meeting
CATEGORIES:Online 12 Step Centering Prayer Groups
END:VEVENT
BEGIN:VEVENT
DTSTART;TZID=Europe/London:20290206T203000
DTEND;TZID=Europe/London:20290206T213000
DTSTAMP:20260420T130913
CREATED:20250206T195157Z
LAST-MODIFIED:20250220T172500Z
UID:10060683-1865104200-1865107800@cp12stepoutreach.org
SUMMARY:Guttermonks D & C - Open Meeting
DESCRIPTION:Step 11 Centering Prayer Meeting \n“OPEN TO ALL FELLOWSHIPS” \nZOOM ID: 353 864 4354 \nPW: 953 660 \nNOTE: THIS MEETING IS IN THE UK\, 8:30PM BST IS 3:30PM ET\, 2:30PM CT & 12:30PM PT \n  \n 
URL:https://cp12stepoutreach.org/meeting-or-group/guttermonks-d-c-2/2029-02-06/
LOCATION:Zoom Meeting
CATEGORIES:Online 12 Step Centering Prayer Groups
END:VEVENT
BEGIN:VEVENT
DTSTART;TZID=Europe/London:20290213T203000
DTEND;TZID=Europe/London:20290213T213000
DTSTAMP:20260420T130913
CREATED:20250206T195157Z
LAST-MODIFIED:20250220T172500Z
UID:10060684-1865709000-1865712600@cp12stepoutreach.org
SUMMARY:Guttermonks D & C - Open Meeting
DESCRIPTION:Step 11 Centering Prayer Meeting \n“OPEN TO ALL FELLOWSHIPS” \nZOOM ID: 353 864 4354 \nPW: 953 660 \nNOTE: THIS MEETING IS IN THE UK\, 8:30PM BST IS 3:30PM ET\, 2:30PM CT & 12:30PM PT \n  \n 
URL:https://cp12stepoutreach.org/meeting-or-group/guttermonks-d-c-2/2029-02-13/
LOCATION:Zoom Meeting
CATEGORIES:Online 12 Step Centering Prayer Groups
END:VEVENT
BEGIN:VEVENT
DTSTART;TZID=Europe/London:20290220T203000
DTEND;TZID=Europe/London:20290220T213000
DTSTAMP:20260420T130913
CREATED:20250206T195157Z
LAST-MODIFIED:20250220T172500Z
UID:10060685-1866313800-1866317400@cp12stepoutreach.org
SUMMARY:Guttermonks D & C - Open Meeting
DESCRIPTION:Step 11 Centering Prayer Meeting \n“OPEN TO ALL FELLOWSHIPS” \nZOOM ID: 353 864 4354 \nPW: 953 660 \nNOTE: THIS MEETING IS IN THE UK\, 8:30PM BST IS 3:30PM ET\, 2:30PM CT & 12:30PM PT \n  \n 
URL:https://cp12stepoutreach.org/meeting-or-group/guttermonks-d-c-2/2029-02-20/
LOCATION:Zoom Meeting
CATEGORIES:Online 12 Step Centering Prayer Groups
END:VEVENT
BEGIN:VEVENT
DTSTART;TZID=Europe/London:20290227T203000
DTEND;TZID=Europe/London:20290227T213000
DTSTAMP:20260420T130913
CREATED:20250206T195157Z
LAST-MODIFIED:20250220T172500Z
UID:10060686-1866918600-1866922200@cp12stepoutreach.org
SUMMARY:Guttermonks D & C - Open Meeting
DESCRIPTION:Step 11 Centering Prayer Meeting \n“OPEN TO ALL FELLOWSHIPS” \nZOOM ID: 353 864 4354 \nPW: 953 660 \nNOTE: THIS MEETING IS IN THE UK\, 8:30PM BST IS 3:30PM ET\, 2:30PM CT & 12:30PM PT \n  \n 
URL:https://cp12stepoutreach.org/meeting-or-group/guttermonks-d-c-2/2029-02-27/
LOCATION:Zoom Meeting
CATEGORIES:Online 12 Step Centering Prayer Groups
END:VEVENT
END:VCALENDAR