BEGIN:VCALENDAR
VERSION:2.0
PRODID:-//12 Step Outreach - ECPv6.11.2.1//NONSGML v1.0//EN
CALSCALE:GREGORIAN
METHOD:PUBLISH
X-ORIGINAL-URL:https://cp12stepoutreach.org
X-WR-CALDESC:Events for 12 Step Outreach
REFRESH-INTERVAL;VALUE=DURATION:PT1H
X-Robots-Tag:noindex
X-PUBLISHED-TTL:PT1H
BEGIN:VTIMEZONE
TZID:Europe/London
BEGIN:DAYLIGHT
TZOFFSETFROM:+0000
TZOFFSETTO:+0100
TZNAME:BST
DTSTART:20280326T010000
END:DAYLIGHT
BEGIN:STANDARD
TZOFFSETFROM:+0100
TZOFFSETTO:+0000
TZNAME:GMT
DTSTART:20281029T010000
END:STANDARD
BEGIN:DAYLIGHT
TZOFFSETFROM:+0000
TZOFFSETTO:+0100
TZNAME:BST
DTSTART:20290325T010000
END:DAYLIGHT
BEGIN:STANDARD
TZOFFSETFROM:+0100
TZOFFSETTO:+0000
TZNAME:GMT
DTSTART:20291028T010000
END:STANDARD
END:VTIMEZONE
BEGIN:VEVENT
DTSTART;TZID=Europe/London:20281226T203000
DTEND;TZID=Europe/London:20281226T213000
DTSTAMP:20260420T143800
CREATED:20250206T195157Z
LAST-MODIFIED:20250220T172500Z
UID:10060677-1861475400-1861479000@cp12stepoutreach.org
SUMMARY:Guttermonks D & C - Open Meeting
DESCRIPTION:Step 11 Centering Prayer Meeting \n“OPEN TO ALL FELLOWSHIPS” \nZOOM ID: 353 864 4354 \nPW: 953 660 \nNOTE: THIS MEETING IS IN THE UK\, 8:30PM BST IS 3:30PM ET\, 2:30PM CT & 12:30PM PT \n  \n 
URL:https://cp12stepoutreach.org/meeting-or-group/guttermonks-d-c-2/2028-12-26/
LOCATION:Zoom Meeting
CATEGORIES:Online 12 Step Centering Prayer Groups
END:VEVENT
BEGIN:VEVENT
DTSTART;TZID=Europe/London:20290102T203000
DTEND;TZID=Europe/London:20290102T213000
DTSTAMP:20260420T143800
CREATED:20250206T195157Z
LAST-MODIFIED:20250220T172500Z
UID:10060678-1862080200-1862083800@cp12stepoutreach.org
SUMMARY:Guttermonks D & C - Open Meeting
DESCRIPTION:Step 11 Centering Prayer Meeting \n“OPEN TO ALL FELLOWSHIPS” \nZOOM ID: 353 864 4354 \nPW: 953 660 \nNOTE: THIS MEETING IS IN THE UK\, 8:30PM BST IS 3:30PM ET\, 2:30PM CT & 12:30PM PT \n  \n 
URL:https://cp12stepoutreach.org/meeting-or-group/guttermonks-d-c-2/2029-01-02/
LOCATION:Zoom Meeting
CATEGORIES:Online 12 Step Centering Prayer Groups
END:VEVENT
BEGIN:VEVENT
DTSTART;TZID=Europe/London:20290109T203000
DTEND;TZID=Europe/London:20290109T213000
DTSTAMP:20260420T143800
CREATED:20250206T195157Z
LAST-MODIFIED:20250220T172500Z
UID:10060679-1862685000-1862688600@cp12stepoutreach.org
SUMMARY:Guttermonks D & C - Open Meeting
DESCRIPTION:Step 11 Centering Prayer Meeting \n“OPEN TO ALL FELLOWSHIPS” \nZOOM ID: 353 864 4354 \nPW: 953 660 \nNOTE: THIS MEETING IS IN THE UK\, 8:30PM BST IS 3:30PM ET\, 2:30PM CT & 12:30PM PT \n  \n 
URL:https://cp12stepoutreach.org/meeting-or-group/guttermonks-d-c-2/2029-01-09/
LOCATION:Zoom Meeting
CATEGORIES:Online 12 Step Centering Prayer Groups
END:VEVENT
BEGIN:VEVENT
DTSTART;TZID=Europe/London:20290116T203000
DTEND;TZID=Europe/London:20290116T213000
DTSTAMP:20260420T143800
CREATED:20250206T195157Z
LAST-MODIFIED:20250220T172500Z
UID:10060680-1863289800-1863293400@cp12stepoutreach.org
SUMMARY:Guttermonks D & C - Open Meeting
DESCRIPTION:Step 11 Centering Prayer Meeting \n“OPEN TO ALL FELLOWSHIPS” \nZOOM ID: 353 864 4354 \nPW: 953 660 \nNOTE: THIS MEETING IS IN THE UK\, 8:30PM BST IS 3:30PM ET\, 2:30PM CT & 12:30PM PT \n  \n 
URL:https://cp12stepoutreach.org/meeting-or-group/guttermonks-d-c-2/2029-01-16/
LOCATION:Zoom Meeting
CATEGORIES:Online 12 Step Centering Prayer Groups
END:VEVENT
BEGIN:VEVENT
DTSTART;TZID=Europe/London:20290123T203000
DTEND;TZID=Europe/London:20290123T213000
DTSTAMP:20260420T143800
CREATED:20250206T195157Z
LAST-MODIFIED:20250220T172500Z
UID:10060681-1863894600-1863898200@cp12stepoutreach.org
SUMMARY:Guttermonks D & C - Open Meeting
DESCRIPTION:Step 11 Centering Prayer Meeting \n“OPEN TO ALL FELLOWSHIPS” \nZOOM ID: 353 864 4354 \nPW: 953 660 \nNOTE: THIS MEETING IS IN THE UK\, 8:30PM BST IS 3:30PM ET\, 2:30PM CT & 12:30PM PT \n  \n 
URL:https://cp12stepoutreach.org/meeting-or-group/guttermonks-d-c-2/2029-01-23/
LOCATION:Zoom Meeting
CATEGORIES:Online 12 Step Centering Prayer Groups
END:VEVENT
BEGIN:VEVENT
DTSTART;TZID=Europe/London:20290130T203000
DTEND;TZID=Europe/London:20290130T213000
DTSTAMP:20260420T143800
CREATED:20250206T195157Z
LAST-MODIFIED:20250220T172500Z
UID:10060682-1864499400-1864503000@cp12stepoutreach.org
SUMMARY:Guttermonks D & C - Open Meeting
DESCRIPTION:Step 11 Centering Prayer Meeting \n“OPEN TO ALL FELLOWSHIPS” \nZOOM ID: 353 864 4354 \nPW: 953 660 \nNOTE: THIS MEETING IS IN THE UK\, 8:30PM BST IS 3:30PM ET\, 2:30PM CT & 12:30PM PT \n  \n 
URL:https://cp12stepoutreach.org/meeting-or-group/guttermonks-d-c-2/2029-01-30/
LOCATION:Zoom Meeting
CATEGORIES:Online 12 Step Centering Prayer Groups
END:VEVENT
BEGIN:VEVENT
DTSTART;TZID=Europe/London:20290206T203000
DTEND;TZID=Europe/London:20290206T213000
DTSTAMP:20260420T143800
CREATED:20250206T195157Z
LAST-MODIFIED:20250220T172500Z
UID:10060683-1865104200-1865107800@cp12stepoutreach.org
SUMMARY:Guttermonks D & C - Open Meeting
DESCRIPTION:Step 11 Centering Prayer Meeting \n“OPEN TO ALL FELLOWSHIPS” \nZOOM ID: 353 864 4354 \nPW: 953 660 \nNOTE: THIS MEETING IS IN THE UK\, 8:30PM BST IS 3:30PM ET\, 2:30PM CT & 12:30PM PT \n  \n 
URL:https://cp12stepoutreach.org/meeting-or-group/guttermonks-d-c-2/2029-02-06/
LOCATION:Zoom Meeting
CATEGORIES:Online 12 Step Centering Prayer Groups
END:VEVENT
BEGIN:VEVENT
DTSTART;TZID=Europe/London:20290213T203000
DTEND;TZID=Europe/London:20290213T213000
DTSTAMP:20260420T143800
CREATED:20250206T195157Z
LAST-MODIFIED:20250220T172500Z
UID:10060684-1865709000-1865712600@cp12stepoutreach.org
SUMMARY:Guttermonks D & C - Open Meeting
DESCRIPTION:Step 11 Centering Prayer Meeting \n“OPEN TO ALL FELLOWSHIPS” \nZOOM ID: 353 864 4354 \nPW: 953 660 \nNOTE: THIS MEETING IS IN THE UK\, 8:30PM BST IS 3:30PM ET\, 2:30PM CT & 12:30PM PT \n  \n 
URL:https://cp12stepoutreach.org/meeting-or-group/guttermonks-d-c-2/2029-02-13/
LOCATION:Zoom Meeting
CATEGORIES:Online 12 Step Centering Prayer Groups
END:VEVENT
BEGIN:VEVENT
DTSTART;TZID=Europe/London:20290220T203000
DTEND;TZID=Europe/London:20290220T213000
DTSTAMP:20260420T143800
CREATED:20250206T195157Z
LAST-MODIFIED:20250220T172500Z
UID:10060685-1866313800-1866317400@cp12stepoutreach.org
SUMMARY:Guttermonks D & C - Open Meeting
DESCRIPTION:Step 11 Centering Prayer Meeting \n“OPEN TO ALL FELLOWSHIPS” \nZOOM ID: 353 864 4354 \nPW: 953 660 \nNOTE: THIS MEETING IS IN THE UK\, 8:30PM BST IS 3:30PM ET\, 2:30PM CT & 12:30PM PT \n  \n 
URL:https://cp12stepoutreach.org/meeting-or-group/guttermonks-d-c-2/2029-02-20/
LOCATION:Zoom Meeting
CATEGORIES:Online 12 Step Centering Prayer Groups
END:VEVENT
BEGIN:VEVENT
DTSTART;TZID=Europe/London:20290227T203000
DTEND;TZID=Europe/London:20290227T213000
DTSTAMP:20260420T143800
CREATED:20250206T195157Z
LAST-MODIFIED:20250220T172500Z
UID:10060686-1866918600-1866922200@cp12stepoutreach.org
SUMMARY:Guttermonks D & C - Open Meeting
DESCRIPTION:Step 11 Centering Prayer Meeting \n“OPEN TO ALL FELLOWSHIPS” \nZOOM ID: 353 864 4354 \nPW: 953 660 \nNOTE: THIS MEETING IS IN THE UK\, 8:30PM BST IS 3:30PM ET\, 2:30PM CT & 12:30PM PT \n  \n 
URL:https://cp12stepoutreach.org/meeting-or-group/guttermonks-d-c-2/2029-02-27/
LOCATION:Zoom Meeting
CATEGORIES:Online 12 Step Centering Prayer Groups
END:VEVENT
BEGIN:VEVENT
DTSTART;TZID=Europe/London:20290306T203000
DTEND;TZID=Europe/London:20290306T213000
DTSTAMP:20260420T143800
CREATED:20250206T195157Z
LAST-MODIFIED:20250220T172500Z
UID:10060687-1867523400-1867527000@cp12stepoutreach.org
SUMMARY:Guttermonks D & C - Open Meeting
DESCRIPTION:Step 11 Centering Prayer Meeting \n“OPEN TO ALL FELLOWSHIPS” \nZOOM ID: 353 864 4354 \nPW: 953 660 \nNOTE: THIS MEETING IS IN THE UK\, 8:30PM BST IS 3:30PM ET\, 2:30PM CT & 12:30PM PT \n  \n 
URL:https://cp12stepoutreach.org/meeting-or-group/guttermonks-d-c-2/2029-03-06/
LOCATION:Zoom Meeting
CATEGORIES:Online 12 Step Centering Prayer Groups
END:VEVENT
BEGIN:VEVENT
DTSTART;TZID=Europe/London:20290313T203000
DTEND;TZID=Europe/London:20290313T213000
DTSTAMP:20260420T143800
CREATED:20250206T195157Z
LAST-MODIFIED:20250220T172500Z
UID:10060688-1868128200-1868131800@cp12stepoutreach.org
SUMMARY:Guttermonks D & C - Open Meeting
DESCRIPTION:Step 11 Centering Prayer Meeting \n“OPEN TO ALL FELLOWSHIPS” \nZOOM ID: 353 864 4354 \nPW: 953 660 \nNOTE: THIS MEETING IS IN THE UK\, 8:30PM BST IS 3:30PM ET\, 2:30PM CT & 12:30PM PT \n  \n 
URL:https://cp12stepoutreach.org/meeting-or-group/guttermonks-d-c-2/2029-03-13/
LOCATION:Zoom Meeting
CATEGORIES:Online 12 Step Centering Prayer Groups
END:VEVENT
BEGIN:VEVENT
DTSTART;TZID=Europe/London:20290320T203000
DTEND;TZID=Europe/London:20290320T213000
DTSTAMP:20260420T143800
CREATED:20250206T195157Z
LAST-MODIFIED:20250220T172500Z
UID:10060689-1868733000-1868736600@cp12stepoutreach.org
SUMMARY:Guttermonks D & C - Open Meeting
DESCRIPTION:Step 11 Centering Prayer Meeting \n“OPEN TO ALL FELLOWSHIPS” \nZOOM ID: 353 864 4354 \nPW: 953 660 \nNOTE: THIS MEETING IS IN THE UK\, 8:30PM BST IS 3:30PM ET\, 2:30PM CT & 12:30PM PT \n  \n 
URL:https://cp12stepoutreach.org/meeting-or-group/guttermonks-d-c-2/2029-03-20/
LOCATION:Zoom Meeting
CATEGORIES:Online 12 Step Centering Prayer Groups
END:VEVENT
BEGIN:VEVENT
DTSTART;TZID=Europe/London:20290327T203000
DTEND;TZID=Europe/London:20290327T213000
DTSTAMP:20260420T143800
CREATED:20250206T195157Z
LAST-MODIFIED:20250220T172500Z
UID:10060690-1869337800-1869341400@cp12stepoutreach.org
SUMMARY:Guttermonks D & C - Open Meeting
DESCRIPTION:Step 11 Centering Prayer Meeting \n“OPEN TO ALL FELLOWSHIPS” \nZOOM ID: 353 864 4354 \nPW: 953 660 \nNOTE: THIS MEETING IS IN THE UK\, 8:30PM BST IS 3:30PM ET\, 2:30PM CT & 12:30PM PT \n  \n 
URL:https://cp12stepoutreach.org/meeting-or-group/guttermonks-d-c-2/2029-03-27/
LOCATION:Zoom Meeting
CATEGORIES:Online 12 Step Centering Prayer Groups
END:VEVENT
BEGIN:VEVENT
DTSTART;TZID=Europe/London:20290403T203000
DTEND;TZID=Europe/London:20290403T213000
DTSTAMP:20260420T143800
CREATED:20250206T195157Z
LAST-MODIFIED:20250220T172500Z
UID:10060691-1869942600-1869946200@cp12stepoutreach.org
SUMMARY:Guttermonks D & C - Open Meeting
DESCRIPTION:Step 11 Centering Prayer Meeting \n“OPEN TO ALL FELLOWSHIPS” \nZOOM ID: 353 864 4354 \nPW: 953 660 \nNOTE: THIS MEETING IS IN THE UK\, 8:30PM BST IS 3:30PM ET\, 2:30PM CT & 12:30PM PT \n  \n 
URL:https://cp12stepoutreach.org/meeting-or-group/guttermonks-d-c-2/2029-04-03/
LOCATION:Zoom Meeting
CATEGORIES:Online 12 Step Centering Prayer Groups
END:VEVENT
BEGIN:VEVENT
DTSTART;TZID=Europe/London:20290410T203000
DTEND;TZID=Europe/London:20290410T213000
DTSTAMP:20260420T143800
CREATED:20250206T195157Z
LAST-MODIFIED:20250220T172500Z
UID:10060692-1870547400-1870551000@cp12stepoutreach.org
SUMMARY:Guttermonks D & C - Open Meeting
DESCRIPTION:Step 11 Centering Prayer Meeting \n“OPEN TO ALL FELLOWSHIPS” \nZOOM ID: 353 864 4354 \nPW: 953 660 \nNOTE: THIS MEETING IS IN THE UK\, 8:30PM BST IS 3:30PM ET\, 2:30PM CT & 12:30PM PT \n  \n 
URL:https://cp12stepoutreach.org/meeting-or-group/guttermonks-d-c-2/2029-04-10/
LOCATION:Zoom Meeting
CATEGORIES:Online 12 Step Centering Prayer Groups
END:VEVENT
BEGIN:VEVENT
DTSTART;TZID=Europe/London:20290417T203000
DTEND;TZID=Europe/London:20290417T213000
DTSTAMP:20260420T143800
CREATED:20250206T195157Z
LAST-MODIFIED:20250220T172500Z
UID:10060693-1871152200-1871155800@cp12stepoutreach.org
SUMMARY:Guttermonks D & C - Open Meeting
DESCRIPTION:Step 11 Centering Prayer Meeting \n“OPEN TO ALL FELLOWSHIPS” \nZOOM ID: 353 864 4354 \nPW: 953 660 \nNOTE: THIS MEETING IS IN THE UK\, 8:30PM BST IS 3:30PM ET\, 2:30PM CT & 12:30PM PT \n  \n 
URL:https://cp12stepoutreach.org/meeting-or-group/guttermonks-d-c-2/2029-04-17/
LOCATION:Zoom Meeting
CATEGORIES:Online 12 Step Centering Prayer Groups
END:VEVENT
BEGIN:VEVENT
DTSTART;TZID=Europe/London:20290424T203000
DTEND;TZID=Europe/London:20290424T213000
DTSTAMP:20260420T143800
CREATED:20250206T195157Z
LAST-MODIFIED:20250220T172500Z
UID:10060694-1871757000-1871760600@cp12stepoutreach.org
SUMMARY:Guttermonks D & C - Open Meeting
DESCRIPTION:Step 11 Centering Prayer Meeting \n“OPEN TO ALL FELLOWSHIPS” \nZOOM ID: 353 864 4354 \nPW: 953 660 \nNOTE: THIS MEETING IS IN THE UK\, 8:30PM BST IS 3:30PM ET\, 2:30PM CT & 12:30PM PT \n  \n 
URL:https://cp12stepoutreach.org/meeting-or-group/guttermonks-d-c-2/2029-04-24/
LOCATION:Zoom Meeting
CATEGORIES:Online 12 Step Centering Prayer Groups
END:VEVENT
BEGIN:VEVENT
DTSTART;TZID=Europe/London:20290501T203000
DTEND;TZID=Europe/London:20290501T213000
DTSTAMP:20260420T143800
CREATED:20250206T195157Z
LAST-MODIFIED:20250220T172500Z
UID:10060695-1872361800-1872365400@cp12stepoutreach.org
SUMMARY:Guttermonks D & C - Open Meeting
DESCRIPTION:Step 11 Centering Prayer Meeting \n“OPEN TO ALL FELLOWSHIPS” \nZOOM ID: 353 864 4354 \nPW: 953 660 \nNOTE: THIS MEETING IS IN THE UK\, 8:30PM BST IS 3:30PM ET\, 2:30PM CT & 12:30PM PT \n  \n 
URL:https://cp12stepoutreach.org/meeting-or-group/guttermonks-d-c-2/2029-05-01/
LOCATION:Zoom Meeting
CATEGORIES:Online 12 Step Centering Prayer Groups
END:VEVENT
BEGIN:VEVENT
DTSTART;TZID=Europe/London:20290508T203000
DTEND;TZID=Europe/London:20290508T213000
DTSTAMP:20260420T143800
CREATED:20250206T195157Z
LAST-MODIFIED:20250220T172500Z
UID:10060696-1872966600-1872970200@cp12stepoutreach.org
SUMMARY:Guttermonks D & C - Open Meeting
DESCRIPTION:Step 11 Centering Prayer Meeting \n“OPEN TO ALL FELLOWSHIPS” \nZOOM ID: 353 864 4354 \nPW: 953 660 \nNOTE: THIS MEETING IS IN THE UK\, 8:30PM BST IS 3:30PM ET\, 2:30PM CT & 12:30PM PT \n  \n 
URL:https://cp12stepoutreach.org/meeting-or-group/guttermonks-d-c-2/2029-05-08/
LOCATION:Zoom Meeting
CATEGORIES:Online 12 Step Centering Prayer Groups
END:VEVENT
BEGIN:VEVENT
DTSTART;TZID=Europe/London:20290515T203000
DTEND;TZID=Europe/London:20290515T213000
DTSTAMP:20260420T143800
CREATED:20250206T195157Z
LAST-MODIFIED:20250220T172500Z
UID:10060697-1873571400-1873575000@cp12stepoutreach.org
SUMMARY:Guttermonks D & C - Open Meeting
DESCRIPTION:Step 11 Centering Prayer Meeting \n“OPEN TO ALL FELLOWSHIPS” \nZOOM ID: 353 864 4354 \nPW: 953 660 \nNOTE: THIS MEETING IS IN THE UK\, 8:30PM BST IS 3:30PM ET\, 2:30PM CT & 12:30PM PT \n  \n 
URL:https://cp12stepoutreach.org/meeting-or-group/guttermonks-d-c-2/2029-05-15/
LOCATION:Zoom Meeting
CATEGORIES:Online 12 Step Centering Prayer Groups
END:VEVENT
BEGIN:VEVENT
DTSTART;TZID=Europe/London:20290522T203000
DTEND;TZID=Europe/London:20290522T213000
DTSTAMP:20260420T143800
CREATED:20250206T195157Z
LAST-MODIFIED:20250220T172500Z
UID:10060698-1874176200-1874179800@cp12stepoutreach.org
SUMMARY:Guttermonks D & C - Open Meeting
DESCRIPTION:Step 11 Centering Prayer Meeting \n“OPEN TO ALL FELLOWSHIPS” \nZOOM ID: 353 864 4354 \nPW: 953 660 \nNOTE: THIS MEETING IS IN THE UK\, 8:30PM BST IS 3:30PM ET\, 2:30PM CT & 12:30PM PT \n  \n 
URL:https://cp12stepoutreach.org/meeting-or-group/guttermonks-d-c-2/2029-05-22/
LOCATION:Zoom Meeting
CATEGORIES:Online 12 Step Centering Prayer Groups
END:VEVENT
BEGIN:VEVENT
DTSTART;TZID=Europe/London:20290529T203000
DTEND;TZID=Europe/London:20290529T213000
DTSTAMP:20260420T143800
CREATED:20250206T195157Z
LAST-MODIFIED:20250220T172500Z
UID:10060699-1874781000-1874784600@cp12stepoutreach.org
SUMMARY:Guttermonks D & C - Open Meeting
DESCRIPTION:Step 11 Centering Prayer Meeting \n“OPEN TO ALL FELLOWSHIPS” \nZOOM ID: 353 864 4354 \nPW: 953 660 \nNOTE: THIS MEETING IS IN THE UK\, 8:30PM BST IS 3:30PM ET\, 2:30PM CT & 12:30PM PT \n  \n 
URL:https://cp12stepoutreach.org/meeting-or-group/guttermonks-d-c-2/2029-05-29/
LOCATION:Zoom Meeting
CATEGORIES:Online 12 Step Centering Prayer Groups
END:VEVENT
BEGIN:VEVENT
DTSTART;TZID=Europe/London:20290605T203000
DTEND;TZID=Europe/London:20290605T213000
DTSTAMP:20260420T143800
CREATED:20250206T195157Z
LAST-MODIFIED:20250220T172500Z
UID:10060700-1875385800-1875389400@cp12stepoutreach.org
SUMMARY:Guttermonks D & C - Open Meeting
DESCRIPTION:Step 11 Centering Prayer Meeting \n“OPEN TO ALL FELLOWSHIPS” \nZOOM ID: 353 864 4354 \nPW: 953 660 \nNOTE: THIS MEETING IS IN THE UK\, 8:30PM BST IS 3:30PM ET\, 2:30PM CT & 12:30PM PT \n  \n 
URL:https://cp12stepoutreach.org/meeting-or-group/guttermonks-d-c-2/2029-06-05/
LOCATION:Zoom Meeting
CATEGORIES:Online 12 Step Centering Prayer Groups
END:VEVENT
BEGIN:VEVENT
DTSTART;TZID=Europe/London:20290612T203000
DTEND;TZID=Europe/London:20290612T213000
DTSTAMP:20260420T143800
CREATED:20250206T195157Z
LAST-MODIFIED:20250220T172500Z
UID:10060701-1875990600-1875994200@cp12stepoutreach.org
SUMMARY:Guttermonks D & C - Open Meeting
DESCRIPTION:Step 11 Centering Prayer Meeting \n“OPEN TO ALL FELLOWSHIPS” \nZOOM ID: 353 864 4354 \nPW: 953 660 \nNOTE: THIS MEETING IS IN THE UK\, 8:30PM BST IS 3:30PM ET\, 2:30PM CT & 12:30PM PT \n  \n 
URL:https://cp12stepoutreach.org/meeting-or-group/guttermonks-d-c-2/2029-06-12/
LOCATION:Zoom Meeting
CATEGORIES:Online 12 Step Centering Prayer Groups
END:VEVENT
BEGIN:VEVENT
DTSTART;TZID=Europe/London:20290619T203000
DTEND;TZID=Europe/London:20290619T213000
DTSTAMP:20260420T143800
CREATED:20250206T195157Z
LAST-MODIFIED:20250220T172500Z
UID:10060702-1876595400-1876599000@cp12stepoutreach.org
SUMMARY:Guttermonks D & C - Open Meeting
DESCRIPTION:Step 11 Centering Prayer Meeting \n“OPEN TO ALL FELLOWSHIPS” \nZOOM ID: 353 864 4354 \nPW: 953 660 \nNOTE: THIS MEETING IS IN THE UK\, 8:30PM BST IS 3:30PM ET\, 2:30PM CT & 12:30PM PT \n  \n 
URL:https://cp12stepoutreach.org/meeting-or-group/guttermonks-d-c-2/2029-06-19/
LOCATION:Zoom Meeting
CATEGORIES:Online 12 Step Centering Prayer Groups
END:VEVENT
BEGIN:VEVENT
DTSTART;TZID=Europe/London:20290626T203000
DTEND;TZID=Europe/London:20290626T213000
DTSTAMP:20260420T143800
CREATED:20250206T195157Z
LAST-MODIFIED:20250220T172500Z
UID:10060703-1877200200-1877203800@cp12stepoutreach.org
SUMMARY:Guttermonks D & C - Open Meeting
DESCRIPTION:Step 11 Centering Prayer Meeting \n“OPEN TO ALL FELLOWSHIPS” \nZOOM ID: 353 864 4354 \nPW: 953 660 \nNOTE: THIS MEETING IS IN THE UK\, 8:30PM BST IS 3:30PM ET\, 2:30PM CT & 12:30PM PT \n  \n 
URL:https://cp12stepoutreach.org/meeting-or-group/guttermonks-d-c-2/2029-06-26/
LOCATION:Zoom Meeting
CATEGORIES:Online 12 Step Centering Prayer Groups
END:VEVENT
BEGIN:VEVENT
DTSTART;TZID=Europe/London:20290703T203000
DTEND;TZID=Europe/London:20290703T213000
DTSTAMP:20260420T143800
CREATED:20250206T195157Z
LAST-MODIFIED:20250220T172500Z
UID:10060704-1877805000-1877808600@cp12stepoutreach.org
SUMMARY:Guttermonks D & C - Open Meeting
DESCRIPTION:Step 11 Centering Prayer Meeting \n“OPEN TO ALL FELLOWSHIPS” \nZOOM ID: 353 864 4354 \nPW: 953 660 \nNOTE: THIS MEETING IS IN THE UK\, 8:30PM BST IS 3:30PM ET\, 2:30PM CT & 12:30PM PT \n  \n 
URL:https://cp12stepoutreach.org/meeting-or-group/guttermonks-d-c-2/2029-07-03/
LOCATION:Zoom Meeting
CATEGORIES:Online 12 Step Centering Prayer Groups
END:VEVENT
BEGIN:VEVENT
DTSTART;TZID=Europe/London:20290710T203000
DTEND;TZID=Europe/London:20290710T213000
DTSTAMP:20260420T143800
CREATED:20250206T195157Z
LAST-MODIFIED:20250220T172500Z
UID:10060705-1878409800-1878413400@cp12stepoutreach.org
SUMMARY:Guttermonks D & C - Open Meeting
DESCRIPTION:Step 11 Centering Prayer Meeting \n“OPEN TO ALL FELLOWSHIPS” \nZOOM ID: 353 864 4354 \nPW: 953 660 \nNOTE: THIS MEETING IS IN THE UK\, 8:30PM BST IS 3:30PM ET\, 2:30PM CT & 12:30PM PT \n  \n 
URL:https://cp12stepoutreach.org/meeting-or-group/guttermonks-d-c-2/2029-07-10/
LOCATION:Zoom Meeting
CATEGORIES:Online 12 Step Centering Prayer Groups
END:VEVENT
BEGIN:VEVENT
DTSTART;TZID=Europe/London:20290717T203000
DTEND;TZID=Europe/London:20290717T213000
DTSTAMP:20260420T143800
CREATED:20250206T195157Z
LAST-MODIFIED:20250220T172500Z
UID:10060706-1879014600-1879018200@cp12stepoutreach.org
SUMMARY:Guttermonks D & C - Open Meeting
DESCRIPTION:Step 11 Centering Prayer Meeting \n“OPEN TO ALL FELLOWSHIPS” \nZOOM ID: 353 864 4354 \nPW: 953 660 \nNOTE: THIS MEETING IS IN THE UK\, 8:30PM BST IS 3:30PM ET\, 2:30PM CT & 12:30PM PT \n  \n 
URL:https://cp12stepoutreach.org/meeting-or-group/guttermonks-d-c-2/2029-07-17/
LOCATION:Zoom Meeting
CATEGORIES:Online 12 Step Centering Prayer Groups
END:VEVENT
END:VCALENDAR