BEGIN:VCALENDAR
VERSION:2.0
PRODID:-//12 Step Outreach - ECPv6.11.2.1//NONSGML v1.0//EN
CALSCALE:GREGORIAN
METHOD:PUBLISH
X-ORIGINAL-URL:https://cp12stepoutreach.org
X-WR-CALDESC:Events for 12 Step Outreach
REFRESH-INTERVAL;VALUE=DURATION:PT1H
X-Robots-Tag:noindex
X-PUBLISHED-TTL:PT1H
BEGIN:VTIMEZONE
TZID:America/New_York
BEGIN:DAYLIGHT
TZOFFSETFROM:-0500
TZOFFSETTO:-0400
TZNAME:EDT
DTSTART:20220313T070000
END:DAYLIGHT
BEGIN:STANDARD
TZOFFSETFROM:-0400
TZOFFSETTO:-0500
TZNAME:EST
DTSTART:20221106T060000
END:STANDARD
END:VTIMEZONE
BEGIN:VEVENT
DTSTART;TZID=America/New_York:20220529T210000
DTEND;TZID=America/New_York:20220529T220000
DTSTAMP:20260420T175913
CREATED:20220328T194639Z
LAST-MODIFIED:20220328T194815Z
UID:10051952-1653858000-1653861600@cp12stepoutreach.org
SUMMARY:11 Step Centering Prayer Open Meeting
DESCRIPTION:Our format is as follows:\nOur Prayer Leader will read the Prayer of St. Francis. It will be followed by a brief reading selected from our AA literature. Then we will have a 20-minute period of Silent Meditation.\nNext\, we will reflect on an AA reading. It will be read 3 times with 2 minutes of silence for reflection between each reading. After the 3rd reading there will be time for sharing our experience\, strength\, and hope on our spiritual journeys.\nAt the end of our sharing\, the Prayer Leader will offer a pray for our 164-family followed by the 12th Step Prayer.\nThe meeting closes at the top of the hour with the Sanskrit Proverb. We will stay open for a parking lot session for all who care to stay and talk.
URL:https://cp12stepoutreach.org/meeting-or-group/11-step-centering-prayer-open-meeting/2022-05-29/
CATEGORIES:Online 11th Step Meditation Meetings
END:VEVENT
BEGIN:VEVENT
DTSTART;TZID=America/New_York:20220522T210000
DTEND;TZID=America/New_York:20220522T220000
DTSTAMP:20260420T175913
CREATED:20220328T194639Z
LAST-MODIFIED:20220328T194815Z
UID:10051951-1653253200-1653256800@cp12stepoutreach.org
SUMMARY:11 Step Centering Prayer Open Meeting
DESCRIPTION:Our format is as follows:\nOur Prayer Leader will read the Prayer of St. Francis. It will be followed by a brief reading selected from our AA literature. Then we will have a 20-minute period of Silent Meditation.\nNext\, we will reflect on an AA reading. It will be read 3 times with 2 minutes of silence for reflection between each reading. After the 3rd reading there will be time for sharing our experience\, strength\, and hope on our spiritual journeys.\nAt the end of our sharing\, the Prayer Leader will offer a pray for our 164-family followed by the 12th Step Prayer.\nThe meeting closes at the top of the hour with the Sanskrit Proverb. We will stay open for a parking lot session for all who care to stay and talk.
URL:https://cp12stepoutreach.org/meeting-or-group/11-step-centering-prayer-open-meeting/2022-05-22/
CATEGORIES:Online 11th Step Meditation Meetings
END:VEVENT
BEGIN:VEVENT
DTSTART;TZID=America/New_York:20220515T210000
DTEND;TZID=America/New_York:20220515T220000
DTSTAMP:20260420T175913
CREATED:20220328T194639Z
LAST-MODIFIED:20220328T194815Z
UID:10051950-1652648400-1652652000@cp12stepoutreach.org
SUMMARY:11 Step Centering Prayer Open Meeting
DESCRIPTION:Our format is as follows:\nOur Prayer Leader will read the Prayer of St. Francis. It will be followed by a brief reading selected from our AA literature. Then we will have a 20-minute period of Silent Meditation.\nNext\, we will reflect on an AA reading. It will be read 3 times with 2 minutes of silence for reflection between each reading. After the 3rd reading there will be time for sharing our experience\, strength\, and hope on our spiritual journeys.\nAt the end of our sharing\, the Prayer Leader will offer a pray for our 164-family followed by the 12th Step Prayer.\nThe meeting closes at the top of the hour with the Sanskrit Proverb. We will stay open for a parking lot session for all who care to stay and talk.
URL:https://cp12stepoutreach.org/meeting-or-group/11-step-centering-prayer-open-meeting/2022-05-15/
CATEGORIES:Online 11th Step Meditation Meetings
END:VEVENT
BEGIN:VEVENT
DTSTART;TZID=America/New_York:20220508T210000
DTEND;TZID=America/New_York:20220508T220000
DTSTAMP:20260420T175913
CREATED:20220328T194639Z
LAST-MODIFIED:20220328T194815Z
UID:10051949-1652043600-1652047200@cp12stepoutreach.org
SUMMARY:11 Step Centering Prayer Open Meeting
DESCRIPTION:Our format is as follows:\nOur Prayer Leader will read the Prayer of St. Francis. It will be followed by a brief reading selected from our AA literature. Then we will have a 20-minute period of Silent Meditation.\nNext\, we will reflect on an AA reading. It will be read 3 times with 2 minutes of silence for reflection between each reading. After the 3rd reading there will be time for sharing our experience\, strength\, and hope on our spiritual journeys.\nAt the end of our sharing\, the Prayer Leader will offer a pray for our 164-family followed by the 12th Step Prayer.\nThe meeting closes at the top of the hour with the Sanskrit Proverb. We will stay open for a parking lot session for all who care to stay and talk.
URL:https://cp12stepoutreach.org/meeting-or-group/11-step-centering-prayer-open-meeting/2022-05-08/
CATEGORIES:Online 11th Step Meditation Meetings
END:VEVENT
BEGIN:VEVENT
DTSTART;TZID=America/New_York:20220501T210000
DTEND;TZID=America/New_York:20220501T220000
DTSTAMP:20260420T175913
CREATED:20220328T194639Z
LAST-MODIFIED:20220328T194815Z
UID:10051948-1651438800-1651442400@cp12stepoutreach.org
SUMMARY:11 Step Centering Prayer Open Meeting
DESCRIPTION:Our format is as follows:\nOur Prayer Leader will read the Prayer of St. Francis. It will be followed by a brief reading selected from our AA literature. Then we will have a 20-minute period of Silent Meditation.\nNext\, we will reflect on an AA reading. It will be read 3 times with 2 minutes of silence for reflection between each reading. After the 3rd reading there will be time for sharing our experience\, strength\, and hope on our spiritual journeys.\nAt the end of our sharing\, the Prayer Leader will offer a pray for our 164-family followed by the 12th Step Prayer.\nThe meeting closes at the top of the hour with the Sanskrit Proverb. We will stay open for a parking lot session for all who care to stay and talk.
URL:https://cp12stepoutreach.org/meeting-or-group/11-step-centering-prayer-open-meeting/2022-05-01/
CATEGORIES:Online 11th Step Meditation Meetings
END:VEVENT
BEGIN:VEVENT
DTSTART;TZID=America/New_York:20220424T210000
DTEND;TZID=America/New_York:20220424T220000
DTSTAMP:20260420T175913
CREATED:20220328T194639Z
LAST-MODIFIED:20220328T194815Z
UID:10051947-1650834000-1650837600@cp12stepoutreach.org
SUMMARY:11 Step Centering Prayer Open Meeting
DESCRIPTION:Our format is as follows:\nOur Prayer Leader will read the Prayer of St. Francis. It will be followed by a brief reading selected from our AA literature. Then we will have a 20-minute period of Silent Meditation.\nNext\, we will reflect on an AA reading. It will be read 3 times with 2 minutes of silence for reflection between each reading. After the 3rd reading there will be time for sharing our experience\, strength\, and hope on our spiritual journeys.\nAt the end of our sharing\, the Prayer Leader will offer a pray for our 164-family followed by the 12th Step Prayer.\nThe meeting closes at the top of the hour with the Sanskrit Proverb. We will stay open for a parking lot session for all who care to stay and talk.
URL:https://cp12stepoutreach.org/meeting-or-group/11-step-centering-prayer-open-meeting/2022-04-24/
CATEGORIES:Online 11th Step Meditation Meetings
END:VEVENT
BEGIN:VEVENT
DTSTART;TZID=America/New_York:20220417T210000
DTEND;TZID=America/New_York:20220417T220000
DTSTAMP:20260420T175913
CREATED:20220328T194639Z
LAST-MODIFIED:20220328T194815Z
UID:10051946-1650229200-1650232800@cp12stepoutreach.org
SUMMARY:11 Step Centering Prayer Open Meeting
DESCRIPTION:Our format is as follows:\nOur Prayer Leader will read the Prayer of St. Francis. It will be followed by a brief reading selected from our AA literature. Then we will have a 20-minute period of Silent Meditation.\nNext\, we will reflect on an AA reading. It will be read 3 times with 2 minutes of silence for reflection between each reading. After the 3rd reading there will be time for sharing our experience\, strength\, and hope on our spiritual journeys.\nAt the end of our sharing\, the Prayer Leader will offer a pray for our 164-family followed by the 12th Step Prayer.\nThe meeting closes at the top of the hour with the Sanskrit Proverb. We will stay open for a parking lot session for all who care to stay and talk.
URL:https://cp12stepoutreach.org/meeting-or-group/11-step-centering-prayer-open-meeting/2022-04-17/
CATEGORIES:Online 11th Step Meditation Meetings
END:VEVENT
BEGIN:VEVENT
DTSTART;TZID=America/New_York:20220410T210000
DTEND;TZID=America/New_York:20220410T220000
DTSTAMP:20260420T175913
CREATED:20220328T194639Z
LAST-MODIFIED:20220328T194815Z
UID:10051945-1649624400-1649628000@cp12stepoutreach.org
SUMMARY:11 Step Centering Prayer Open Meeting
DESCRIPTION:Our format is as follows:\nOur Prayer Leader will read the Prayer of St. Francis. It will be followed by a brief reading selected from our AA literature. Then we will have a 20-minute period of Silent Meditation.\nNext\, we will reflect on an AA reading. It will be read 3 times with 2 minutes of silence for reflection between each reading. After the 3rd reading there will be time for sharing our experience\, strength\, and hope on our spiritual journeys.\nAt the end of our sharing\, the Prayer Leader will offer a pray for our 164-family followed by the 12th Step Prayer.\nThe meeting closes at the top of the hour with the Sanskrit Proverb. We will stay open for a parking lot session for all who care to stay and talk.
URL:https://cp12stepoutreach.org/meeting-or-group/11-step-centering-prayer-open-meeting/2022-04-10/
CATEGORIES:Online 11th Step Meditation Meetings
END:VEVENT
BEGIN:VEVENT
DTSTART;TZID=America/New_York:20220403T210000
DTEND;TZID=America/New_York:20220403T220000
DTSTAMP:20260420T175913
CREATED:20220328T194639Z
LAST-MODIFIED:20220328T194815Z
UID:10051944-1649019600-1649023200@cp12stepoutreach.org
SUMMARY:11 Step Centering Prayer Open Meeting
DESCRIPTION:Our format is as follows:\nOur Prayer Leader will read the Prayer of St. Francis. It will be followed by a brief reading selected from our AA literature. Then we will have a 20-minute period of Silent Meditation.\nNext\, we will reflect on an AA reading. It will be read 3 times with 2 minutes of silence for reflection between each reading. After the 3rd reading there will be time for sharing our experience\, strength\, and hope on our spiritual journeys.\nAt the end of our sharing\, the Prayer Leader will offer a pray for our 164-family followed by the 12th Step Prayer.\nThe meeting closes at the top of the hour with the Sanskrit Proverb. We will stay open for a parking lot session for all who care to stay and talk.
URL:https://cp12stepoutreach.org/meeting-or-group/11-step-centering-prayer-open-meeting/2022-04-03/
CATEGORIES:Online 11th Step Meditation Meetings
END:VEVENT
BEGIN:VEVENT
DTSTART;TZID=America/New_York:20220327T210000
DTEND;TZID=America/New_York:20220327T220000
DTSTAMP:20260420T175913
CREATED:20220328T194639Z
LAST-MODIFIED:20220328T194815Z
UID:10051943-1648414800-1648418400@cp12stepoutreach.org
SUMMARY:11 Step Centering Prayer Open Meeting
DESCRIPTION:Our format is as follows:\nOur Prayer Leader will read the Prayer of St. Francis. It will be followed by a brief reading selected from our AA literature. Then we will have a 20-minute period of Silent Meditation.\nNext\, we will reflect on an AA reading. It will be read 3 times with 2 minutes of silence for reflection between each reading. After the 3rd reading there will be time for sharing our experience\, strength\, and hope on our spiritual journeys.\nAt the end of our sharing\, the Prayer Leader will offer a pray for our 164-family followed by the 12th Step Prayer.\nThe meeting closes at the top of the hour with the Sanskrit Proverb. We will stay open for a parking lot session for all who care to stay and talk.
URL:https://cp12stepoutreach.org/meeting-or-group/11-step-centering-prayer-open-meeting/2022-03-27/
CATEGORIES:Online 11th Step Meditation Meetings
END:VEVENT
BEGIN:VEVENT
DTSTART;TZID=America/New_York:20220320T210000
DTEND;TZID=America/New_York:20220320T220000
DTSTAMP:20260420T175913
CREATED:20220328T194639Z
LAST-MODIFIED:20220328T194815Z
UID:10051942-1647810000-1647813600@cp12stepoutreach.org
SUMMARY:11 Step Centering Prayer Open Meeting
DESCRIPTION:Our format is as follows:\nOur Prayer Leader will read the Prayer of St. Francis. It will be followed by a brief reading selected from our AA literature. Then we will have a 20-minute period of Silent Meditation.\nNext\, we will reflect on an AA reading. It will be read 3 times with 2 minutes of silence for reflection between each reading. After the 3rd reading there will be time for sharing our experience\, strength\, and hope on our spiritual journeys.\nAt the end of our sharing\, the Prayer Leader will offer a pray for our 164-family followed by the 12th Step Prayer.\nThe meeting closes at the top of the hour with the Sanskrit Proverb. We will stay open for a parking lot session for all who care to stay and talk.
URL:https://cp12stepoutreach.org/meeting-or-group/11-step-centering-prayer-open-meeting/2022-03-20/
CATEGORIES:Online 11th Step Meditation Meetings
END:VEVENT
BEGIN:VEVENT
DTSTART;TZID=America/New_York:20220313T210000
DTEND;TZID=America/New_York:20220313T220000
DTSTAMP:20260420T175913
CREATED:20220328T194639Z
LAST-MODIFIED:20220328T194815Z
UID:10051941-1647205200-1647208800@cp12stepoutreach.org
SUMMARY:11 Step Centering Prayer Open Meeting
DESCRIPTION:Our format is as follows:\nOur Prayer Leader will read the Prayer of St. Francis. It will be followed by a brief reading selected from our AA literature. Then we will have a 20-minute period of Silent Meditation.\nNext\, we will reflect on an AA reading. It will be read 3 times with 2 minutes of silence for reflection between each reading. After the 3rd reading there will be time for sharing our experience\, strength\, and hope on our spiritual journeys.\nAt the end of our sharing\, the Prayer Leader will offer a pray for our 164-family followed by the 12th Step Prayer.\nThe meeting closes at the top of the hour with the Sanskrit Proverb. We will stay open for a parking lot session for all who care to stay and talk.
URL:https://cp12stepoutreach.org/meeting-or-group/11-step-centering-prayer-open-meeting/2022-03-13/
CATEGORIES:Online 11th Step Meditation Meetings
END:VEVENT
BEGIN:VEVENT
DTSTART;TZID=America/New_York:20220306T210000
DTEND;TZID=America/New_York:20220306T220000
DTSTAMP:20260420T175913
CREATED:20220328T194639Z
LAST-MODIFIED:20220328T194815Z
UID:10051940-1646600400-1646604000@cp12stepoutreach.org
SUMMARY:11 Step Centering Prayer Open Meeting
DESCRIPTION:Our format is as follows:\nOur Prayer Leader will read the Prayer of St. Francis. It will be followed by a brief reading selected from our AA literature. Then we will have a 20-minute period of Silent Meditation.\nNext\, we will reflect on an AA reading. It will be read 3 times with 2 minutes of silence for reflection between each reading. After the 3rd reading there will be time for sharing our experience\, strength\, and hope on our spiritual journeys.\nAt the end of our sharing\, the Prayer Leader will offer a pray for our 164-family followed by the 12th Step Prayer.\nThe meeting closes at the top of the hour with the Sanskrit Proverb. We will stay open for a parking lot session for all who care to stay and talk.
URL:https://cp12stepoutreach.org/meeting-or-group/11-step-centering-prayer-open-meeting/2022-03-06/
CATEGORIES:Online 11th Step Meditation Meetings
END:VEVENT
BEGIN:VEVENT
DTSTART;TZID=America/New_York:20220227T210000
DTEND;TZID=America/New_York:20220227T220000
DTSTAMP:20260420T175913
CREATED:20220328T194639Z
LAST-MODIFIED:20220328T194815Z
UID:10051939-1645995600-1645999200@cp12stepoutreach.org
SUMMARY:11 Step Centering Prayer Open Meeting
DESCRIPTION:Our format is as follows:\nOur Prayer Leader will read the Prayer of St. Francis. It will be followed by a brief reading selected from our AA literature. Then we will have a 20-minute period of Silent Meditation.\nNext\, we will reflect on an AA reading. It will be read 3 times with 2 minutes of silence for reflection between each reading. After the 3rd reading there will be time for sharing our experience\, strength\, and hope on our spiritual journeys.\nAt the end of our sharing\, the Prayer Leader will offer a pray for our 164-family followed by the 12th Step Prayer.\nThe meeting closes at the top of the hour with the Sanskrit Proverb. We will stay open for a parking lot session for all who care to stay and talk.
URL:https://cp12stepoutreach.org/meeting-or-group/11-step-centering-prayer-open-meeting/2022-02-27/
CATEGORIES:Online 11th Step Meditation Meetings
END:VEVENT
BEGIN:VEVENT
DTSTART;TZID=America/New_York:20220220T210000
DTEND;TZID=America/New_York:20220220T220000
DTSTAMP:20260420T175913
CREATED:20220328T194639Z
LAST-MODIFIED:20220328T194815Z
UID:10051938-1645390800-1645394400@cp12stepoutreach.org
SUMMARY:11 Step Centering Prayer Open Meeting
DESCRIPTION:Our format is as follows:\nOur Prayer Leader will read the Prayer of St. Francis. It will be followed by a brief reading selected from our AA literature. Then we will have a 20-minute period of Silent Meditation.\nNext\, we will reflect on an AA reading. It will be read 3 times with 2 minutes of silence for reflection between each reading. After the 3rd reading there will be time for sharing our experience\, strength\, and hope on our spiritual journeys.\nAt the end of our sharing\, the Prayer Leader will offer a pray for our 164-family followed by the 12th Step Prayer.\nThe meeting closes at the top of the hour with the Sanskrit Proverb. We will stay open for a parking lot session for all who care to stay and talk.
URL:https://cp12stepoutreach.org/meeting-or-group/11-step-centering-prayer-open-meeting/2022-02-20/
CATEGORIES:Online 11th Step Meditation Meetings
END:VEVENT
BEGIN:VEVENT
DTSTART;TZID=America/New_York:20220213T210000
DTEND;TZID=America/New_York:20220213T220000
DTSTAMP:20260420T175913
CREATED:20220328T194639Z
LAST-MODIFIED:20220328T194815Z
UID:10051937-1644786000-1644789600@cp12stepoutreach.org
SUMMARY:11 Step Centering Prayer Open Meeting
DESCRIPTION:Our format is as follows:\nOur Prayer Leader will read the Prayer of St. Francis. It will be followed by a brief reading selected from our AA literature. Then we will have a 20-minute period of Silent Meditation.\nNext\, we will reflect on an AA reading. It will be read 3 times with 2 minutes of silence for reflection between each reading. After the 3rd reading there will be time for sharing our experience\, strength\, and hope on our spiritual journeys.\nAt the end of our sharing\, the Prayer Leader will offer a pray for our 164-family followed by the 12th Step Prayer.\nThe meeting closes at the top of the hour with the Sanskrit Proverb. We will stay open for a parking lot session for all who care to stay and talk.
URL:https://cp12stepoutreach.org/meeting-or-group/11-step-centering-prayer-open-meeting/2022-02-13/
CATEGORIES:Online 11th Step Meditation Meetings
END:VEVENT
BEGIN:VEVENT
DTSTART;TZID=America/New_York:20220206T210000
DTEND;TZID=America/New_York:20220206T220000
DTSTAMP:20260420T175913
CREATED:20220328T194639Z
LAST-MODIFIED:20220328T194815Z
UID:10051936-1644181200-1644184800@cp12stepoutreach.org
SUMMARY:11 Step Centering Prayer Open Meeting
DESCRIPTION:Our format is as follows:\nOur Prayer Leader will read the Prayer of St. Francis. It will be followed by a brief reading selected from our AA literature. Then we will have a 20-minute period of Silent Meditation.\nNext\, we will reflect on an AA reading. It will be read 3 times with 2 minutes of silence for reflection between each reading. After the 3rd reading there will be time for sharing our experience\, strength\, and hope on our spiritual journeys.\nAt the end of our sharing\, the Prayer Leader will offer a pray for our 164-family followed by the 12th Step Prayer.\nThe meeting closes at the top of the hour with the Sanskrit Proverb. We will stay open for a parking lot session for all who care to stay and talk.
URL:https://cp12stepoutreach.org/meeting-or-group/11-step-centering-prayer-open-meeting/2022-02-06/
CATEGORIES:Online 11th Step Meditation Meetings
END:VEVENT
BEGIN:VEVENT
DTSTART;TZID=America/New_York:20220130T210000
DTEND;TZID=America/New_York:20220130T220000
DTSTAMP:20260420T175913
CREATED:20220328T194639Z
LAST-MODIFIED:20220328T194815Z
UID:10051935-1643576400-1643580000@cp12stepoutreach.org
SUMMARY:11 Step Centering Prayer Open Meeting
DESCRIPTION:Our format is as follows:\nOur Prayer Leader will read the Prayer of St. Francis. It will be followed by a brief reading selected from our AA literature. Then we will have a 20-minute period of Silent Meditation.\nNext\, we will reflect on an AA reading. It will be read 3 times with 2 minutes of silence for reflection between each reading. After the 3rd reading there will be time for sharing our experience\, strength\, and hope on our spiritual journeys.\nAt the end of our sharing\, the Prayer Leader will offer a pray for our 164-family followed by the 12th Step Prayer.\nThe meeting closes at the top of the hour with the Sanskrit Proverb. We will stay open for a parking lot session for all who care to stay and talk.
URL:https://cp12stepoutreach.org/meeting-or-group/11-step-centering-prayer-open-meeting/2022-01-30/
CATEGORIES:Online 11th Step Meditation Meetings
END:VEVENT
END:VCALENDAR