BEGIN:VCALENDAR
VERSION:2.0
PRODID:-//12 Step Outreach - ECPv6.11.2.1//NONSGML v1.0//EN
CALSCALE:GREGORIAN
METHOD:PUBLISH
X-WR-CALNAME:12 Step Outreach
X-ORIGINAL-URL:https://cp12stepoutreach.org
X-WR-CALDESC:Events for 12 Step Outreach
REFRESH-INTERVAL;VALUE=DURATION:PT1H
X-Robots-Tag:noindex
X-PUBLISHED-TTL:PT1H
BEGIN:VTIMEZONE
TZID:America/Chicago
BEGIN:DAYLIGHT
TZOFFSETFROM:-0600
TZOFFSETTO:-0500
TZNAME:CDT
DTSTART:20300310T080000
END:DAYLIGHT
BEGIN:STANDARD
TZOFFSETFROM:-0500
TZOFFSETTO:-0600
TZNAME:CST
DTSTART:20301103T070000
END:STANDARD
END:VTIMEZONE
BEGIN:VEVENT
DTSTART;TZID=America/Chicago:20300221T180000
DTEND;TZID=America/Chicago:20300221T193000
DTSTAMP:20260421T185620
CREATED:20250623T232444Z
LAST-MODIFIED:20250623T232444Z
UID:10070379-1897927200-1897932600@cp12stepoutreach.org
SUMMARY:A Way Forward Community Organization
DESCRIPTION:This is a new in-person 12 Step Centering Prayer Meeting in Longmont\, Colorado. \nAddress: 600 Terry Street\, Longmont\, Colorado\, 80501 \nThe meeting meets in-person on Thursday nights from 6:00 pm to 7:30 pm \nCONTACT: Joyce Calvo at 720-998-4125 or another contact at 720-526-7432.
URL:https://cp12stepoutreach.org/meeting-or-group/a-way-forward-community-organization-2/2030-02-21/
LOCATION:Zoom Meeting
CATEGORIES:In Person 12 Step Centering Prayer Groups
ORGANIZER;CN="Joyce Calvo-Chen &amp%3B Pam Chandler":MAILTO:joycecalvochen@gmail.com
END:VEVENT
BEGIN:VEVENT
DTSTART;TZID=America/Chicago:20300228T180000
DTEND;TZID=America/Chicago:20300228T193000
DTSTAMP:20260421T185620
CREATED:20250623T232444Z
LAST-MODIFIED:20250623T232444Z
UID:10070380-1898532000-1898537400@cp12stepoutreach.org
SUMMARY:A Way Forward Community Organization
DESCRIPTION:This is a new in-person 12 Step Centering Prayer Meeting in Longmont\, Colorado. \nAddress: 600 Terry Street\, Longmont\, Colorado\, 80501 \nThe meeting meets in-person on Thursday nights from 6:00 pm to 7:30 pm \nCONTACT: Joyce Calvo at 720-998-4125 or another contact at 720-526-7432.
URL:https://cp12stepoutreach.org/meeting-or-group/a-way-forward-community-organization-2/2030-02-28/
LOCATION:Zoom Meeting
CATEGORIES:In Person 12 Step Centering Prayer Groups
ORGANIZER;CN="Joyce Calvo-Chen &amp%3B Pam Chandler":MAILTO:joycecalvochen@gmail.com
END:VEVENT
BEGIN:VEVENT
DTSTART;TZID=America/Chicago:20300307T180000
DTEND;TZID=America/Chicago:20300307T193000
DTSTAMP:20260421T185620
CREATED:20250623T232444Z
LAST-MODIFIED:20250623T232444Z
UID:10070381-1899136800-1899142200@cp12stepoutreach.org
SUMMARY:A Way Forward Community Organization
DESCRIPTION:This is a new in-person 12 Step Centering Prayer Meeting in Longmont\, Colorado. \nAddress: 600 Terry Street\, Longmont\, Colorado\, 80501 \nThe meeting meets in-person on Thursday nights from 6:00 pm to 7:30 pm \nCONTACT: Joyce Calvo at 720-998-4125 or another contact at 720-526-7432.
URL:https://cp12stepoutreach.org/meeting-or-group/a-way-forward-community-organization-2/2030-03-07/
LOCATION:Zoom Meeting
CATEGORIES:In Person 12 Step Centering Prayer Groups
ORGANIZER;CN="Joyce Calvo-Chen &amp%3B Pam Chandler":MAILTO:joycecalvochen@gmail.com
END:VEVENT
BEGIN:VEVENT
DTSTART;TZID=America/Chicago:20300314T180000
DTEND;TZID=America/Chicago:20300314T193000
DTSTAMP:20260421T185620
CREATED:20250623T232444Z
LAST-MODIFIED:20250623T232444Z
UID:10070382-1899741600-1899747000@cp12stepoutreach.org
SUMMARY:A Way Forward Community Organization
DESCRIPTION:This is a new in-person 12 Step Centering Prayer Meeting in Longmont\, Colorado. \nAddress: 600 Terry Street\, Longmont\, Colorado\, 80501 \nThe meeting meets in-person on Thursday nights from 6:00 pm to 7:30 pm \nCONTACT: Joyce Calvo at 720-998-4125 or another contact at 720-526-7432.
URL:https://cp12stepoutreach.org/meeting-or-group/a-way-forward-community-organization-2/2030-03-14/
LOCATION:Zoom Meeting
CATEGORIES:In Person 12 Step Centering Prayer Groups
ORGANIZER;CN="Joyce Calvo-Chen &amp%3B Pam Chandler":MAILTO:joycecalvochen@gmail.com
END:VEVENT
BEGIN:VEVENT
DTSTART;TZID=America/Chicago:20300321T180000
DTEND;TZID=America/Chicago:20300321T193000
DTSTAMP:20260421T185620
CREATED:20250623T232444Z
LAST-MODIFIED:20250623T232444Z
UID:10070383-1900346400-1900351800@cp12stepoutreach.org
SUMMARY:A Way Forward Community Organization
DESCRIPTION:This is a new in-person 12 Step Centering Prayer Meeting in Longmont\, Colorado. \nAddress: 600 Terry Street\, Longmont\, Colorado\, 80501 \nThe meeting meets in-person on Thursday nights from 6:00 pm to 7:30 pm \nCONTACT: Joyce Calvo at 720-998-4125 or another contact at 720-526-7432.
URL:https://cp12stepoutreach.org/meeting-or-group/a-way-forward-community-organization-2/2030-03-21/
LOCATION:Zoom Meeting
CATEGORIES:In Person 12 Step Centering Prayer Groups
ORGANIZER;CN="Joyce Calvo-Chen &amp%3B Pam Chandler":MAILTO:joycecalvochen@gmail.com
END:VEVENT
BEGIN:VEVENT
DTSTART;TZID=America/Chicago:20300328T180000
DTEND;TZID=America/Chicago:20300328T193000
DTSTAMP:20260421T185620
CREATED:20250623T232444Z
LAST-MODIFIED:20250623T232444Z
UID:10070384-1900951200-1900956600@cp12stepoutreach.org
SUMMARY:A Way Forward Community Organization
DESCRIPTION:This is a new in-person 12 Step Centering Prayer Meeting in Longmont\, Colorado. \nAddress: 600 Terry Street\, Longmont\, Colorado\, 80501 \nThe meeting meets in-person on Thursday nights from 6:00 pm to 7:30 pm \nCONTACT: Joyce Calvo at 720-998-4125 or another contact at 720-526-7432.
URL:https://cp12stepoutreach.org/meeting-or-group/a-way-forward-community-organization-2/2030-03-28/
LOCATION:Zoom Meeting
CATEGORIES:In Person 12 Step Centering Prayer Groups
ORGANIZER;CN="Joyce Calvo-Chen &amp%3B Pam Chandler":MAILTO:joycecalvochen@gmail.com
END:VEVENT
BEGIN:VEVENT
DTSTART;TZID=America/Chicago:20300404T180000
DTEND;TZID=America/Chicago:20300404T193000
DTSTAMP:20260421T185620
CREATED:20250623T232444Z
LAST-MODIFIED:20250623T232444Z
UID:10070385-1901556000-1901561400@cp12stepoutreach.org
SUMMARY:A Way Forward Community Organization
DESCRIPTION:This is a new in-person 12 Step Centering Prayer Meeting in Longmont\, Colorado. \nAddress: 600 Terry Street\, Longmont\, Colorado\, 80501 \nThe meeting meets in-person on Thursday nights from 6:00 pm to 7:30 pm \nCONTACT: Joyce Calvo at 720-998-4125 or another contact at 720-526-7432.
URL:https://cp12stepoutreach.org/meeting-or-group/a-way-forward-community-organization-2/2030-04-04/
LOCATION:Zoom Meeting
CATEGORIES:In Person 12 Step Centering Prayer Groups
ORGANIZER;CN="Joyce Calvo-Chen &amp%3B Pam Chandler":MAILTO:joycecalvochen@gmail.com
END:VEVENT
BEGIN:VEVENT
DTSTART;TZID=America/Chicago:20300411T180000
DTEND;TZID=America/Chicago:20300411T193000
DTSTAMP:20260421T185620
CREATED:20250623T232444Z
LAST-MODIFIED:20250623T232444Z
UID:10070386-1902160800-1902166200@cp12stepoutreach.org
SUMMARY:A Way Forward Community Organization
DESCRIPTION:This is a new in-person 12 Step Centering Prayer Meeting in Longmont\, Colorado. \nAddress: 600 Terry Street\, Longmont\, Colorado\, 80501 \nThe meeting meets in-person on Thursday nights from 6:00 pm to 7:30 pm \nCONTACT: Joyce Calvo at 720-998-4125 or another contact at 720-526-7432.
URL:https://cp12stepoutreach.org/meeting-or-group/a-way-forward-community-organization-2/2030-04-11/
LOCATION:Zoom Meeting
CATEGORIES:In Person 12 Step Centering Prayer Groups
ORGANIZER;CN="Joyce Calvo-Chen &amp%3B Pam Chandler":MAILTO:joycecalvochen@gmail.com
END:VEVENT
BEGIN:VEVENT
DTSTART;TZID=America/Chicago:20300418T180000
DTEND;TZID=America/Chicago:20300418T193000
DTSTAMP:20260421T185620
CREATED:20250623T232444Z
LAST-MODIFIED:20250623T232444Z
UID:10070387-1902765600-1902771000@cp12stepoutreach.org
SUMMARY:A Way Forward Community Organization
DESCRIPTION:This is a new in-person 12 Step Centering Prayer Meeting in Longmont\, Colorado. \nAddress: 600 Terry Street\, Longmont\, Colorado\, 80501 \nThe meeting meets in-person on Thursday nights from 6:00 pm to 7:30 pm \nCONTACT: Joyce Calvo at 720-998-4125 or another contact at 720-526-7432.
URL:https://cp12stepoutreach.org/meeting-or-group/a-way-forward-community-organization-2/2030-04-18/
LOCATION:Zoom Meeting
CATEGORIES:In Person 12 Step Centering Prayer Groups
ORGANIZER;CN="Joyce Calvo-Chen &amp%3B Pam Chandler":MAILTO:joycecalvochen@gmail.com
END:VEVENT
BEGIN:VEVENT
DTSTART;TZID=America/Chicago:20300425T180000
DTEND;TZID=America/Chicago:20300425T193000
DTSTAMP:20260421T185620
CREATED:20250623T232444Z
LAST-MODIFIED:20250623T232444Z
UID:10070388-1903370400-1903375800@cp12stepoutreach.org
SUMMARY:A Way Forward Community Organization
DESCRIPTION:This is a new in-person 12 Step Centering Prayer Meeting in Longmont\, Colorado. \nAddress: 600 Terry Street\, Longmont\, Colorado\, 80501 \nThe meeting meets in-person on Thursday nights from 6:00 pm to 7:30 pm \nCONTACT: Joyce Calvo at 720-998-4125 or another contact at 720-526-7432.
URL:https://cp12stepoutreach.org/meeting-or-group/a-way-forward-community-organization-2/2030-04-25/
LOCATION:Zoom Meeting
CATEGORIES:In Person 12 Step Centering Prayer Groups
ORGANIZER;CN="Joyce Calvo-Chen &amp%3B Pam Chandler":MAILTO:joycecalvochen@gmail.com
END:VEVENT
BEGIN:VEVENT
DTSTART;TZID=America/Chicago:20300502T180000
DTEND;TZID=America/Chicago:20300502T193000
DTSTAMP:20260421T185620
CREATED:20250623T232444Z
LAST-MODIFIED:20250623T232444Z
UID:10070389-1903975200-1903980600@cp12stepoutreach.org
SUMMARY:A Way Forward Community Organization
DESCRIPTION:This is a new in-person 12 Step Centering Prayer Meeting in Longmont\, Colorado. \nAddress: 600 Terry Street\, Longmont\, Colorado\, 80501 \nThe meeting meets in-person on Thursday nights from 6:00 pm to 7:30 pm \nCONTACT: Joyce Calvo at 720-998-4125 or another contact at 720-526-7432.
URL:https://cp12stepoutreach.org/meeting-or-group/a-way-forward-community-organization-2/2030-05-02/
LOCATION:Zoom Meeting
CATEGORIES:In Person 12 Step Centering Prayer Groups
ORGANIZER;CN="Joyce Calvo-Chen &amp%3B Pam Chandler":MAILTO:joycecalvochen@gmail.com
END:VEVENT
BEGIN:VEVENT
DTSTART;TZID=America/Chicago:20300509T180000
DTEND;TZID=America/Chicago:20300509T193000
DTSTAMP:20260421T185620
CREATED:20250623T232444Z
LAST-MODIFIED:20250623T232444Z
UID:10070390-1904580000-1904585400@cp12stepoutreach.org
SUMMARY:A Way Forward Community Organization
DESCRIPTION:This is a new in-person 12 Step Centering Prayer Meeting in Longmont\, Colorado. \nAddress: 600 Terry Street\, Longmont\, Colorado\, 80501 \nThe meeting meets in-person on Thursday nights from 6:00 pm to 7:30 pm \nCONTACT: Joyce Calvo at 720-998-4125 or another contact at 720-526-7432.
URL:https://cp12stepoutreach.org/meeting-or-group/a-way-forward-community-organization-2/2030-05-09/
LOCATION:Zoom Meeting
CATEGORIES:In Person 12 Step Centering Prayer Groups
ORGANIZER;CN="Joyce Calvo-Chen &amp%3B Pam Chandler":MAILTO:joycecalvochen@gmail.com
END:VEVENT
BEGIN:VEVENT
DTSTART;TZID=America/Chicago:20300516T180000
DTEND;TZID=America/Chicago:20300516T193000
DTSTAMP:20260421T185620
CREATED:20250623T232444Z
LAST-MODIFIED:20250623T232444Z
UID:10070391-1905184800-1905190200@cp12stepoutreach.org
SUMMARY:A Way Forward Community Organization
DESCRIPTION:This is a new in-person 12 Step Centering Prayer Meeting in Longmont\, Colorado. \nAddress: 600 Terry Street\, Longmont\, Colorado\, 80501 \nThe meeting meets in-person on Thursday nights from 6:00 pm to 7:30 pm \nCONTACT: Joyce Calvo at 720-998-4125 or another contact at 720-526-7432.
URL:https://cp12stepoutreach.org/meeting-or-group/a-way-forward-community-organization-2/2030-05-16/
LOCATION:Zoom Meeting
CATEGORIES:In Person 12 Step Centering Prayer Groups
ORGANIZER;CN="Joyce Calvo-Chen &amp%3B Pam Chandler":MAILTO:joycecalvochen@gmail.com
END:VEVENT
BEGIN:VEVENT
DTSTART;TZID=America/Chicago:20300523T180000
DTEND;TZID=America/Chicago:20300523T193000
DTSTAMP:20260421T185620
CREATED:20250623T232444Z
LAST-MODIFIED:20250623T232444Z
UID:10070392-1905789600-1905795000@cp12stepoutreach.org
SUMMARY:A Way Forward Community Organization
DESCRIPTION:This is a new in-person 12 Step Centering Prayer Meeting in Longmont\, Colorado. \nAddress: 600 Terry Street\, Longmont\, Colorado\, 80501 \nThe meeting meets in-person on Thursday nights from 6:00 pm to 7:30 pm \nCONTACT: Joyce Calvo at 720-998-4125 or another contact at 720-526-7432.
URL:https://cp12stepoutreach.org/meeting-or-group/a-way-forward-community-organization-2/2030-05-23/
LOCATION:Zoom Meeting
CATEGORIES:In Person 12 Step Centering Prayer Groups
ORGANIZER;CN="Joyce Calvo-Chen &amp%3B Pam Chandler":MAILTO:joycecalvochen@gmail.com
END:VEVENT
BEGIN:VEVENT
DTSTART;TZID=America/Chicago:20300530T180000
DTEND;TZID=America/Chicago:20300530T193000
DTSTAMP:20260421T185620
CREATED:20250623T232444Z
LAST-MODIFIED:20250623T232444Z
UID:10070393-1906394400-1906399800@cp12stepoutreach.org
SUMMARY:A Way Forward Community Organization
DESCRIPTION:This is a new in-person 12 Step Centering Prayer Meeting in Longmont\, Colorado. \nAddress: 600 Terry Street\, Longmont\, Colorado\, 80501 \nThe meeting meets in-person on Thursday nights from 6:00 pm to 7:30 pm \nCONTACT: Joyce Calvo at 720-998-4125 or another contact at 720-526-7432.
URL:https://cp12stepoutreach.org/meeting-or-group/a-way-forward-community-organization-2/2030-05-30/
LOCATION:Zoom Meeting
CATEGORIES:In Person 12 Step Centering Prayer Groups
ORGANIZER;CN="Joyce Calvo-Chen &amp%3B Pam Chandler":MAILTO:joycecalvochen@gmail.com
END:VEVENT
BEGIN:VEVENT
DTSTART;TZID=America/Chicago:20300606T180000
DTEND;TZID=America/Chicago:20300606T193000
DTSTAMP:20260421T185620
CREATED:20250623T232444Z
LAST-MODIFIED:20250623T232444Z
UID:10070394-1906999200-1907004600@cp12stepoutreach.org
SUMMARY:A Way Forward Community Organization
DESCRIPTION:This is a new in-person 12 Step Centering Prayer Meeting in Longmont\, Colorado. \nAddress: 600 Terry Street\, Longmont\, Colorado\, 80501 \nThe meeting meets in-person on Thursday nights from 6:00 pm to 7:30 pm \nCONTACT: Joyce Calvo at 720-998-4125 or another contact at 720-526-7432.
URL:https://cp12stepoutreach.org/meeting-or-group/a-way-forward-community-organization-2/2030-06-06/
LOCATION:Zoom Meeting
CATEGORIES:In Person 12 Step Centering Prayer Groups
ORGANIZER;CN="Joyce Calvo-Chen &amp%3B Pam Chandler":MAILTO:joycecalvochen@gmail.com
END:VEVENT
BEGIN:VEVENT
DTSTART;TZID=America/Chicago:20300613T180000
DTEND;TZID=America/Chicago:20300613T193000
DTSTAMP:20260421T185620
CREATED:20250623T232444Z
LAST-MODIFIED:20250623T232444Z
UID:10070395-1907604000-1907609400@cp12stepoutreach.org
SUMMARY:A Way Forward Community Organization
DESCRIPTION:This is a new in-person 12 Step Centering Prayer Meeting in Longmont\, Colorado. \nAddress: 600 Terry Street\, Longmont\, Colorado\, 80501 \nThe meeting meets in-person on Thursday nights from 6:00 pm to 7:30 pm \nCONTACT: Joyce Calvo at 720-998-4125 or another contact at 720-526-7432.
URL:https://cp12stepoutreach.org/meeting-or-group/a-way-forward-community-organization-2/2030-06-13/
LOCATION:Zoom Meeting
CATEGORIES:In Person 12 Step Centering Prayer Groups
ORGANIZER;CN="Joyce Calvo-Chen &amp%3B Pam Chandler":MAILTO:joycecalvochen@gmail.com
END:VEVENT
BEGIN:VEVENT
DTSTART;TZID=America/Chicago:20300620T180000
DTEND;TZID=America/Chicago:20300620T193000
DTSTAMP:20260421T185620
CREATED:20250623T232444Z
LAST-MODIFIED:20250623T232444Z
UID:10070396-1908208800-1908214200@cp12stepoutreach.org
SUMMARY:A Way Forward Community Organization
DESCRIPTION:This is a new in-person 12 Step Centering Prayer Meeting in Longmont\, Colorado. \nAddress: 600 Terry Street\, Longmont\, Colorado\, 80501 \nThe meeting meets in-person on Thursday nights from 6:00 pm to 7:30 pm \nCONTACT: Joyce Calvo at 720-998-4125 or another contact at 720-526-7432.
URL:https://cp12stepoutreach.org/meeting-or-group/a-way-forward-community-organization-2/2030-06-20/
LOCATION:Zoom Meeting
CATEGORIES:In Person 12 Step Centering Prayer Groups
ORGANIZER;CN="Joyce Calvo-Chen &amp%3B Pam Chandler":MAILTO:joycecalvochen@gmail.com
END:VEVENT
END:VCALENDAR