BEGIN:VCALENDAR
VERSION:2.0
PRODID:-//12 Step Outreach - ECPv6.11.2.1//NONSGML v1.0//EN
CALSCALE:GREGORIAN
METHOD:PUBLISH
X-ORIGINAL-URL:https://cp12stepoutreach.org
X-WR-CALDESC:Events for 12 Step Outreach
REFRESH-INTERVAL;VALUE=DURATION:PT1H
X-Robots-Tag:noindex
X-PUBLISHED-TTL:PT1H
BEGIN:VTIMEZONE
TZID:America/Chicago
BEGIN:DAYLIGHT
TZOFFSETFROM:-0600
TZOFFSETTO:-0500
TZNAME:CDT
DTSTART:20250309T080000
END:DAYLIGHT
BEGIN:STANDARD
TZOFFSETFROM:-0500
TZOFFSETTO:-0600
TZNAME:CST
DTSTART:20251102T070000
END:STANDARD
END:VTIMEZONE
BEGIN:VTIMEZONE
TZID:America/Denver
BEGIN:DAYLIGHT
TZOFFSETFROM:-0700
TZOFFSETTO:-0600
TZNAME:MDT
DTSTART:20250309T090000
END:DAYLIGHT
BEGIN:STANDARD
TZOFFSETFROM:-0600
TZOFFSETTO:-0700
TZNAME:MST
DTSTART:20251102T080000
END:STANDARD
END:VTIMEZONE
BEGIN:VEVENT
DTSTART;TZID=America/Chicago:20251127T180000
DTEND;TZID=America/Chicago:20251127T193000
DTSTAMP:20260421T080519
CREATED:20250623T232444Z
LAST-MODIFIED:20250623T232444Z
UID:10070158-1764266400-1764271800@cp12stepoutreach.org
SUMMARY:A Way Forward Community Organization
DESCRIPTION:This is a new in-person 12 Step Centering Prayer Meeting in Longmont\, Colorado. \nAddress: 600 Terry Street\, Longmont\, Colorado\, 80501 \nThe meeting meets in-person on Thursday nights from 6:00 pm to 7:30 pm \nCONTACT: Joyce Calvo at 720-998-4125 or another contact at 720-526-7432.
URL:https://cp12stepoutreach.org/meeting-or-group/a-way-forward-community-organization-2/2025-11-27/
LOCATION:Zoom Meeting
CATEGORIES:In Person 12 Step Centering Prayer Groups
ORGANIZER;CN="Joyce Calvo-Chen &amp%3B Pam Chandler":MAILTO:joycecalvochen@gmail.com
END:VEVENT
BEGIN:VEVENT
DTSTART;TZID=America/Chicago:20251120T180000
DTEND;TZID=America/Chicago:20251120T193000
DTSTAMP:20260421T080519
CREATED:20250623T232444Z
LAST-MODIFIED:20250623T232444Z
UID:10070157-1763661600-1763667000@cp12stepoutreach.org
SUMMARY:A Way Forward Community Organization
DESCRIPTION:This is a new in-person 12 Step Centering Prayer Meeting in Longmont\, Colorado. \nAddress: 600 Terry Street\, Longmont\, Colorado\, 80501 \nThe meeting meets in-person on Thursday nights from 6:00 pm to 7:30 pm \nCONTACT: Joyce Calvo at 720-998-4125 or another contact at 720-526-7432.
URL:https://cp12stepoutreach.org/meeting-or-group/a-way-forward-community-organization-2/2025-11-20/
LOCATION:Zoom Meeting
CATEGORIES:In Person 12 Step Centering Prayer Groups
ORGANIZER;CN="Joyce Calvo-Chen &amp%3B Pam Chandler":MAILTO:joycecalvochen@gmail.com
END:VEVENT
BEGIN:VEVENT
DTSTART;TZID=America/Chicago:20251113T180000
DTEND;TZID=America/Chicago:20251113T193000
DTSTAMP:20260421T080519
CREATED:20250623T232444Z
LAST-MODIFIED:20250623T232444Z
UID:10070156-1763056800-1763062200@cp12stepoutreach.org
SUMMARY:A Way Forward Community Organization
DESCRIPTION:This is a new in-person 12 Step Centering Prayer Meeting in Longmont\, Colorado. \nAddress: 600 Terry Street\, Longmont\, Colorado\, 80501 \nThe meeting meets in-person on Thursday nights from 6:00 pm to 7:30 pm \nCONTACT: Joyce Calvo at 720-998-4125 or another contact at 720-526-7432.
URL:https://cp12stepoutreach.org/meeting-or-group/a-way-forward-community-organization-2/2025-11-13/
LOCATION:Zoom Meeting
CATEGORIES:In Person 12 Step Centering Prayer Groups
ORGANIZER;CN="Joyce Calvo-Chen &amp%3B Pam Chandler":MAILTO:joycecalvochen@gmail.com
END:VEVENT
BEGIN:VEVENT
DTSTART;TZID=America/Chicago:20251106T180000
DTEND;TZID=America/Chicago:20251106T193000
DTSTAMP:20260421T080519
CREATED:20250623T232444Z
LAST-MODIFIED:20250623T232444Z
UID:10070155-1762452000-1762457400@cp12stepoutreach.org
SUMMARY:A Way Forward Community Organization
DESCRIPTION:This is a new in-person 12 Step Centering Prayer Meeting in Longmont\, Colorado. \nAddress: 600 Terry Street\, Longmont\, Colorado\, 80501 \nThe meeting meets in-person on Thursday nights from 6:00 pm to 7:30 pm \nCONTACT: Joyce Calvo at 720-998-4125 or another contact at 720-526-7432.
URL:https://cp12stepoutreach.org/meeting-or-group/a-way-forward-community-organization-2/2025-11-06/
LOCATION:Zoom Meeting
CATEGORIES:In Person 12 Step Centering Prayer Groups
ORGANIZER;CN="Joyce Calvo-Chen &amp%3B Pam Chandler":MAILTO:joycecalvochen@gmail.com
END:VEVENT
BEGIN:VEVENT
DTSTART;TZID=America/Chicago:20251030T180000
DTEND;TZID=America/Chicago:20251030T193000
DTSTAMP:20260421T080519
CREATED:20250623T232444Z
LAST-MODIFIED:20250623T232444Z
UID:10070154-1761847200-1761852600@cp12stepoutreach.org
SUMMARY:A Way Forward Community Organization
DESCRIPTION:This is a new in-person 12 Step Centering Prayer Meeting in Longmont\, Colorado. \nAddress: 600 Terry Street\, Longmont\, Colorado\, 80501 \nThe meeting meets in-person on Thursday nights from 6:00 pm to 7:30 pm \nCONTACT: Joyce Calvo at 720-998-4125 or another contact at 720-526-7432.
URL:https://cp12stepoutreach.org/meeting-or-group/a-way-forward-community-organization-2/2025-10-30/
LOCATION:Zoom Meeting
CATEGORIES:In Person 12 Step Centering Prayer Groups
ORGANIZER;CN="Joyce Calvo-Chen &amp%3B Pam Chandler":MAILTO:joycecalvochen@gmail.com
END:VEVENT
BEGIN:VEVENT
DTSTART;TZID=America/Chicago:20251023T180000
DTEND;TZID=America/Chicago:20251023T193000
DTSTAMP:20260421T080519
CREATED:20250623T232444Z
LAST-MODIFIED:20250623T232444Z
UID:10070153-1761242400-1761247800@cp12stepoutreach.org
SUMMARY:A Way Forward Community Organization
DESCRIPTION:This is a new in-person 12 Step Centering Prayer Meeting in Longmont\, Colorado. \nAddress: 600 Terry Street\, Longmont\, Colorado\, 80501 \nThe meeting meets in-person on Thursday nights from 6:00 pm to 7:30 pm \nCONTACT: Joyce Calvo at 720-998-4125 or another contact at 720-526-7432.
URL:https://cp12stepoutreach.org/meeting-or-group/a-way-forward-community-organization-2/2025-10-23/
LOCATION:Zoom Meeting
CATEGORIES:In Person 12 Step Centering Prayer Groups
ORGANIZER;CN="Joyce Calvo-Chen &amp%3B Pam Chandler":MAILTO:joycecalvochen@gmail.com
END:VEVENT
BEGIN:VEVENT
DTSTART;TZID=America/Chicago:20251016T180000
DTEND;TZID=America/Chicago:20251016T193000
DTSTAMP:20260421T080519
CREATED:20250623T232444Z
LAST-MODIFIED:20250623T232444Z
UID:10070152-1760637600-1760643000@cp12stepoutreach.org
SUMMARY:A Way Forward Community Organization
DESCRIPTION:This is a new in-person 12 Step Centering Prayer Meeting in Longmont\, Colorado. \nAddress: 600 Terry Street\, Longmont\, Colorado\, 80501 \nThe meeting meets in-person on Thursday nights from 6:00 pm to 7:30 pm \nCONTACT: Joyce Calvo at 720-998-4125 or another contact at 720-526-7432.
URL:https://cp12stepoutreach.org/meeting-or-group/a-way-forward-community-organization-2/2025-10-16/
LOCATION:Zoom Meeting
CATEGORIES:In Person 12 Step Centering Prayer Groups
ORGANIZER;CN="Joyce Calvo-Chen &amp%3B Pam Chandler":MAILTO:joycecalvochen@gmail.com
END:VEVENT
BEGIN:VEVENT
DTSTART;TZID=America/Chicago:20251009T180000
DTEND;TZID=America/Chicago:20251009T193000
DTSTAMP:20260421T080519
CREATED:20250623T232444Z
LAST-MODIFIED:20250623T232444Z
UID:10070151-1760032800-1760038200@cp12stepoutreach.org
SUMMARY:A Way Forward Community Organization
DESCRIPTION:This is a new in-person 12 Step Centering Prayer Meeting in Longmont\, Colorado. \nAddress: 600 Terry Street\, Longmont\, Colorado\, 80501 \nThe meeting meets in-person on Thursday nights from 6:00 pm to 7:30 pm \nCONTACT: Joyce Calvo at 720-998-4125 or another contact at 720-526-7432.
URL:https://cp12stepoutreach.org/meeting-or-group/a-way-forward-community-organization-2/2025-10-09/
LOCATION:Zoom Meeting
CATEGORIES:In Person 12 Step Centering Prayer Groups
ORGANIZER;CN="Joyce Calvo-Chen &amp%3B Pam Chandler":MAILTO:joycecalvochen@gmail.com
END:VEVENT
BEGIN:VEVENT
DTSTART;TZID=America/Chicago:20251002T180000
DTEND;TZID=America/Chicago:20251002T193000
DTSTAMP:20260421T080519
CREATED:20250623T232444Z
LAST-MODIFIED:20250623T232444Z
UID:10070150-1759428000-1759433400@cp12stepoutreach.org
SUMMARY:A Way Forward Community Organization
DESCRIPTION:This is a new in-person 12 Step Centering Prayer Meeting in Longmont\, Colorado. \nAddress: 600 Terry Street\, Longmont\, Colorado\, 80501 \nThe meeting meets in-person on Thursday nights from 6:00 pm to 7:30 pm \nCONTACT: Joyce Calvo at 720-998-4125 or another contact at 720-526-7432.
URL:https://cp12stepoutreach.org/meeting-or-group/a-way-forward-community-organization-2/2025-10-02/
LOCATION:Zoom Meeting
CATEGORIES:In Person 12 Step Centering Prayer Groups
ORGANIZER;CN="Joyce Calvo-Chen &amp%3B Pam Chandler":MAILTO:joycecalvochen@gmail.com
END:VEVENT
BEGIN:VEVENT
DTSTART;TZID=America/Chicago:20250925T180000
DTEND;TZID=America/Chicago:20250925T193000
DTSTAMP:20260421T080519
CREATED:20250623T232444Z
LAST-MODIFIED:20250623T232444Z
UID:10070149-1758823200-1758828600@cp12stepoutreach.org
SUMMARY:A Way Forward Community Organization
DESCRIPTION:This is a new in-person 12 Step Centering Prayer Meeting in Longmont\, Colorado. \nAddress: 600 Terry Street\, Longmont\, Colorado\, 80501 \nThe meeting meets in-person on Thursday nights from 6:00 pm to 7:30 pm \nCONTACT: Joyce Calvo at 720-998-4125 or another contact at 720-526-7432.
URL:https://cp12stepoutreach.org/meeting-or-group/a-way-forward-community-organization-2/2025-09-25/
LOCATION:Zoom Meeting
CATEGORIES:In Person 12 Step Centering Prayer Groups
ORGANIZER;CN="Joyce Calvo-Chen &amp%3B Pam Chandler":MAILTO:joycecalvochen@gmail.com
END:VEVENT
BEGIN:VEVENT
DTSTART;TZID=America/Chicago:20250918T180000
DTEND;TZID=America/Chicago:20250918T193000
DTSTAMP:20260421T080519
CREATED:20250623T232444Z
LAST-MODIFIED:20250623T232444Z
UID:10070148-1758218400-1758223800@cp12stepoutreach.org
SUMMARY:A Way Forward Community Organization
DESCRIPTION:This is a new in-person 12 Step Centering Prayer Meeting in Longmont\, Colorado. \nAddress: 600 Terry Street\, Longmont\, Colorado\, 80501 \nThe meeting meets in-person on Thursday nights from 6:00 pm to 7:30 pm \nCONTACT: Joyce Calvo at 720-998-4125 or another contact at 720-526-7432.
URL:https://cp12stepoutreach.org/meeting-or-group/a-way-forward-community-organization-2/2025-09-18/
LOCATION:Zoom Meeting
CATEGORIES:In Person 12 Step Centering Prayer Groups
ORGANIZER;CN="Joyce Calvo-Chen &amp%3B Pam Chandler":MAILTO:joycecalvochen@gmail.com
END:VEVENT
BEGIN:VEVENT
DTSTART;TZID=America/Chicago:20250911T180000
DTEND;TZID=America/Chicago:20250911T193000
DTSTAMP:20260421T080519
CREATED:20250623T232444Z
LAST-MODIFIED:20250623T232444Z
UID:10070147-1757613600-1757619000@cp12stepoutreach.org
SUMMARY:A Way Forward Community Organization
DESCRIPTION:This is a new in-person 12 Step Centering Prayer Meeting in Longmont\, Colorado. \nAddress: 600 Terry Street\, Longmont\, Colorado\, 80501 \nThe meeting meets in-person on Thursday nights from 6:00 pm to 7:30 pm \nCONTACT: Joyce Calvo at 720-998-4125 or another contact at 720-526-7432.
URL:https://cp12stepoutreach.org/meeting-or-group/a-way-forward-community-organization-2/2025-09-11/
LOCATION:Zoom Meeting
CATEGORIES:In Person 12 Step Centering Prayer Groups
ORGANIZER;CN="Joyce Calvo-Chen &amp%3B Pam Chandler":MAILTO:joycecalvochen@gmail.com
END:VEVENT
BEGIN:VEVENT
DTSTART;TZID=America/Chicago:20250904T180000
DTEND;TZID=America/Chicago:20250904T193000
DTSTAMP:20260421T080519
CREATED:20250623T232444Z
LAST-MODIFIED:20250623T232444Z
UID:10070146-1757008800-1757014200@cp12stepoutreach.org
SUMMARY:A Way Forward Community Organization
DESCRIPTION:This is a new in-person 12 Step Centering Prayer Meeting in Longmont\, Colorado. \nAddress: 600 Terry Street\, Longmont\, Colorado\, 80501 \nThe meeting meets in-person on Thursday nights from 6:00 pm to 7:30 pm \nCONTACT: Joyce Calvo at 720-998-4125 or another contact at 720-526-7432.
URL:https://cp12stepoutreach.org/meeting-or-group/a-way-forward-community-organization-2/2025-09-04/
LOCATION:Zoom Meeting
CATEGORIES:In Person 12 Step Centering Prayer Groups
ORGANIZER;CN="Joyce Calvo-Chen &amp%3B Pam Chandler":MAILTO:joycecalvochen@gmail.com
END:VEVENT
BEGIN:VEVENT
DTSTART;TZID=America/Chicago:20250828T180000
DTEND;TZID=America/Chicago:20250828T193000
DTSTAMP:20260421T080519
CREATED:20250623T232444Z
LAST-MODIFIED:20250623T232444Z
UID:10070145-1756404000-1756409400@cp12stepoutreach.org
SUMMARY:A Way Forward Community Organization
DESCRIPTION:This is a new in-person 12 Step Centering Prayer Meeting in Longmont\, Colorado. \nAddress: 600 Terry Street\, Longmont\, Colorado\, 80501 \nThe meeting meets in-person on Thursday nights from 6:00 pm to 7:30 pm \nCONTACT: Joyce Calvo at 720-998-4125 or another contact at 720-526-7432.
URL:https://cp12stepoutreach.org/meeting-or-group/a-way-forward-community-organization-2/2025-08-28/
LOCATION:Zoom Meeting
CATEGORIES:In Person 12 Step Centering Prayer Groups
ORGANIZER;CN="Joyce Calvo-Chen &amp%3B Pam Chandler":MAILTO:joycecalvochen@gmail.com
END:VEVENT
BEGIN:VEVENT
DTSTART;TZID=America/Chicago:20250821T180000
DTEND;TZID=America/Chicago:20250821T193000
DTSTAMP:20260421T080519
CREATED:20250623T232444Z
LAST-MODIFIED:20250623T232444Z
UID:10070144-1755799200-1755804600@cp12stepoutreach.org
SUMMARY:A Way Forward Community Organization
DESCRIPTION:This is a new in-person 12 Step Centering Prayer Meeting in Longmont\, Colorado. \nAddress: 600 Terry Street\, Longmont\, Colorado\, 80501 \nThe meeting meets in-person on Thursday nights from 6:00 pm to 7:30 pm \nCONTACT: Joyce Calvo at 720-998-4125 or another contact at 720-526-7432.
URL:https://cp12stepoutreach.org/meeting-or-group/a-way-forward-community-organization-2/2025-08-21/
LOCATION:Zoom Meeting
CATEGORIES:In Person 12 Step Centering Prayer Groups
ORGANIZER;CN="Joyce Calvo-Chen &amp%3B Pam Chandler":MAILTO:joycecalvochen@gmail.com
END:VEVENT
BEGIN:VEVENT
DTSTART;TZID=America/Chicago:20250814T180000
DTEND;TZID=America/Chicago:20250814T193000
DTSTAMP:20260421T080519
CREATED:20250623T232444Z
LAST-MODIFIED:20250623T232444Z
UID:10070143-1755194400-1755199800@cp12stepoutreach.org
SUMMARY:A Way Forward Community Organization
DESCRIPTION:This is a new in-person 12 Step Centering Prayer Meeting in Longmont\, Colorado. \nAddress: 600 Terry Street\, Longmont\, Colorado\, 80501 \nThe meeting meets in-person on Thursday nights from 6:00 pm to 7:30 pm \nCONTACT: Joyce Calvo at 720-998-4125 or another contact at 720-526-7432.
URL:https://cp12stepoutreach.org/meeting-or-group/a-way-forward-community-organization-2/2025-08-14/
LOCATION:Zoom Meeting
CATEGORIES:In Person 12 Step Centering Prayer Groups
ORGANIZER;CN="Joyce Calvo-Chen &amp%3B Pam Chandler":MAILTO:joycecalvochen@gmail.com
END:VEVENT
BEGIN:VEVENT
DTSTART;TZID=America/Chicago:20250807T180000
DTEND;TZID=America/Chicago:20250807T193000
DTSTAMP:20260421T080519
CREATED:20250623T232444Z
LAST-MODIFIED:20250623T232444Z
UID:10070142-1754589600-1754595000@cp12stepoutreach.org
SUMMARY:A Way Forward Community Organization
DESCRIPTION:This is a new in-person 12 Step Centering Prayer Meeting in Longmont\, Colorado. \nAddress: 600 Terry Street\, Longmont\, Colorado\, 80501 \nThe meeting meets in-person on Thursday nights from 6:00 pm to 7:30 pm \nCONTACT: Joyce Calvo at 720-998-4125 or another contact at 720-526-7432.
URL:https://cp12stepoutreach.org/meeting-or-group/a-way-forward-community-organization-2/2025-08-07/
LOCATION:Zoom Meeting
CATEGORIES:In Person 12 Step Centering Prayer Groups
ORGANIZER;CN="Joyce Calvo-Chen &amp%3B Pam Chandler":MAILTO:joycecalvochen@gmail.com
END:VEVENT
BEGIN:VEVENT
DTSTART;TZID=America/Chicago:20250731T180000
DTEND;TZID=America/Chicago:20250731T193000
DTSTAMP:20260421T080519
CREATED:20250623T232444Z
LAST-MODIFIED:20250623T232444Z
UID:10070141-1753984800-1753990200@cp12stepoutreach.org
SUMMARY:A Way Forward Community Organization
DESCRIPTION:This is a new in-person 12 Step Centering Prayer Meeting in Longmont\, Colorado. \nAddress: 600 Terry Street\, Longmont\, Colorado\, 80501 \nThe meeting meets in-person on Thursday nights from 6:00 pm to 7:30 pm \nCONTACT: Joyce Calvo at 720-998-4125 or another contact at 720-526-7432.
URL:https://cp12stepoutreach.org/meeting-or-group/a-way-forward-community-organization-2/2025-07-31/
LOCATION:Zoom Meeting
CATEGORIES:In Person 12 Step Centering Prayer Groups
ORGANIZER;CN="Joyce Calvo-Chen &amp%3B Pam Chandler":MAILTO:joycecalvochen@gmail.com
END:VEVENT
BEGIN:VEVENT
DTSTART;TZID=America/Chicago:20250724T180000
DTEND;TZID=America/Chicago:20250724T193000
DTSTAMP:20260421T080519
CREATED:20250623T232444Z
LAST-MODIFIED:20250623T232444Z
UID:10070140-1753380000-1753385400@cp12stepoutreach.org
SUMMARY:A Way Forward Community Organization
DESCRIPTION:This is a new in-person 12 Step Centering Prayer Meeting in Longmont\, Colorado. \nAddress: 600 Terry Street\, Longmont\, Colorado\, 80501 \nThe meeting meets in-person on Thursday nights from 6:00 pm to 7:30 pm \nCONTACT: Joyce Calvo at 720-998-4125 or another contact at 720-526-7432.
URL:https://cp12stepoutreach.org/meeting-or-group/a-way-forward-community-organization-2/2025-07-24/
LOCATION:Zoom Meeting
CATEGORIES:In Person 12 Step Centering Prayer Groups
ORGANIZER;CN="Joyce Calvo-Chen &amp%3B Pam Chandler":MAILTO:joycecalvochen@gmail.com
END:VEVENT
BEGIN:VEVENT
DTSTART;TZID=America/Chicago:20250717T180000
DTEND;TZID=America/Chicago:20250717T193000
DTSTAMP:20260421T080519
CREATED:20250623T232444Z
LAST-MODIFIED:20250623T232444Z
UID:10070139-1752775200-1752780600@cp12stepoutreach.org
SUMMARY:A Way Forward Community Organization
DESCRIPTION:This is a new in-person 12 Step Centering Prayer Meeting in Longmont\, Colorado. \nAddress: 600 Terry Street\, Longmont\, Colorado\, 80501 \nThe meeting meets in-person on Thursday nights from 6:00 pm to 7:30 pm \nCONTACT: Joyce Calvo at 720-998-4125 or another contact at 720-526-7432.
URL:https://cp12stepoutreach.org/meeting-or-group/a-way-forward-community-organization-2/2025-07-17/
LOCATION:Zoom Meeting
CATEGORIES:In Person 12 Step Centering Prayer Groups
ORGANIZER;CN="Joyce Calvo-Chen &amp%3B Pam Chandler":MAILTO:joycecalvochen@gmail.com
END:VEVENT
BEGIN:VEVENT
DTSTART;TZID=America/Chicago:20250710T180000
DTEND;TZID=America/Chicago:20250710T193000
DTSTAMP:20260421T080519
CREATED:20250623T232444Z
LAST-MODIFIED:20250623T232444Z
UID:10070138-1752170400-1752175800@cp12stepoutreach.org
SUMMARY:A Way Forward Community Organization
DESCRIPTION:This is a new in-person 12 Step Centering Prayer Meeting in Longmont\, Colorado. \nAddress: 600 Terry Street\, Longmont\, Colorado\, 80501 \nThe meeting meets in-person on Thursday nights from 6:00 pm to 7:30 pm \nCONTACT: Joyce Calvo at 720-998-4125 or another contact at 720-526-7432.
URL:https://cp12stepoutreach.org/meeting-or-group/a-way-forward-community-organization-2/2025-07-10/
LOCATION:Zoom Meeting
CATEGORIES:In Person 12 Step Centering Prayer Groups
ORGANIZER;CN="Joyce Calvo-Chen &amp%3B Pam Chandler":MAILTO:joycecalvochen@gmail.com
END:VEVENT
BEGIN:VEVENT
DTSTART;TZID=America/Chicago:20250703T180000
DTEND;TZID=America/Chicago:20250703T193000
DTSTAMP:20260421T080519
CREATED:20250623T232444Z
LAST-MODIFIED:20250623T232444Z
UID:10070137-1751565600-1751571000@cp12stepoutreach.org
SUMMARY:A Way Forward Community Organization
DESCRIPTION:This is a new in-person 12 Step Centering Prayer Meeting in Longmont\, Colorado. \nAddress: 600 Terry Street\, Longmont\, Colorado\, 80501 \nThe meeting meets in-person on Thursday nights from 6:00 pm to 7:30 pm \nCONTACT: Joyce Calvo at 720-998-4125 or another contact at 720-526-7432.
URL:https://cp12stepoutreach.org/meeting-or-group/a-way-forward-community-organization-2/2025-07-03/
LOCATION:Zoom Meeting
CATEGORIES:In Person 12 Step Centering Prayer Groups
ORGANIZER;CN="Joyce Calvo-Chen &amp%3B Pam Chandler":MAILTO:joycecalvochen@gmail.com
END:VEVENT
BEGIN:VEVENT
DTSTART;TZID=America/Denver:20250626T180000
DTEND;TZID=America/Denver:20250626T193000
DTSTAMP:20260421T080519
CREATED:20250623T232912Z
LAST-MODIFIED:20250623T232912Z
UID:10069361-1750960800-1750966200@cp12stepoutreach.org
SUMMARY:A Way Forward Community Organization
DESCRIPTION:This is a new in-person 12 Step Centering Prayer Meeting in Longmont\, Colorado. \nAddress: 600 Terry Street\, Longmont\, Colorado\, 80501 \nThe meeting meets in-person on Thursday nights from 6:00 pm to 7:30 pm \nCONTACT: Joyce Calvo at 720-998-4125 or another contact at 720-526-7432.
URL:https://cp12stepoutreach.org/meeting-or-group/a-way-forward-community-organization-2-2/
LOCATION:Zoom Meeting
ORGANIZER;CN="Joyce Calvo-Chen &amp%3B Pam Chandler":MAILTO:joycecalvochen@gmail.com
END:VEVENT
BEGIN:VEVENT
DTSTART;TZID=America/Chicago:20250621T103000
DTEND;TZID=America/Chicago:20250621T120000
DTSTAMP:20260421T080519
CREATED:20250504T213236Z
LAST-MODIFIED:20250504T213236Z
UID:10069360-1750501800-1750507200@cp12stepoutreach.org
SUMMARY:A Way Forward Community Organization
DESCRIPTION:This is a new in-person meeting in Longmont\, Colorado. \nAddress: 600 Terry Street\, Longmont\, Colorado\, 80501 \nThe meeting is even Saturday from 10:30 am to 12 noon. \nCONTACT: Joyce Calvo at 720-998-4125
URL:https://cp12stepoutreach.org/meeting-or-group/a-way-forward-community-organization/2025-06-21/
LOCATION:Zoom Meeting
CATEGORIES:In Person 12 Step Centering Prayer Groups
ORGANIZER;CN="Joyce Calvo-Chen &amp%3B Pam Chandler":MAILTO:joycecalvochen@gmail.com
END:VEVENT
BEGIN:VEVENT
DTSTART;TZID=America/Chicago:20250614T103000
DTEND;TZID=America/Chicago:20250614T120000
DTSTAMP:20260421T080519
CREATED:20250504T213236Z
LAST-MODIFIED:20250504T213236Z
UID:10069359-1749897000-1749902400@cp12stepoutreach.org
SUMMARY:A Way Forward Community Organization
DESCRIPTION:This is a new in-person meeting in Longmont\, Colorado. \nAddress: 600 Terry Street\, Longmont\, Colorado\, 80501 \nThe meeting is even Saturday from 10:30 am to 12 noon. \nCONTACT: Joyce Calvo at 720-998-4125
URL:https://cp12stepoutreach.org/meeting-or-group/a-way-forward-community-organization/2025-06-14/
LOCATION:Zoom Meeting
CATEGORIES:In Person 12 Step Centering Prayer Groups
ORGANIZER;CN="Joyce Calvo-Chen &amp%3B Pam Chandler":MAILTO:joycecalvochen@gmail.com
END:VEVENT
BEGIN:VEVENT
DTSTART;TZID=America/Chicago:20250607T103000
DTEND;TZID=America/Chicago:20250607T120000
DTSTAMP:20260421T080519
CREATED:20250504T213236Z
LAST-MODIFIED:20250504T213236Z
UID:10069358-1749292200-1749297600@cp12stepoutreach.org
SUMMARY:A Way Forward Community Organization
DESCRIPTION:This is a new in-person meeting in Longmont\, Colorado. \nAddress: 600 Terry Street\, Longmont\, Colorado\, 80501 \nThe meeting is even Saturday from 10:30 am to 12 noon. \nCONTACT: Joyce Calvo at 720-998-4125
URL:https://cp12stepoutreach.org/meeting-or-group/a-way-forward-community-organization/2025-06-07/
LOCATION:Zoom Meeting
CATEGORIES:In Person 12 Step Centering Prayer Groups
ORGANIZER;CN="Joyce Calvo-Chen &amp%3B Pam Chandler":MAILTO:joycecalvochen@gmail.com
END:VEVENT
BEGIN:VEVENT
DTSTART;TZID=America/Chicago:20250531T103000
DTEND;TZID=America/Chicago:20250531T120000
DTSTAMP:20260421T080519
CREATED:20250504T213236Z
LAST-MODIFIED:20250504T213236Z
UID:10069357-1748687400-1748692800@cp12stepoutreach.org
SUMMARY:A Way Forward Community Organization
DESCRIPTION:This is a new in-person meeting in Longmont\, Colorado. \nAddress: 600 Terry Street\, Longmont\, Colorado\, 80501 \nThe meeting is even Saturday from 10:30 am to 12 noon. \nCONTACT: Joyce Calvo at 720-998-4125
URL:https://cp12stepoutreach.org/meeting-or-group/a-way-forward-community-organization/2025-05-31/
LOCATION:Zoom Meeting
CATEGORIES:In Person 12 Step Centering Prayer Groups
ORGANIZER;CN="Joyce Calvo-Chen &amp%3B Pam Chandler":MAILTO:joycecalvochen@gmail.com
END:VEVENT
BEGIN:VEVENT
DTSTART;TZID=America/Chicago:20250524T103000
DTEND;TZID=America/Chicago:20250524T120000
DTSTAMP:20260421T080519
CREATED:20250504T213236Z
LAST-MODIFIED:20250504T213236Z
UID:10069356-1748082600-1748088000@cp12stepoutreach.org
SUMMARY:A Way Forward Community Organization
DESCRIPTION:This is a new in-person meeting in Longmont\, Colorado. \nAddress: 600 Terry Street\, Longmont\, Colorado\, 80501 \nThe meeting is even Saturday from 10:30 am to 12 noon. \nCONTACT: Joyce Calvo at 720-998-4125
URL:https://cp12stepoutreach.org/meeting-or-group/a-way-forward-community-organization/2025-05-24/
LOCATION:Zoom Meeting
CATEGORIES:In Person 12 Step Centering Prayer Groups
ORGANIZER;CN="Joyce Calvo-Chen &amp%3B Pam Chandler":MAILTO:joycecalvochen@gmail.com
END:VEVENT
BEGIN:VEVENT
DTSTART;TZID=America/Chicago:20250517T103000
DTEND;TZID=America/Chicago:20250517T120000
DTSTAMP:20260421T080519
CREATED:20250504T213236Z
LAST-MODIFIED:20250504T213236Z
UID:10069355-1747477800-1747483200@cp12stepoutreach.org
SUMMARY:A Way Forward Community Organization
DESCRIPTION:This is a new in-person meeting in Longmont\, Colorado. \nAddress: 600 Terry Street\, Longmont\, Colorado\, 80501 \nThe meeting is even Saturday from 10:30 am to 12 noon. \nCONTACT: Joyce Calvo at 720-998-4125
URL:https://cp12stepoutreach.org/meeting-or-group/a-way-forward-community-organization/2025-05-17/
LOCATION:Zoom Meeting
CATEGORIES:In Person 12 Step Centering Prayer Groups
ORGANIZER;CN="Joyce Calvo-Chen &amp%3B Pam Chandler":MAILTO:joycecalvochen@gmail.com
END:VEVENT
BEGIN:VEVENT
DTSTART;TZID=America/Chicago:20250510T103000
DTEND;TZID=America/Chicago:20250510T120000
DTSTAMP:20260421T080519
CREATED:20250504T213236Z
LAST-MODIFIED:20250504T213236Z
UID:10069354-1746873000-1746878400@cp12stepoutreach.org
SUMMARY:A Way Forward Community Organization
DESCRIPTION:This is a new in-person meeting in Longmont\, Colorado. \nAddress: 600 Terry Street\, Longmont\, Colorado\, 80501 \nThe meeting is even Saturday from 10:30 am to 12 noon. \nCONTACT: Joyce Calvo at 720-998-4125
URL:https://cp12stepoutreach.org/meeting-or-group/a-way-forward-community-organization/2025-05-10/
LOCATION:Zoom Meeting
CATEGORIES:In Person 12 Step Centering Prayer Groups
ORGANIZER;CN="Joyce Calvo-Chen &amp%3B Pam Chandler":MAILTO:joycecalvochen@gmail.com
END:VEVENT
END:VCALENDAR