BEGIN:VCALENDAR
VERSION:2.0
PRODID:-//12 Step Outreach - ECPv6.11.2.1//NONSGML v1.0//EN
CALSCALE:GREGORIAN
METHOD:PUBLISH
X-WR-CALNAME:12 Step Outreach
X-ORIGINAL-URL:https://cp12stepoutreach.org
X-WR-CALDESC:Events for 12 Step Outreach
REFRESH-INTERVAL;VALUE=DURATION:PT1H
X-Robots-Tag:noindex
X-PUBLISHED-TTL:PT1H
BEGIN:VTIMEZONE
TZID:America/Chicago
BEGIN:DAYLIGHT
TZOFFSETFROM:-0600
TZOFFSETTO:-0500
TZNAME:CDT
DTSTART:20280312T080000
END:DAYLIGHT
BEGIN:STANDARD
TZOFFSETFROM:-0500
TZOFFSETTO:-0600
TZNAME:CST
DTSTART:20281105T070000
END:STANDARD
BEGIN:DAYLIGHT
TZOFFSETFROM:-0600
TZOFFSETTO:-0500
TZNAME:CDT
DTSTART:20290311T080000
END:DAYLIGHT
BEGIN:STANDARD
TZOFFSETFROM:-0500
TZOFFSETTO:-0600
TZNAME:CST
DTSTART:20291104T070000
END:STANDARD
END:VTIMEZONE
BEGIN:VEVENT
DTSTART;TZID=America/Chicago:20280810T180000
DTEND;TZID=America/Chicago:20280810T193000
DTSTAMP:20260421T130446
CREATED:20250623T232444Z
LAST-MODIFIED:20250623T232444Z
UID:10070299-1849543200-1849548600@cp12stepoutreach.org
SUMMARY:A Way Forward Community Organization
DESCRIPTION:This is a new in-person 12 Step Centering Prayer Meeting in Longmont\, Colorado. \nAddress: 600 Terry Street\, Longmont\, Colorado\, 80501 \nThe meeting meets in-person on Thursday nights from 6:00 pm to 7:30 pm \nCONTACT: Joyce Calvo at 720-998-4125 or another contact at 720-526-7432.
URL:https://cp12stepoutreach.org/meeting-or-group/a-way-forward-community-organization-2/2028-08-10/
LOCATION:Zoom Meeting
CATEGORIES:In Person 12 Step Centering Prayer Groups
ORGANIZER;CN="Joyce Calvo-Chen &amp%3B Pam Chandler":MAILTO:joycecalvochen@gmail.com
END:VEVENT
BEGIN:VEVENT
DTSTART;TZID=America/Chicago:20280817T180000
DTEND;TZID=America/Chicago:20280817T193000
DTSTAMP:20260421T130446
CREATED:20250623T232444Z
LAST-MODIFIED:20250623T232444Z
UID:10070300-1850148000-1850153400@cp12stepoutreach.org
SUMMARY:A Way Forward Community Organization
DESCRIPTION:This is a new in-person 12 Step Centering Prayer Meeting in Longmont\, Colorado. \nAddress: 600 Terry Street\, Longmont\, Colorado\, 80501 \nThe meeting meets in-person on Thursday nights from 6:00 pm to 7:30 pm \nCONTACT: Joyce Calvo at 720-998-4125 or another contact at 720-526-7432.
URL:https://cp12stepoutreach.org/meeting-or-group/a-way-forward-community-organization-2/2028-08-17/
LOCATION:Zoom Meeting
CATEGORIES:In Person 12 Step Centering Prayer Groups
ORGANIZER;CN="Joyce Calvo-Chen &amp%3B Pam Chandler":MAILTO:joycecalvochen@gmail.com
END:VEVENT
BEGIN:VEVENT
DTSTART;TZID=America/Chicago:20280824T180000
DTEND;TZID=America/Chicago:20280824T193000
DTSTAMP:20260421T130446
CREATED:20250623T232444Z
LAST-MODIFIED:20250623T232444Z
UID:10070301-1850752800-1850758200@cp12stepoutreach.org
SUMMARY:A Way Forward Community Organization
DESCRIPTION:This is a new in-person 12 Step Centering Prayer Meeting in Longmont\, Colorado. \nAddress: 600 Terry Street\, Longmont\, Colorado\, 80501 \nThe meeting meets in-person on Thursday nights from 6:00 pm to 7:30 pm \nCONTACT: Joyce Calvo at 720-998-4125 or another contact at 720-526-7432.
URL:https://cp12stepoutreach.org/meeting-or-group/a-way-forward-community-organization-2/2028-08-24/
LOCATION:Zoom Meeting
CATEGORIES:In Person 12 Step Centering Prayer Groups
ORGANIZER;CN="Joyce Calvo-Chen &amp%3B Pam Chandler":MAILTO:joycecalvochen@gmail.com
END:VEVENT
BEGIN:VEVENT
DTSTART;TZID=America/Chicago:20280831T180000
DTEND;TZID=America/Chicago:20280831T193000
DTSTAMP:20260421T130446
CREATED:20250623T232444Z
LAST-MODIFIED:20250623T232444Z
UID:10070302-1851357600-1851363000@cp12stepoutreach.org
SUMMARY:A Way Forward Community Organization
DESCRIPTION:This is a new in-person 12 Step Centering Prayer Meeting in Longmont\, Colorado. \nAddress: 600 Terry Street\, Longmont\, Colorado\, 80501 \nThe meeting meets in-person on Thursday nights from 6:00 pm to 7:30 pm \nCONTACT: Joyce Calvo at 720-998-4125 or another contact at 720-526-7432.
URL:https://cp12stepoutreach.org/meeting-or-group/a-way-forward-community-organization-2/2028-08-31/
LOCATION:Zoom Meeting
CATEGORIES:In Person 12 Step Centering Prayer Groups
ORGANIZER;CN="Joyce Calvo-Chen &amp%3B Pam Chandler":MAILTO:joycecalvochen@gmail.com
END:VEVENT
BEGIN:VEVENT
DTSTART;TZID=America/Chicago:20280907T180000
DTEND;TZID=America/Chicago:20280907T193000
DTSTAMP:20260421T130446
CREATED:20250623T232444Z
LAST-MODIFIED:20250623T232444Z
UID:10070303-1851962400-1851967800@cp12stepoutreach.org
SUMMARY:A Way Forward Community Organization
DESCRIPTION:This is a new in-person 12 Step Centering Prayer Meeting in Longmont\, Colorado. \nAddress: 600 Terry Street\, Longmont\, Colorado\, 80501 \nThe meeting meets in-person on Thursday nights from 6:00 pm to 7:30 pm \nCONTACT: Joyce Calvo at 720-998-4125 or another contact at 720-526-7432.
URL:https://cp12stepoutreach.org/meeting-or-group/a-way-forward-community-organization-2/2028-09-07/
LOCATION:Zoom Meeting
CATEGORIES:In Person 12 Step Centering Prayer Groups
ORGANIZER;CN="Joyce Calvo-Chen &amp%3B Pam Chandler":MAILTO:joycecalvochen@gmail.com
END:VEVENT
BEGIN:VEVENT
DTSTART;TZID=America/Chicago:20280914T180000
DTEND;TZID=America/Chicago:20280914T193000
DTSTAMP:20260421T130446
CREATED:20250623T232444Z
LAST-MODIFIED:20250623T232444Z
UID:10070304-1852567200-1852572600@cp12stepoutreach.org
SUMMARY:A Way Forward Community Organization
DESCRIPTION:This is a new in-person 12 Step Centering Prayer Meeting in Longmont\, Colorado. \nAddress: 600 Terry Street\, Longmont\, Colorado\, 80501 \nThe meeting meets in-person on Thursday nights from 6:00 pm to 7:30 pm \nCONTACT: Joyce Calvo at 720-998-4125 or another contact at 720-526-7432.
URL:https://cp12stepoutreach.org/meeting-or-group/a-way-forward-community-organization-2/2028-09-14/
LOCATION:Zoom Meeting
CATEGORIES:In Person 12 Step Centering Prayer Groups
ORGANIZER;CN="Joyce Calvo-Chen &amp%3B Pam Chandler":MAILTO:joycecalvochen@gmail.com
END:VEVENT
BEGIN:VEVENT
DTSTART;TZID=America/Chicago:20280921T180000
DTEND;TZID=America/Chicago:20280921T193000
DTSTAMP:20260421T130446
CREATED:20250623T232444Z
LAST-MODIFIED:20250623T232444Z
UID:10070305-1853172000-1853177400@cp12stepoutreach.org
SUMMARY:A Way Forward Community Organization
DESCRIPTION:This is a new in-person 12 Step Centering Prayer Meeting in Longmont\, Colorado. \nAddress: 600 Terry Street\, Longmont\, Colorado\, 80501 \nThe meeting meets in-person on Thursday nights from 6:00 pm to 7:30 pm \nCONTACT: Joyce Calvo at 720-998-4125 or another contact at 720-526-7432.
URL:https://cp12stepoutreach.org/meeting-or-group/a-way-forward-community-organization-2/2028-09-21/
LOCATION:Zoom Meeting
CATEGORIES:In Person 12 Step Centering Prayer Groups
ORGANIZER;CN="Joyce Calvo-Chen &amp%3B Pam Chandler":MAILTO:joycecalvochen@gmail.com
END:VEVENT
BEGIN:VEVENT
DTSTART;TZID=America/Chicago:20280928T180000
DTEND;TZID=America/Chicago:20280928T193000
DTSTAMP:20260421T130446
CREATED:20250623T232444Z
LAST-MODIFIED:20250623T232444Z
UID:10070306-1853776800-1853782200@cp12stepoutreach.org
SUMMARY:A Way Forward Community Organization
DESCRIPTION:This is a new in-person 12 Step Centering Prayer Meeting in Longmont\, Colorado. \nAddress: 600 Terry Street\, Longmont\, Colorado\, 80501 \nThe meeting meets in-person on Thursday nights from 6:00 pm to 7:30 pm \nCONTACT: Joyce Calvo at 720-998-4125 or another contact at 720-526-7432.
URL:https://cp12stepoutreach.org/meeting-or-group/a-way-forward-community-organization-2/2028-09-28/
LOCATION:Zoom Meeting
CATEGORIES:In Person 12 Step Centering Prayer Groups
ORGANIZER;CN="Joyce Calvo-Chen &amp%3B Pam Chandler":MAILTO:joycecalvochen@gmail.com
END:VEVENT
BEGIN:VEVENT
DTSTART;TZID=America/Chicago:20281005T180000
DTEND;TZID=America/Chicago:20281005T193000
DTSTAMP:20260421T130446
CREATED:20250623T232444Z
LAST-MODIFIED:20250623T232444Z
UID:10070307-1854381600-1854387000@cp12stepoutreach.org
SUMMARY:A Way Forward Community Organization
DESCRIPTION:This is a new in-person 12 Step Centering Prayer Meeting in Longmont\, Colorado. \nAddress: 600 Terry Street\, Longmont\, Colorado\, 80501 \nThe meeting meets in-person on Thursday nights from 6:00 pm to 7:30 pm \nCONTACT: Joyce Calvo at 720-998-4125 or another contact at 720-526-7432.
URL:https://cp12stepoutreach.org/meeting-or-group/a-way-forward-community-organization-2/2028-10-05/
LOCATION:Zoom Meeting
CATEGORIES:In Person 12 Step Centering Prayer Groups
ORGANIZER;CN="Joyce Calvo-Chen &amp%3B Pam Chandler":MAILTO:joycecalvochen@gmail.com
END:VEVENT
BEGIN:VEVENT
DTSTART;TZID=America/Chicago:20281012T180000
DTEND;TZID=America/Chicago:20281012T193000
DTSTAMP:20260421T130446
CREATED:20250623T232444Z
LAST-MODIFIED:20250623T232444Z
UID:10070308-1854986400-1854991800@cp12stepoutreach.org
SUMMARY:A Way Forward Community Organization
DESCRIPTION:This is a new in-person 12 Step Centering Prayer Meeting in Longmont\, Colorado. \nAddress: 600 Terry Street\, Longmont\, Colorado\, 80501 \nThe meeting meets in-person on Thursday nights from 6:00 pm to 7:30 pm \nCONTACT: Joyce Calvo at 720-998-4125 or another contact at 720-526-7432.
URL:https://cp12stepoutreach.org/meeting-or-group/a-way-forward-community-organization-2/2028-10-12/
LOCATION:Zoom Meeting
CATEGORIES:In Person 12 Step Centering Prayer Groups
ORGANIZER;CN="Joyce Calvo-Chen &amp%3B Pam Chandler":MAILTO:joycecalvochen@gmail.com
END:VEVENT
BEGIN:VEVENT
DTSTART;TZID=America/Chicago:20281019T180000
DTEND;TZID=America/Chicago:20281019T193000
DTSTAMP:20260421T130446
CREATED:20250623T232444Z
LAST-MODIFIED:20250623T232444Z
UID:10070309-1855591200-1855596600@cp12stepoutreach.org
SUMMARY:A Way Forward Community Organization
DESCRIPTION:This is a new in-person 12 Step Centering Prayer Meeting in Longmont\, Colorado. \nAddress: 600 Terry Street\, Longmont\, Colorado\, 80501 \nThe meeting meets in-person on Thursday nights from 6:00 pm to 7:30 pm \nCONTACT: Joyce Calvo at 720-998-4125 or another contact at 720-526-7432.
URL:https://cp12stepoutreach.org/meeting-or-group/a-way-forward-community-organization-2/2028-10-19/
LOCATION:Zoom Meeting
CATEGORIES:In Person 12 Step Centering Prayer Groups
ORGANIZER;CN="Joyce Calvo-Chen &amp%3B Pam Chandler":MAILTO:joycecalvochen@gmail.com
END:VEVENT
BEGIN:VEVENT
DTSTART;TZID=America/Chicago:20281026T180000
DTEND;TZID=America/Chicago:20281026T193000
DTSTAMP:20260421T130446
CREATED:20250623T232444Z
LAST-MODIFIED:20250623T232444Z
UID:10070310-1856196000-1856201400@cp12stepoutreach.org
SUMMARY:A Way Forward Community Organization
DESCRIPTION:This is a new in-person 12 Step Centering Prayer Meeting in Longmont\, Colorado. \nAddress: 600 Terry Street\, Longmont\, Colorado\, 80501 \nThe meeting meets in-person on Thursday nights from 6:00 pm to 7:30 pm \nCONTACT: Joyce Calvo at 720-998-4125 or another contact at 720-526-7432.
URL:https://cp12stepoutreach.org/meeting-or-group/a-way-forward-community-organization-2/2028-10-26/
LOCATION:Zoom Meeting
CATEGORIES:In Person 12 Step Centering Prayer Groups
ORGANIZER;CN="Joyce Calvo-Chen &amp%3B Pam Chandler":MAILTO:joycecalvochen@gmail.com
END:VEVENT
BEGIN:VEVENT
DTSTART;TZID=America/Chicago:20281102T180000
DTEND;TZID=America/Chicago:20281102T193000
DTSTAMP:20260421T130446
CREATED:20250623T232444Z
LAST-MODIFIED:20250623T232444Z
UID:10070311-1856800800-1856806200@cp12stepoutreach.org
SUMMARY:A Way Forward Community Organization
DESCRIPTION:This is a new in-person 12 Step Centering Prayer Meeting in Longmont\, Colorado. \nAddress: 600 Terry Street\, Longmont\, Colorado\, 80501 \nThe meeting meets in-person on Thursday nights from 6:00 pm to 7:30 pm \nCONTACT: Joyce Calvo at 720-998-4125 or another contact at 720-526-7432.
URL:https://cp12stepoutreach.org/meeting-or-group/a-way-forward-community-organization-2/2028-11-02/
LOCATION:Zoom Meeting
CATEGORIES:In Person 12 Step Centering Prayer Groups
ORGANIZER;CN="Joyce Calvo-Chen &amp%3B Pam Chandler":MAILTO:joycecalvochen@gmail.com
END:VEVENT
BEGIN:VEVENT
DTSTART;TZID=America/Chicago:20281109T180000
DTEND;TZID=America/Chicago:20281109T193000
DTSTAMP:20260421T130446
CREATED:20250623T232444Z
LAST-MODIFIED:20250623T232444Z
UID:10070312-1857405600-1857411000@cp12stepoutreach.org
SUMMARY:A Way Forward Community Organization
DESCRIPTION:This is a new in-person 12 Step Centering Prayer Meeting in Longmont\, Colorado. \nAddress: 600 Terry Street\, Longmont\, Colorado\, 80501 \nThe meeting meets in-person on Thursday nights from 6:00 pm to 7:30 pm \nCONTACT: Joyce Calvo at 720-998-4125 or another contact at 720-526-7432.
URL:https://cp12stepoutreach.org/meeting-or-group/a-way-forward-community-organization-2/2028-11-09/
LOCATION:Zoom Meeting
CATEGORIES:In Person 12 Step Centering Prayer Groups
ORGANIZER;CN="Joyce Calvo-Chen &amp%3B Pam Chandler":MAILTO:joycecalvochen@gmail.com
END:VEVENT
BEGIN:VEVENT
DTSTART;TZID=America/Chicago:20281116T180000
DTEND;TZID=America/Chicago:20281116T193000
DTSTAMP:20260421T130446
CREATED:20250623T232444Z
LAST-MODIFIED:20250623T232444Z
UID:10070313-1858010400-1858015800@cp12stepoutreach.org
SUMMARY:A Way Forward Community Organization
DESCRIPTION:This is a new in-person 12 Step Centering Prayer Meeting in Longmont\, Colorado. \nAddress: 600 Terry Street\, Longmont\, Colorado\, 80501 \nThe meeting meets in-person on Thursday nights from 6:00 pm to 7:30 pm \nCONTACT: Joyce Calvo at 720-998-4125 or another contact at 720-526-7432.
URL:https://cp12stepoutreach.org/meeting-or-group/a-way-forward-community-organization-2/2028-11-16/
LOCATION:Zoom Meeting
CATEGORIES:In Person 12 Step Centering Prayer Groups
ORGANIZER;CN="Joyce Calvo-Chen &amp%3B Pam Chandler":MAILTO:joycecalvochen@gmail.com
END:VEVENT
BEGIN:VEVENT
DTSTART;TZID=America/Chicago:20281123T180000
DTEND;TZID=America/Chicago:20281123T193000
DTSTAMP:20260421T130446
CREATED:20250623T232444Z
LAST-MODIFIED:20250623T232444Z
UID:10070314-1858615200-1858620600@cp12stepoutreach.org
SUMMARY:A Way Forward Community Organization
DESCRIPTION:This is a new in-person 12 Step Centering Prayer Meeting in Longmont\, Colorado. \nAddress: 600 Terry Street\, Longmont\, Colorado\, 80501 \nThe meeting meets in-person on Thursday nights from 6:00 pm to 7:30 pm \nCONTACT: Joyce Calvo at 720-998-4125 or another contact at 720-526-7432.
URL:https://cp12stepoutreach.org/meeting-or-group/a-way-forward-community-organization-2/2028-11-23/
LOCATION:Zoom Meeting
CATEGORIES:In Person 12 Step Centering Prayer Groups
ORGANIZER;CN="Joyce Calvo-Chen &amp%3B Pam Chandler":MAILTO:joycecalvochen@gmail.com
END:VEVENT
BEGIN:VEVENT
DTSTART;TZID=America/Chicago:20281130T180000
DTEND;TZID=America/Chicago:20281130T193000
DTSTAMP:20260421T130446
CREATED:20250623T232444Z
LAST-MODIFIED:20250623T232444Z
UID:10070315-1859220000-1859225400@cp12stepoutreach.org
SUMMARY:A Way Forward Community Organization
DESCRIPTION:This is a new in-person 12 Step Centering Prayer Meeting in Longmont\, Colorado. \nAddress: 600 Terry Street\, Longmont\, Colorado\, 80501 \nThe meeting meets in-person on Thursday nights from 6:00 pm to 7:30 pm \nCONTACT: Joyce Calvo at 720-998-4125 or another contact at 720-526-7432.
URL:https://cp12stepoutreach.org/meeting-or-group/a-way-forward-community-organization-2/2028-11-30/
LOCATION:Zoom Meeting
CATEGORIES:In Person 12 Step Centering Prayer Groups
ORGANIZER;CN="Joyce Calvo-Chen &amp%3B Pam Chandler":MAILTO:joycecalvochen@gmail.com
END:VEVENT
BEGIN:VEVENT
DTSTART;TZID=America/Chicago:20281207T180000
DTEND;TZID=America/Chicago:20281207T193000
DTSTAMP:20260421T130446
CREATED:20250623T232444Z
LAST-MODIFIED:20250623T232444Z
UID:10070316-1859824800-1859830200@cp12stepoutreach.org
SUMMARY:A Way Forward Community Organization
DESCRIPTION:This is a new in-person 12 Step Centering Prayer Meeting in Longmont\, Colorado. \nAddress: 600 Terry Street\, Longmont\, Colorado\, 80501 \nThe meeting meets in-person on Thursday nights from 6:00 pm to 7:30 pm \nCONTACT: Joyce Calvo at 720-998-4125 or another contact at 720-526-7432.
URL:https://cp12stepoutreach.org/meeting-or-group/a-way-forward-community-organization-2/2028-12-07/
LOCATION:Zoom Meeting
CATEGORIES:In Person 12 Step Centering Prayer Groups
ORGANIZER;CN="Joyce Calvo-Chen &amp%3B Pam Chandler":MAILTO:joycecalvochen@gmail.com
END:VEVENT
BEGIN:VEVENT
DTSTART;TZID=America/Chicago:20281214T180000
DTEND;TZID=America/Chicago:20281214T193000
DTSTAMP:20260421T130446
CREATED:20250623T232444Z
LAST-MODIFIED:20250623T232444Z
UID:10070317-1860429600-1860435000@cp12stepoutreach.org
SUMMARY:A Way Forward Community Organization
DESCRIPTION:This is a new in-person 12 Step Centering Prayer Meeting in Longmont\, Colorado. \nAddress: 600 Terry Street\, Longmont\, Colorado\, 80501 \nThe meeting meets in-person on Thursday nights from 6:00 pm to 7:30 pm \nCONTACT: Joyce Calvo at 720-998-4125 or another contact at 720-526-7432.
URL:https://cp12stepoutreach.org/meeting-or-group/a-way-forward-community-organization-2/2028-12-14/
LOCATION:Zoom Meeting
CATEGORIES:In Person 12 Step Centering Prayer Groups
ORGANIZER;CN="Joyce Calvo-Chen &amp%3B Pam Chandler":MAILTO:joycecalvochen@gmail.com
END:VEVENT
BEGIN:VEVENT
DTSTART;TZID=America/Chicago:20281221T180000
DTEND;TZID=America/Chicago:20281221T193000
DTSTAMP:20260421T130446
CREATED:20250623T232444Z
LAST-MODIFIED:20250623T232444Z
UID:10070318-1861034400-1861039800@cp12stepoutreach.org
SUMMARY:A Way Forward Community Organization
DESCRIPTION:This is a new in-person 12 Step Centering Prayer Meeting in Longmont\, Colorado. \nAddress: 600 Terry Street\, Longmont\, Colorado\, 80501 \nThe meeting meets in-person on Thursday nights from 6:00 pm to 7:30 pm \nCONTACT: Joyce Calvo at 720-998-4125 or another contact at 720-526-7432.
URL:https://cp12stepoutreach.org/meeting-or-group/a-way-forward-community-organization-2/2028-12-21/
LOCATION:Zoom Meeting
CATEGORIES:In Person 12 Step Centering Prayer Groups
ORGANIZER;CN="Joyce Calvo-Chen &amp%3B Pam Chandler":MAILTO:joycecalvochen@gmail.com
END:VEVENT
BEGIN:VEVENT
DTSTART;TZID=America/Chicago:20281228T180000
DTEND;TZID=America/Chicago:20281228T193000
DTSTAMP:20260421T130446
CREATED:20250623T232444Z
LAST-MODIFIED:20250623T232444Z
UID:10070319-1861639200-1861644600@cp12stepoutreach.org
SUMMARY:A Way Forward Community Organization
DESCRIPTION:This is a new in-person 12 Step Centering Prayer Meeting in Longmont\, Colorado. \nAddress: 600 Terry Street\, Longmont\, Colorado\, 80501 \nThe meeting meets in-person on Thursday nights from 6:00 pm to 7:30 pm \nCONTACT: Joyce Calvo at 720-998-4125 or another contact at 720-526-7432.
URL:https://cp12stepoutreach.org/meeting-or-group/a-way-forward-community-organization-2/2028-12-28/
LOCATION:Zoom Meeting
CATEGORIES:In Person 12 Step Centering Prayer Groups
ORGANIZER;CN="Joyce Calvo-Chen &amp%3B Pam Chandler":MAILTO:joycecalvochen@gmail.com
END:VEVENT
BEGIN:VEVENT
DTSTART;TZID=America/Chicago:20290104T180000
DTEND;TZID=America/Chicago:20290104T193000
DTSTAMP:20260421T130446
CREATED:20250623T232444Z
LAST-MODIFIED:20250623T232444Z
UID:10070320-1862244000-1862249400@cp12stepoutreach.org
SUMMARY:A Way Forward Community Organization
DESCRIPTION:This is a new in-person 12 Step Centering Prayer Meeting in Longmont\, Colorado. \nAddress: 600 Terry Street\, Longmont\, Colorado\, 80501 \nThe meeting meets in-person on Thursday nights from 6:00 pm to 7:30 pm \nCONTACT: Joyce Calvo at 720-998-4125 or another contact at 720-526-7432.
URL:https://cp12stepoutreach.org/meeting-or-group/a-way-forward-community-organization-2/2029-01-04/
LOCATION:Zoom Meeting
CATEGORIES:In Person 12 Step Centering Prayer Groups
ORGANIZER;CN="Joyce Calvo-Chen &amp%3B Pam Chandler":MAILTO:joycecalvochen@gmail.com
END:VEVENT
BEGIN:VEVENT
DTSTART;TZID=America/Chicago:20290111T180000
DTEND;TZID=America/Chicago:20290111T193000
DTSTAMP:20260421T130446
CREATED:20250623T232444Z
LAST-MODIFIED:20250623T232444Z
UID:10070321-1862848800-1862854200@cp12stepoutreach.org
SUMMARY:A Way Forward Community Organization
DESCRIPTION:This is a new in-person 12 Step Centering Prayer Meeting in Longmont\, Colorado. \nAddress: 600 Terry Street\, Longmont\, Colorado\, 80501 \nThe meeting meets in-person on Thursday nights from 6:00 pm to 7:30 pm \nCONTACT: Joyce Calvo at 720-998-4125 or another contact at 720-526-7432.
URL:https://cp12stepoutreach.org/meeting-or-group/a-way-forward-community-organization-2/2029-01-11/
LOCATION:Zoom Meeting
CATEGORIES:In Person 12 Step Centering Prayer Groups
ORGANIZER;CN="Joyce Calvo-Chen &amp%3B Pam Chandler":MAILTO:joycecalvochen@gmail.com
END:VEVENT
BEGIN:VEVENT
DTSTART;TZID=America/Chicago:20290118T180000
DTEND;TZID=America/Chicago:20290118T193000
DTSTAMP:20260421T130446
CREATED:20250623T232444Z
LAST-MODIFIED:20250623T232444Z
UID:10070322-1863453600-1863459000@cp12stepoutreach.org
SUMMARY:A Way Forward Community Organization
DESCRIPTION:This is a new in-person 12 Step Centering Prayer Meeting in Longmont\, Colorado. \nAddress: 600 Terry Street\, Longmont\, Colorado\, 80501 \nThe meeting meets in-person on Thursday nights from 6:00 pm to 7:30 pm \nCONTACT: Joyce Calvo at 720-998-4125 or another contact at 720-526-7432.
URL:https://cp12stepoutreach.org/meeting-or-group/a-way-forward-community-organization-2/2029-01-18/
LOCATION:Zoom Meeting
CATEGORIES:In Person 12 Step Centering Prayer Groups
ORGANIZER;CN="Joyce Calvo-Chen &amp%3B Pam Chandler":MAILTO:joycecalvochen@gmail.com
END:VEVENT
BEGIN:VEVENT
DTSTART;TZID=America/Chicago:20290125T180000
DTEND;TZID=America/Chicago:20290125T193000
DTSTAMP:20260421T130446
CREATED:20250623T232444Z
LAST-MODIFIED:20250623T232444Z
UID:10070323-1864058400-1864063800@cp12stepoutreach.org
SUMMARY:A Way Forward Community Organization
DESCRIPTION:This is a new in-person 12 Step Centering Prayer Meeting in Longmont\, Colorado. \nAddress: 600 Terry Street\, Longmont\, Colorado\, 80501 \nThe meeting meets in-person on Thursday nights from 6:00 pm to 7:30 pm \nCONTACT: Joyce Calvo at 720-998-4125 or another contact at 720-526-7432.
URL:https://cp12stepoutreach.org/meeting-or-group/a-way-forward-community-organization-2/2029-01-25/
LOCATION:Zoom Meeting
CATEGORIES:In Person 12 Step Centering Prayer Groups
ORGANIZER;CN="Joyce Calvo-Chen &amp%3B Pam Chandler":MAILTO:joycecalvochen@gmail.com
END:VEVENT
BEGIN:VEVENT
DTSTART;TZID=America/Chicago:20290201T180000
DTEND;TZID=America/Chicago:20290201T193000
DTSTAMP:20260421T130446
CREATED:20250623T232444Z
LAST-MODIFIED:20250623T232444Z
UID:10070324-1864663200-1864668600@cp12stepoutreach.org
SUMMARY:A Way Forward Community Organization
DESCRIPTION:This is a new in-person 12 Step Centering Prayer Meeting in Longmont\, Colorado. \nAddress: 600 Terry Street\, Longmont\, Colorado\, 80501 \nThe meeting meets in-person on Thursday nights from 6:00 pm to 7:30 pm \nCONTACT: Joyce Calvo at 720-998-4125 or another contact at 720-526-7432.
URL:https://cp12stepoutreach.org/meeting-or-group/a-way-forward-community-organization-2/2029-02-01/
LOCATION:Zoom Meeting
CATEGORIES:In Person 12 Step Centering Prayer Groups
ORGANIZER;CN="Joyce Calvo-Chen &amp%3B Pam Chandler":MAILTO:joycecalvochen@gmail.com
END:VEVENT
BEGIN:VEVENT
DTSTART;TZID=America/Chicago:20290208T180000
DTEND;TZID=America/Chicago:20290208T193000
DTSTAMP:20260421T130446
CREATED:20250623T232444Z
LAST-MODIFIED:20250623T232444Z
UID:10070325-1865268000-1865273400@cp12stepoutreach.org
SUMMARY:A Way Forward Community Organization
DESCRIPTION:This is a new in-person 12 Step Centering Prayer Meeting in Longmont\, Colorado. \nAddress: 600 Terry Street\, Longmont\, Colorado\, 80501 \nThe meeting meets in-person on Thursday nights from 6:00 pm to 7:30 pm \nCONTACT: Joyce Calvo at 720-998-4125 or another contact at 720-526-7432.
URL:https://cp12stepoutreach.org/meeting-or-group/a-way-forward-community-organization-2/2029-02-08/
LOCATION:Zoom Meeting
CATEGORIES:In Person 12 Step Centering Prayer Groups
ORGANIZER;CN="Joyce Calvo-Chen &amp%3B Pam Chandler":MAILTO:joycecalvochen@gmail.com
END:VEVENT
BEGIN:VEVENT
DTSTART;TZID=America/Chicago:20290215T180000
DTEND;TZID=America/Chicago:20290215T193000
DTSTAMP:20260421T130446
CREATED:20250623T232444Z
LAST-MODIFIED:20250623T232444Z
UID:10070326-1865872800-1865878200@cp12stepoutreach.org
SUMMARY:A Way Forward Community Organization
DESCRIPTION:This is a new in-person 12 Step Centering Prayer Meeting in Longmont\, Colorado. \nAddress: 600 Terry Street\, Longmont\, Colorado\, 80501 \nThe meeting meets in-person on Thursday nights from 6:00 pm to 7:30 pm \nCONTACT: Joyce Calvo at 720-998-4125 or another contact at 720-526-7432.
URL:https://cp12stepoutreach.org/meeting-or-group/a-way-forward-community-organization-2/2029-02-15/
LOCATION:Zoom Meeting
CATEGORIES:In Person 12 Step Centering Prayer Groups
ORGANIZER;CN="Joyce Calvo-Chen &amp%3B Pam Chandler":MAILTO:joycecalvochen@gmail.com
END:VEVENT
BEGIN:VEVENT
DTSTART;TZID=America/Chicago:20290222T180000
DTEND;TZID=America/Chicago:20290222T193000
DTSTAMP:20260421T130446
CREATED:20250623T232444Z
LAST-MODIFIED:20250623T232444Z
UID:10070327-1866477600-1866483000@cp12stepoutreach.org
SUMMARY:A Way Forward Community Organization
DESCRIPTION:This is a new in-person 12 Step Centering Prayer Meeting in Longmont\, Colorado. \nAddress: 600 Terry Street\, Longmont\, Colorado\, 80501 \nThe meeting meets in-person on Thursday nights from 6:00 pm to 7:30 pm \nCONTACT: Joyce Calvo at 720-998-4125 or another contact at 720-526-7432.
URL:https://cp12stepoutreach.org/meeting-or-group/a-way-forward-community-organization-2/2029-02-22/
LOCATION:Zoom Meeting
CATEGORIES:In Person 12 Step Centering Prayer Groups
ORGANIZER;CN="Joyce Calvo-Chen &amp%3B Pam Chandler":MAILTO:joycecalvochen@gmail.com
END:VEVENT
BEGIN:VEVENT
DTSTART;TZID=America/Chicago:20290301T180000
DTEND;TZID=America/Chicago:20290301T193000
DTSTAMP:20260421T130446
CREATED:20250623T232444Z
LAST-MODIFIED:20250623T232444Z
UID:10070328-1867082400-1867087800@cp12stepoutreach.org
SUMMARY:A Way Forward Community Organization
DESCRIPTION:This is a new in-person 12 Step Centering Prayer Meeting in Longmont\, Colorado. \nAddress: 600 Terry Street\, Longmont\, Colorado\, 80501 \nThe meeting meets in-person on Thursday nights from 6:00 pm to 7:30 pm \nCONTACT: Joyce Calvo at 720-998-4125 or another contact at 720-526-7432.
URL:https://cp12stepoutreach.org/meeting-or-group/a-way-forward-community-organization-2/2029-03-01/
LOCATION:Zoom Meeting
CATEGORIES:In Person 12 Step Centering Prayer Groups
ORGANIZER;CN="Joyce Calvo-Chen &amp%3B Pam Chandler":MAILTO:joycecalvochen@gmail.com
END:VEVENT
END:VCALENDAR