BEGIN:VCALENDAR
VERSION:2.0
PRODID:-//12 Step Outreach - ECPv6.11.2.1//NONSGML v1.0//EN
CALSCALE:GREGORIAN
METHOD:PUBLISH
X-ORIGINAL-URL:https://cp12stepoutreach.org
X-WR-CALDESC:Events for 12 Step Outreach
REFRESH-INTERVAL;VALUE=DURATION:PT1H
X-Robots-Tag:noindex
X-PUBLISHED-TTL:PT1H
BEGIN:VTIMEZONE
TZID:America/Chicago
BEGIN:DAYLIGHT
TZOFFSETFROM:-0600
TZOFFSETTO:-0500
TZNAME:CDT
DTSTART:20280312T080000
END:DAYLIGHT
BEGIN:STANDARD
TZOFFSETFROM:-0500
TZOFFSETTO:-0600
TZNAME:CST
DTSTART:20281105T070000
END:STANDARD
BEGIN:DAYLIGHT
TZOFFSETFROM:-0600
TZOFFSETTO:-0500
TZNAME:CDT
DTSTART:20290311T080000
END:DAYLIGHT
BEGIN:STANDARD
TZOFFSETFROM:-0500
TZOFFSETTO:-0600
TZNAME:CST
DTSTART:20291104T070000
END:STANDARD
END:VTIMEZONE
BEGIN:VEVENT
DTSTART;TZID=America/Chicago:20281228T180000
DTEND;TZID=America/Chicago:20281228T193000
DTSTAMP:20260421T142448
CREATED:20250623T232444Z
LAST-MODIFIED:20250623T232444Z
UID:10070319-1861639200-1861644600@cp12stepoutreach.org
SUMMARY:A Way Forward Community Organization
DESCRIPTION:This is a new in-person 12 Step Centering Prayer Meeting in Longmont\, Colorado. \nAddress: 600 Terry Street\, Longmont\, Colorado\, 80501 \nThe meeting meets in-person on Thursday nights from 6:00 pm to 7:30 pm \nCONTACT: Joyce Calvo at 720-998-4125 or another contact at 720-526-7432.
URL:https://cp12stepoutreach.org/meeting-or-group/a-way-forward-community-organization-2/2028-12-28/
LOCATION:Zoom Meeting
CATEGORIES:In Person 12 Step Centering Prayer Groups
ORGANIZER;CN="Joyce Calvo-Chen &amp%3B Pam Chandler":MAILTO:joycecalvochen@gmail.com
END:VEVENT
BEGIN:VEVENT
DTSTART;TZID=America/Chicago:20290104T180000
DTEND;TZID=America/Chicago:20290104T193000
DTSTAMP:20260421T142448
CREATED:20250623T232444Z
LAST-MODIFIED:20250623T232444Z
UID:10070320-1862244000-1862249400@cp12stepoutreach.org
SUMMARY:A Way Forward Community Organization
DESCRIPTION:This is a new in-person 12 Step Centering Prayer Meeting in Longmont\, Colorado. \nAddress: 600 Terry Street\, Longmont\, Colorado\, 80501 \nThe meeting meets in-person on Thursday nights from 6:00 pm to 7:30 pm \nCONTACT: Joyce Calvo at 720-998-4125 or another contact at 720-526-7432.
URL:https://cp12stepoutreach.org/meeting-or-group/a-way-forward-community-organization-2/2029-01-04/
LOCATION:Zoom Meeting
CATEGORIES:In Person 12 Step Centering Prayer Groups
ORGANIZER;CN="Joyce Calvo-Chen &amp%3B Pam Chandler":MAILTO:joycecalvochen@gmail.com
END:VEVENT
BEGIN:VEVENT
DTSTART;TZID=America/Chicago:20290111T180000
DTEND;TZID=America/Chicago:20290111T193000
DTSTAMP:20260421T142448
CREATED:20250623T232444Z
LAST-MODIFIED:20250623T232444Z
UID:10070321-1862848800-1862854200@cp12stepoutreach.org
SUMMARY:A Way Forward Community Organization
DESCRIPTION:This is a new in-person 12 Step Centering Prayer Meeting in Longmont\, Colorado. \nAddress: 600 Terry Street\, Longmont\, Colorado\, 80501 \nThe meeting meets in-person on Thursday nights from 6:00 pm to 7:30 pm \nCONTACT: Joyce Calvo at 720-998-4125 or another contact at 720-526-7432.
URL:https://cp12stepoutreach.org/meeting-or-group/a-way-forward-community-organization-2/2029-01-11/
LOCATION:Zoom Meeting
CATEGORIES:In Person 12 Step Centering Prayer Groups
ORGANIZER;CN="Joyce Calvo-Chen &amp%3B Pam Chandler":MAILTO:joycecalvochen@gmail.com
END:VEVENT
BEGIN:VEVENT
DTSTART;TZID=America/Chicago:20290118T180000
DTEND;TZID=America/Chicago:20290118T193000
DTSTAMP:20260421T142448
CREATED:20250623T232444Z
LAST-MODIFIED:20250623T232444Z
UID:10070322-1863453600-1863459000@cp12stepoutreach.org
SUMMARY:A Way Forward Community Organization
DESCRIPTION:This is a new in-person 12 Step Centering Prayer Meeting in Longmont\, Colorado. \nAddress: 600 Terry Street\, Longmont\, Colorado\, 80501 \nThe meeting meets in-person on Thursday nights from 6:00 pm to 7:30 pm \nCONTACT: Joyce Calvo at 720-998-4125 or another contact at 720-526-7432.
URL:https://cp12stepoutreach.org/meeting-or-group/a-way-forward-community-organization-2/2029-01-18/
LOCATION:Zoom Meeting
CATEGORIES:In Person 12 Step Centering Prayer Groups
ORGANIZER;CN="Joyce Calvo-Chen &amp%3B Pam Chandler":MAILTO:joycecalvochen@gmail.com
END:VEVENT
BEGIN:VEVENT
DTSTART;TZID=America/Chicago:20290125T180000
DTEND;TZID=America/Chicago:20290125T193000
DTSTAMP:20260421T142448
CREATED:20250623T232444Z
LAST-MODIFIED:20250623T232444Z
UID:10070323-1864058400-1864063800@cp12stepoutreach.org
SUMMARY:A Way Forward Community Organization
DESCRIPTION:This is a new in-person 12 Step Centering Prayer Meeting in Longmont\, Colorado. \nAddress: 600 Terry Street\, Longmont\, Colorado\, 80501 \nThe meeting meets in-person on Thursday nights from 6:00 pm to 7:30 pm \nCONTACT: Joyce Calvo at 720-998-4125 or another contact at 720-526-7432.
URL:https://cp12stepoutreach.org/meeting-or-group/a-way-forward-community-organization-2/2029-01-25/
LOCATION:Zoom Meeting
CATEGORIES:In Person 12 Step Centering Prayer Groups
ORGANIZER;CN="Joyce Calvo-Chen &amp%3B Pam Chandler":MAILTO:joycecalvochen@gmail.com
END:VEVENT
BEGIN:VEVENT
DTSTART;TZID=America/Chicago:20290201T180000
DTEND;TZID=America/Chicago:20290201T193000
DTSTAMP:20260421T142448
CREATED:20250623T232444Z
LAST-MODIFIED:20250623T232444Z
UID:10070324-1864663200-1864668600@cp12stepoutreach.org
SUMMARY:A Way Forward Community Organization
DESCRIPTION:This is a new in-person 12 Step Centering Prayer Meeting in Longmont\, Colorado. \nAddress: 600 Terry Street\, Longmont\, Colorado\, 80501 \nThe meeting meets in-person on Thursday nights from 6:00 pm to 7:30 pm \nCONTACT: Joyce Calvo at 720-998-4125 or another contact at 720-526-7432.
URL:https://cp12stepoutreach.org/meeting-or-group/a-way-forward-community-organization-2/2029-02-01/
LOCATION:Zoom Meeting
CATEGORIES:In Person 12 Step Centering Prayer Groups
ORGANIZER;CN="Joyce Calvo-Chen &amp%3B Pam Chandler":MAILTO:joycecalvochen@gmail.com
END:VEVENT
BEGIN:VEVENT
DTSTART;TZID=America/Chicago:20290208T180000
DTEND;TZID=America/Chicago:20290208T193000
DTSTAMP:20260421T142448
CREATED:20250623T232444Z
LAST-MODIFIED:20250623T232444Z
UID:10070325-1865268000-1865273400@cp12stepoutreach.org
SUMMARY:A Way Forward Community Organization
DESCRIPTION:This is a new in-person 12 Step Centering Prayer Meeting in Longmont\, Colorado. \nAddress: 600 Terry Street\, Longmont\, Colorado\, 80501 \nThe meeting meets in-person on Thursday nights from 6:00 pm to 7:30 pm \nCONTACT: Joyce Calvo at 720-998-4125 or another contact at 720-526-7432.
URL:https://cp12stepoutreach.org/meeting-or-group/a-way-forward-community-organization-2/2029-02-08/
LOCATION:Zoom Meeting
CATEGORIES:In Person 12 Step Centering Prayer Groups
ORGANIZER;CN="Joyce Calvo-Chen &amp%3B Pam Chandler":MAILTO:joycecalvochen@gmail.com
END:VEVENT
BEGIN:VEVENT
DTSTART;TZID=America/Chicago:20290215T180000
DTEND;TZID=America/Chicago:20290215T193000
DTSTAMP:20260421T142448
CREATED:20250623T232444Z
LAST-MODIFIED:20250623T232444Z
UID:10070326-1865872800-1865878200@cp12stepoutreach.org
SUMMARY:A Way Forward Community Organization
DESCRIPTION:This is a new in-person 12 Step Centering Prayer Meeting in Longmont\, Colorado. \nAddress: 600 Terry Street\, Longmont\, Colorado\, 80501 \nThe meeting meets in-person on Thursday nights from 6:00 pm to 7:30 pm \nCONTACT: Joyce Calvo at 720-998-4125 or another contact at 720-526-7432.
URL:https://cp12stepoutreach.org/meeting-or-group/a-way-forward-community-organization-2/2029-02-15/
LOCATION:Zoom Meeting
CATEGORIES:In Person 12 Step Centering Prayer Groups
ORGANIZER;CN="Joyce Calvo-Chen &amp%3B Pam Chandler":MAILTO:joycecalvochen@gmail.com
END:VEVENT
BEGIN:VEVENT
DTSTART;TZID=America/Chicago:20290222T180000
DTEND;TZID=America/Chicago:20290222T193000
DTSTAMP:20260421T142448
CREATED:20250623T232444Z
LAST-MODIFIED:20250623T232444Z
UID:10070327-1866477600-1866483000@cp12stepoutreach.org
SUMMARY:A Way Forward Community Organization
DESCRIPTION:This is a new in-person 12 Step Centering Prayer Meeting in Longmont\, Colorado. \nAddress: 600 Terry Street\, Longmont\, Colorado\, 80501 \nThe meeting meets in-person on Thursday nights from 6:00 pm to 7:30 pm \nCONTACT: Joyce Calvo at 720-998-4125 or another contact at 720-526-7432.
URL:https://cp12stepoutreach.org/meeting-or-group/a-way-forward-community-organization-2/2029-02-22/
LOCATION:Zoom Meeting
CATEGORIES:In Person 12 Step Centering Prayer Groups
ORGANIZER;CN="Joyce Calvo-Chen &amp%3B Pam Chandler":MAILTO:joycecalvochen@gmail.com
END:VEVENT
BEGIN:VEVENT
DTSTART;TZID=America/Chicago:20290301T180000
DTEND;TZID=America/Chicago:20290301T193000
DTSTAMP:20260421T142448
CREATED:20250623T232444Z
LAST-MODIFIED:20250623T232444Z
UID:10070328-1867082400-1867087800@cp12stepoutreach.org
SUMMARY:A Way Forward Community Organization
DESCRIPTION:This is a new in-person 12 Step Centering Prayer Meeting in Longmont\, Colorado. \nAddress: 600 Terry Street\, Longmont\, Colorado\, 80501 \nThe meeting meets in-person on Thursday nights from 6:00 pm to 7:30 pm \nCONTACT: Joyce Calvo at 720-998-4125 or another contact at 720-526-7432.
URL:https://cp12stepoutreach.org/meeting-or-group/a-way-forward-community-organization-2/2029-03-01/
LOCATION:Zoom Meeting
CATEGORIES:In Person 12 Step Centering Prayer Groups
ORGANIZER;CN="Joyce Calvo-Chen &amp%3B Pam Chandler":MAILTO:joycecalvochen@gmail.com
END:VEVENT
BEGIN:VEVENT
DTSTART;TZID=America/Chicago:20290308T180000
DTEND;TZID=America/Chicago:20290308T193000
DTSTAMP:20260421T142448
CREATED:20250623T232444Z
LAST-MODIFIED:20250623T232444Z
UID:10070329-1867687200-1867692600@cp12stepoutreach.org
SUMMARY:A Way Forward Community Organization
DESCRIPTION:This is a new in-person 12 Step Centering Prayer Meeting in Longmont\, Colorado. \nAddress: 600 Terry Street\, Longmont\, Colorado\, 80501 \nThe meeting meets in-person on Thursday nights from 6:00 pm to 7:30 pm \nCONTACT: Joyce Calvo at 720-998-4125 or another contact at 720-526-7432.
URL:https://cp12stepoutreach.org/meeting-or-group/a-way-forward-community-organization-2/2029-03-08/
LOCATION:Zoom Meeting
CATEGORIES:In Person 12 Step Centering Prayer Groups
ORGANIZER;CN="Joyce Calvo-Chen &amp%3B Pam Chandler":MAILTO:joycecalvochen@gmail.com
END:VEVENT
BEGIN:VEVENT
DTSTART;TZID=America/Chicago:20290315T180000
DTEND;TZID=America/Chicago:20290315T193000
DTSTAMP:20260421T142448
CREATED:20250623T232444Z
LAST-MODIFIED:20250623T232444Z
UID:10070330-1868292000-1868297400@cp12stepoutreach.org
SUMMARY:A Way Forward Community Organization
DESCRIPTION:This is a new in-person 12 Step Centering Prayer Meeting in Longmont\, Colorado. \nAddress: 600 Terry Street\, Longmont\, Colorado\, 80501 \nThe meeting meets in-person on Thursday nights from 6:00 pm to 7:30 pm \nCONTACT: Joyce Calvo at 720-998-4125 or another contact at 720-526-7432.
URL:https://cp12stepoutreach.org/meeting-or-group/a-way-forward-community-organization-2/2029-03-15/
LOCATION:Zoom Meeting
CATEGORIES:In Person 12 Step Centering Prayer Groups
ORGANIZER;CN="Joyce Calvo-Chen &amp%3B Pam Chandler":MAILTO:joycecalvochen@gmail.com
END:VEVENT
BEGIN:VEVENT
DTSTART;TZID=America/Chicago:20290322T180000
DTEND;TZID=America/Chicago:20290322T193000
DTSTAMP:20260421T142448
CREATED:20250623T232444Z
LAST-MODIFIED:20250623T232444Z
UID:10070331-1868896800-1868902200@cp12stepoutreach.org
SUMMARY:A Way Forward Community Organization
DESCRIPTION:This is a new in-person 12 Step Centering Prayer Meeting in Longmont\, Colorado. \nAddress: 600 Terry Street\, Longmont\, Colorado\, 80501 \nThe meeting meets in-person on Thursday nights from 6:00 pm to 7:30 pm \nCONTACT: Joyce Calvo at 720-998-4125 or another contact at 720-526-7432.
URL:https://cp12stepoutreach.org/meeting-or-group/a-way-forward-community-organization-2/2029-03-22/
LOCATION:Zoom Meeting
CATEGORIES:In Person 12 Step Centering Prayer Groups
ORGANIZER;CN="Joyce Calvo-Chen &amp%3B Pam Chandler":MAILTO:joycecalvochen@gmail.com
END:VEVENT
BEGIN:VEVENT
DTSTART;TZID=America/Chicago:20290329T180000
DTEND;TZID=America/Chicago:20290329T193000
DTSTAMP:20260421T142448
CREATED:20250623T232444Z
LAST-MODIFIED:20250623T232444Z
UID:10070332-1869501600-1869507000@cp12stepoutreach.org
SUMMARY:A Way Forward Community Organization
DESCRIPTION:This is a new in-person 12 Step Centering Prayer Meeting in Longmont\, Colorado. \nAddress: 600 Terry Street\, Longmont\, Colorado\, 80501 \nThe meeting meets in-person on Thursday nights from 6:00 pm to 7:30 pm \nCONTACT: Joyce Calvo at 720-998-4125 or another contact at 720-526-7432.
URL:https://cp12stepoutreach.org/meeting-or-group/a-way-forward-community-organization-2/2029-03-29/
LOCATION:Zoom Meeting
CATEGORIES:In Person 12 Step Centering Prayer Groups
ORGANIZER;CN="Joyce Calvo-Chen &amp%3B Pam Chandler":MAILTO:joycecalvochen@gmail.com
END:VEVENT
BEGIN:VEVENT
DTSTART;TZID=America/Chicago:20290405T180000
DTEND;TZID=America/Chicago:20290405T193000
DTSTAMP:20260421T142448
CREATED:20250623T232444Z
LAST-MODIFIED:20250623T232444Z
UID:10070333-1870106400-1870111800@cp12stepoutreach.org
SUMMARY:A Way Forward Community Organization
DESCRIPTION:This is a new in-person 12 Step Centering Prayer Meeting in Longmont\, Colorado. \nAddress: 600 Terry Street\, Longmont\, Colorado\, 80501 \nThe meeting meets in-person on Thursday nights from 6:00 pm to 7:30 pm \nCONTACT: Joyce Calvo at 720-998-4125 or another contact at 720-526-7432.
URL:https://cp12stepoutreach.org/meeting-or-group/a-way-forward-community-organization-2/2029-04-05/
LOCATION:Zoom Meeting
CATEGORIES:In Person 12 Step Centering Prayer Groups
ORGANIZER;CN="Joyce Calvo-Chen &amp%3B Pam Chandler":MAILTO:joycecalvochen@gmail.com
END:VEVENT
BEGIN:VEVENT
DTSTART;TZID=America/Chicago:20290412T180000
DTEND;TZID=America/Chicago:20290412T193000
DTSTAMP:20260421T142448
CREATED:20250623T232444Z
LAST-MODIFIED:20250623T232444Z
UID:10070334-1870711200-1870716600@cp12stepoutreach.org
SUMMARY:A Way Forward Community Organization
DESCRIPTION:This is a new in-person 12 Step Centering Prayer Meeting in Longmont\, Colorado. \nAddress: 600 Terry Street\, Longmont\, Colorado\, 80501 \nThe meeting meets in-person on Thursday nights from 6:00 pm to 7:30 pm \nCONTACT: Joyce Calvo at 720-998-4125 or another contact at 720-526-7432.
URL:https://cp12stepoutreach.org/meeting-or-group/a-way-forward-community-organization-2/2029-04-12/
LOCATION:Zoom Meeting
CATEGORIES:In Person 12 Step Centering Prayer Groups
ORGANIZER;CN="Joyce Calvo-Chen &amp%3B Pam Chandler":MAILTO:joycecalvochen@gmail.com
END:VEVENT
BEGIN:VEVENT
DTSTART;TZID=America/Chicago:20290419T180000
DTEND;TZID=America/Chicago:20290419T193000
DTSTAMP:20260421T142448
CREATED:20250623T232444Z
LAST-MODIFIED:20250623T232444Z
UID:10070335-1871316000-1871321400@cp12stepoutreach.org
SUMMARY:A Way Forward Community Organization
DESCRIPTION:This is a new in-person 12 Step Centering Prayer Meeting in Longmont\, Colorado. \nAddress: 600 Terry Street\, Longmont\, Colorado\, 80501 \nThe meeting meets in-person on Thursday nights from 6:00 pm to 7:30 pm \nCONTACT: Joyce Calvo at 720-998-4125 or another contact at 720-526-7432.
URL:https://cp12stepoutreach.org/meeting-or-group/a-way-forward-community-organization-2/2029-04-19/
LOCATION:Zoom Meeting
CATEGORIES:In Person 12 Step Centering Prayer Groups
ORGANIZER;CN="Joyce Calvo-Chen &amp%3B Pam Chandler":MAILTO:joycecalvochen@gmail.com
END:VEVENT
BEGIN:VEVENT
DTSTART;TZID=America/Chicago:20290426T180000
DTEND;TZID=America/Chicago:20290426T193000
DTSTAMP:20260421T142448
CREATED:20250623T232444Z
LAST-MODIFIED:20250623T232444Z
UID:10070336-1871920800-1871926200@cp12stepoutreach.org
SUMMARY:A Way Forward Community Organization
DESCRIPTION:This is a new in-person 12 Step Centering Prayer Meeting in Longmont\, Colorado. \nAddress: 600 Terry Street\, Longmont\, Colorado\, 80501 \nThe meeting meets in-person on Thursday nights from 6:00 pm to 7:30 pm \nCONTACT: Joyce Calvo at 720-998-4125 or another contact at 720-526-7432.
URL:https://cp12stepoutreach.org/meeting-or-group/a-way-forward-community-organization-2/2029-04-26/
LOCATION:Zoom Meeting
CATEGORIES:In Person 12 Step Centering Prayer Groups
ORGANIZER;CN="Joyce Calvo-Chen &amp%3B Pam Chandler":MAILTO:joycecalvochen@gmail.com
END:VEVENT
BEGIN:VEVENT
DTSTART;TZID=America/Chicago:20290503T180000
DTEND;TZID=America/Chicago:20290503T193000
DTSTAMP:20260421T142448
CREATED:20250623T232444Z
LAST-MODIFIED:20250623T232444Z
UID:10070337-1872525600-1872531000@cp12stepoutreach.org
SUMMARY:A Way Forward Community Organization
DESCRIPTION:This is a new in-person 12 Step Centering Prayer Meeting in Longmont\, Colorado. \nAddress: 600 Terry Street\, Longmont\, Colorado\, 80501 \nThe meeting meets in-person on Thursday nights from 6:00 pm to 7:30 pm \nCONTACT: Joyce Calvo at 720-998-4125 or another contact at 720-526-7432.
URL:https://cp12stepoutreach.org/meeting-or-group/a-way-forward-community-organization-2/2029-05-03/
LOCATION:Zoom Meeting
CATEGORIES:In Person 12 Step Centering Prayer Groups
ORGANIZER;CN="Joyce Calvo-Chen &amp%3B Pam Chandler":MAILTO:joycecalvochen@gmail.com
END:VEVENT
BEGIN:VEVENT
DTSTART;TZID=America/Chicago:20290510T180000
DTEND;TZID=America/Chicago:20290510T193000
DTSTAMP:20260421T142448
CREATED:20250623T232444Z
LAST-MODIFIED:20250623T232444Z
UID:10070338-1873130400-1873135800@cp12stepoutreach.org
SUMMARY:A Way Forward Community Organization
DESCRIPTION:This is a new in-person 12 Step Centering Prayer Meeting in Longmont\, Colorado. \nAddress: 600 Terry Street\, Longmont\, Colorado\, 80501 \nThe meeting meets in-person on Thursday nights from 6:00 pm to 7:30 pm \nCONTACT: Joyce Calvo at 720-998-4125 or another contact at 720-526-7432.
URL:https://cp12stepoutreach.org/meeting-or-group/a-way-forward-community-organization-2/2029-05-10/
LOCATION:Zoom Meeting
CATEGORIES:In Person 12 Step Centering Prayer Groups
ORGANIZER;CN="Joyce Calvo-Chen &amp%3B Pam Chandler":MAILTO:joycecalvochen@gmail.com
END:VEVENT
BEGIN:VEVENT
DTSTART;TZID=America/Chicago:20290517T180000
DTEND;TZID=America/Chicago:20290517T193000
DTSTAMP:20260421T142448
CREATED:20250623T232444Z
LAST-MODIFIED:20250623T232444Z
UID:10070339-1873735200-1873740600@cp12stepoutreach.org
SUMMARY:A Way Forward Community Organization
DESCRIPTION:This is a new in-person 12 Step Centering Prayer Meeting in Longmont\, Colorado. \nAddress: 600 Terry Street\, Longmont\, Colorado\, 80501 \nThe meeting meets in-person on Thursday nights from 6:00 pm to 7:30 pm \nCONTACT: Joyce Calvo at 720-998-4125 or another contact at 720-526-7432.
URL:https://cp12stepoutreach.org/meeting-or-group/a-way-forward-community-organization-2/2029-05-17/
LOCATION:Zoom Meeting
CATEGORIES:In Person 12 Step Centering Prayer Groups
ORGANIZER;CN="Joyce Calvo-Chen &amp%3B Pam Chandler":MAILTO:joycecalvochen@gmail.com
END:VEVENT
BEGIN:VEVENT
DTSTART;TZID=America/Chicago:20290524T180000
DTEND;TZID=America/Chicago:20290524T193000
DTSTAMP:20260421T142448
CREATED:20250623T232444Z
LAST-MODIFIED:20250623T232444Z
UID:10070340-1874340000-1874345400@cp12stepoutreach.org
SUMMARY:A Way Forward Community Organization
DESCRIPTION:This is a new in-person 12 Step Centering Prayer Meeting in Longmont\, Colorado. \nAddress: 600 Terry Street\, Longmont\, Colorado\, 80501 \nThe meeting meets in-person on Thursday nights from 6:00 pm to 7:30 pm \nCONTACT: Joyce Calvo at 720-998-4125 or another contact at 720-526-7432.
URL:https://cp12stepoutreach.org/meeting-or-group/a-way-forward-community-organization-2/2029-05-24/
LOCATION:Zoom Meeting
CATEGORIES:In Person 12 Step Centering Prayer Groups
ORGANIZER;CN="Joyce Calvo-Chen &amp%3B Pam Chandler":MAILTO:joycecalvochen@gmail.com
END:VEVENT
BEGIN:VEVENT
DTSTART;TZID=America/Chicago:20290531T180000
DTEND;TZID=America/Chicago:20290531T193000
DTSTAMP:20260421T142448
CREATED:20250623T232444Z
LAST-MODIFIED:20250623T232444Z
UID:10070341-1874944800-1874950200@cp12stepoutreach.org
SUMMARY:A Way Forward Community Organization
DESCRIPTION:This is a new in-person 12 Step Centering Prayer Meeting in Longmont\, Colorado. \nAddress: 600 Terry Street\, Longmont\, Colorado\, 80501 \nThe meeting meets in-person on Thursday nights from 6:00 pm to 7:30 pm \nCONTACT: Joyce Calvo at 720-998-4125 or another contact at 720-526-7432.
URL:https://cp12stepoutreach.org/meeting-or-group/a-way-forward-community-organization-2/2029-05-31/
LOCATION:Zoom Meeting
CATEGORIES:In Person 12 Step Centering Prayer Groups
ORGANIZER;CN="Joyce Calvo-Chen &amp%3B Pam Chandler":MAILTO:joycecalvochen@gmail.com
END:VEVENT
BEGIN:VEVENT
DTSTART;TZID=America/Chicago:20290607T180000
DTEND;TZID=America/Chicago:20290607T193000
DTSTAMP:20260421T142448
CREATED:20250623T232444Z
LAST-MODIFIED:20250623T232444Z
UID:10070342-1875549600-1875555000@cp12stepoutreach.org
SUMMARY:A Way Forward Community Organization
DESCRIPTION:This is a new in-person 12 Step Centering Prayer Meeting in Longmont\, Colorado. \nAddress: 600 Terry Street\, Longmont\, Colorado\, 80501 \nThe meeting meets in-person on Thursday nights from 6:00 pm to 7:30 pm \nCONTACT: Joyce Calvo at 720-998-4125 or another contact at 720-526-7432.
URL:https://cp12stepoutreach.org/meeting-or-group/a-way-forward-community-organization-2/2029-06-07/
LOCATION:Zoom Meeting
CATEGORIES:In Person 12 Step Centering Prayer Groups
ORGANIZER;CN="Joyce Calvo-Chen &amp%3B Pam Chandler":MAILTO:joycecalvochen@gmail.com
END:VEVENT
BEGIN:VEVENT
DTSTART;TZID=America/Chicago:20290614T180000
DTEND;TZID=America/Chicago:20290614T193000
DTSTAMP:20260421T142448
CREATED:20250623T232444Z
LAST-MODIFIED:20250623T232444Z
UID:10070343-1876154400-1876159800@cp12stepoutreach.org
SUMMARY:A Way Forward Community Organization
DESCRIPTION:This is a new in-person 12 Step Centering Prayer Meeting in Longmont\, Colorado. \nAddress: 600 Terry Street\, Longmont\, Colorado\, 80501 \nThe meeting meets in-person on Thursday nights from 6:00 pm to 7:30 pm \nCONTACT: Joyce Calvo at 720-998-4125 or another contact at 720-526-7432.
URL:https://cp12stepoutreach.org/meeting-or-group/a-way-forward-community-organization-2/2029-06-14/
LOCATION:Zoom Meeting
CATEGORIES:In Person 12 Step Centering Prayer Groups
ORGANIZER;CN="Joyce Calvo-Chen &amp%3B Pam Chandler":MAILTO:joycecalvochen@gmail.com
END:VEVENT
BEGIN:VEVENT
DTSTART;TZID=America/Chicago:20290621T180000
DTEND;TZID=America/Chicago:20290621T193000
DTSTAMP:20260421T142448
CREATED:20250623T232444Z
LAST-MODIFIED:20250623T232444Z
UID:10070344-1876759200-1876764600@cp12stepoutreach.org
SUMMARY:A Way Forward Community Organization
DESCRIPTION:This is a new in-person 12 Step Centering Prayer Meeting in Longmont\, Colorado. \nAddress: 600 Terry Street\, Longmont\, Colorado\, 80501 \nThe meeting meets in-person on Thursday nights from 6:00 pm to 7:30 pm \nCONTACT: Joyce Calvo at 720-998-4125 or another contact at 720-526-7432.
URL:https://cp12stepoutreach.org/meeting-or-group/a-way-forward-community-organization-2/2029-06-21/
LOCATION:Zoom Meeting
CATEGORIES:In Person 12 Step Centering Prayer Groups
ORGANIZER;CN="Joyce Calvo-Chen &amp%3B Pam Chandler":MAILTO:joycecalvochen@gmail.com
END:VEVENT
BEGIN:VEVENT
DTSTART;TZID=America/Chicago:20290628T180000
DTEND;TZID=America/Chicago:20290628T193000
DTSTAMP:20260421T142448
CREATED:20250623T232444Z
LAST-MODIFIED:20250623T232444Z
UID:10070345-1877364000-1877369400@cp12stepoutreach.org
SUMMARY:A Way Forward Community Organization
DESCRIPTION:This is a new in-person 12 Step Centering Prayer Meeting in Longmont\, Colorado. \nAddress: 600 Terry Street\, Longmont\, Colorado\, 80501 \nThe meeting meets in-person on Thursday nights from 6:00 pm to 7:30 pm \nCONTACT: Joyce Calvo at 720-998-4125 or another contact at 720-526-7432.
URL:https://cp12stepoutreach.org/meeting-or-group/a-way-forward-community-organization-2/2029-06-28/
LOCATION:Zoom Meeting
CATEGORIES:In Person 12 Step Centering Prayer Groups
ORGANIZER;CN="Joyce Calvo-Chen &amp%3B Pam Chandler":MAILTO:joycecalvochen@gmail.com
END:VEVENT
BEGIN:VEVENT
DTSTART;TZID=America/Chicago:20290705T180000
DTEND;TZID=America/Chicago:20290705T193000
DTSTAMP:20260421T142448
CREATED:20250623T232444Z
LAST-MODIFIED:20250623T232444Z
UID:10070346-1877968800-1877974200@cp12stepoutreach.org
SUMMARY:A Way Forward Community Organization
DESCRIPTION:This is a new in-person 12 Step Centering Prayer Meeting in Longmont\, Colorado. \nAddress: 600 Terry Street\, Longmont\, Colorado\, 80501 \nThe meeting meets in-person on Thursday nights from 6:00 pm to 7:30 pm \nCONTACT: Joyce Calvo at 720-998-4125 or another contact at 720-526-7432.
URL:https://cp12stepoutreach.org/meeting-or-group/a-way-forward-community-organization-2/2029-07-05/
LOCATION:Zoom Meeting
CATEGORIES:In Person 12 Step Centering Prayer Groups
ORGANIZER;CN="Joyce Calvo-Chen &amp%3B Pam Chandler":MAILTO:joycecalvochen@gmail.com
END:VEVENT
BEGIN:VEVENT
DTSTART;TZID=America/Chicago:20290712T180000
DTEND;TZID=America/Chicago:20290712T193000
DTSTAMP:20260421T142448
CREATED:20250623T232444Z
LAST-MODIFIED:20250623T232444Z
UID:10070347-1878573600-1878579000@cp12stepoutreach.org
SUMMARY:A Way Forward Community Organization
DESCRIPTION:This is a new in-person 12 Step Centering Prayer Meeting in Longmont\, Colorado. \nAddress: 600 Terry Street\, Longmont\, Colorado\, 80501 \nThe meeting meets in-person on Thursday nights from 6:00 pm to 7:30 pm \nCONTACT: Joyce Calvo at 720-998-4125 or another contact at 720-526-7432.
URL:https://cp12stepoutreach.org/meeting-or-group/a-way-forward-community-organization-2/2029-07-12/
LOCATION:Zoom Meeting
CATEGORIES:In Person 12 Step Centering Prayer Groups
ORGANIZER;CN="Joyce Calvo-Chen &amp%3B Pam Chandler":MAILTO:joycecalvochen@gmail.com
END:VEVENT
BEGIN:VEVENT
DTSTART;TZID=America/Chicago:20290719T180000
DTEND;TZID=America/Chicago:20290719T193000
DTSTAMP:20260421T142448
CREATED:20250623T232444Z
LAST-MODIFIED:20250623T232444Z
UID:10070348-1879178400-1879183800@cp12stepoutreach.org
SUMMARY:A Way Forward Community Organization
DESCRIPTION:This is a new in-person 12 Step Centering Prayer Meeting in Longmont\, Colorado. \nAddress: 600 Terry Street\, Longmont\, Colorado\, 80501 \nThe meeting meets in-person on Thursday nights from 6:00 pm to 7:30 pm \nCONTACT: Joyce Calvo at 720-998-4125 or another contact at 720-526-7432.
URL:https://cp12stepoutreach.org/meeting-or-group/a-way-forward-community-organization-2/2029-07-19/
LOCATION:Zoom Meeting
CATEGORIES:In Person 12 Step Centering Prayer Groups
ORGANIZER;CN="Joyce Calvo-Chen &amp%3B Pam Chandler":MAILTO:joycecalvochen@gmail.com
END:VEVENT
END:VCALENDAR