BEGIN:VCALENDAR
VERSION:2.0
PRODID:-//12 Step Outreach - ECPv6.11.2.1//NONSGML v1.0//EN
CALSCALE:GREGORIAN
METHOD:PUBLISH
X-ORIGINAL-URL:https://cp12stepoutreach.org
X-WR-CALDESC:Events for 12 Step Outreach
REFRESH-INTERVAL;VALUE=DURATION:PT1H
X-Robots-Tag:noindex
X-PUBLISHED-TTL:PT1H
BEGIN:VTIMEZONE
TZID:America/Chicago
BEGIN:DAYLIGHT
TZOFFSETFROM:-0600
TZOFFSETTO:-0500
TZNAME:CDT
DTSTART:20290311T080000
END:DAYLIGHT
BEGIN:STANDARD
TZOFFSETFROM:-0500
TZOFFSETTO:-0600
TZNAME:CST
DTSTART:20291104T070000
END:STANDARD
END:VTIMEZONE
BEGIN:VEVENT
DTSTART;TZID=America/Chicago:20290517T180000
DTEND;TZID=America/Chicago:20290517T193000
DTSTAMP:20260421T160049
CREATED:20250623T232444Z
LAST-MODIFIED:20250623T232444Z
UID:10070339-1873735200-1873740600@cp12stepoutreach.org
SUMMARY:A Way Forward Community Organization
DESCRIPTION:This is a new in-person 12 Step Centering Prayer Meeting in Longmont\, Colorado. \nAddress: 600 Terry Street\, Longmont\, Colorado\, 80501 \nThe meeting meets in-person on Thursday nights from 6:00 pm to 7:30 pm \nCONTACT: Joyce Calvo at 720-998-4125 or another contact at 720-526-7432.
URL:https://cp12stepoutreach.org/meeting-or-group/a-way-forward-community-organization-2/2029-05-17/
LOCATION:Zoom Meeting
CATEGORIES:In Person 12 Step Centering Prayer Groups
ORGANIZER;CN="Joyce Calvo-Chen &amp%3B Pam Chandler":MAILTO:joycecalvochen@gmail.com
END:VEVENT
BEGIN:VEVENT
DTSTART;TZID=America/Chicago:20290524T180000
DTEND;TZID=America/Chicago:20290524T193000
DTSTAMP:20260421T160049
CREATED:20250623T232444Z
LAST-MODIFIED:20250623T232444Z
UID:10070340-1874340000-1874345400@cp12stepoutreach.org
SUMMARY:A Way Forward Community Organization
DESCRIPTION:This is a new in-person 12 Step Centering Prayer Meeting in Longmont\, Colorado. \nAddress: 600 Terry Street\, Longmont\, Colorado\, 80501 \nThe meeting meets in-person on Thursday nights from 6:00 pm to 7:30 pm \nCONTACT: Joyce Calvo at 720-998-4125 or another contact at 720-526-7432.
URL:https://cp12stepoutreach.org/meeting-or-group/a-way-forward-community-organization-2/2029-05-24/
LOCATION:Zoom Meeting
CATEGORIES:In Person 12 Step Centering Prayer Groups
ORGANIZER;CN="Joyce Calvo-Chen &amp%3B Pam Chandler":MAILTO:joycecalvochen@gmail.com
END:VEVENT
BEGIN:VEVENT
DTSTART;TZID=America/Chicago:20290531T180000
DTEND;TZID=America/Chicago:20290531T193000
DTSTAMP:20260421T160049
CREATED:20250623T232444Z
LAST-MODIFIED:20250623T232444Z
UID:10070341-1874944800-1874950200@cp12stepoutreach.org
SUMMARY:A Way Forward Community Organization
DESCRIPTION:This is a new in-person 12 Step Centering Prayer Meeting in Longmont\, Colorado. \nAddress: 600 Terry Street\, Longmont\, Colorado\, 80501 \nThe meeting meets in-person on Thursday nights from 6:00 pm to 7:30 pm \nCONTACT: Joyce Calvo at 720-998-4125 or another contact at 720-526-7432.
URL:https://cp12stepoutreach.org/meeting-or-group/a-way-forward-community-organization-2/2029-05-31/
LOCATION:Zoom Meeting
CATEGORIES:In Person 12 Step Centering Prayer Groups
ORGANIZER;CN="Joyce Calvo-Chen &amp%3B Pam Chandler":MAILTO:joycecalvochen@gmail.com
END:VEVENT
BEGIN:VEVENT
DTSTART;TZID=America/Chicago:20290607T180000
DTEND;TZID=America/Chicago:20290607T193000
DTSTAMP:20260421T160049
CREATED:20250623T232444Z
LAST-MODIFIED:20250623T232444Z
UID:10070342-1875549600-1875555000@cp12stepoutreach.org
SUMMARY:A Way Forward Community Organization
DESCRIPTION:This is a new in-person 12 Step Centering Prayer Meeting in Longmont\, Colorado. \nAddress: 600 Terry Street\, Longmont\, Colorado\, 80501 \nThe meeting meets in-person on Thursday nights from 6:00 pm to 7:30 pm \nCONTACT: Joyce Calvo at 720-998-4125 or another contact at 720-526-7432.
URL:https://cp12stepoutreach.org/meeting-or-group/a-way-forward-community-organization-2/2029-06-07/
LOCATION:Zoom Meeting
CATEGORIES:In Person 12 Step Centering Prayer Groups
ORGANIZER;CN="Joyce Calvo-Chen &amp%3B Pam Chandler":MAILTO:joycecalvochen@gmail.com
END:VEVENT
BEGIN:VEVENT
DTSTART;TZID=America/Chicago:20290614T180000
DTEND;TZID=America/Chicago:20290614T193000
DTSTAMP:20260421T160049
CREATED:20250623T232444Z
LAST-MODIFIED:20250623T232444Z
UID:10070343-1876154400-1876159800@cp12stepoutreach.org
SUMMARY:A Way Forward Community Organization
DESCRIPTION:This is a new in-person 12 Step Centering Prayer Meeting in Longmont\, Colorado. \nAddress: 600 Terry Street\, Longmont\, Colorado\, 80501 \nThe meeting meets in-person on Thursday nights from 6:00 pm to 7:30 pm \nCONTACT: Joyce Calvo at 720-998-4125 or another contact at 720-526-7432.
URL:https://cp12stepoutreach.org/meeting-or-group/a-way-forward-community-organization-2/2029-06-14/
LOCATION:Zoom Meeting
CATEGORIES:In Person 12 Step Centering Prayer Groups
ORGANIZER;CN="Joyce Calvo-Chen &amp%3B Pam Chandler":MAILTO:joycecalvochen@gmail.com
END:VEVENT
BEGIN:VEVENT
DTSTART;TZID=America/Chicago:20290621T180000
DTEND;TZID=America/Chicago:20290621T193000
DTSTAMP:20260421T160049
CREATED:20250623T232444Z
LAST-MODIFIED:20250623T232444Z
UID:10070344-1876759200-1876764600@cp12stepoutreach.org
SUMMARY:A Way Forward Community Organization
DESCRIPTION:This is a new in-person 12 Step Centering Prayer Meeting in Longmont\, Colorado. \nAddress: 600 Terry Street\, Longmont\, Colorado\, 80501 \nThe meeting meets in-person on Thursday nights from 6:00 pm to 7:30 pm \nCONTACT: Joyce Calvo at 720-998-4125 or another contact at 720-526-7432.
URL:https://cp12stepoutreach.org/meeting-or-group/a-way-forward-community-organization-2/2029-06-21/
LOCATION:Zoom Meeting
CATEGORIES:In Person 12 Step Centering Prayer Groups
ORGANIZER;CN="Joyce Calvo-Chen &amp%3B Pam Chandler":MAILTO:joycecalvochen@gmail.com
END:VEVENT
BEGIN:VEVENT
DTSTART;TZID=America/Chicago:20290628T180000
DTEND;TZID=America/Chicago:20290628T193000
DTSTAMP:20260421T160049
CREATED:20250623T232444Z
LAST-MODIFIED:20250623T232444Z
UID:10070345-1877364000-1877369400@cp12stepoutreach.org
SUMMARY:A Way Forward Community Organization
DESCRIPTION:This is a new in-person 12 Step Centering Prayer Meeting in Longmont\, Colorado. \nAddress: 600 Terry Street\, Longmont\, Colorado\, 80501 \nThe meeting meets in-person on Thursday nights from 6:00 pm to 7:30 pm \nCONTACT: Joyce Calvo at 720-998-4125 or another contact at 720-526-7432.
URL:https://cp12stepoutreach.org/meeting-or-group/a-way-forward-community-organization-2/2029-06-28/
LOCATION:Zoom Meeting
CATEGORIES:In Person 12 Step Centering Prayer Groups
ORGANIZER;CN="Joyce Calvo-Chen &amp%3B Pam Chandler":MAILTO:joycecalvochen@gmail.com
END:VEVENT
BEGIN:VEVENT
DTSTART;TZID=America/Chicago:20290705T180000
DTEND;TZID=America/Chicago:20290705T193000
DTSTAMP:20260421T160049
CREATED:20250623T232444Z
LAST-MODIFIED:20250623T232444Z
UID:10070346-1877968800-1877974200@cp12stepoutreach.org
SUMMARY:A Way Forward Community Organization
DESCRIPTION:This is a new in-person 12 Step Centering Prayer Meeting in Longmont\, Colorado. \nAddress: 600 Terry Street\, Longmont\, Colorado\, 80501 \nThe meeting meets in-person on Thursday nights from 6:00 pm to 7:30 pm \nCONTACT: Joyce Calvo at 720-998-4125 or another contact at 720-526-7432.
URL:https://cp12stepoutreach.org/meeting-or-group/a-way-forward-community-organization-2/2029-07-05/
LOCATION:Zoom Meeting
CATEGORIES:In Person 12 Step Centering Prayer Groups
ORGANIZER;CN="Joyce Calvo-Chen &amp%3B Pam Chandler":MAILTO:joycecalvochen@gmail.com
END:VEVENT
BEGIN:VEVENT
DTSTART;TZID=America/Chicago:20290712T180000
DTEND;TZID=America/Chicago:20290712T193000
DTSTAMP:20260421T160049
CREATED:20250623T232444Z
LAST-MODIFIED:20250623T232444Z
UID:10070347-1878573600-1878579000@cp12stepoutreach.org
SUMMARY:A Way Forward Community Organization
DESCRIPTION:This is a new in-person 12 Step Centering Prayer Meeting in Longmont\, Colorado. \nAddress: 600 Terry Street\, Longmont\, Colorado\, 80501 \nThe meeting meets in-person on Thursday nights from 6:00 pm to 7:30 pm \nCONTACT: Joyce Calvo at 720-998-4125 or another contact at 720-526-7432.
URL:https://cp12stepoutreach.org/meeting-or-group/a-way-forward-community-organization-2/2029-07-12/
LOCATION:Zoom Meeting
CATEGORIES:In Person 12 Step Centering Prayer Groups
ORGANIZER;CN="Joyce Calvo-Chen &amp%3B Pam Chandler":MAILTO:joycecalvochen@gmail.com
END:VEVENT
BEGIN:VEVENT
DTSTART;TZID=America/Chicago:20290719T180000
DTEND;TZID=America/Chicago:20290719T193000
DTSTAMP:20260421T160049
CREATED:20250623T232444Z
LAST-MODIFIED:20250623T232444Z
UID:10070348-1879178400-1879183800@cp12stepoutreach.org
SUMMARY:A Way Forward Community Organization
DESCRIPTION:This is a new in-person 12 Step Centering Prayer Meeting in Longmont\, Colorado. \nAddress: 600 Terry Street\, Longmont\, Colorado\, 80501 \nThe meeting meets in-person on Thursday nights from 6:00 pm to 7:30 pm \nCONTACT: Joyce Calvo at 720-998-4125 or another contact at 720-526-7432.
URL:https://cp12stepoutreach.org/meeting-or-group/a-way-forward-community-organization-2/2029-07-19/
LOCATION:Zoom Meeting
CATEGORIES:In Person 12 Step Centering Prayer Groups
ORGANIZER;CN="Joyce Calvo-Chen &amp%3B Pam Chandler":MAILTO:joycecalvochen@gmail.com
END:VEVENT
BEGIN:VEVENT
DTSTART;TZID=America/Chicago:20290726T180000
DTEND;TZID=America/Chicago:20290726T193000
DTSTAMP:20260421T160049
CREATED:20250623T232444Z
LAST-MODIFIED:20250623T232444Z
UID:10070349-1879783200-1879788600@cp12stepoutreach.org
SUMMARY:A Way Forward Community Organization
DESCRIPTION:This is a new in-person 12 Step Centering Prayer Meeting in Longmont\, Colorado. \nAddress: 600 Terry Street\, Longmont\, Colorado\, 80501 \nThe meeting meets in-person on Thursday nights from 6:00 pm to 7:30 pm \nCONTACT: Joyce Calvo at 720-998-4125 or another contact at 720-526-7432.
URL:https://cp12stepoutreach.org/meeting-or-group/a-way-forward-community-organization-2/2029-07-26/
LOCATION:Zoom Meeting
CATEGORIES:In Person 12 Step Centering Prayer Groups
ORGANIZER;CN="Joyce Calvo-Chen &amp%3B Pam Chandler":MAILTO:joycecalvochen@gmail.com
END:VEVENT
BEGIN:VEVENT
DTSTART;TZID=America/Chicago:20290802T180000
DTEND;TZID=America/Chicago:20290802T193000
DTSTAMP:20260421T160049
CREATED:20250623T232444Z
LAST-MODIFIED:20250623T232444Z
UID:10070350-1880388000-1880393400@cp12stepoutreach.org
SUMMARY:A Way Forward Community Organization
DESCRIPTION:This is a new in-person 12 Step Centering Prayer Meeting in Longmont\, Colorado. \nAddress: 600 Terry Street\, Longmont\, Colorado\, 80501 \nThe meeting meets in-person on Thursday nights from 6:00 pm to 7:30 pm \nCONTACT: Joyce Calvo at 720-998-4125 or another contact at 720-526-7432.
URL:https://cp12stepoutreach.org/meeting-or-group/a-way-forward-community-organization-2/2029-08-02/
LOCATION:Zoom Meeting
CATEGORIES:In Person 12 Step Centering Prayer Groups
ORGANIZER;CN="Joyce Calvo-Chen &amp%3B Pam Chandler":MAILTO:joycecalvochen@gmail.com
END:VEVENT
BEGIN:VEVENT
DTSTART;TZID=America/Chicago:20290809T180000
DTEND;TZID=America/Chicago:20290809T193000
DTSTAMP:20260421T160049
CREATED:20250623T232444Z
LAST-MODIFIED:20250623T232444Z
UID:10070351-1880992800-1880998200@cp12stepoutreach.org
SUMMARY:A Way Forward Community Organization
DESCRIPTION:This is a new in-person 12 Step Centering Prayer Meeting in Longmont\, Colorado. \nAddress: 600 Terry Street\, Longmont\, Colorado\, 80501 \nThe meeting meets in-person on Thursday nights from 6:00 pm to 7:30 pm \nCONTACT: Joyce Calvo at 720-998-4125 or another contact at 720-526-7432.
URL:https://cp12stepoutreach.org/meeting-or-group/a-way-forward-community-organization-2/2029-08-09/
LOCATION:Zoom Meeting
CATEGORIES:In Person 12 Step Centering Prayer Groups
ORGANIZER;CN="Joyce Calvo-Chen &amp%3B Pam Chandler":MAILTO:joycecalvochen@gmail.com
END:VEVENT
BEGIN:VEVENT
DTSTART;TZID=America/Chicago:20290816T180000
DTEND;TZID=America/Chicago:20290816T193000
DTSTAMP:20260421T160049
CREATED:20250623T232444Z
LAST-MODIFIED:20250623T232444Z
UID:10070352-1881597600-1881603000@cp12stepoutreach.org
SUMMARY:A Way Forward Community Organization
DESCRIPTION:This is a new in-person 12 Step Centering Prayer Meeting in Longmont\, Colorado. \nAddress: 600 Terry Street\, Longmont\, Colorado\, 80501 \nThe meeting meets in-person on Thursday nights from 6:00 pm to 7:30 pm \nCONTACT: Joyce Calvo at 720-998-4125 or another contact at 720-526-7432.
URL:https://cp12stepoutreach.org/meeting-or-group/a-way-forward-community-organization-2/2029-08-16/
LOCATION:Zoom Meeting
CATEGORIES:In Person 12 Step Centering Prayer Groups
ORGANIZER;CN="Joyce Calvo-Chen &amp%3B Pam Chandler":MAILTO:joycecalvochen@gmail.com
END:VEVENT
BEGIN:VEVENT
DTSTART;TZID=America/Chicago:20290823T180000
DTEND;TZID=America/Chicago:20290823T193000
DTSTAMP:20260421T160049
CREATED:20250623T232444Z
LAST-MODIFIED:20250623T232444Z
UID:10070353-1882202400-1882207800@cp12stepoutreach.org
SUMMARY:A Way Forward Community Organization
DESCRIPTION:This is a new in-person 12 Step Centering Prayer Meeting in Longmont\, Colorado. \nAddress: 600 Terry Street\, Longmont\, Colorado\, 80501 \nThe meeting meets in-person on Thursday nights from 6:00 pm to 7:30 pm \nCONTACT: Joyce Calvo at 720-998-4125 or another contact at 720-526-7432.
URL:https://cp12stepoutreach.org/meeting-or-group/a-way-forward-community-organization-2/2029-08-23/
LOCATION:Zoom Meeting
CATEGORIES:In Person 12 Step Centering Prayer Groups
ORGANIZER;CN="Joyce Calvo-Chen &amp%3B Pam Chandler":MAILTO:joycecalvochen@gmail.com
END:VEVENT
BEGIN:VEVENT
DTSTART;TZID=America/Chicago:20290830T180000
DTEND;TZID=America/Chicago:20290830T193000
DTSTAMP:20260421T160049
CREATED:20250623T232444Z
LAST-MODIFIED:20250623T232444Z
UID:10070354-1882807200-1882812600@cp12stepoutreach.org
SUMMARY:A Way Forward Community Organization
DESCRIPTION:This is a new in-person 12 Step Centering Prayer Meeting in Longmont\, Colorado. \nAddress: 600 Terry Street\, Longmont\, Colorado\, 80501 \nThe meeting meets in-person on Thursday nights from 6:00 pm to 7:30 pm \nCONTACT: Joyce Calvo at 720-998-4125 or another contact at 720-526-7432.
URL:https://cp12stepoutreach.org/meeting-or-group/a-way-forward-community-organization-2/2029-08-30/
LOCATION:Zoom Meeting
CATEGORIES:In Person 12 Step Centering Prayer Groups
ORGANIZER;CN="Joyce Calvo-Chen &amp%3B Pam Chandler":MAILTO:joycecalvochen@gmail.com
END:VEVENT
BEGIN:VEVENT
DTSTART;TZID=America/Chicago:20290906T180000
DTEND;TZID=America/Chicago:20290906T193000
DTSTAMP:20260421T160049
CREATED:20250623T232444Z
LAST-MODIFIED:20250623T232444Z
UID:10070355-1883412000-1883417400@cp12stepoutreach.org
SUMMARY:A Way Forward Community Organization
DESCRIPTION:This is a new in-person 12 Step Centering Prayer Meeting in Longmont\, Colorado. \nAddress: 600 Terry Street\, Longmont\, Colorado\, 80501 \nThe meeting meets in-person on Thursday nights from 6:00 pm to 7:30 pm \nCONTACT: Joyce Calvo at 720-998-4125 or another contact at 720-526-7432.
URL:https://cp12stepoutreach.org/meeting-or-group/a-way-forward-community-organization-2/2029-09-06/
LOCATION:Zoom Meeting
CATEGORIES:In Person 12 Step Centering Prayer Groups
ORGANIZER;CN="Joyce Calvo-Chen &amp%3B Pam Chandler":MAILTO:joycecalvochen@gmail.com
END:VEVENT
BEGIN:VEVENT
DTSTART;TZID=America/Chicago:20290913T180000
DTEND;TZID=America/Chicago:20290913T193000
DTSTAMP:20260421T160049
CREATED:20250623T232444Z
LAST-MODIFIED:20250623T232444Z
UID:10070356-1884016800-1884022200@cp12stepoutreach.org
SUMMARY:A Way Forward Community Organization
DESCRIPTION:This is a new in-person 12 Step Centering Prayer Meeting in Longmont\, Colorado. \nAddress: 600 Terry Street\, Longmont\, Colorado\, 80501 \nThe meeting meets in-person on Thursday nights from 6:00 pm to 7:30 pm \nCONTACT: Joyce Calvo at 720-998-4125 or another contact at 720-526-7432.
URL:https://cp12stepoutreach.org/meeting-or-group/a-way-forward-community-organization-2/2029-09-13/
LOCATION:Zoom Meeting
CATEGORIES:In Person 12 Step Centering Prayer Groups
ORGANIZER;CN="Joyce Calvo-Chen &amp%3B Pam Chandler":MAILTO:joycecalvochen@gmail.com
END:VEVENT
BEGIN:VEVENT
DTSTART;TZID=America/Chicago:20290920T180000
DTEND;TZID=America/Chicago:20290920T193000
DTSTAMP:20260421T160049
CREATED:20250623T232444Z
LAST-MODIFIED:20250623T232444Z
UID:10070357-1884621600-1884627000@cp12stepoutreach.org
SUMMARY:A Way Forward Community Organization
DESCRIPTION:This is a new in-person 12 Step Centering Prayer Meeting in Longmont\, Colorado. \nAddress: 600 Terry Street\, Longmont\, Colorado\, 80501 \nThe meeting meets in-person on Thursday nights from 6:00 pm to 7:30 pm \nCONTACT: Joyce Calvo at 720-998-4125 or another contact at 720-526-7432.
URL:https://cp12stepoutreach.org/meeting-or-group/a-way-forward-community-organization-2/2029-09-20/
LOCATION:Zoom Meeting
CATEGORIES:In Person 12 Step Centering Prayer Groups
ORGANIZER;CN="Joyce Calvo-Chen &amp%3B Pam Chandler":MAILTO:joycecalvochen@gmail.com
END:VEVENT
BEGIN:VEVENT
DTSTART;TZID=America/Chicago:20290927T180000
DTEND;TZID=America/Chicago:20290927T193000
DTSTAMP:20260421T160049
CREATED:20250623T232444Z
LAST-MODIFIED:20250623T232444Z
UID:10070358-1885226400-1885231800@cp12stepoutreach.org
SUMMARY:A Way Forward Community Organization
DESCRIPTION:This is a new in-person 12 Step Centering Prayer Meeting in Longmont\, Colorado. \nAddress: 600 Terry Street\, Longmont\, Colorado\, 80501 \nThe meeting meets in-person on Thursday nights from 6:00 pm to 7:30 pm \nCONTACT: Joyce Calvo at 720-998-4125 or another contact at 720-526-7432.
URL:https://cp12stepoutreach.org/meeting-or-group/a-way-forward-community-organization-2/2029-09-27/
LOCATION:Zoom Meeting
CATEGORIES:In Person 12 Step Centering Prayer Groups
ORGANIZER;CN="Joyce Calvo-Chen &amp%3B Pam Chandler":MAILTO:joycecalvochen@gmail.com
END:VEVENT
BEGIN:VEVENT
DTSTART;TZID=America/Chicago:20291004T180000
DTEND;TZID=America/Chicago:20291004T193000
DTSTAMP:20260421T160049
CREATED:20250623T232444Z
LAST-MODIFIED:20250623T232444Z
UID:10070359-1885831200-1885836600@cp12stepoutreach.org
SUMMARY:A Way Forward Community Organization
DESCRIPTION:This is a new in-person 12 Step Centering Prayer Meeting in Longmont\, Colorado. \nAddress: 600 Terry Street\, Longmont\, Colorado\, 80501 \nThe meeting meets in-person on Thursday nights from 6:00 pm to 7:30 pm \nCONTACT: Joyce Calvo at 720-998-4125 or another contact at 720-526-7432.
URL:https://cp12stepoutreach.org/meeting-or-group/a-way-forward-community-organization-2/2029-10-04/
LOCATION:Zoom Meeting
CATEGORIES:In Person 12 Step Centering Prayer Groups
ORGANIZER;CN="Joyce Calvo-Chen &amp%3B Pam Chandler":MAILTO:joycecalvochen@gmail.com
END:VEVENT
BEGIN:VEVENT
DTSTART;TZID=America/Chicago:20291011T180000
DTEND;TZID=America/Chicago:20291011T193000
DTSTAMP:20260421T160049
CREATED:20250623T232444Z
LAST-MODIFIED:20250623T232444Z
UID:10070360-1886436000-1886441400@cp12stepoutreach.org
SUMMARY:A Way Forward Community Organization
DESCRIPTION:This is a new in-person 12 Step Centering Prayer Meeting in Longmont\, Colorado. \nAddress: 600 Terry Street\, Longmont\, Colorado\, 80501 \nThe meeting meets in-person on Thursday nights from 6:00 pm to 7:30 pm \nCONTACT: Joyce Calvo at 720-998-4125 or another contact at 720-526-7432.
URL:https://cp12stepoutreach.org/meeting-or-group/a-way-forward-community-organization-2/2029-10-11/
LOCATION:Zoom Meeting
CATEGORIES:In Person 12 Step Centering Prayer Groups
ORGANIZER;CN="Joyce Calvo-Chen &amp%3B Pam Chandler":MAILTO:joycecalvochen@gmail.com
END:VEVENT
BEGIN:VEVENT
DTSTART;TZID=America/Chicago:20291018T180000
DTEND;TZID=America/Chicago:20291018T193000
DTSTAMP:20260421T160049
CREATED:20250623T232444Z
LAST-MODIFIED:20250623T232444Z
UID:10070361-1887040800-1887046200@cp12stepoutreach.org
SUMMARY:A Way Forward Community Organization
DESCRIPTION:This is a new in-person 12 Step Centering Prayer Meeting in Longmont\, Colorado. \nAddress: 600 Terry Street\, Longmont\, Colorado\, 80501 \nThe meeting meets in-person on Thursday nights from 6:00 pm to 7:30 pm \nCONTACT: Joyce Calvo at 720-998-4125 or another contact at 720-526-7432.
URL:https://cp12stepoutreach.org/meeting-or-group/a-way-forward-community-organization-2/2029-10-18/
LOCATION:Zoom Meeting
CATEGORIES:In Person 12 Step Centering Prayer Groups
ORGANIZER;CN="Joyce Calvo-Chen &amp%3B Pam Chandler":MAILTO:joycecalvochen@gmail.com
END:VEVENT
BEGIN:VEVENT
DTSTART;TZID=America/Chicago:20291025T180000
DTEND;TZID=America/Chicago:20291025T193000
DTSTAMP:20260421T160049
CREATED:20250623T232444Z
LAST-MODIFIED:20250623T232444Z
UID:10070362-1887645600-1887651000@cp12stepoutreach.org
SUMMARY:A Way Forward Community Organization
DESCRIPTION:This is a new in-person 12 Step Centering Prayer Meeting in Longmont\, Colorado. \nAddress: 600 Terry Street\, Longmont\, Colorado\, 80501 \nThe meeting meets in-person on Thursday nights from 6:00 pm to 7:30 pm \nCONTACT: Joyce Calvo at 720-998-4125 or another contact at 720-526-7432.
URL:https://cp12stepoutreach.org/meeting-or-group/a-way-forward-community-organization-2/2029-10-25/
LOCATION:Zoom Meeting
CATEGORIES:In Person 12 Step Centering Prayer Groups
ORGANIZER;CN="Joyce Calvo-Chen &amp%3B Pam Chandler":MAILTO:joycecalvochen@gmail.com
END:VEVENT
BEGIN:VEVENT
DTSTART;TZID=America/Chicago:20291101T180000
DTEND;TZID=America/Chicago:20291101T193000
DTSTAMP:20260421T160049
CREATED:20250623T232444Z
LAST-MODIFIED:20250623T232444Z
UID:10070363-1888250400-1888255800@cp12stepoutreach.org
SUMMARY:A Way Forward Community Organization
DESCRIPTION:This is a new in-person 12 Step Centering Prayer Meeting in Longmont\, Colorado. \nAddress: 600 Terry Street\, Longmont\, Colorado\, 80501 \nThe meeting meets in-person on Thursday nights from 6:00 pm to 7:30 pm \nCONTACT: Joyce Calvo at 720-998-4125 or another contact at 720-526-7432.
URL:https://cp12stepoutreach.org/meeting-or-group/a-way-forward-community-organization-2/2029-11-01/
LOCATION:Zoom Meeting
CATEGORIES:In Person 12 Step Centering Prayer Groups
ORGANIZER;CN="Joyce Calvo-Chen &amp%3B Pam Chandler":MAILTO:joycecalvochen@gmail.com
END:VEVENT
BEGIN:VEVENT
DTSTART;TZID=America/Chicago:20291108T180000
DTEND;TZID=America/Chicago:20291108T193000
DTSTAMP:20260421T160049
CREATED:20250623T232444Z
LAST-MODIFIED:20250623T232444Z
UID:10070364-1888855200-1888860600@cp12stepoutreach.org
SUMMARY:A Way Forward Community Organization
DESCRIPTION:This is a new in-person 12 Step Centering Prayer Meeting in Longmont\, Colorado. \nAddress: 600 Terry Street\, Longmont\, Colorado\, 80501 \nThe meeting meets in-person on Thursday nights from 6:00 pm to 7:30 pm \nCONTACT: Joyce Calvo at 720-998-4125 or another contact at 720-526-7432.
URL:https://cp12stepoutreach.org/meeting-or-group/a-way-forward-community-organization-2/2029-11-08/
LOCATION:Zoom Meeting
CATEGORIES:In Person 12 Step Centering Prayer Groups
ORGANIZER;CN="Joyce Calvo-Chen &amp%3B Pam Chandler":MAILTO:joycecalvochen@gmail.com
END:VEVENT
BEGIN:VEVENT
DTSTART;TZID=America/Chicago:20291115T180000
DTEND;TZID=America/Chicago:20291115T193000
DTSTAMP:20260421T160049
CREATED:20250623T232444Z
LAST-MODIFIED:20250623T232444Z
UID:10070365-1889460000-1889465400@cp12stepoutreach.org
SUMMARY:A Way Forward Community Organization
DESCRIPTION:This is a new in-person 12 Step Centering Prayer Meeting in Longmont\, Colorado. \nAddress: 600 Terry Street\, Longmont\, Colorado\, 80501 \nThe meeting meets in-person on Thursday nights from 6:00 pm to 7:30 pm \nCONTACT: Joyce Calvo at 720-998-4125 or another contact at 720-526-7432.
URL:https://cp12stepoutreach.org/meeting-or-group/a-way-forward-community-organization-2/2029-11-15/
LOCATION:Zoom Meeting
CATEGORIES:In Person 12 Step Centering Prayer Groups
ORGANIZER;CN="Joyce Calvo-Chen &amp%3B Pam Chandler":MAILTO:joycecalvochen@gmail.com
END:VEVENT
BEGIN:VEVENT
DTSTART;TZID=America/Chicago:20291122T180000
DTEND;TZID=America/Chicago:20291122T193000
DTSTAMP:20260421T160049
CREATED:20250623T232444Z
LAST-MODIFIED:20250623T232444Z
UID:10070366-1890064800-1890070200@cp12stepoutreach.org
SUMMARY:A Way Forward Community Organization
DESCRIPTION:This is a new in-person 12 Step Centering Prayer Meeting in Longmont\, Colorado. \nAddress: 600 Terry Street\, Longmont\, Colorado\, 80501 \nThe meeting meets in-person on Thursday nights from 6:00 pm to 7:30 pm \nCONTACT: Joyce Calvo at 720-998-4125 or another contact at 720-526-7432.
URL:https://cp12stepoutreach.org/meeting-or-group/a-way-forward-community-organization-2/2029-11-22/
LOCATION:Zoom Meeting
CATEGORIES:In Person 12 Step Centering Prayer Groups
ORGANIZER;CN="Joyce Calvo-Chen &amp%3B Pam Chandler":MAILTO:joycecalvochen@gmail.com
END:VEVENT
BEGIN:VEVENT
DTSTART;TZID=America/Chicago:20291129T180000
DTEND;TZID=America/Chicago:20291129T193000
DTSTAMP:20260421T160049
CREATED:20250623T232444Z
LAST-MODIFIED:20250623T232444Z
UID:10070367-1890669600-1890675000@cp12stepoutreach.org
SUMMARY:A Way Forward Community Organization
DESCRIPTION:This is a new in-person 12 Step Centering Prayer Meeting in Longmont\, Colorado. \nAddress: 600 Terry Street\, Longmont\, Colorado\, 80501 \nThe meeting meets in-person on Thursday nights from 6:00 pm to 7:30 pm \nCONTACT: Joyce Calvo at 720-998-4125 or another contact at 720-526-7432.
URL:https://cp12stepoutreach.org/meeting-or-group/a-way-forward-community-organization-2/2029-11-29/
LOCATION:Zoom Meeting
CATEGORIES:In Person 12 Step Centering Prayer Groups
ORGANIZER;CN="Joyce Calvo-Chen &amp%3B Pam Chandler":MAILTO:joycecalvochen@gmail.com
END:VEVENT
BEGIN:VEVENT
DTSTART;TZID=America/Chicago:20291206T180000
DTEND;TZID=America/Chicago:20291206T193000
DTSTAMP:20260421T160049
CREATED:20250623T232444Z
LAST-MODIFIED:20250623T232444Z
UID:10070368-1891274400-1891279800@cp12stepoutreach.org
SUMMARY:A Way Forward Community Organization
DESCRIPTION:This is a new in-person 12 Step Centering Prayer Meeting in Longmont\, Colorado. \nAddress: 600 Terry Street\, Longmont\, Colorado\, 80501 \nThe meeting meets in-person on Thursday nights from 6:00 pm to 7:30 pm \nCONTACT: Joyce Calvo at 720-998-4125 or another contact at 720-526-7432.
URL:https://cp12stepoutreach.org/meeting-or-group/a-way-forward-community-organization-2/2029-12-06/
LOCATION:Zoom Meeting
CATEGORIES:In Person 12 Step Centering Prayer Groups
ORGANIZER;CN="Joyce Calvo-Chen &amp%3B Pam Chandler":MAILTO:joycecalvochen@gmail.com
END:VEVENT
END:VCALENDAR