BEGIN:VCALENDAR
VERSION:2.0
PRODID:-//12 Step Outreach - ECPv6.11.2.1//NONSGML v1.0//EN
CALSCALE:GREGORIAN
METHOD:PUBLISH
X-WR-CALNAME:12 Step Outreach
X-ORIGINAL-URL:https://cp12stepoutreach.org
X-WR-CALDESC:Events for 12 Step Outreach
REFRESH-INTERVAL;VALUE=DURATION:PT1H
X-Robots-Tag:noindex
X-PUBLISHED-TTL:PT1H
BEGIN:VTIMEZONE
TZID:America/New_York
BEGIN:DAYLIGHT
TZOFFSETFROM:-0500
TZOFFSETTO:-0400
TZNAME:EDT
DTSTART:20250309T070000
END:DAYLIGHT
BEGIN:STANDARD
TZOFFSETFROM:-0400
TZOFFSETTO:-0500
TZNAME:EST
DTSTART:20251102T060000
END:STANDARD
END:VTIMEZONE
BEGIN:VEVENT
DTSTART;TZID=America/New_York:20251126T160000
DTEND;TZID=America/New_York:20251126T170000
DTSTAMP:20260420T142328
CREATED:20230209T194753Z
LAST-MODIFIED:20230209T214317Z
UID:10057357-1764172800-1764176400@cp12stepoutreach.org
SUMMARY:Boston 11th Step Meditation Meeting
DESCRIPTION:Zoom Code: 7817041010 \nPW: Silence
URL:https://cp12stepoutreach.org/meeting-or-group/boston-11th-step-meditation-meeting/2025-11-26/
CATEGORIES:Online 11th Step Meditation Meetings
LOCATION:https://zoom.us/j/7817041010?from=join#success
END:VEVENT
BEGIN:VEVENT
DTSTART;TZID=America/New_York:20251119T160000
DTEND;TZID=America/New_York:20251119T170000
DTSTAMP:20260420T142328
CREATED:20230209T194753Z
LAST-MODIFIED:20230209T214317Z
UID:10057356-1763568000-1763571600@cp12stepoutreach.org
SUMMARY:Boston 11th Step Meditation Meeting
DESCRIPTION:Zoom Code: 7817041010 \nPW: Silence
URL:https://cp12stepoutreach.org/meeting-or-group/boston-11th-step-meditation-meeting/2025-11-19/
CATEGORIES:Online 11th Step Meditation Meetings
LOCATION:https://zoom.us/j/7817041010?from=join#success
END:VEVENT
BEGIN:VEVENT
DTSTART;TZID=America/New_York:20251112T160000
DTEND;TZID=America/New_York:20251112T170000
DTSTAMP:20260420T142328
CREATED:20230209T194753Z
LAST-MODIFIED:20230209T214317Z
UID:10057355-1762963200-1762966800@cp12stepoutreach.org
SUMMARY:Boston 11th Step Meditation Meeting
DESCRIPTION:Zoom Code: 7817041010 \nPW: Silence
URL:https://cp12stepoutreach.org/meeting-or-group/boston-11th-step-meditation-meeting/2025-11-12/
CATEGORIES:Online 11th Step Meditation Meetings
LOCATION:https://zoom.us/j/7817041010?from=join#success
END:VEVENT
BEGIN:VEVENT
DTSTART;TZID=America/New_York:20251105T160000
DTEND;TZID=America/New_York:20251105T170000
DTSTAMP:20260420T142328
CREATED:20230209T194753Z
LAST-MODIFIED:20230209T214317Z
UID:10057354-1762358400-1762362000@cp12stepoutreach.org
SUMMARY:Boston 11th Step Meditation Meeting
DESCRIPTION:Zoom Code: 7817041010 \nPW: Silence
URL:https://cp12stepoutreach.org/meeting-or-group/boston-11th-step-meditation-meeting/2025-11-05/
CATEGORIES:Online 11th Step Meditation Meetings
LOCATION:https://zoom.us/j/7817041010?from=join#success
END:VEVENT
BEGIN:VEVENT
DTSTART;TZID=America/New_York:20251029T160000
DTEND;TZID=America/New_York:20251029T170000
DTSTAMP:20260420T142328
CREATED:20230209T194753Z
LAST-MODIFIED:20230209T214317Z
UID:10057353-1761753600-1761757200@cp12stepoutreach.org
SUMMARY:Boston 11th Step Meditation Meeting
DESCRIPTION:Zoom Code: 7817041010 \nPW: Silence
URL:https://cp12stepoutreach.org/meeting-or-group/boston-11th-step-meditation-meeting/2025-10-29/
CATEGORIES:Online 11th Step Meditation Meetings
LOCATION:https://zoom.us/j/7817041010?from=join#success
END:VEVENT
BEGIN:VEVENT
DTSTART;TZID=America/New_York:20251022T160000
DTEND;TZID=America/New_York:20251022T170000
DTSTAMP:20260420T142328
CREATED:20230209T194753Z
LAST-MODIFIED:20230209T214317Z
UID:10057352-1761148800-1761152400@cp12stepoutreach.org
SUMMARY:Boston 11th Step Meditation Meeting
DESCRIPTION:Zoom Code: 7817041010 \nPW: Silence
URL:https://cp12stepoutreach.org/meeting-or-group/boston-11th-step-meditation-meeting/2025-10-22/
CATEGORIES:Online 11th Step Meditation Meetings
LOCATION:https://zoom.us/j/7817041010?from=join#success
END:VEVENT
BEGIN:VEVENT
DTSTART;TZID=America/New_York:20251015T160000
DTEND;TZID=America/New_York:20251015T170000
DTSTAMP:20260420T142328
CREATED:20230209T194753Z
LAST-MODIFIED:20230209T214317Z
UID:10057351-1760544000-1760547600@cp12stepoutreach.org
SUMMARY:Boston 11th Step Meditation Meeting
DESCRIPTION:Zoom Code: 7817041010 \nPW: Silence
URL:https://cp12stepoutreach.org/meeting-or-group/boston-11th-step-meditation-meeting/2025-10-15/
CATEGORIES:Online 11th Step Meditation Meetings
LOCATION:https://zoom.us/j/7817041010?from=join#success
END:VEVENT
BEGIN:VEVENT
DTSTART;TZID=America/New_York:20251008T160000
DTEND;TZID=America/New_York:20251008T170000
DTSTAMP:20260420T142328
CREATED:20230209T194753Z
LAST-MODIFIED:20230209T214317Z
UID:10057350-1759939200-1759942800@cp12stepoutreach.org
SUMMARY:Boston 11th Step Meditation Meeting
DESCRIPTION:Zoom Code: 7817041010 \nPW: Silence
URL:https://cp12stepoutreach.org/meeting-or-group/boston-11th-step-meditation-meeting/2025-10-08/
CATEGORIES:Online 11th Step Meditation Meetings
LOCATION:https://zoom.us/j/7817041010?from=join#success
END:VEVENT
BEGIN:VEVENT
DTSTART;TZID=America/New_York:20251001T160000
DTEND;TZID=America/New_York:20251001T170000
DTSTAMP:20260420T142328
CREATED:20230209T194753Z
LAST-MODIFIED:20230209T214317Z
UID:10057349-1759334400-1759338000@cp12stepoutreach.org
SUMMARY:Boston 11th Step Meditation Meeting
DESCRIPTION:Zoom Code: 7817041010 \nPW: Silence
URL:https://cp12stepoutreach.org/meeting-or-group/boston-11th-step-meditation-meeting/2025-10-01/
CATEGORIES:Online 11th Step Meditation Meetings
LOCATION:https://zoom.us/j/7817041010?from=join#success
END:VEVENT
BEGIN:VEVENT
DTSTART;TZID=America/New_York:20250924T160000
DTEND;TZID=America/New_York:20250924T170000
DTSTAMP:20260420T142328
CREATED:20230209T194753Z
LAST-MODIFIED:20230209T214317Z
UID:10057348-1758729600-1758733200@cp12stepoutreach.org
SUMMARY:Boston 11th Step Meditation Meeting
DESCRIPTION:Zoom Code: 7817041010 \nPW: Silence
URL:https://cp12stepoutreach.org/meeting-or-group/boston-11th-step-meditation-meeting/2025-09-24/
CATEGORIES:Online 11th Step Meditation Meetings
LOCATION:https://zoom.us/j/7817041010?from=join#success
END:VEVENT
BEGIN:VEVENT
DTSTART;TZID=America/New_York:20250917T160000
DTEND;TZID=America/New_York:20250917T170000
DTSTAMP:20260420T142328
CREATED:20230209T194753Z
LAST-MODIFIED:20230209T214317Z
UID:10057347-1758124800-1758128400@cp12stepoutreach.org
SUMMARY:Boston 11th Step Meditation Meeting
DESCRIPTION:Zoom Code: 7817041010 \nPW: Silence
URL:https://cp12stepoutreach.org/meeting-or-group/boston-11th-step-meditation-meeting/2025-09-17/
CATEGORIES:Online 11th Step Meditation Meetings
LOCATION:https://zoom.us/j/7817041010?from=join#success
END:VEVENT
BEGIN:VEVENT
DTSTART;TZID=America/New_York:20250910T160000
DTEND;TZID=America/New_York:20250910T170000
DTSTAMP:20260420T142328
CREATED:20230209T194753Z
LAST-MODIFIED:20230209T214317Z
UID:10057346-1757520000-1757523600@cp12stepoutreach.org
SUMMARY:Boston 11th Step Meditation Meeting
DESCRIPTION:Zoom Code: 7817041010 \nPW: Silence
URL:https://cp12stepoutreach.org/meeting-or-group/boston-11th-step-meditation-meeting/2025-09-10/
CATEGORIES:Online 11th Step Meditation Meetings
LOCATION:https://zoom.us/j/7817041010?from=join#success
END:VEVENT
BEGIN:VEVENT
DTSTART;TZID=America/New_York:20250903T160000
DTEND;TZID=America/New_York:20250903T170000
DTSTAMP:20260420T142328
CREATED:20230209T194753Z
LAST-MODIFIED:20230209T214317Z
UID:10057345-1756915200-1756918800@cp12stepoutreach.org
SUMMARY:Boston 11th Step Meditation Meeting
DESCRIPTION:Zoom Code: 7817041010 \nPW: Silence
URL:https://cp12stepoutreach.org/meeting-or-group/boston-11th-step-meditation-meeting/2025-09-03/
CATEGORIES:Online 11th Step Meditation Meetings
LOCATION:https://zoom.us/j/7817041010?from=join#success
END:VEVENT
BEGIN:VEVENT
DTSTART;TZID=America/New_York:20250827T160000
DTEND;TZID=America/New_York:20250827T170000
DTSTAMP:20260420T142328
CREATED:20230209T194753Z
LAST-MODIFIED:20230209T214317Z
UID:10057344-1756310400-1756314000@cp12stepoutreach.org
SUMMARY:Boston 11th Step Meditation Meeting
DESCRIPTION:Zoom Code: 7817041010 \nPW: Silence
URL:https://cp12stepoutreach.org/meeting-or-group/boston-11th-step-meditation-meeting/2025-08-27/
CATEGORIES:Online 11th Step Meditation Meetings
LOCATION:https://zoom.us/j/7817041010?from=join#success
END:VEVENT
BEGIN:VEVENT
DTSTART;TZID=America/New_York:20250820T160000
DTEND;TZID=America/New_York:20250820T170000
DTSTAMP:20260420T142328
CREATED:20230209T194753Z
LAST-MODIFIED:20230209T214317Z
UID:10057343-1755705600-1755709200@cp12stepoutreach.org
SUMMARY:Boston 11th Step Meditation Meeting
DESCRIPTION:Zoom Code: 7817041010 \nPW: Silence
URL:https://cp12stepoutreach.org/meeting-or-group/boston-11th-step-meditation-meeting/2025-08-20/
CATEGORIES:Online 11th Step Meditation Meetings
LOCATION:https://zoom.us/j/7817041010?from=join#success
END:VEVENT
BEGIN:VEVENT
DTSTART;TZID=America/New_York:20250813T160000
DTEND;TZID=America/New_York:20250813T170000
DTSTAMP:20260420T142328
CREATED:20230209T194753Z
LAST-MODIFIED:20230209T214317Z
UID:10057342-1755100800-1755104400@cp12stepoutreach.org
SUMMARY:Boston 11th Step Meditation Meeting
DESCRIPTION:Zoom Code: 7817041010 \nPW: Silence
URL:https://cp12stepoutreach.org/meeting-or-group/boston-11th-step-meditation-meeting/2025-08-13/
CATEGORIES:Online 11th Step Meditation Meetings
LOCATION:https://zoom.us/j/7817041010?from=join#success
END:VEVENT
BEGIN:VEVENT
DTSTART;TZID=America/New_York:20250806T160000
DTEND;TZID=America/New_York:20250806T170000
DTSTAMP:20260420T142328
CREATED:20230209T194753Z
LAST-MODIFIED:20230209T214317Z
UID:10057341-1754496000-1754499600@cp12stepoutreach.org
SUMMARY:Boston 11th Step Meditation Meeting
DESCRIPTION:Zoom Code: 7817041010 \nPW: Silence
URL:https://cp12stepoutreach.org/meeting-or-group/boston-11th-step-meditation-meeting/2025-08-06/
CATEGORIES:Online 11th Step Meditation Meetings
LOCATION:https://zoom.us/j/7817041010?from=join#success
END:VEVENT
BEGIN:VEVENT
DTSTART;TZID=America/New_York:20250730T160000
DTEND;TZID=America/New_York:20250730T170000
DTSTAMP:20260420T142328
CREATED:20230209T194753Z
LAST-MODIFIED:20230209T214317Z
UID:10057340-1753891200-1753894800@cp12stepoutreach.org
SUMMARY:Boston 11th Step Meditation Meeting
DESCRIPTION:Zoom Code: 7817041010 \nPW: Silence
URL:https://cp12stepoutreach.org/meeting-or-group/boston-11th-step-meditation-meeting/2025-07-30/
CATEGORIES:Online 11th Step Meditation Meetings
LOCATION:https://zoom.us/j/7817041010?from=join#success
END:VEVENT
BEGIN:VEVENT
DTSTART;TZID=America/New_York:20250723T160000
DTEND;TZID=America/New_York:20250723T170000
DTSTAMP:20260420T142328
CREATED:20230209T194753Z
LAST-MODIFIED:20230209T214317Z
UID:10057339-1753286400-1753290000@cp12stepoutreach.org
SUMMARY:Boston 11th Step Meditation Meeting
DESCRIPTION:Zoom Code: 7817041010 \nPW: Silence
URL:https://cp12stepoutreach.org/meeting-or-group/boston-11th-step-meditation-meeting/2025-07-23/
CATEGORIES:Online 11th Step Meditation Meetings
LOCATION:https://zoom.us/j/7817041010?from=join#success
END:VEVENT
BEGIN:VEVENT
DTSTART;TZID=America/New_York:20250716T160000
DTEND;TZID=America/New_York:20250716T170000
DTSTAMP:20260420T142328
CREATED:20230209T194753Z
LAST-MODIFIED:20230209T214317Z
UID:10057338-1752681600-1752685200@cp12stepoutreach.org
SUMMARY:Boston 11th Step Meditation Meeting
DESCRIPTION:Zoom Code: 7817041010 \nPW: Silence
URL:https://cp12stepoutreach.org/meeting-or-group/boston-11th-step-meditation-meeting/2025-07-16/
CATEGORIES:Online 11th Step Meditation Meetings
LOCATION:https://zoom.us/j/7817041010?from=join#success
END:VEVENT
BEGIN:VEVENT
DTSTART;TZID=America/New_York:20250709T160000
DTEND;TZID=America/New_York:20250709T170000
DTSTAMP:20260420T142328
CREATED:20230209T194753Z
LAST-MODIFIED:20230209T214317Z
UID:10057337-1752076800-1752080400@cp12stepoutreach.org
SUMMARY:Boston 11th Step Meditation Meeting
DESCRIPTION:Zoom Code: 7817041010 \nPW: Silence
URL:https://cp12stepoutreach.org/meeting-or-group/boston-11th-step-meditation-meeting/2025-07-09/
CATEGORIES:Online 11th Step Meditation Meetings
LOCATION:https://zoom.us/j/7817041010?from=join#success
END:VEVENT
BEGIN:VEVENT
DTSTART;TZID=America/New_York:20250702T160000
DTEND;TZID=America/New_York:20250702T170000
DTSTAMP:20260420T142328
CREATED:20230209T194753Z
LAST-MODIFIED:20230209T214317Z
UID:10057336-1751472000-1751475600@cp12stepoutreach.org
SUMMARY:Boston 11th Step Meditation Meeting
DESCRIPTION:Zoom Code: 7817041010 \nPW: Silence
URL:https://cp12stepoutreach.org/meeting-or-group/boston-11th-step-meditation-meeting/2025-07-02/
CATEGORIES:Online 11th Step Meditation Meetings
LOCATION:https://zoom.us/j/7817041010?from=join#success
END:VEVENT
BEGIN:VEVENT
DTSTART;TZID=America/New_York:20250625T160000
DTEND;TZID=America/New_York:20250625T170000
DTSTAMP:20260420T142328
CREATED:20230209T194753Z
LAST-MODIFIED:20230209T214317Z
UID:10057335-1750867200-1750870800@cp12stepoutreach.org
SUMMARY:Boston 11th Step Meditation Meeting
DESCRIPTION:Zoom Code: 7817041010 \nPW: Silence
URL:https://cp12stepoutreach.org/meeting-or-group/boston-11th-step-meditation-meeting/2025-06-25/
CATEGORIES:Online 11th Step Meditation Meetings
LOCATION:https://zoom.us/j/7817041010?from=join#success
END:VEVENT
BEGIN:VEVENT
DTSTART;TZID=America/New_York:20250618T160000
DTEND;TZID=America/New_York:20250618T170000
DTSTAMP:20260420T142328
CREATED:20230209T194753Z
LAST-MODIFIED:20230209T214317Z
UID:10057334-1750262400-1750266000@cp12stepoutreach.org
SUMMARY:Boston 11th Step Meditation Meeting
DESCRIPTION:Zoom Code: 7817041010 \nPW: Silence
URL:https://cp12stepoutreach.org/meeting-or-group/boston-11th-step-meditation-meeting/2025-06-18/
CATEGORIES:Online 11th Step Meditation Meetings
LOCATION:https://zoom.us/j/7817041010?from=join#success
END:VEVENT
BEGIN:VEVENT
DTSTART;TZID=America/New_York:20250611T160000
DTEND;TZID=America/New_York:20250611T170000
DTSTAMP:20260420T142328
CREATED:20230209T194753Z
LAST-MODIFIED:20230209T214317Z
UID:10057333-1749657600-1749661200@cp12stepoutreach.org
SUMMARY:Boston 11th Step Meditation Meeting
DESCRIPTION:Zoom Code: 7817041010 \nPW: Silence
URL:https://cp12stepoutreach.org/meeting-or-group/boston-11th-step-meditation-meeting/2025-06-11/
CATEGORIES:Online 11th Step Meditation Meetings
LOCATION:https://zoom.us/j/7817041010?from=join#success
END:VEVENT
BEGIN:VEVENT
DTSTART;TZID=America/New_York:20250604T160000
DTEND;TZID=America/New_York:20250604T170000
DTSTAMP:20260420T142328
CREATED:20230209T194753Z
LAST-MODIFIED:20230209T214317Z
UID:10057332-1749052800-1749056400@cp12stepoutreach.org
SUMMARY:Boston 11th Step Meditation Meeting
DESCRIPTION:Zoom Code: 7817041010 \nPW: Silence
URL:https://cp12stepoutreach.org/meeting-or-group/boston-11th-step-meditation-meeting/2025-06-04/
CATEGORIES:Online 11th Step Meditation Meetings
LOCATION:https://zoom.us/j/7817041010?from=join#success
END:VEVENT
BEGIN:VEVENT
DTSTART;TZID=America/New_York:20250528T160000
DTEND;TZID=America/New_York:20250528T170000
DTSTAMP:20260420T142328
CREATED:20230209T194753Z
LAST-MODIFIED:20230209T214317Z
UID:10057331-1748448000-1748451600@cp12stepoutreach.org
SUMMARY:Boston 11th Step Meditation Meeting
DESCRIPTION:Zoom Code: 7817041010 \nPW: Silence
URL:https://cp12stepoutreach.org/meeting-or-group/boston-11th-step-meditation-meeting/2025-05-28/
CATEGORIES:Online 11th Step Meditation Meetings
LOCATION:https://zoom.us/j/7817041010?from=join#success
END:VEVENT
BEGIN:VEVENT
DTSTART;TZID=America/New_York:20250521T160000
DTEND;TZID=America/New_York:20250521T170000
DTSTAMP:20260420T142328
CREATED:20230209T194753Z
LAST-MODIFIED:20230209T214317Z
UID:10057330-1747843200-1747846800@cp12stepoutreach.org
SUMMARY:Boston 11th Step Meditation Meeting
DESCRIPTION:Zoom Code: 7817041010 \nPW: Silence
URL:https://cp12stepoutreach.org/meeting-or-group/boston-11th-step-meditation-meeting/2025-05-21/
CATEGORIES:Online 11th Step Meditation Meetings
LOCATION:https://zoom.us/j/7817041010?from=join#success
END:VEVENT
BEGIN:VEVENT
DTSTART;TZID=America/New_York:20250514T160000
DTEND;TZID=America/New_York:20250514T170000
DTSTAMP:20260420T142328
CREATED:20230209T194753Z
LAST-MODIFIED:20230209T214317Z
UID:10057329-1747238400-1747242000@cp12stepoutreach.org
SUMMARY:Boston 11th Step Meditation Meeting
DESCRIPTION:Zoom Code: 7817041010 \nPW: Silence
URL:https://cp12stepoutreach.org/meeting-or-group/boston-11th-step-meditation-meeting/2025-05-14/
CATEGORIES:Online 11th Step Meditation Meetings
LOCATION:https://zoom.us/j/7817041010?from=join#success
END:VEVENT
BEGIN:VEVENT
DTSTART;TZID=America/New_York:20250507T160000
DTEND;TZID=America/New_York:20250507T170000
DTSTAMP:20260420T142328
CREATED:20230209T194753Z
LAST-MODIFIED:20230209T214317Z
UID:10057328-1746633600-1746637200@cp12stepoutreach.org
SUMMARY:Boston 11th Step Meditation Meeting
DESCRIPTION:Zoom Code: 7817041010 \nPW: Silence
URL:https://cp12stepoutreach.org/meeting-or-group/boston-11th-step-meditation-meeting/2025-05-07/
CATEGORIES:Online 11th Step Meditation Meetings
LOCATION:https://zoom.us/j/7817041010?from=join#success
END:VEVENT
END:VCALENDAR