BEGIN:VCALENDAR
VERSION:2.0
PRODID:-//12 Step Outreach - ECPv6.11.2.1//NONSGML v1.0//EN
CALSCALE:GREGORIAN
METHOD:PUBLISH
X-WR-CALNAME:12 Step Outreach
X-ORIGINAL-URL:https://cp12stepoutreach.org
X-WR-CALDESC:Events for 12 Step Outreach
REFRESH-INTERVAL;VALUE=DURATION:PT1H
X-Robots-Tag:noindex
X-PUBLISHED-TTL:PT1H
BEGIN:VTIMEZONE
TZID:America/New_York
BEGIN:DAYLIGHT
TZOFFSETFROM:-0500
TZOFFSETTO:-0400
TZNAME:EDT
DTSTART:20260308T070000
END:DAYLIGHT
BEGIN:STANDARD
TZOFFSETFROM:-0400
TZOFFSETTO:-0500
TZNAME:EST
DTSTART:20261101T060000
END:STANDARD
BEGIN:DAYLIGHT
TZOFFSETFROM:-0500
TZOFFSETTO:-0400
TZNAME:EDT
DTSTART:20270314T070000
END:DAYLIGHT
BEGIN:STANDARD
TZOFFSETFROM:-0400
TZOFFSETTO:-0500
TZNAME:EST
DTSTART:20271107T060000
END:STANDARD
END:VTIMEZONE
BEGIN:VEVENT
DTSTART;TZID=America/New_York:20260909T160000
DTEND;TZID=America/New_York:20260909T170000
DTSTAMP:20260420T123349
CREATED:20230209T194753Z
LAST-MODIFIED:20230209T214317Z
UID:10057398-1788969600-1788973200@cp12stepoutreach.org
SUMMARY:Boston 11th Step Meditation Meeting
DESCRIPTION:Zoom Code: 7817041010 \nPW: Silence
URL:https://cp12stepoutreach.org/meeting-or-group/boston-11th-step-meditation-meeting/2026-09-09/
CATEGORIES:Online 11th Step Meditation Meetings
LOCATION:https://zoom.us/j/7817041010?from=join#success
END:VEVENT
BEGIN:VEVENT
DTSTART;TZID=America/New_York:20260916T160000
DTEND;TZID=America/New_York:20260916T170000
DTSTAMP:20260420T123349
CREATED:20230209T194753Z
LAST-MODIFIED:20230209T214317Z
UID:10057399-1789574400-1789578000@cp12stepoutreach.org
SUMMARY:Boston 11th Step Meditation Meeting
DESCRIPTION:Zoom Code: 7817041010 \nPW: Silence
URL:https://cp12stepoutreach.org/meeting-or-group/boston-11th-step-meditation-meeting/2026-09-16/
CATEGORIES:Online 11th Step Meditation Meetings
LOCATION:https://zoom.us/j/7817041010?from=join#success
END:VEVENT
BEGIN:VEVENT
DTSTART;TZID=America/New_York:20260923T160000
DTEND;TZID=America/New_York:20260923T170000
DTSTAMP:20260420T123349
CREATED:20230209T194753Z
LAST-MODIFIED:20230209T214317Z
UID:10057400-1790179200-1790182800@cp12stepoutreach.org
SUMMARY:Boston 11th Step Meditation Meeting
DESCRIPTION:Zoom Code: 7817041010 \nPW: Silence
URL:https://cp12stepoutreach.org/meeting-or-group/boston-11th-step-meditation-meeting/2026-09-23/
CATEGORIES:Online 11th Step Meditation Meetings
LOCATION:https://zoom.us/j/7817041010?from=join#success
END:VEVENT
BEGIN:VEVENT
DTSTART;TZID=America/New_York:20260930T160000
DTEND;TZID=America/New_York:20260930T170000
DTSTAMP:20260420T123349
CREATED:20230209T194753Z
LAST-MODIFIED:20230209T214317Z
UID:10057401-1790784000-1790787600@cp12stepoutreach.org
SUMMARY:Boston 11th Step Meditation Meeting
DESCRIPTION:Zoom Code: 7817041010 \nPW: Silence
URL:https://cp12stepoutreach.org/meeting-or-group/boston-11th-step-meditation-meeting/2026-09-30/
CATEGORIES:Online 11th Step Meditation Meetings
LOCATION:https://zoom.us/j/7817041010?from=join#success
END:VEVENT
BEGIN:VEVENT
DTSTART;TZID=America/New_York:20261007T160000
DTEND;TZID=America/New_York:20261007T170000
DTSTAMP:20260420T123349
CREATED:20230209T194753Z
LAST-MODIFIED:20230209T214317Z
UID:10057402-1791388800-1791392400@cp12stepoutreach.org
SUMMARY:Boston 11th Step Meditation Meeting
DESCRIPTION:Zoom Code: 7817041010 \nPW: Silence
URL:https://cp12stepoutreach.org/meeting-or-group/boston-11th-step-meditation-meeting/2026-10-07/
CATEGORIES:Online 11th Step Meditation Meetings
LOCATION:https://zoom.us/j/7817041010?from=join#success
END:VEVENT
BEGIN:VEVENT
DTSTART;TZID=America/New_York:20261014T160000
DTEND;TZID=America/New_York:20261014T170000
DTSTAMP:20260420T123349
CREATED:20230209T194753Z
LAST-MODIFIED:20230209T214317Z
UID:10057403-1791993600-1791997200@cp12stepoutreach.org
SUMMARY:Boston 11th Step Meditation Meeting
DESCRIPTION:Zoom Code: 7817041010 \nPW: Silence
URL:https://cp12stepoutreach.org/meeting-or-group/boston-11th-step-meditation-meeting/2026-10-14/
CATEGORIES:Online 11th Step Meditation Meetings
LOCATION:https://zoom.us/j/7817041010?from=join#success
END:VEVENT
BEGIN:VEVENT
DTSTART;TZID=America/New_York:20261021T160000
DTEND;TZID=America/New_York:20261021T170000
DTSTAMP:20260420T123349
CREATED:20230209T194753Z
LAST-MODIFIED:20230209T214317Z
UID:10057404-1792598400-1792602000@cp12stepoutreach.org
SUMMARY:Boston 11th Step Meditation Meeting
DESCRIPTION:Zoom Code: 7817041010 \nPW: Silence
URL:https://cp12stepoutreach.org/meeting-or-group/boston-11th-step-meditation-meeting/2026-10-21/
CATEGORIES:Online 11th Step Meditation Meetings
LOCATION:https://zoom.us/j/7817041010?from=join#success
END:VEVENT
BEGIN:VEVENT
DTSTART;TZID=America/New_York:20261028T160000
DTEND;TZID=America/New_York:20261028T170000
DTSTAMP:20260420T123349
CREATED:20230209T194753Z
LAST-MODIFIED:20230209T214317Z
UID:10057405-1793203200-1793206800@cp12stepoutreach.org
SUMMARY:Boston 11th Step Meditation Meeting
DESCRIPTION:Zoom Code: 7817041010 \nPW: Silence
URL:https://cp12stepoutreach.org/meeting-or-group/boston-11th-step-meditation-meeting/2026-10-28/
CATEGORIES:Online 11th Step Meditation Meetings
LOCATION:https://zoom.us/j/7817041010?from=join#success
END:VEVENT
BEGIN:VEVENT
DTSTART;TZID=America/New_York:20261104T160000
DTEND;TZID=America/New_York:20261104T170000
DTSTAMP:20260420T123349
CREATED:20230209T194753Z
LAST-MODIFIED:20230209T214317Z
UID:10057406-1793808000-1793811600@cp12stepoutreach.org
SUMMARY:Boston 11th Step Meditation Meeting
DESCRIPTION:Zoom Code: 7817041010 \nPW: Silence
URL:https://cp12stepoutreach.org/meeting-or-group/boston-11th-step-meditation-meeting/2026-11-04/
CATEGORIES:Online 11th Step Meditation Meetings
LOCATION:https://zoom.us/j/7817041010?from=join#success
END:VEVENT
BEGIN:VEVENT
DTSTART;TZID=America/New_York:20261111T160000
DTEND;TZID=America/New_York:20261111T170000
DTSTAMP:20260420T123349
CREATED:20230209T194753Z
LAST-MODIFIED:20230209T214317Z
UID:10057407-1794412800-1794416400@cp12stepoutreach.org
SUMMARY:Boston 11th Step Meditation Meeting
DESCRIPTION:Zoom Code: 7817041010 \nPW: Silence
URL:https://cp12stepoutreach.org/meeting-or-group/boston-11th-step-meditation-meeting/2026-11-11/
CATEGORIES:Online 11th Step Meditation Meetings
LOCATION:https://zoom.us/j/7817041010?from=join#success
END:VEVENT
BEGIN:VEVENT
DTSTART;TZID=America/New_York:20261118T160000
DTEND;TZID=America/New_York:20261118T170000
DTSTAMP:20260420T123349
CREATED:20230209T194753Z
LAST-MODIFIED:20230209T214317Z
UID:10057408-1795017600-1795021200@cp12stepoutreach.org
SUMMARY:Boston 11th Step Meditation Meeting
DESCRIPTION:Zoom Code: 7817041010 \nPW: Silence
URL:https://cp12stepoutreach.org/meeting-or-group/boston-11th-step-meditation-meeting/2026-11-18/
CATEGORIES:Online 11th Step Meditation Meetings
LOCATION:https://zoom.us/j/7817041010?from=join#success
END:VEVENT
BEGIN:VEVENT
DTSTART;TZID=America/New_York:20261125T160000
DTEND;TZID=America/New_York:20261125T170000
DTSTAMP:20260420T123349
CREATED:20230209T194753Z
LAST-MODIFIED:20230209T214317Z
UID:10057409-1795622400-1795626000@cp12stepoutreach.org
SUMMARY:Boston 11th Step Meditation Meeting
DESCRIPTION:Zoom Code: 7817041010 \nPW: Silence
URL:https://cp12stepoutreach.org/meeting-or-group/boston-11th-step-meditation-meeting/2026-11-25/
CATEGORIES:Online 11th Step Meditation Meetings
LOCATION:https://zoom.us/j/7817041010?from=join#success
END:VEVENT
BEGIN:VEVENT
DTSTART;TZID=America/New_York:20261202T160000
DTEND;TZID=America/New_York:20261202T170000
DTSTAMP:20260420T123349
CREATED:20230209T194753Z
LAST-MODIFIED:20230209T214317Z
UID:10057410-1796227200-1796230800@cp12stepoutreach.org
SUMMARY:Boston 11th Step Meditation Meeting
DESCRIPTION:Zoom Code: 7817041010 \nPW: Silence
URL:https://cp12stepoutreach.org/meeting-or-group/boston-11th-step-meditation-meeting/2026-12-02/
CATEGORIES:Online 11th Step Meditation Meetings
LOCATION:https://zoom.us/j/7817041010?from=join#success
END:VEVENT
BEGIN:VEVENT
DTSTART;TZID=America/New_York:20261209T160000
DTEND;TZID=America/New_York:20261209T170000
DTSTAMP:20260420T123349
CREATED:20230209T194753Z
LAST-MODIFIED:20230209T214317Z
UID:10057411-1796832000-1796835600@cp12stepoutreach.org
SUMMARY:Boston 11th Step Meditation Meeting
DESCRIPTION:Zoom Code: 7817041010 \nPW: Silence
URL:https://cp12stepoutreach.org/meeting-or-group/boston-11th-step-meditation-meeting/2026-12-09/
CATEGORIES:Online 11th Step Meditation Meetings
LOCATION:https://zoom.us/j/7817041010?from=join#success
END:VEVENT
BEGIN:VEVENT
DTSTART;TZID=America/New_York:20261216T160000
DTEND;TZID=America/New_York:20261216T170000
DTSTAMP:20260420T123349
CREATED:20230209T194753Z
LAST-MODIFIED:20230209T214317Z
UID:10057412-1797436800-1797440400@cp12stepoutreach.org
SUMMARY:Boston 11th Step Meditation Meeting
DESCRIPTION:Zoom Code: 7817041010 \nPW: Silence
URL:https://cp12stepoutreach.org/meeting-or-group/boston-11th-step-meditation-meeting/2026-12-16/
CATEGORIES:Online 11th Step Meditation Meetings
LOCATION:https://zoom.us/j/7817041010?from=join#success
END:VEVENT
BEGIN:VEVENT
DTSTART;TZID=America/New_York:20261223T160000
DTEND;TZID=America/New_York:20261223T170000
DTSTAMP:20260420T123349
CREATED:20230209T194753Z
LAST-MODIFIED:20230209T214317Z
UID:10057413-1798041600-1798045200@cp12stepoutreach.org
SUMMARY:Boston 11th Step Meditation Meeting
DESCRIPTION:Zoom Code: 7817041010 \nPW: Silence
URL:https://cp12stepoutreach.org/meeting-or-group/boston-11th-step-meditation-meeting/2026-12-23/
CATEGORIES:Online 11th Step Meditation Meetings
LOCATION:https://zoom.us/j/7817041010?from=join#success
END:VEVENT
BEGIN:VEVENT
DTSTART;TZID=America/New_York:20261230T160000
DTEND;TZID=America/New_York:20261230T170000
DTSTAMP:20260420T123349
CREATED:20230209T194753Z
LAST-MODIFIED:20230209T214317Z
UID:10057414-1798646400-1798650000@cp12stepoutreach.org
SUMMARY:Boston 11th Step Meditation Meeting
DESCRIPTION:Zoom Code: 7817041010 \nPW: Silence
URL:https://cp12stepoutreach.org/meeting-or-group/boston-11th-step-meditation-meeting/2026-12-30/
CATEGORIES:Online 11th Step Meditation Meetings
LOCATION:https://zoom.us/j/7817041010?from=join#success
END:VEVENT
BEGIN:VEVENT
DTSTART;TZID=America/New_York:20270106T160000
DTEND;TZID=America/New_York:20270106T170000
DTSTAMP:20260420T123349
CREATED:20230209T194753Z
LAST-MODIFIED:20230209T214317Z
UID:10057415-1799251200-1799254800@cp12stepoutreach.org
SUMMARY:Boston 11th Step Meditation Meeting
DESCRIPTION:Zoom Code: 7817041010 \nPW: Silence
URL:https://cp12stepoutreach.org/meeting-or-group/boston-11th-step-meditation-meeting/2027-01-06/
CATEGORIES:Online 11th Step Meditation Meetings
LOCATION:https://zoom.us/j/7817041010?from=join#success
END:VEVENT
BEGIN:VEVENT
DTSTART;TZID=America/New_York:20270113T160000
DTEND;TZID=America/New_York:20270113T170000
DTSTAMP:20260420T123349
CREATED:20230209T194753Z
LAST-MODIFIED:20230209T214317Z
UID:10057416-1799856000-1799859600@cp12stepoutreach.org
SUMMARY:Boston 11th Step Meditation Meeting
DESCRIPTION:Zoom Code: 7817041010 \nPW: Silence
URL:https://cp12stepoutreach.org/meeting-or-group/boston-11th-step-meditation-meeting/2027-01-13/
CATEGORIES:Online 11th Step Meditation Meetings
LOCATION:https://zoom.us/j/7817041010?from=join#success
END:VEVENT
BEGIN:VEVENT
DTSTART;TZID=America/New_York:20270120T160000
DTEND;TZID=America/New_York:20270120T170000
DTSTAMP:20260420T123349
CREATED:20230209T194753Z
LAST-MODIFIED:20230209T214317Z
UID:10057417-1800460800-1800464400@cp12stepoutreach.org
SUMMARY:Boston 11th Step Meditation Meeting
DESCRIPTION:Zoom Code: 7817041010 \nPW: Silence
URL:https://cp12stepoutreach.org/meeting-or-group/boston-11th-step-meditation-meeting/2027-01-20/
CATEGORIES:Online 11th Step Meditation Meetings
LOCATION:https://zoom.us/j/7817041010?from=join#success
END:VEVENT
BEGIN:VEVENT
DTSTART;TZID=America/New_York:20270127T160000
DTEND;TZID=America/New_York:20270127T170000
DTSTAMP:20260420T123349
CREATED:20230209T194753Z
LAST-MODIFIED:20230209T214317Z
UID:10057418-1801065600-1801069200@cp12stepoutreach.org
SUMMARY:Boston 11th Step Meditation Meeting
DESCRIPTION:Zoom Code: 7817041010 \nPW: Silence
URL:https://cp12stepoutreach.org/meeting-or-group/boston-11th-step-meditation-meeting/2027-01-27/
CATEGORIES:Online 11th Step Meditation Meetings
LOCATION:https://zoom.us/j/7817041010?from=join#success
END:VEVENT
END:VCALENDAR