BEGIN:VCALENDAR
VERSION:2.0
PRODID:-//12 Step Outreach - ECPv6.11.2.1//NONSGML v1.0//EN
CALSCALE:GREGORIAN
METHOD:PUBLISH
X-WR-CALNAME:12 Step Outreach
X-ORIGINAL-URL:https://cp12stepoutreach.org
X-WR-CALDESC:Events for 12 Step Outreach
REFRESH-INTERVAL;VALUE=DURATION:PT1H
X-Robots-Tag:noindex
X-PUBLISHED-TTL:PT1H
BEGIN:VTIMEZONE
TZID:America/New_York
BEGIN:DAYLIGHT
TZOFFSETFROM:-0500
TZOFFSETTO:-0400
TZNAME:EDT
DTSTART:20240310T070000
END:DAYLIGHT
BEGIN:STANDARD
TZOFFSETFROM:-0400
TZOFFSETTO:-0500
TZNAME:EST
DTSTART:20241103T060000
END:STANDARD
BEGIN:DAYLIGHT
TZOFFSETFROM:-0500
TZOFFSETTO:-0400
TZNAME:EDT
DTSTART:20250309T070000
END:DAYLIGHT
BEGIN:STANDARD
TZOFFSETFROM:-0400
TZOFFSETTO:-0500
TZNAME:EST
DTSTART:20251102T060000
END:STANDARD
END:VTIMEZONE
BEGIN:VEVENT
DTSTART;TZID=America/New_York:20250709T160000
DTEND;TZID=America/New_York:20250709T170000
DTSTAMP:20260420T155538
CREATED:20230209T194753Z
LAST-MODIFIED:20230209T214317Z
UID:10057337-1752076800-1752080400@cp12stepoutreach.org
SUMMARY:Boston 11th Step Meditation Meeting
DESCRIPTION:Zoom Code: 7817041010 \nPW: Silence
URL:https://cp12stepoutreach.org/meeting-or-group/boston-11th-step-meditation-meeting/2025-07-09/
CATEGORIES:Online 11th Step Meditation Meetings
LOCATION:https://zoom.us/j/7817041010?from=join#success
END:VEVENT
BEGIN:VEVENT
DTSTART;TZID=America/New_York:20250702T160000
DTEND;TZID=America/New_York:20250702T170000
DTSTAMP:20260420T155538
CREATED:20230209T194753Z
LAST-MODIFIED:20230209T214317Z
UID:10057336-1751472000-1751475600@cp12stepoutreach.org
SUMMARY:Boston 11th Step Meditation Meeting
DESCRIPTION:Zoom Code: 7817041010 \nPW: Silence
URL:https://cp12stepoutreach.org/meeting-or-group/boston-11th-step-meditation-meeting/2025-07-02/
CATEGORIES:Online 11th Step Meditation Meetings
LOCATION:https://zoom.us/j/7817041010?from=join#success
END:VEVENT
BEGIN:VEVENT
DTSTART;TZID=America/New_York:20250625T160000
DTEND;TZID=America/New_York:20250625T170000
DTSTAMP:20260420T155538
CREATED:20230209T194753Z
LAST-MODIFIED:20230209T214317Z
UID:10057335-1750867200-1750870800@cp12stepoutreach.org
SUMMARY:Boston 11th Step Meditation Meeting
DESCRIPTION:Zoom Code: 7817041010 \nPW: Silence
URL:https://cp12stepoutreach.org/meeting-or-group/boston-11th-step-meditation-meeting/2025-06-25/
CATEGORIES:Online 11th Step Meditation Meetings
LOCATION:https://zoom.us/j/7817041010?from=join#success
END:VEVENT
BEGIN:VEVENT
DTSTART;TZID=America/New_York:20250618T160000
DTEND;TZID=America/New_York:20250618T170000
DTSTAMP:20260420T155538
CREATED:20230209T194753Z
LAST-MODIFIED:20230209T214317Z
UID:10057334-1750262400-1750266000@cp12stepoutreach.org
SUMMARY:Boston 11th Step Meditation Meeting
DESCRIPTION:Zoom Code: 7817041010 \nPW: Silence
URL:https://cp12stepoutreach.org/meeting-or-group/boston-11th-step-meditation-meeting/2025-06-18/
CATEGORIES:Online 11th Step Meditation Meetings
LOCATION:https://zoom.us/j/7817041010?from=join#success
END:VEVENT
BEGIN:VEVENT
DTSTART;TZID=America/New_York:20250611T160000
DTEND;TZID=America/New_York:20250611T170000
DTSTAMP:20260420T155538
CREATED:20230209T194753Z
LAST-MODIFIED:20230209T214317Z
UID:10057333-1749657600-1749661200@cp12stepoutreach.org
SUMMARY:Boston 11th Step Meditation Meeting
DESCRIPTION:Zoom Code: 7817041010 \nPW: Silence
URL:https://cp12stepoutreach.org/meeting-or-group/boston-11th-step-meditation-meeting/2025-06-11/
CATEGORIES:Online 11th Step Meditation Meetings
LOCATION:https://zoom.us/j/7817041010?from=join#success
END:VEVENT
BEGIN:VEVENT
DTSTART;TZID=America/New_York:20250604T160000
DTEND;TZID=America/New_York:20250604T170000
DTSTAMP:20260420T155538
CREATED:20230209T194753Z
LAST-MODIFIED:20230209T214317Z
UID:10057332-1749052800-1749056400@cp12stepoutreach.org
SUMMARY:Boston 11th Step Meditation Meeting
DESCRIPTION:Zoom Code: 7817041010 \nPW: Silence
URL:https://cp12stepoutreach.org/meeting-or-group/boston-11th-step-meditation-meeting/2025-06-04/
CATEGORIES:Online 11th Step Meditation Meetings
LOCATION:https://zoom.us/j/7817041010?from=join#success
END:VEVENT
BEGIN:VEVENT
DTSTART;TZID=America/New_York:20250528T160000
DTEND;TZID=America/New_York:20250528T170000
DTSTAMP:20260420T155538
CREATED:20230209T194753Z
LAST-MODIFIED:20230209T214317Z
UID:10057331-1748448000-1748451600@cp12stepoutreach.org
SUMMARY:Boston 11th Step Meditation Meeting
DESCRIPTION:Zoom Code: 7817041010 \nPW: Silence
URL:https://cp12stepoutreach.org/meeting-or-group/boston-11th-step-meditation-meeting/2025-05-28/
CATEGORIES:Online 11th Step Meditation Meetings
LOCATION:https://zoom.us/j/7817041010?from=join#success
END:VEVENT
BEGIN:VEVENT
DTSTART;TZID=America/New_York:20250521T160000
DTEND;TZID=America/New_York:20250521T170000
DTSTAMP:20260420T155538
CREATED:20230209T194753Z
LAST-MODIFIED:20230209T214317Z
UID:10057330-1747843200-1747846800@cp12stepoutreach.org
SUMMARY:Boston 11th Step Meditation Meeting
DESCRIPTION:Zoom Code: 7817041010 \nPW: Silence
URL:https://cp12stepoutreach.org/meeting-or-group/boston-11th-step-meditation-meeting/2025-05-21/
CATEGORIES:Online 11th Step Meditation Meetings
LOCATION:https://zoom.us/j/7817041010?from=join#success
END:VEVENT
BEGIN:VEVENT
DTSTART;TZID=America/New_York:20250514T160000
DTEND;TZID=America/New_York:20250514T170000
DTSTAMP:20260420T155538
CREATED:20230209T194753Z
LAST-MODIFIED:20230209T214317Z
UID:10057329-1747238400-1747242000@cp12stepoutreach.org
SUMMARY:Boston 11th Step Meditation Meeting
DESCRIPTION:Zoom Code: 7817041010 \nPW: Silence
URL:https://cp12stepoutreach.org/meeting-or-group/boston-11th-step-meditation-meeting/2025-05-14/
CATEGORIES:Online 11th Step Meditation Meetings
LOCATION:https://zoom.us/j/7817041010?from=join#success
END:VEVENT
BEGIN:VEVENT
DTSTART;TZID=America/New_York:20250507T160000
DTEND;TZID=America/New_York:20250507T170000
DTSTAMP:20260420T155538
CREATED:20230209T194753Z
LAST-MODIFIED:20230209T214317Z
UID:10057328-1746633600-1746637200@cp12stepoutreach.org
SUMMARY:Boston 11th Step Meditation Meeting
DESCRIPTION:Zoom Code: 7817041010 \nPW: Silence
URL:https://cp12stepoutreach.org/meeting-or-group/boston-11th-step-meditation-meeting/2025-05-07/
CATEGORIES:Online 11th Step Meditation Meetings
LOCATION:https://zoom.us/j/7817041010?from=join#success
END:VEVENT
BEGIN:VEVENT
DTSTART;TZID=America/New_York:20250430T160000
DTEND;TZID=America/New_York:20250430T170000
DTSTAMP:20260420T155538
CREATED:20230209T194753Z
LAST-MODIFIED:20230209T214317Z
UID:10057327-1746028800-1746032400@cp12stepoutreach.org
SUMMARY:Boston 11th Step Meditation Meeting
DESCRIPTION:Zoom Code: 7817041010 \nPW: Silence
URL:https://cp12stepoutreach.org/meeting-or-group/boston-11th-step-meditation-meeting/2025-04-30/
CATEGORIES:Online 11th Step Meditation Meetings
LOCATION:https://zoom.us/j/7817041010?from=join#success
END:VEVENT
BEGIN:VEVENT
DTSTART;TZID=America/New_York:20250423T160000
DTEND;TZID=America/New_York:20250423T170000
DTSTAMP:20260420T155538
CREATED:20230209T194753Z
LAST-MODIFIED:20230209T214317Z
UID:10057326-1745424000-1745427600@cp12stepoutreach.org
SUMMARY:Boston 11th Step Meditation Meeting
DESCRIPTION:Zoom Code: 7817041010 \nPW: Silence
URL:https://cp12stepoutreach.org/meeting-or-group/boston-11th-step-meditation-meeting/2025-04-23/
CATEGORIES:Online 11th Step Meditation Meetings
LOCATION:https://zoom.us/j/7817041010?from=join#success
END:VEVENT
BEGIN:VEVENT
DTSTART;TZID=America/New_York:20250416T160000
DTEND;TZID=America/New_York:20250416T170000
DTSTAMP:20260420T155538
CREATED:20230209T194753Z
LAST-MODIFIED:20230209T214317Z
UID:10057325-1744819200-1744822800@cp12stepoutreach.org
SUMMARY:Boston 11th Step Meditation Meeting
DESCRIPTION:Zoom Code: 7817041010 \nPW: Silence
URL:https://cp12stepoutreach.org/meeting-or-group/boston-11th-step-meditation-meeting/2025-04-16/
CATEGORIES:Online 11th Step Meditation Meetings
LOCATION:https://zoom.us/j/7817041010?from=join#success
END:VEVENT
BEGIN:VEVENT
DTSTART;TZID=America/New_York:20250409T160000
DTEND;TZID=America/New_York:20250409T170000
DTSTAMP:20260420T155538
CREATED:20230209T194753Z
LAST-MODIFIED:20230209T214317Z
UID:10057324-1744214400-1744218000@cp12stepoutreach.org
SUMMARY:Boston 11th Step Meditation Meeting
DESCRIPTION:Zoom Code: 7817041010 \nPW: Silence
URL:https://cp12stepoutreach.org/meeting-or-group/boston-11th-step-meditation-meeting/2025-04-09/
CATEGORIES:Online 11th Step Meditation Meetings
LOCATION:https://zoom.us/j/7817041010?from=join#success
END:VEVENT
BEGIN:VEVENT
DTSTART;TZID=America/New_York:20250402T160000
DTEND;TZID=America/New_York:20250402T170000
DTSTAMP:20260420T155538
CREATED:20230209T194753Z
LAST-MODIFIED:20230209T214317Z
UID:10057323-1743609600-1743613200@cp12stepoutreach.org
SUMMARY:Boston 11th Step Meditation Meeting
DESCRIPTION:Zoom Code: 7817041010 \nPW: Silence
URL:https://cp12stepoutreach.org/meeting-or-group/boston-11th-step-meditation-meeting/2025-04-02/
CATEGORIES:Online 11th Step Meditation Meetings
LOCATION:https://zoom.us/j/7817041010?from=join#success
END:VEVENT
BEGIN:VEVENT
DTSTART;TZID=America/New_York:20250326T160000
DTEND;TZID=America/New_York:20250326T170000
DTSTAMP:20260420T155538
CREATED:20230209T194753Z
LAST-MODIFIED:20230209T214317Z
UID:10057322-1743004800-1743008400@cp12stepoutreach.org
SUMMARY:Boston 11th Step Meditation Meeting
DESCRIPTION:Zoom Code: 7817041010 \nPW: Silence
URL:https://cp12stepoutreach.org/meeting-or-group/boston-11th-step-meditation-meeting/2025-03-26/
CATEGORIES:Online 11th Step Meditation Meetings
LOCATION:https://zoom.us/j/7817041010?from=join#success
END:VEVENT
BEGIN:VEVENT
DTSTART;TZID=America/New_York:20250319T160000
DTEND;TZID=America/New_York:20250319T170000
DTSTAMP:20260420T155538
CREATED:20230209T194753Z
LAST-MODIFIED:20230209T214317Z
UID:10057321-1742400000-1742403600@cp12stepoutreach.org
SUMMARY:Boston 11th Step Meditation Meeting
DESCRIPTION:Zoom Code: 7817041010 \nPW: Silence
URL:https://cp12stepoutreach.org/meeting-or-group/boston-11th-step-meditation-meeting/2025-03-19/
CATEGORIES:Online 11th Step Meditation Meetings
LOCATION:https://zoom.us/j/7817041010?from=join#success
END:VEVENT
BEGIN:VEVENT
DTSTART;TZID=America/New_York:20250312T160000
DTEND;TZID=America/New_York:20250312T170000
DTSTAMP:20260420T155538
CREATED:20230209T194753Z
LAST-MODIFIED:20230209T214317Z
UID:10057320-1741795200-1741798800@cp12stepoutreach.org
SUMMARY:Boston 11th Step Meditation Meeting
DESCRIPTION:Zoom Code: 7817041010 \nPW: Silence
URL:https://cp12stepoutreach.org/meeting-or-group/boston-11th-step-meditation-meeting/2025-03-12/
CATEGORIES:Online 11th Step Meditation Meetings
LOCATION:https://zoom.us/j/7817041010?from=join#success
END:VEVENT
BEGIN:VEVENT
DTSTART;TZID=America/New_York:20250305T160000
DTEND;TZID=America/New_York:20250305T170000
DTSTAMP:20260420T155538
CREATED:20230209T194753Z
LAST-MODIFIED:20230209T214317Z
UID:10057319-1741190400-1741194000@cp12stepoutreach.org
SUMMARY:Boston 11th Step Meditation Meeting
DESCRIPTION:Zoom Code: 7817041010 \nPW: Silence
URL:https://cp12stepoutreach.org/meeting-or-group/boston-11th-step-meditation-meeting/2025-03-05/
CATEGORIES:Online 11th Step Meditation Meetings
LOCATION:https://zoom.us/j/7817041010?from=join#success
END:VEVENT
BEGIN:VEVENT
DTSTART;TZID=America/New_York:20250226T160000
DTEND;TZID=America/New_York:20250226T170000
DTSTAMP:20260420T155538
CREATED:20230209T194753Z
LAST-MODIFIED:20230209T214317Z
UID:10057318-1740585600-1740589200@cp12stepoutreach.org
SUMMARY:Boston 11th Step Meditation Meeting
DESCRIPTION:Zoom Code: 7817041010 \nPW: Silence
URL:https://cp12stepoutreach.org/meeting-or-group/boston-11th-step-meditation-meeting/2025-02-26/
CATEGORIES:Online 11th Step Meditation Meetings
LOCATION:https://zoom.us/j/7817041010?from=join#success
END:VEVENT
BEGIN:VEVENT
DTSTART;TZID=America/New_York:20250219T160000
DTEND;TZID=America/New_York:20250219T170000
DTSTAMP:20260420T155538
CREATED:20230209T194753Z
LAST-MODIFIED:20230209T214317Z
UID:10057317-1739980800-1739984400@cp12stepoutreach.org
SUMMARY:Boston 11th Step Meditation Meeting
DESCRIPTION:Zoom Code: 7817041010 \nPW: Silence
URL:https://cp12stepoutreach.org/meeting-or-group/boston-11th-step-meditation-meeting/2025-02-19/
CATEGORIES:Online 11th Step Meditation Meetings
LOCATION:https://zoom.us/j/7817041010?from=join#success
END:VEVENT
BEGIN:VEVENT
DTSTART;TZID=America/New_York:20250212T160000
DTEND;TZID=America/New_York:20250212T170000
DTSTAMP:20260420T155538
CREATED:20230209T194753Z
LAST-MODIFIED:20230209T214317Z
UID:10057316-1739376000-1739379600@cp12stepoutreach.org
SUMMARY:Boston 11th Step Meditation Meeting
DESCRIPTION:Zoom Code: 7817041010 \nPW: Silence
URL:https://cp12stepoutreach.org/meeting-or-group/boston-11th-step-meditation-meeting/2025-02-12/
CATEGORIES:Online 11th Step Meditation Meetings
LOCATION:https://zoom.us/j/7817041010?from=join#success
END:VEVENT
BEGIN:VEVENT
DTSTART;TZID=America/New_York:20250205T160000
DTEND;TZID=America/New_York:20250205T170000
DTSTAMP:20260420T155538
CREATED:20230209T194753Z
LAST-MODIFIED:20230209T214317Z
UID:10057315-1738771200-1738774800@cp12stepoutreach.org
SUMMARY:Boston 11th Step Meditation Meeting
DESCRIPTION:Zoom Code: 7817041010 \nPW: Silence
URL:https://cp12stepoutreach.org/meeting-or-group/boston-11th-step-meditation-meeting/2025-02-05/
CATEGORIES:Online 11th Step Meditation Meetings
LOCATION:https://zoom.us/j/7817041010?from=join#success
END:VEVENT
BEGIN:VEVENT
DTSTART;TZID=America/New_York:20250129T160000
DTEND;TZID=America/New_York:20250129T170000
DTSTAMP:20260420T155538
CREATED:20230209T194753Z
LAST-MODIFIED:20230209T214317Z
UID:10057314-1738166400-1738170000@cp12stepoutreach.org
SUMMARY:Boston 11th Step Meditation Meeting
DESCRIPTION:Zoom Code: 7817041010 \nPW: Silence
URL:https://cp12stepoutreach.org/meeting-or-group/boston-11th-step-meditation-meeting/2025-01-29/
CATEGORIES:Online 11th Step Meditation Meetings
LOCATION:https://zoom.us/j/7817041010?from=join#success
END:VEVENT
BEGIN:VEVENT
DTSTART;TZID=America/New_York:20250122T160000
DTEND;TZID=America/New_York:20250122T170000
DTSTAMP:20260420T155538
CREATED:20230209T194753Z
LAST-MODIFIED:20230209T214317Z
UID:10057313-1737561600-1737565200@cp12stepoutreach.org
SUMMARY:Boston 11th Step Meditation Meeting
DESCRIPTION:Zoom Code: 7817041010 \nPW: Silence
URL:https://cp12stepoutreach.org/meeting-or-group/boston-11th-step-meditation-meeting/2025-01-22/
CATEGORIES:Online 11th Step Meditation Meetings
LOCATION:https://zoom.us/j/7817041010?from=join#success
END:VEVENT
BEGIN:VEVENT
DTSTART;TZID=America/New_York:20250115T160000
DTEND;TZID=America/New_York:20250115T170000
DTSTAMP:20260420T155538
CREATED:20230209T194753Z
LAST-MODIFIED:20230209T214317Z
UID:10057312-1736956800-1736960400@cp12stepoutreach.org
SUMMARY:Boston 11th Step Meditation Meeting
DESCRIPTION:Zoom Code: 7817041010 \nPW: Silence
URL:https://cp12stepoutreach.org/meeting-or-group/boston-11th-step-meditation-meeting/2025-01-15/
CATEGORIES:Online 11th Step Meditation Meetings
LOCATION:https://zoom.us/j/7817041010?from=join#success
END:VEVENT
BEGIN:VEVENT
DTSTART;TZID=America/New_York:20250108T160000
DTEND;TZID=America/New_York:20250108T170000
DTSTAMP:20260420T155538
CREATED:20230209T194753Z
LAST-MODIFIED:20230209T214317Z
UID:10057311-1736352000-1736355600@cp12stepoutreach.org
SUMMARY:Boston 11th Step Meditation Meeting
DESCRIPTION:Zoom Code: 7817041010 \nPW: Silence
URL:https://cp12stepoutreach.org/meeting-or-group/boston-11th-step-meditation-meeting/2025-01-08/
CATEGORIES:Online 11th Step Meditation Meetings
LOCATION:https://zoom.us/j/7817041010?from=join#success
END:VEVENT
BEGIN:VEVENT
DTSTART;TZID=America/New_York:20250101T160000
DTEND;TZID=America/New_York:20250101T170000
DTSTAMP:20260420T155538
CREATED:20230209T194753Z
LAST-MODIFIED:20230209T214317Z
UID:10057310-1735747200-1735750800@cp12stepoutreach.org
SUMMARY:Boston 11th Step Meditation Meeting
DESCRIPTION:Zoom Code: 7817041010 \nPW: Silence
URL:https://cp12stepoutreach.org/meeting-or-group/boston-11th-step-meditation-meeting/2025-01-01/
CATEGORIES:Online 11th Step Meditation Meetings
LOCATION:https://zoom.us/j/7817041010?from=join#success
END:VEVENT
BEGIN:VEVENT
DTSTART;TZID=America/New_York:20241225T160000
DTEND;TZID=America/New_York:20241225T170000
DTSTAMP:20260420T155538
CREATED:20230209T194753Z
LAST-MODIFIED:20230209T214317Z
UID:10057309-1735142400-1735146000@cp12stepoutreach.org
SUMMARY:Boston 11th Step Meditation Meeting
DESCRIPTION:Zoom Code: 7817041010 \nPW: Silence
URL:https://cp12stepoutreach.org/meeting-or-group/boston-11th-step-meditation-meeting/2024-12-25/
CATEGORIES:Online 11th Step Meditation Meetings
LOCATION:https://zoom.us/j/7817041010?from=join#success
END:VEVENT
BEGIN:VEVENT
DTSTART;TZID=America/New_York:20241218T160000
DTEND;TZID=America/New_York:20241218T170000
DTSTAMP:20260420T155538
CREATED:20230209T194753Z
LAST-MODIFIED:20230209T214317Z
UID:10057308-1734537600-1734541200@cp12stepoutreach.org
SUMMARY:Boston 11th Step Meditation Meeting
DESCRIPTION:Zoom Code: 7817041010 \nPW: Silence
URL:https://cp12stepoutreach.org/meeting-or-group/boston-11th-step-meditation-meeting/2024-12-18/
CATEGORIES:Online 11th Step Meditation Meetings
LOCATION:https://zoom.us/j/7817041010?from=join#success
END:VEVENT
END:VCALENDAR