BEGIN:VCALENDAR
VERSION:2.0
PRODID:-//12 Step Outreach - ECPv6.11.2.1//NONSGML v1.0//EN
CALSCALE:GREGORIAN
METHOD:PUBLISH
X-WR-CALNAME:12 Step Outreach
X-ORIGINAL-URL:https://cp12stepoutreach.org
X-WR-CALDESC:Events for 12 Step Outreach
REFRESH-INTERVAL;VALUE=DURATION:PT1H
X-Robots-Tag:noindex
X-PUBLISHED-TTL:PT1H
BEGIN:VTIMEZONE
TZID:America/New_York
BEGIN:DAYLIGHT
TZOFFSETFROM:-0500
TZOFFSETTO:-0400
TZNAME:EDT
DTSTART:20230312T070000
END:DAYLIGHT
BEGIN:STANDARD
TZOFFSETFROM:-0400
TZOFFSETTO:-0500
TZNAME:EST
DTSTART:20231105T060000
END:STANDARD
BEGIN:DAYLIGHT
TZOFFSETFROM:-0500
TZOFFSETTO:-0400
TZNAME:EDT
DTSTART:20240310T070000
END:DAYLIGHT
BEGIN:STANDARD
TZOFFSETFROM:-0400
TZOFFSETTO:-0500
TZNAME:EST
DTSTART:20241103T060000
END:STANDARD
END:VTIMEZONE
BEGIN:VEVENT
DTSTART;TZID=America/New_York:20240515T160000
DTEND;TZID=America/New_York:20240515T170000
DTSTAMP:20260420T205355
CREATED:20230209T194753Z
LAST-MODIFIED:20230209T214317Z
UID:10057277-1715788800-1715792400@cp12stepoutreach.org
SUMMARY:Boston 11th Step Meditation Meeting
DESCRIPTION:Zoom Code: 7817041010 \nPW: Silence
URL:https://cp12stepoutreach.org/meeting-or-group/boston-11th-step-meditation-meeting/2024-05-15/
CATEGORIES:Online 11th Step Meditation Meetings
LOCATION:https://zoom.us/j/7817041010?from=join#success
END:VEVENT
BEGIN:VEVENT
DTSTART;TZID=America/New_York:20240508T160000
DTEND;TZID=America/New_York:20240508T170000
DTSTAMP:20260420T205355
CREATED:20230209T194753Z
LAST-MODIFIED:20230209T214317Z
UID:10057276-1715184000-1715187600@cp12stepoutreach.org
SUMMARY:Boston 11th Step Meditation Meeting
DESCRIPTION:Zoom Code: 7817041010 \nPW: Silence
URL:https://cp12stepoutreach.org/meeting-or-group/boston-11th-step-meditation-meeting/2024-05-08/
CATEGORIES:Online 11th Step Meditation Meetings
LOCATION:https://zoom.us/j/7817041010?from=join#success
END:VEVENT
BEGIN:VEVENT
DTSTART;TZID=America/New_York:20240501T160000
DTEND;TZID=America/New_York:20240501T170000
DTSTAMP:20260420T205355
CREATED:20230209T194753Z
LAST-MODIFIED:20230209T214317Z
UID:10057275-1714579200-1714582800@cp12stepoutreach.org
SUMMARY:Boston 11th Step Meditation Meeting
DESCRIPTION:Zoom Code: 7817041010 \nPW: Silence
URL:https://cp12stepoutreach.org/meeting-or-group/boston-11th-step-meditation-meeting/2024-05-01/
CATEGORIES:Online 11th Step Meditation Meetings
LOCATION:https://zoom.us/j/7817041010?from=join#success
END:VEVENT
BEGIN:VEVENT
DTSTART;TZID=America/New_York:20240424T160000
DTEND;TZID=America/New_York:20240424T170000
DTSTAMP:20260420T205355
CREATED:20230209T194753Z
LAST-MODIFIED:20230209T214317Z
UID:10057274-1713974400-1713978000@cp12stepoutreach.org
SUMMARY:Boston 11th Step Meditation Meeting
DESCRIPTION:Zoom Code: 7817041010 \nPW: Silence
URL:https://cp12stepoutreach.org/meeting-or-group/boston-11th-step-meditation-meeting/2024-04-24/
CATEGORIES:Online 11th Step Meditation Meetings
LOCATION:https://zoom.us/j/7817041010?from=join#success
END:VEVENT
BEGIN:VEVENT
DTSTART;TZID=America/New_York:20240417T160000
DTEND;TZID=America/New_York:20240417T170000
DTSTAMP:20260420T205355
CREATED:20230209T194753Z
LAST-MODIFIED:20230209T214317Z
UID:10057273-1713369600-1713373200@cp12stepoutreach.org
SUMMARY:Boston 11th Step Meditation Meeting
DESCRIPTION:Zoom Code: 7817041010 \nPW: Silence
URL:https://cp12stepoutreach.org/meeting-or-group/boston-11th-step-meditation-meeting/2024-04-17/
CATEGORIES:Online 11th Step Meditation Meetings
LOCATION:https://zoom.us/j/7817041010?from=join#success
END:VEVENT
BEGIN:VEVENT
DTSTART;TZID=America/New_York:20240410T160000
DTEND;TZID=America/New_York:20240410T170000
DTSTAMP:20260420T205355
CREATED:20230209T194753Z
LAST-MODIFIED:20230209T214317Z
UID:10057272-1712764800-1712768400@cp12stepoutreach.org
SUMMARY:Boston 11th Step Meditation Meeting
DESCRIPTION:Zoom Code: 7817041010 \nPW: Silence
URL:https://cp12stepoutreach.org/meeting-or-group/boston-11th-step-meditation-meeting/2024-04-10/
CATEGORIES:Online 11th Step Meditation Meetings
LOCATION:https://zoom.us/j/7817041010?from=join#success
END:VEVENT
BEGIN:VEVENT
DTSTART;TZID=America/New_York:20240403T160000
DTEND;TZID=America/New_York:20240403T170000
DTSTAMP:20260420T205355
CREATED:20230209T194753Z
LAST-MODIFIED:20230209T214317Z
UID:10057271-1712160000-1712163600@cp12stepoutreach.org
SUMMARY:Boston 11th Step Meditation Meeting
DESCRIPTION:Zoom Code: 7817041010 \nPW: Silence
URL:https://cp12stepoutreach.org/meeting-or-group/boston-11th-step-meditation-meeting/2024-04-03/
CATEGORIES:Online 11th Step Meditation Meetings
LOCATION:https://zoom.us/j/7817041010?from=join#success
END:VEVENT
BEGIN:VEVENT
DTSTART;TZID=America/New_York:20240327T160000
DTEND;TZID=America/New_York:20240327T170000
DTSTAMP:20260420T205355
CREATED:20230209T194753Z
LAST-MODIFIED:20230209T214317Z
UID:10057270-1711555200-1711558800@cp12stepoutreach.org
SUMMARY:Boston 11th Step Meditation Meeting
DESCRIPTION:Zoom Code: 7817041010 \nPW: Silence
URL:https://cp12stepoutreach.org/meeting-or-group/boston-11th-step-meditation-meeting/2024-03-27/
CATEGORIES:Online 11th Step Meditation Meetings
LOCATION:https://zoom.us/j/7817041010?from=join#success
END:VEVENT
BEGIN:VEVENT
DTSTART;TZID=America/New_York:20240320T160000
DTEND;TZID=America/New_York:20240320T170000
DTSTAMP:20260420T205355
CREATED:20230209T194753Z
LAST-MODIFIED:20230209T214317Z
UID:10057269-1710950400-1710954000@cp12stepoutreach.org
SUMMARY:Boston 11th Step Meditation Meeting
DESCRIPTION:Zoom Code: 7817041010 \nPW: Silence
URL:https://cp12stepoutreach.org/meeting-or-group/boston-11th-step-meditation-meeting/2024-03-20/
CATEGORIES:Online 11th Step Meditation Meetings
LOCATION:https://zoom.us/j/7817041010?from=join#success
END:VEVENT
BEGIN:VEVENT
DTSTART;TZID=America/New_York:20240313T160000
DTEND;TZID=America/New_York:20240313T170000
DTSTAMP:20260420T205355
CREATED:20230209T194753Z
LAST-MODIFIED:20230209T214317Z
UID:10057268-1710345600-1710349200@cp12stepoutreach.org
SUMMARY:Boston 11th Step Meditation Meeting
DESCRIPTION:Zoom Code: 7817041010 \nPW: Silence
URL:https://cp12stepoutreach.org/meeting-or-group/boston-11th-step-meditation-meeting/2024-03-13/
CATEGORIES:Online 11th Step Meditation Meetings
LOCATION:https://zoom.us/j/7817041010?from=join#success
END:VEVENT
BEGIN:VEVENT
DTSTART;TZID=America/New_York:20240306T160000
DTEND;TZID=America/New_York:20240306T170000
DTSTAMP:20260420T205355
CREATED:20230209T194753Z
LAST-MODIFIED:20230209T214317Z
UID:10057267-1709740800-1709744400@cp12stepoutreach.org
SUMMARY:Boston 11th Step Meditation Meeting
DESCRIPTION:Zoom Code: 7817041010 \nPW: Silence
URL:https://cp12stepoutreach.org/meeting-or-group/boston-11th-step-meditation-meeting/2024-03-06/
CATEGORIES:Online 11th Step Meditation Meetings
LOCATION:https://zoom.us/j/7817041010?from=join#success
END:VEVENT
BEGIN:VEVENT
DTSTART;TZID=America/New_York:20240228T160000
DTEND;TZID=America/New_York:20240228T170000
DTSTAMP:20260420T205355
CREATED:20230209T194753Z
LAST-MODIFIED:20230209T214317Z
UID:10057266-1709136000-1709139600@cp12stepoutreach.org
SUMMARY:Boston 11th Step Meditation Meeting
DESCRIPTION:Zoom Code: 7817041010 \nPW: Silence
URL:https://cp12stepoutreach.org/meeting-or-group/boston-11th-step-meditation-meeting/2024-02-28/
CATEGORIES:Online 11th Step Meditation Meetings
LOCATION:https://zoom.us/j/7817041010?from=join#success
END:VEVENT
BEGIN:VEVENT
DTSTART;TZID=America/New_York:20240221T160000
DTEND;TZID=America/New_York:20240221T170000
DTSTAMP:20260420T205355
CREATED:20230209T194753Z
LAST-MODIFIED:20230209T214317Z
UID:10057265-1708531200-1708534800@cp12stepoutreach.org
SUMMARY:Boston 11th Step Meditation Meeting
DESCRIPTION:Zoom Code: 7817041010 \nPW: Silence
URL:https://cp12stepoutreach.org/meeting-or-group/boston-11th-step-meditation-meeting/2024-02-21/
CATEGORIES:Online 11th Step Meditation Meetings
LOCATION:https://zoom.us/j/7817041010?from=join#success
END:VEVENT
BEGIN:VEVENT
DTSTART;TZID=America/New_York:20240214T160000
DTEND;TZID=America/New_York:20240214T170000
DTSTAMP:20260420T205355
CREATED:20230209T194753Z
LAST-MODIFIED:20230209T214317Z
UID:10057264-1707926400-1707930000@cp12stepoutreach.org
SUMMARY:Boston 11th Step Meditation Meeting
DESCRIPTION:Zoom Code: 7817041010 \nPW: Silence
URL:https://cp12stepoutreach.org/meeting-or-group/boston-11th-step-meditation-meeting/2024-02-14/
CATEGORIES:Online 11th Step Meditation Meetings
LOCATION:https://zoom.us/j/7817041010?from=join#success
END:VEVENT
BEGIN:VEVENT
DTSTART;TZID=America/New_York:20240207T160000
DTEND;TZID=America/New_York:20240207T170000
DTSTAMP:20260420T205355
CREATED:20230209T194753Z
LAST-MODIFIED:20230209T214317Z
UID:10057263-1707321600-1707325200@cp12stepoutreach.org
SUMMARY:Boston 11th Step Meditation Meeting
DESCRIPTION:Zoom Code: 7817041010 \nPW: Silence
URL:https://cp12stepoutreach.org/meeting-or-group/boston-11th-step-meditation-meeting/2024-02-07/
CATEGORIES:Online 11th Step Meditation Meetings
LOCATION:https://zoom.us/j/7817041010?from=join#success
END:VEVENT
BEGIN:VEVENT
DTSTART;TZID=America/New_York:20240131T160000
DTEND;TZID=America/New_York:20240131T170000
DTSTAMP:20260420T205355
CREATED:20230209T194753Z
LAST-MODIFIED:20230209T214317Z
UID:10057262-1706716800-1706720400@cp12stepoutreach.org
SUMMARY:Boston 11th Step Meditation Meeting
DESCRIPTION:Zoom Code: 7817041010 \nPW: Silence
URL:https://cp12stepoutreach.org/meeting-or-group/boston-11th-step-meditation-meeting/2024-01-31/
CATEGORIES:Online 11th Step Meditation Meetings
LOCATION:https://zoom.us/j/7817041010?from=join#success
END:VEVENT
BEGIN:VEVENT
DTSTART;TZID=America/New_York:20240124T160000
DTEND;TZID=America/New_York:20240124T170000
DTSTAMP:20260420T205355
CREATED:20230209T194753Z
LAST-MODIFIED:20230209T214317Z
UID:10057261-1706112000-1706115600@cp12stepoutreach.org
SUMMARY:Boston 11th Step Meditation Meeting
DESCRIPTION:Zoom Code: 7817041010 \nPW: Silence
URL:https://cp12stepoutreach.org/meeting-or-group/boston-11th-step-meditation-meeting/2024-01-24/
CATEGORIES:Online 11th Step Meditation Meetings
LOCATION:https://zoom.us/j/7817041010?from=join#success
END:VEVENT
BEGIN:VEVENT
DTSTART;TZID=America/New_York:20240117T160000
DTEND;TZID=America/New_York:20240117T170000
DTSTAMP:20260420T205355
CREATED:20230209T194753Z
LAST-MODIFIED:20230209T214317Z
UID:10057260-1705507200-1705510800@cp12stepoutreach.org
SUMMARY:Boston 11th Step Meditation Meeting
DESCRIPTION:Zoom Code: 7817041010 \nPW: Silence
URL:https://cp12stepoutreach.org/meeting-or-group/boston-11th-step-meditation-meeting/2024-01-17/
CATEGORIES:Online 11th Step Meditation Meetings
LOCATION:https://zoom.us/j/7817041010?from=join#success
END:VEVENT
BEGIN:VEVENT
DTSTART;TZID=America/New_York:20240110T160000
DTEND;TZID=America/New_York:20240110T170000
DTSTAMP:20260420T205355
CREATED:20230209T194753Z
LAST-MODIFIED:20230209T214317Z
UID:10057259-1704902400-1704906000@cp12stepoutreach.org
SUMMARY:Boston 11th Step Meditation Meeting
DESCRIPTION:Zoom Code: 7817041010 \nPW: Silence
URL:https://cp12stepoutreach.org/meeting-or-group/boston-11th-step-meditation-meeting/2024-01-10/
CATEGORIES:Online 11th Step Meditation Meetings
LOCATION:https://zoom.us/j/7817041010?from=join#success
END:VEVENT
BEGIN:VEVENT
DTSTART;TZID=America/New_York:20240103T160000
DTEND;TZID=America/New_York:20240103T170000
DTSTAMP:20260420T205355
CREATED:20230209T194753Z
LAST-MODIFIED:20230209T214317Z
UID:10057258-1704297600-1704301200@cp12stepoutreach.org
SUMMARY:Boston 11th Step Meditation Meeting
DESCRIPTION:Zoom Code: 7817041010 \nPW: Silence
URL:https://cp12stepoutreach.org/meeting-or-group/boston-11th-step-meditation-meeting/2024-01-03/
CATEGORIES:Online 11th Step Meditation Meetings
LOCATION:https://zoom.us/j/7817041010?from=join#success
END:VEVENT
BEGIN:VEVENT
DTSTART;TZID=America/New_York:20231227T160000
DTEND;TZID=America/New_York:20231227T170000
DTSTAMP:20260420T205355
CREATED:20230209T194753Z
LAST-MODIFIED:20230209T214317Z
UID:10057257-1703692800-1703696400@cp12stepoutreach.org
SUMMARY:Boston 11th Step Meditation Meeting
DESCRIPTION:Zoom Code: 7817041010 \nPW: Silence
URL:https://cp12stepoutreach.org/meeting-or-group/boston-11th-step-meditation-meeting/2023-12-27/
CATEGORIES:Online 11th Step Meditation Meetings
LOCATION:https://zoom.us/j/7817041010?from=join#success
END:VEVENT
BEGIN:VEVENT
DTSTART;TZID=America/New_York:20231220T160000
DTEND;TZID=America/New_York:20231220T170000
DTSTAMP:20260420T205355
CREATED:20230209T194753Z
LAST-MODIFIED:20230209T214317Z
UID:10057256-1703088000-1703091600@cp12stepoutreach.org
SUMMARY:Boston 11th Step Meditation Meeting
DESCRIPTION:Zoom Code: 7817041010 \nPW: Silence
URL:https://cp12stepoutreach.org/meeting-or-group/boston-11th-step-meditation-meeting/2023-12-20/
CATEGORIES:Online 11th Step Meditation Meetings
LOCATION:https://zoom.us/j/7817041010?from=join#success
END:VEVENT
BEGIN:VEVENT
DTSTART;TZID=America/New_York:20231213T160000
DTEND;TZID=America/New_York:20231213T170000
DTSTAMP:20260420T205355
CREATED:20230209T194753Z
LAST-MODIFIED:20230209T214317Z
UID:10057255-1702483200-1702486800@cp12stepoutreach.org
SUMMARY:Boston 11th Step Meditation Meeting
DESCRIPTION:Zoom Code: 7817041010 \nPW: Silence
URL:https://cp12stepoutreach.org/meeting-or-group/boston-11th-step-meditation-meeting/2023-12-13/
CATEGORIES:Online 11th Step Meditation Meetings
LOCATION:https://zoom.us/j/7817041010?from=join#success
END:VEVENT
BEGIN:VEVENT
DTSTART;TZID=America/New_York:20231206T160000
DTEND;TZID=America/New_York:20231206T170000
DTSTAMP:20260420T205355
CREATED:20230209T194753Z
LAST-MODIFIED:20230209T214317Z
UID:10057254-1701878400-1701882000@cp12stepoutreach.org
SUMMARY:Boston 11th Step Meditation Meeting
DESCRIPTION:Zoom Code: 7817041010 \nPW: Silence
URL:https://cp12stepoutreach.org/meeting-or-group/boston-11th-step-meditation-meeting/2023-12-06/
CATEGORIES:Online 11th Step Meditation Meetings
LOCATION:https://zoom.us/j/7817041010?from=join#success
END:VEVENT
BEGIN:VEVENT
DTSTART;TZID=America/New_York:20231129T160000
DTEND;TZID=America/New_York:20231129T170000
DTSTAMP:20260420T205355
CREATED:20230209T194753Z
LAST-MODIFIED:20230209T214317Z
UID:10057253-1701273600-1701277200@cp12stepoutreach.org
SUMMARY:Boston 11th Step Meditation Meeting
DESCRIPTION:Zoom Code: 7817041010 \nPW: Silence
URL:https://cp12stepoutreach.org/meeting-or-group/boston-11th-step-meditation-meeting/2023-11-29/
CATEGORIES:Online 11th Step Meditation Meetings
LOCATION:https://zoom.us/j/7817041010?from=join#success
END:VEVENT
BEGIN:VEVENT
DTSTART;TZID=America/New_York:20231122T160000
DTEND;TZID=America/New_York:20231122T170000
DTSTAMP:20260420T205355
CREATED:20230209T194753Z
LAST-MODIFIED:20230209T214317Z
UID:10057252-1700668800-1700672400@cp12stepoutreach.org
SUMMARY:Boston 11th Step Meditation Meeting
DESCRIPTION:Zoom Code: 7817041010 \nPW: Silence
URL:https://cp12stepoutreach.org/meeting-or-group/boston-11th-step-meditation-meeting/2023-11-22/
CATEGORIES:Online 11th Step Meditation Meetings
LOCATION:https://zoom.us/j/7817041010?from=join#success
END:VEVENT
BEGIN:VEVENT
DTSTART;TZID=America/New_York:20231115T160000
DTEND;TZID=America/New_York:20231115T170000
DTSTAMP:20260420T205355
CREATED:20230209T194753Z
LAST-MODIFIED:20230209T214317Z
UID:10057251-1700064000-1700067600@cp12stepoutreach.org
SUMMARY:Boston 11th Step Meditation Meeting
DESCRIPTION:Zoom Code: 7817041010 \nPW: Silence
URL:https://cp12stepoutreach.org/meeting-or-group/boston-11th-step-meditation-meeting/2023-11-15/
CATEGORIES:Online 11th Step Meditation Meetings
LOCATION:https://zoom.us/j/7817041010?from=join#success
END:VEVENT
BEGIN:VEVENT
DTSTART;TZID=America/New_York:20231108T160000
DTEND;TZID=America/New_York:20231108T170000
DTSTAMP:20260420T205355
CREATED:20230209T194753Z
LAST-MODIFIED:20230209T214317Z
UID:10057250-1699459200-1699462800@cp12stepoutreach.org
SUMMARY:Boston 11th Step Meditation Meeting
DESCRIPTION:Zoom Code: 7817041010 \nPW: Silence
URL:https://cp12stepoutreach.org/meeting-or-group/boston-11th-step-meditation-meeting/2023-11-08/
CATEGORIES:Online 11th Step Meditation Meetings
LOCATION:https://zoom.us/j/7817041010?from=join#success
END:VEVENT
BEGIN:VEVENT
DTSTART;TZID=America/New_York:20231101T160000
DTEND;TZID=America/New_York:20231101T170000
DTSTAMP:20260420T205355
CREATED:20230209T194753Z
LAST-MODIFIED:20230209T214317Z
UID:10057249-1698854400-1698858000@cp12stepoutreach.org
SUMMARY:Boston 11th Step Meditation Meeting
DESCRIPTION:Zoom Code: 7817041010 \nPW: Silence
URL:https://cp12stepoutreach.org/meeting-or-group/boston-11th-step-meditation-meeting/2023-11-01/
CATEGORIES:Online 11th Step Meditation Meetings
LOCATION:https://zoom.us/j/7817041010?from=join#success
END:VEVENT
BEGIN:VEVENT
DTSTART;TZID=America/New_York:20231025T160000
DTEND;TZID=America/New_York:20231025T170000
DTSTAMP:20260420T205355
CREATED:20230209T194753Z
LAST-MODIFIED:20230209T214317Z
UID:10057248-1698249600-1698253200@cp12stepoutreach.org
SUMMARY:Boston 11th Step Meditation Meeting
DESCRIPTION:Zoom Code: 7817041010 \nPW: Silence
URL:https://cp12stepoutreach.org/meeting-or-group/boston-11th-step-meditation-meeting/2023-10-25/
CATEGORIES:Online 11th Step Meditation Meetings
LOCATION:https://zoom.us/j/7817041010?from=join#success
END:VEVENT
END:VCALENDAR