BEGIN:VCALENDAR
VERSION:2.0
PRODID:-//12 Step Outreach - ECPv6.11.2.1//NONSGML v1.0//EN
CALSCALE:GREGORIAN
METHOD:PUBLISH
X-ORIGINAL-URL:https://cp12stepoutreach.org
X-WR-CALDESC:Events for 12 Step Outreach
REFRESH-INTERVAL;VALUE=DURATION:PT1H
X-Robots-Tag:noindex
X-PUBLISHED-TTL:PT1H
BEGIN:VTIMEZONE
TZID:America/New_York
BEGIN:DAYLIGHT
TZOFFSETFROM:-0500
TZOFFSETTO:-0400
TZNAME:EDT
DTSTART:20230312T070000
END:DAYLIGHT
BEGIN:STANDARD
TZOFFSETFROM:-0400
TZOFFSETTO:-0500
TZNAME:EST
DTSTART:20231105T060000
END:STANDARD
END:VTIMEZONE
BEGIN:VEVENT
DTSTART;TZID=America/New_York:20231227T160000
DTEND;TZID=America/New_York:20231227T170000
DTSTAMP:20260420T222219
CREATED:20230209T194753Z
LAST-MODIFIED:20230209T214317Z
UID:10057257-1703692800-1703696400@cp12stepoutreach.org
SUMMARY:Boston 11th Step Meditation Meeting
DESCRIPTION:Zoom Code: 7817041010 \nPW: Silence
URL:https://cp12stepoutreach.org/meeting-or-group/boston-11th-step-meditation-meeting/2023-12-27/
CATEGORIES:Online 11th Step Meditation Meetings
LOCATION:https://zoom.us/j/7817041010?from=join#success
END:VEVENT
BEGIN:VEVENT
DTSTART;TZID=America/New_York:20231220T160000
DTEND;TZID=America/New_York:20231220T170000
DTSTAMP:20260420T222219
CREATED:20230209T194753Z
LAST-MODIFIED:20230209T214317Z
UID:10057256-1703088000-1703091600@cp12stepoutreach.org
SUMMARY:Boston 11th Step Meditation Meeting
DESCRIPTION:Zoom Code: 7817041010 \nPW: Silence
URL:https://cp12stepoutreach.org/meeting-or-group/boston-11th-step-meditation-meeting/2023-12-20/
CATEGORIES:Online 11th Step Meditation Meetings
LOCATION:https://zoom.us/j/7817041010?from=join#success
END:VEVENT
BEGIN:VEVENT
DTSTART;TZID=America/New_York:20231213T160000
DTEND;TZID=America/New_York:20231213T170000
DTSTAMP:20260420T222219
CREATED:20230209T194753Z
LAST-MODIFIED:20230209T214317Z
UID:10057255-1702483200-1702486800@cp12stepoutreach.org
SUMMARY:Boston 11th Step Meditation Meeting
DESCRIPTION:Zoom Code: 7817041010 \nPW: Silence
URL:https://cp12stepoutreach.org/meeting-or-group/boston-11th-step-meditation-meeting/2023-12-13/
CATEGORIES:Online 11th Step Meditation Meetings
LOCATION:https://zoom.us/j/7817041010?from=join#success
END:VEVENT
BEGIN:VEVENT
DTSTART;TZID=America/New_York:20231206T160000
DTEND;TZID=America/New_York:20231206T170000
DTSTAMP:20260420T222219
CREATED:20230209T194753Z
LAST-MODIFIED:20230209T214317Z
UID:10057254-1701878400-1701882000@cp12stepoutreach.org
SUMMARY:Boston 11th Step Meditation Meeting
DESCRIPTION:Zoom Code: 7817041010 \nPW: Silence
URL:https://cp12stepoutreach.org/meeting-or-group/boston-11th-step-meditation-meeting/2023-12-06/
CATEGORIES:Online 11th Step Meditation Meetings
LOCATION:https://zoom.us/j/7817041010?from=join#success
END:VEVENT
BEGIN:VEVENT
DTSTART;TZID=America/New_York:20231129T160000
DTEND;TZID=America/New_York:20231129T170000
DTSTAMP:20260420T222219
CREATED:20230209T194753Z
LAST-MODIFIED:20230209T214317Z
UID:10057253-1701273600-1701277200@cp12stepoutreach.org
SUMMARY:Boston 11th Step Meditation Meeting
DESCRIPTION:Zoom Code: 7817041010 \nPW: Silence
URL:https://cp12stepoutreach.org/meeting-or-group/boston-11th-step-meditation-meeting/2023-11-29/
CATEGORIES:Online 11th Step Meditation Meetings
LOCATION:https://zoom.us/j/7817041010?from=join#success
END:VEVENT
BEGIN:VEVENT
DTSTART;TZID=America/New_York:20231122T160000
DTEND;TZID=America/New_York:20231122T170000
DTSTAMP:20260420T222219
CREATED:20230209T194753Z
LAST-MODIFIED:20230209T214317Z
UID:10057252-1700668800-1700672400@cp12stepoutreach.org
SUMMARY:Boston 11th Step Meditation Meeting
DESCRIPTION:Zoom Code: 7817041010 \nPW: Silence
URL:https://cp12stepoutreach.org/meeting-or-group/boston-11th-step-meditation-meeting/2023-11-22/
CATEGORIES:Online 11th Step Meditation Meetings
LOCATION:https://zoom.us/j/7817041010?from=join#success
END:VEVENT
BEGIN:VEVENT
DTSTART;TZID=America/New_York:20231115T160000
DTEND;TZID=America/New_York:20231115T170000
DTSTAMP:20260420T222219
CREATED:20230209T194753Z
LAST-MODIFIED:20230209T214317Z
UID:10057251-1700064000-1700067600@cp12stepoutreach.org
SUMMARY:Boston 11th Step Meditation Meeting
DESCRIPTION:Zoom Code: 7817041010 \nPW: Silence
URL:https://cp12stepoutreach.org/meeting-or-group/boston-11th-step-meditation-meeting/2023-11-15/
CATEGORIES:Online 11th Step Meditation Meetings
LOCATION:https://zoom.us/j/7817041010?from=join#success
END:VEVENT
BEGIN:VEVENT
DTSTART;TZID=America/New_York:20231108T160000
DTEND;TZID=America/New_York:20231108T170000
DTSTAMP:20260420T222219
CREATED:20230209T194753Z
LAST-MODIFIED:20230209T214317Z
UID:10057250-1699459200-1699462800@cp12stepoutreach.org
SUMMARY:Boston 11th Step Meditation Meeting
DESCRIPTION:Zoom Code: 7817041010 \nPW: Silence
URL:https://cp12stepoutreach.org/meeting-or-group/boston-11th-step-meditation-meeting/2023-11-08/
CATEGORIES:Online 11th Step Meditation Meetings
LOCATION:https://zoom.us/j/7817041010?from=join#success
END:VEVENT
BEGIN:VEVENT
DTSTART;TZID=America/New_York:20231101T160000
DTEND;TZID=America/New_York:20231101T170000
DTSTAMP:20260420T222219
CREATED:20230209T194753Z
LAST-MODIFIED:20230209T214317Z
UID:10057249-1698854400-1698858000@cp12stepoutreach.org
SUMMARY:Boston 11th Step Meditation Meeting
DESCRIPTION:Zoom Code: 7817041010 \nPW: Silence
URL:https://cp12stepoutreach.org/meeting-or-group/boston-11th-step-meditation-meeting/2023-11-01/
CATEGORIES:Online 11th Step Meditation Meetings
LOCATION:https://zoom.us/j/7817041010?from=join#success
END:VEVENT
BEGIN:VEVENT
DTSTART;TZID=America/New_York:20231025T160000
DTEND;TZID=America/New_York:20231025T170000
DTSTAMP:20260420T222219
CREATED:20230209T194753Z
LAST-MODIFIED:20230209T214317Z
UID:10057248-1698249600-1698253200@cp12stepoutreach.org
SUMMARY:Boston 11th Step Meditation Meeting
DESCRIPTION:Zoom Code: 7817041010 \nPW: Silence
URL:https://cp12stepoutreach.org/meeting-or-group/boston-11th-step-meditation-meeting/2023-10-25/
CATEGORIES:Online 11th Step Meditation Meetings
LOCATION:https://zoom.us/j/7817041010?from=join#success
END:VEVENT
BEGIN:VEVENT
DTSTART;TZID=America/New_York:20231018T160000
DTEND;TZID=America/New_York:20231018T170000
DTSTAMP:20260420T222219
CREATED:20230209T194753Z
LAST-MODIFIED:20230209T214317Z
UID:10057247-1697644800-1697648400@cp12stepoutreach.org
SUMMARY:Boston 11th Step Meditation Meeting
DESCRIPTION:Zoom Code: 7817041010 \nPW: Silence
URL:https://cp12stepoutreach.org/meeting-or-group/boston-11th-step-meditation-meeting/2023-10-18/
CATEGORIES:Online 11th Step Meditation Meetings
LOCATION:https://zoom.us/j/7817041010?from=join#success
END:VEVENT
BEGIN:VEVENT
DTSTART;TZID=America/New_York:20231011T160000
DTEND;TZID=America/New_York:20231011T170000
DTSTAMP:20260420T222219
CREATED:20230209T194753Z
LAST-MODIFIED:20230209T214317Z
UID:10057246-1697040000-1697043600@cp12stepoutreach.org
SUMMARY:Boston 11th Step Meditation Meeting
DESCRIPTION:Zoom Code: 7817041010 \nPW: Silence
URL:https://cp12stepoutreach.org/meeting-or-group/boston-11th-step-meditation-meeting/2023-10-11/
CATEGORIES:Online 11th Step Meditation Meetings
LOCATION:https://zoom.us/j/7817041010?from=join#success
END:VEVENT
BEGIN:VEVENT
DTSTART;TZID=America/New_York:20231004T160000
DTEND;TZID=America/New_York:20231004T170000
DTSTAMP:20260420T222219
CREATED:20230209T194753Z
LAST-MODIFIED:20230209T214317Z
UID:10057245-1696435200-1696438800@cp12stepoutreach.org
SUMMARY:Boston 11th Step Meditation Meeting
DESCRIPTION:Zoom Code: 7817041010 \nPW: Silence
URL:https://cp12stepoutreach.org/meeting-or-group/boston-11th-step-meditation-meeting/2023-10-04/
CATEGORIES:Online 11th Step Meditation Meetings
LOCATION:https://zoom.us/j/7817041010?from=join#success
END:VEVENT
BEGIN:VEVENT
DTSTART;TZID=America/New_York:20230927T160000
DTEND;TZID=America/New_York:20230927T170000
DTSTAMP:20260420T222219
CREATED:20230209T194753Z
LAST-MODIFIED:20230209T214317Z
UID:10057244-1695830400-1695834000@cp12stepoutreach.org
SUMMARY:Boston 11th Step Meditation Meeting
DESCRIPTION:Zoom Code: 7817041010 \nPW: Silence
URL:https://cp12stepoutreach.org/meeting-or-group/boston-11th-step-meditation-meeting/2023-09-27/
CATEGORIES:Online 11th Step Meditation Meetings
LOCATION:https://zoom.us/j/7817041010?from=join#success
END:VEVENT
BEGIN:VEVENT
DTSTART;TZID=America/New_York:20230920T160000
DTEND;TZID=America/New_York:20230920T170000
DTSTAMP:20260420T222219
CREATED:20230209T194753Z
LAST-MODIFIED:20230209T214317Z
UID:10057243-1695225600-1695229200@cp12stepoutreach.org
SUMMARY:Boston 11th Step Meditation Meeting
DESCRIPTION:Zoom Code: 7817041010 \nPW: Silence
URL:https://cp12stepoutreach.org/meeting-or-group/boston-11th-step-meditation-meeting/2023-09-20/
CATEGORIES:Online 11th Step Meditation Meetings
LOCATION:https://zoom.us/j/7817041010?from=join#success
END:VEVENT
BEGIN:VEVENT
DTSTART;TZID=America/New_York:20230913T160000
DTEND;TZID=America/New_York:20230913T170000
DTSTAMP:20260420T222219
CREATED:20230209T194753Z
LAST-MODIFIED:20230209T214317Z
UID:10057242-1694620800-1694624400@cp12stepoutreach.org
SUMMARY:Boston 11th Step Meditation Meeting
DESCRIPTION:Zoom Code: 7817041010 \nPW: Silence
URL:https://cp12stepoutreach.org/meeting-or-group/boston-11th-step-meditation-meeting/2023-09-13/
CATEGORIES:Online 11th Step Meditation Meetings
LOCATION:https://zoom.us/j/7817041010?from=join#success
END:VEVENT
BEGIN:VEVENT
DTSTART;TZID=America/New_York:20230906T160000
DTEND;TZID=America/New_York:20230906T170000
DTSTAMP:20260420T222219
CREATED:20230209T194753Z
LAST-MODIFIED:20230209T214317Z
UID:10057241-1694016000-1694019600@cp12stepoutreach.org
SUMMARY:Boston 11th Step Meditation Meeting
DESCRIPTION:Zoom Code: 7817041010 \nPW: Silence
URL:https://cp12stepoutreach.org/meeting-or-group/boston-11th-step-meditation-meeting/2023-09-06/
CATEGORIES:Online 11th Step Meditation Meetings
LOCATION:https://zoom.us/j/7817041010?from=join#success
END:VEVENT
BEGIN:VEVENT
DTSTART;TZID=America/New_York:20230830T160000
DTEND;TZID=America/New_York:20230830T170000
DTSTAMP:20260420T222219
CREATED:20230209T194753Z
LAST-MODIFIED:20230209T214317Z
UID:10057240-1693411200-1693414800@cp12stepoutreach.org
SUMMARY:Boston 11th Step Meditation Meeting
DESCRIPTION:Zoom Code: 7817041010 \nPW: Silence
URL:https://cp12stepoutreach.org/meeting-or-group/boston-11th-step-meditation-meeting/2023-08-30/
CATEGORIES:Online 11th Step Meditation Meetings
LOCATION:https://zoom.us/j/7817041010?from=join#success
END:VEVENT
BEGIN:VEVENT
DTSTART;TZID=America/New_York:20230823T160000
DTEND;TZID=America/New_York:20230823T170000
DTSTAMP:20260420T222219
CREATED:20230209T194753Z
LAST-MODIFIED:20230209T214317Z
UID:10057239-1692806400-1692810000@cp12stepoutreach.org
SUMMARY:Boston 11th Step Meditation Meeting
DESCRIPTION:Zoom Code: 7817041010 \nPW: Silence
URL:https://cp12stepoutreach.org/meeting-or-group/boston-11th-step-meditation-meeting/2023-08-23/
CATEGORIES:Online 11th Step Meditation Meetings
LOCATION:https://zoom.us/j/7817041010?from=join#success
END:VEVENT
BEGIN:VEVENT
DTSTART;TZID=America/New_York:20230816T160000
DTEND;TZID=America/New_York:20230816T170000
DTSTAMP:20260420T222219
CREATED:20230209T194753Z
LAST-MODIFIED:20230209T214317Z
UID:10057238-1692201600-1692205200@cp12stepoutreach.org
SUMMARY:Boston 11th Step Meditation Meeting
DESCRIPTION:Zoom Code: 7817041010 \nPW: Silence
URL:https://cp12stepoutreach.org/meeting-or-group/boston-11th-step-meditation-meeting/2023-08-16/
CATEGORIES:Online 11th Step Meditation Meetings
LOCATION:https://zoom.us/j/7817041010?from=join#success
END:VEVENT
BEGIN:VEVENT
DTSTART;TZID=America/New_York:20230809T160000
DTEND;TZID=America/New_York:20230809T170000
DTSTAMP:20260420T222219
CREATED:20230209T194753Z
LAST-MODIFIED:20230209T214317Z
UID:10057237-1691596800-1691600400@cp12stepoutreach.org
SUMMARY:Boston 11th Step Meditation Meeting
DESCRIPTION:Zoom Code: 7817041010 \nPW: Silence
URL:https://cp12stepoutreach.org/meeting-or-group/boston-11th-step-meditation-meeting/2023-08-09/
CATEGORIES:Online 11th Step Meditation Meetings
LOCATION:https://zoom.us/j/7817041010?from=join#success
END:VEVENT
BEGIN:VEVENT
DTSTART;TZID=America/New_York:20230802T160000
DTEND;TZID=America/New_York:20230802T170000
DTSTAMP:20260420T222219
CREATED:20230209T194753Z
LAST-MODIFIED:20230209T214317Z
UID:10057236-1690992000-1690995600@cp12stepoutreach.org
SUMMARY:Boston 11th Step Meditation Meeting
DESCRIPTION:Zoom Code: 7817041010 \nPW: Silence
URL:https://cp12stepoutreach.org/meeting-or-group/boston-11th-step-meditation-meeting/2023-08-02/
CATEGORIES:Online 11th Step Meditation Meetings
LOCATION:https://zoom.us/j/7817041010?from=join#success
END:VEVENT
BEGIN:VEVENT
DTSTART;TZID=America/New_York:20230726T160000
DTEND;TZID=America/New_York:20230726T170000
DTSTAMP:20260420T222219
CREATED:20230209T194753Z
LAST-MODIFIED:20230209T214317Z
UID:10057235-1690387200-1690390800@cp12stepoutreach.org
SUMMARY:Boston 11th Step Meditation Meeting
DESCRIPTION:Zoom Code: 7817041010 \nPW: Silence
URL:https://cp12stepoutreach.org/meeting-or-group/boston-11th-step-meditation-meeting/2023-07-26/
CATEGORIES:Online 11th Step Meditation Meetings
LOCATION:https://zoom.us/j/7817041010?from=join#success
END:VEVENT
BEGIN:VEVENT
DTSTART;TZID=America/New_York:20230719T160000
DTEND;TZID=America/New_York:20230719T170000
DTSTAMP:20260420T222219
CREATED:20230209T194753Z
LAST-MODIFIED:20230209T214317Z
UID:10057234-1689782400-1689786000@cp12stepoutreach.org
SUMMARY:Boston 11th Step Meditation Meeting
DESCRIPTION:Zoom Code: 7817041010 \nPW: Silence
URL:https://cp12stepoutreach.org/meeting-or-group/boston-11th-step-meditation-meeting/2023-07-19/
CATEGORIES:Online 11th Step Meditation Meetings
LOCATION:https://zoom.us/j/7817041010?from=join#success
END:VEVENT
BEGIN:VEVENT
DTSTART;TZID=America/New_York:20230712T160000
DTEND;TZID=America/New_York:20230712T170000
DTSTAMP:20260420T222219
CREATED:20230209T194753Z
LAST-MODIFIED:20230209T214317Z
UID:10057233-1689177600-1689181200@cp12stepoutreach.org
SUMMARY:Boston 11th Step Meditation Meeting
DESCRIPTION:Zoom Code: 7817041010 \nPW: Silence
URL:https://cp12stepoutreach.org/meeting-or-group/boston-11th-step-meditation-meeting/2023-07-12/
CATEGORIES:Online 11th Step Meditation Meetings
LOCATION:https://zoom.us/j/7817041010?from=join#success
END:VEVENT
BEGIN:VEVENT
DTSTART;TZID=America/New_York:20230705T160000
DTEND;TZID=America/New_York:20230705T170000
DTSTAMP:20260420T222219
CREATED:20230209T194753Z
LAST-MODIFIED:20230209T214317Z
UID:10057232-1688572800-1688576400@cp12stepoutreach.org
SUMMARY:Boston 11th Step Meditation Meeting
DESCRIPTION:Zoom Code: 7817041010 \nPW: Silence
URL:https://cp12stepoutreach.org/meeting-or-group/boston-11th-step-meditation-meeting/2023-07-05/
CATEGORIES:Online 11th Step Meditation Meetings
LOCATION:https://zoom.us/j/7817041010?from=join#success
END:VEVENT
BEGIN:VEVENT
DTSTART;TZID=America/New_York:20230628T160000
DTEND;TZID=America/New_York:20230628T170000
DTSTAMP:20260420T222219
CREATED:20230209T194753Z
LAST-MODIFIED:20230209T214317Z
UID:10057231-1687968000-1687971600@cp12stepoutreach.org
SUMMARY:Boston 11th Step Meditation Meeting
DESCRIPTION:Zoom Code: 7817041010 \nPW: Silence
URL:https://cp12stepoutreach.org/meeting-or-group/boston-11th-step-meditation-meeting/2023-06-28/
CATEGORIES:Online 11th Step Meditation Meetings
LOCATION:https://zoom.us/j/7817041010?from=join#success
END:VEVENT
BEGIN:VEVENT
DTSTART;TZID=America/New_York:20230621T160000
DTEND;TZID=America/New_York:20230621T170000
DTSTAMP:20260420T222219
CREATED:20230209T194753Z
LAST-MODIFIED:20230209T214317Z
UID:10057230-1687363200-1687366800@cp12stepoutreach.org
SUMMARY:Boston 11th Step Meditation Meeting
DESCRIPTION:Zoom Code: 7817041010 \nPW: Silence
URL:https://cp12stepoutreach.org/meeting-or-group/boston-11th-step-meditation-meeting/2023-06-21/
CATEGORIES:Online 11th Step Meditation Meetings
LOCATION:https://zoom.us/j/7817041010?from=join#success
END:VEVENT
BEGIN:VEVENT
DTSTART;TZID=America/New_York:20230614T160000
DTEND;TZID=America/New_York:20230614T170000
DTSTAMP:20260420T222219
CREATED:20230209T194753Z
LAST-MODIFIED:20230209T214317Z
UID:10057229-1686758400-1686762000@cp12stepoutreach.org
SUMMARY:Boston 11th Step Meditation Meeting
DESCRIPTION:Zoom Code: 7817041010 \nPW: Silence
URL:https://cp12stepoutreach.org/meeting-or-group/boston-11th-step-meditation-meeting/2023-06-14/
CATEGORIES:Online 11th Step Meditation Meetings
LOCATION:https://zoom.us/j/7817041010?from=join#success
END:VEVENT
BEGIN:VEVENT
DTSTART;TZID=America/New_York:20230607T160000
DTEND;TZID=America/New_York:20230607T170000
DTSTAMP:20260420T222219
CREATED:20230209T194753Z
LAST-MODIFIED:20230209T214317Z
UID:10057228-1686153600-1686157200@cp12stepoutreach.org
SUMMARY:Boston 11th Step Meditation Meeting
DESCRIPTION:Zoom Code: 7817041010 \nPW: Silence
URL:https://cp12stepoutreach.org/meeting-or-group/boston-11th-step-meditation-meeting/2023-06-07/
CATEGORIES:Online 11th Step Meditation Meetings
LOCATION:https://zoom.us/j/7817041010?from=join#success
END:VEVENT
END:VCALENDAR