BEGIN:VCALENDAR
VERSION:2.0
PRODID:-//12 Step Outreach - ECPv6.11.2.1//NONSGML v1.0//EN
CALSCALE:GREGORIAN
METHOD:PUBLISH
X-WR-CALNAME:12 Step Outreach
X-ORIGINAL-URL:https://cp12stepoutreach.org
X-WR-CALDESC:Events for 12 Step Outreach
REFRESH-INTERVAL;VALUE=DURATION:PT1H
X-Robots-Tag:noindex
X-PUBLISHED-TTL:PT1H
BEGIN:VTIMEZONE
TZID:America/New_York
BEGIN:DAYLIGHT
TZOFFSETFROM:-0500
TZOFFSETTO:-0400
TZNAME:EDT
DTSTART:20250309T070000
END:DAYLIGHT
BEGIN:STANDARD
TZOFFSETFROM:-0400
TZOFFSETTO:-0500
TZNAME:EST
DTSTART:20251102T060000
END:STANDARD
END:VTIMEZONE
BEGIN:VEVENT
DTSTART;TZID=America/New_York:20251127T190000
DTEND;TZID=America/New_York:20251127T203000
DTSTAMP:20260420T235826
CREATED:20250213T213026Z
LAST-MODIFIED:20250213T213044Z
UID:10064924-1764270000-1764275400@cp12stepoutreach.org
SUMMARY:Boston 11th Step Open AA Meditation Meeting
DESCRIPTION:30 Minute Meditation\, reading from conference approved lit and group sharing
URL:https://cp12stepoutreach.org/meeting-or-group/boston-11th-step-open-aa-meditation-meeting-2/2025-11-27/
LOCATION:Zoom Meeting
CATEGORIES:Online 11th Step Meditation Meetings
ORGANIZER;CN="Nancy Nichols Kearns":MAILTO:nancynichols1010@yahoo.com
END:VEVENT
BEGIN:VEVENT
DTSTART;TZID=America/New_York:20251120T190000
DTEND;TZID=America/New_York:20251120T203000
DTSTAMP:20260420T235826
CREATED:20250213T213026Z
LAST-MODIFIED:20250213T213044Z
UID:10064923-1763665200-1763670600@cp12stepoutreach.org
SUMMARY:Boston 11th Step Open AA Meditation Meeting
DESCRIPTION:30 Minute Meditation\, reading from conference approved lit and group sharing
URL:https://cp12stepoutreach.org/meeting-or-group/boston-11th-step-open-aa-meditation-meeting-2/2025-11-20/
LOCATION:Zoom Meeting
CATEGORIES:Online 11th Step Meditation Meetings
ORGANIZER;CN="Nancy Nichols Kearns":MAILTO:nancynichols1010@yahoo.com
END:VEVENT
BEGIN:VEVENT
DTSTART;TZID=America/New_York:20251113T190000
DTEND;TZID=America/New_York:20251113T203000
DTSTAMP:20260420T235826
CREATED:20250213T213026Z
LAST-MODIFIED:20250213T213044Z
UID:10064922-1763060400-1763065800@cp12stepoutreach.org
SUMMARY:Boston 11th Step Open AA Meditation Meeting
DESCRIPTION:30 Minute Meditation\, reading from conference approved lit and group sharing
URL:https://cp12stepoutreach.org/meeting-or-group/boston-11th-step-open-aa-meditation-meeting-2/2025-11-13/
LOCATION:Zoom Meeting
CATEGORIES:Online 11th Step Meditation Meetings
ORGANIZER;CN="Nancy Nichols Kearns":MAILTO:nancynichols1010@yahoo.com
END:VEVENT
BEGIN:VEVENT
DTSTART;TZID=America/New_York:20251106T190000
DTEND;TZID=America/New_York:20251106T203000
DTSTAMP:20260420T235826
CREATED:20250213T213026Z
LAST-MODIFIED:20250213T213044Z
UID:10064921-1762455600-1762461000@cp12stepoutreach.org
SUMMARY:Boston 11th Step Open AA Meditation Meeting
DESCRIPTION:30 Minute Meditation\, reading from conference approved lit and group sharing
URL:https://cp12stepoutreach.org/meeting-or-group/boston-11th-step-open-aa-meditation-meeting-2/2025-11-06/
LOCATION:Zoom Meeting
CATEGORIES:Online 11th Step Meditation Meetings
ORGANIZER;CN="Nancy Nichols Kearns":MAILTO:nancynichols1010@yahoo.com
END:VEVENT
BEGIN:VEVENT
DTSTART;TZID=America/New_York:20251030T190000
DTEND;TZID=America/New_York:20251030T203000
DTSTAMP:20260420T235826
CREATED:20250213T213026Z
LAST-MODIFIED:20250213T213044Z
UID:10064920-1761850800-1761856200@cp12stepoutreach.org
SUMMARY:Boston 11th Step Open AA Meditation Meeting
DESCRIPTION:30 Minute Meditation\, reading from conference approved lit and group sharing
URL:https://cp12stepoutreach.org/meeting-or-group/boston-11th-step-open-aa-meditation-meeting-2/2025-10-30/
LOCATION:Zoom Meeting
CATEGORIES:Online 11th Step Meditation Meetings
ORGANIZER;CN="Nancy Nichols Kearns":MAILTO:nancynichols1010@yahoo.com
END:VEVENT
BEGIN:VEVENT
DTSTART;TZID=America/New_York:20251023T190000
DTEND;TZID=America/New_York:20251023T203000
DTSTAMP:20260420T235826
CREATED:20250213T213026Z
LAST-MODIFIED:20250213T213044Z
UID:10064919-1761246000-1761251400@cp12stepoutreach.org
SUMMARY:Boston 11th Step Open AA Meditation Meeting
DESCRIPTION:30 Minute Meditation\, reading from conference approved lit and group sharing
URL:https://cp12stepoutreach.org/meeting-or-group/boston-11th-step-open-aa-meditation-meeting-2/2025-10-23/
LOCATION:Zoom Meeting
CATEGORIES:Online 11th Step Meditation Meetings
ORGANIZER;CN="Nancy Nichols Kearns":MAILTO:nancynichols1010@yahoo.com
END:VEVENT
BEGIN:VEVENT
DTSTART;TZID=America/New_York:20251016T190000
DTEND;TZID=America/New_York:20251016T203000
DTSTAMP:20260420T235826
CREATED:20250213T213026Z
LAST-MODIFIED:20250213T213044Z
UID:10064918-1760641200-1760646600@cp12stepoutreach.org
SUMMARY:Boston 11th Step Open AA Meditation Meeting
DESCRIPTION:30 Minute Meditation\, reading from conference approved lit and group sharing
URL:https://cp12stepoutreach.org/meeting-or-group/boston-11th-step-open-aa-meditation-meeting-2/2025-10-16/
LOCATION:Zoom Meeting
CATEGORIES:Online 11th Step Meditation Meetings
ORGANIZER;CN="Nancy Nichols Kearns":MAILTO:nancynichols1010@yahoo.com
END:VEVENT
BEGIN:VEVENT
DTSTART;TZID=America/New_York:20251009T190000
DTEND;TZID=America/New_York:20251009T203000
DTSTAMP:20260420T235826
CREATED:20250213T213026Z
LAST-MODIFIED:20250213T213044Z
UID:10064917-1760036400-1760041800@cp12stepoutreach.org
SUMMARY:Boston 11th Step Open AA Meditation Meeting
DESCRIPTION:30 Minute Meditation\, reading from conference approved lit and group sharing
URL:https://cp12stepoutreach.org/meeting-or-group/boston-11th-step-open-aa-meditation-meeting-2/2025-10-09/
LOCATION:Zoom Meeting
CATEGORIES:Online 11th Step Meditation Meetings
ORGANIZER;CN="Nancy Nichols Kearns":MAILTO:nancynichols1010@yahoo.com
END:VEVENT
BEGIN:VEVENT
DTSTART;TZID=America/New_York:20251002T190000
DTEND;TZID=America/New_York:20251002T203000
DTSTAMP:20260420T235826
CREATED:20250213T213026Z
LAST-MODIFIED:20250213T213044Z
UID:10064916-1759431600-1759437000@cp12stepoutreach.org
SUMMARY:Boston 11th Step Open AA Meditation Meeting
DESCRIPTION:30 Minute Meditation\, reading from conference approved lit and group sharing
URL:https://cp12stepoutreach.org/meeting-or-group/boston-11th-step-open-aa-meditation-meeting-2/2025-10-02/
LOCATION:Zoom Meeting
CATEGORIES:Online 11th Step Meditation Meetings
ORGANIZER;CN="Nancy Nichols Kearns":MAILTO:nancynichols1010@yahoo.com
END:VEVENT
BEGIN:VEVENT
DTSTART;TZID=America/New_York:20250925T190000
DTEND;TZID=America/New_York:20250925T203000
DTSTAMP:20260420T235826
CREATED:20250213T213026Z
LAST-MODIFIED:20250213T213044Z
UID:10064915-1758826800-1758832200@cp12stepoutreach.org
SUMMARY:Boston 11th Step Open AA Meditation Meeting
DESCRIPTION:30 Minute Meditation\, reading from conference approved lit and group sharing
URL:https://cp12stepoutreach.org/meeting-or-group/boston-11th-step-open-aa-meditation-meeting-2/2025-09-25/
LOCATION:Zoom Meeting
CATEGORIES:Online 11th Step Meditation Meetings
ORGANIZER;CN="Nancy Nichols Kearns":MAILTO:nancynichols1010@yahoo.com
END:VEVENT
BEGIN:VEVENT
DTSTART;TZID=America/New_York:20250918T190000
DTEND;TZID=America/New_York:20250918T203000
DTSTAMP:20260420T235826
CREATED:20250213T213026Z
LAST-MODIFIED:20250213T213044Z
UID:10064914-1758222000-1758227400@cp12stepoutreach.org
SUMMARY:Boston 11th Step Open AA Meditation Meeting
DESCRIPTION:30 Minute Meditation\, reading from conference approved lit and group sharing
URL:https://cp12stepoutreach.org/meeting-or-group/boston-11th-step-open-aa-meditation-meeting-2/2025-09-18/
LOCATION:Zoom Meeting
CATEGORIES:Online 11th Step Meditation Meetings
ORGANIZER;CN="Nancy Nichols Kearns":MAILTO:nancynichols1010@yahoo.com
END:VEVENT
BEGIN:VEVENT
DTSTART;TZID=America/New_York:20250911T190000
DTEND;TZID=America/New_York:20250911T203000
DTSTAMP:20260420T235826
CREATED:20250213T213026Z
LAST-MODIFIED:20250213T213044Z
UID:10064913-1757617200-1757622600@cp12stepoutreach.org
SUMMARY:Boston 11th Step Open AA Meditation Meeting
DESCRIPTION:30 Minute Meditation\, reading from conference approved lit and group sharing
URL:https://cp12stepoutreach.org/meeting-or-group/boston-11th-step-open-aa-meditation-meeting-2/2025-09-11/
LOCATION:Zoom Meeting
CATEGORIES:Online 11th Step Meditation Meetings
ORGANIZER;CN="Nancy Nichols Kearns":MAILTO:nancynichols1010@yahoo.com
END:VEVENT
BEGIN:VEVENT
DTSTART;TZID=America/New_York:20250904T190000
DTEND;TZID=America/New_York:20250904T203000
DTSTAMP:20260420T235826
CREATED:20250213T213026Z
LAST-MODIFIED:20250213T213044Z
UID:10064912-1757012400-1757017800@cp12stepoutreach.org
SUMMARY:Boston 11th Step Open AA Meditation Meeting
DESCRIPTION:30 Minute Meditation\, reading from conference approved lit and group sharing
URL:https://cp12stepoutreach.org/meeting-or-group/boston-11th-step-open-aa-meditation-meeting-2/2025-09-04/
LOCATION:Zoom Meeting
CATEGORIES:Online 11th Step Meditation Meetings
ORGANIZER;CN="Nancy Nichols Kearns":MAILTO:nancynichols1010@yahoo.com
END:VEVENT
BEGIN:VEVENT
DTSTART;TZID=America/New_York:20250828T190000
DTEND;TZID=America/New_York:20250828T203000
DTSTAMP:20260420T235826
CREATED:20250213T213026Z
LAST-MODIFIED:20250213T213044Z
UID:10064911-1756407600-1756413000@cp12stepoutreach.org
SUMMARY:Boston 11th Step Open AA Meditation Meeting
DESCRIPTION:30 Minute Meditation\, reading from conference approved lit and group sharing
URL:https://cp12stepoutreach.org/meeting-or-group/boston-11th-step-open-aa-meditation-meeting-2/2025-08-28/
LOCATION:Zoom Meeting
CATEGORIES:Online 11th Step Meditation Meetings
ORGANIZER;CN="Nancy Nichols Kearns":MAILTO:nancynichols1010@yahoo.com
END:VEVENT
BEGIN:VEVENT
DTSTART;TZID=America/New_York:20250821T190000
DTEND;TZID=America/New_York:20250821T203000
DTSTAMP:20260420T235826
CREATED:20250213T213026Z
LAST-MODIFIED:20250213T213044Z
UID:10064910-1755802800-1755808200@cp12stepoutreach.org
SUMMARY:Boston 11th Step Open AA Meditation Meeting
DESCRIPTION:30 Minute Meditation\, reading from conference approved lit and group sharing
URL:https://cp12stepoutreach.org/meeting-or-group/boston-11th-step-open-aa-meditation-meeting-2/2025-08-21/
LOCATION:Zoom Meeting
CATEGORIES:Online 11th Step Meditation Meetings
ORGANIZER;CN="Nancy Nichols Kearns":MAILTO:nancynichols1010@yahoo.com
END:VEVENT
BEGIN:VEVENT
DTSTART;TZID=America/New_York:20250814T190000
DTEND;TZID=America/New_York:20250814T203000
DTSTAMP:20260420T235826
CREATED:20250213T213026Z
LAST-MODIFIED:20250213T213044Z
UID:10064909-1755198000-1755203400@cp12stepoutreach.org
SUMMARY:Boston 11th Step Open AA Meditation Meeting
DESCRIPTION:30 Minute Meditation\, reading from conference approved lit and group sharing
URL:https://cp12stepoutreach.org/meeting-or-group/boston-11th-step-open-aa-meditation-meeting-2/2025-08-14/
LOCATION:Zoom Meeting
CATEGORIES:Online 11th Step Meditation Meetings
ORGANIZER;CN="Nancy Nichols Kearns":MAILTO:nancynichols1010@yahoo.com
END:VEVENT
BEGIN:VEVENT
DTSTART;TZID=America/New_York:20250807T190000
DTEND;TZID=America/New_York:20250807T203000
DTSTAMP:20260420T235826
CREATED:20250213T213026Z
LAST-MODIFIED:20250213T213044Z
UID:10064908-1754593200-1754598600@cp12stepoutreach.org
SUMMARY:Boston 11th Step Open AA Meditation Meeting
DESCRIPTION:30 Minute Meditation\, reading from conference approved lit and group sharing
URL:https://cp12stepoutreach.org/meeting-or-group/boston-11th-step-open-aa-meditation-meeting-2/2025-08-07/
LOCATION:Zoom Meeting
CATEGORIES:Online 11th Step Meditation Meetings
ORGANIZER;CN="Nancy Nichols Kearns":MAILTO:nancynichols1010@yahoo.com
END:VEVENT
BEGIN:VEVENT
DTSTART;TZID=America/New_York:20250731T190000
DTEND;TZID=America/New_York:20250731T203000
DTSTAMP:20260420T235826
CREATED:20250213T213026Z
LAST-MODIFIED:20250213T213044Z
UID:10064907-1753988400-1753993800@cp12stepoutreach.org
SUMMARY:Boston 11th Step Open AA Meditation Meeting
DESCRIPTION:30 Minute Meditation\, reading from conference approved lit and group sharing
URL:https://cp12stepoutreach.org/meeting-or-group/boston-11th-step-open-aa-meditation-meeting-2/2025-07-31/
LOCATION:Zoom Meeting
CATEGORIES:Online 11th Step Meditation Meetings
ORGANIZER;CN="Nancy Nichols Kearns":MAILTO:nancynichols1010@yahoo.com
END:VEVENT
BEGIN:VEVENT
DTSTART;TZID=America/New_York:20250724T190000
DTEND;TZID=America/New_York:20250724T203000
DTSTAMP:20260420T235826
CREATED:20250213T213026Z
LAST-MODIFIED:20250213T213044Z
UID:10064906-1753383600-1753389000@cp12stepoutreach.org
SUMMARY:Boston 11th Step Open AA Meditation Meeting
DESCRIPTION:30 Minute Meditation\, reading from conference approved lit and group sharing
URL:https://cp12stepoutreach.org/meeting-or-group/boston-11th-step-open-aa-meditation-meeting-2/2025-07-24/
LOCATION:Zoom Meeting
CATEGORIES:Online 11th Step Meditation Meetings
ORGANIZER;CN="Nancy Nichols Kearns":MAILTO:nancynichols1010@yahoo.com
END:VEVENT
BEGIN:VEVENT
DTSTART;TZID=America/New_York:20250717T190000
DTEND;TZID=America/New_York:20250717T203000
DTSTAMP:20260420T235826
CREATED:20250213T213026Z
LAST-MODIFIED:20250213T213044Z
UID:10064905-1752778800-1752784200@cp12stepoutreach.org
SUMMARY:Boston 11th Step Open AA Meditation Meeting
DESCRIPTION:30 Minute Meditation\, reading from conference approved lit and group sharing
URL:https://cp12stepoutreach.org/meeting-or-group/boston-11th-step-open-aa-meditation-meeting-2/2025-07-17/
LOCATION:Zoom Meeting
CATEGORIES:Online 11th Step Meditation Meetings
ORGANIZER;CN="Nancy Nichols Kearns":MAILTO:nancynichols1010@yahoo.com
END:VEVENT
BEGIN:VEVENT
DTSTART;TZID=America/New_York:20250710T190000
DTEND;TZID=America/New_York:20250710T203000
DTSTAMP:20260420T235826
CREATED:20250213T213026Z
LAST-MODIFIED:20250213T213044Z
UID:10064904-1752174000-1752179400@cp12stepoutreach.org
SUMMARY:Boston 11th Step Open AA Meditation Meeting
DESCRIPTION:30 Minute Meditation\, reading from conference approved lit and group sharing
URL:https://cp12stepoutreach.org/meeting-or-group/boston-11th-step-open-aa-meditation-meeting-2/2025-07-10/
LOCATION:Zoom Meeting
CATEGORIES:Online 11th Step Meditation Meetings
ORGANIZER;CN="Nancy Nichols Kearns":MAILTO:nancynichols1010@yahoo.com
END:VEVENT
BEGIN:VEVENT
DTSTART;TZID=America/New_York:20250703T190000
DTEND;TZID=America/New_York:20250703T203000
DTSTAMP:20260420T235826
CREATED:20250213T213026Z
LAST-MODIFIED:20250213T213044Z
UID:10064903-1751569200-1751574600@cp12stepoutreach.org
SUMMARY:Boston 11th Step Open AA Meditation Meeting
DESCRIPTION:30 Minute Meditation\, reading from conference approved lit and group sharing
URL:https://cp12stepoutreach.org/meeting-or-group/boston-11th-step-open-aa-meditation-meeting-2/2025-07-03/
LOCATION:Zoom Meeting
CATEGORIES:Online 11th Step Meditation Meetings
ORGANIZER;CN="Nancy Nichols Kearns":MAILTO:nancynichols1010@yahoo.com
END:VEVENT
BEGIN:VEVENT
DTSTART;TZID=America/New_York:20250626T190000
DTEND;TZID=America/New_York:20250626T203000
DTSTAMP:20260420T235826
CREATED:20250213T213026Z
LAST-MODIFIED:20250213T213044Z
UID:10064902-1750964400-1750969800@cp12stepoutreach.org
SUMMARY:Boston 11th Step Open AA Meditation Meeting
DESCRIPTION:30 Minute Meditation\, reading from conference approved lit and group sharing
URL:https://cp12stepoutreach.org/meeting-or-group/boston-11th-step-open-aa-meditation-meeting-2/2025-06-26/
LOCATION:Zoom Meeting
CATEGORIES:Online 11th Step Meditation Meetings
ORGANIZER;CN="Nancy Nichols Kearns":MAILTO:nancynichols1010@yahoo.com
END:VEVENT
BEGIN:VEVENT
DTSTART;TZID=America/New_York:20250619T190000
DTEND;TZID=America/New_York:20250619T203000
DTSTAMP:20260420T235826
CREATED:20250213T213026Z
LAST-MODIFIED:20250213T213044Z
UID:10064901-1750359600-1750365000@cp12stepoutreach.org
SUMMARY:Boston 11th Step Open AA Meditation Meeting
DESCRIPTION:30 Minute Meditation\, reading from conference approved lit and group sharing
URL:https://cp12stepoutreach.org/meeting-or-group/boston-11th-step-open-aa-meditation-meeting-2/2025-06-19/
LOCATION:Zoom Meeting
CATEGORIES:Online 11th Step Meditation Meetings
ORGANIZER;CN="Nancy Nichols Kearns":MAILTO:nancynichols1010@yahoo.com
END:VEVENT
BEGIN:VEVENT
DTSTART;TZID=America/New_York:20250612T190000
DTEND;TZID=America/New_York:20250612T203000
DTSTAMP:20260420T235826
CREATED:20250213T213026Z
LAST-MODIFIED:20250213T213044Z
UID:10064900-1749754800-1749760200@cp12stepoutreach.org
SUMMARY:Boston 11th Step Open AA Meditation Meeting
DESCRIPTION:30 Minute Meditation\, reading from conference approved lit and group sharing
URL:https://cp12stepoutreach.org/meeting-or-group/boston-11th-step-open-aa-meditation-meeting-2/2025-06-12/
LOCATION:Zoom Meeting
CATEGORIES:Online 11th Step Meditation Meetings
ORGANIZER;CN="Nancy Nichols Kearns":MAILTO:nancynichols1010@yahoo.com
END:VEVENT
BEGIN:VEVENT
DTSTART;TZID=America/New_York:20250605T190000
DTEND;TZID=America/New_York:20250605T203000
DTSTAMP:20260420T235826
CREATED:20250213T213026Z
LAST-MODIFIED:20250213T213044Z
UID:10064899-1749150000-1749155400@cp12stepoutreach.org
SUMMARY:Boston 11th Step Open AA Meditation Meeting
DESCRIPTION:30 Minute Meditation\, reading from conference approved lit and group sharing
URL:https://cp12stepoutreach.org/meeting-or-group/boston-11th-step-open-aa-meditation-meeting-2/2025-06-05/
LOCATION:Zoom Meeting
CATEGORIES:Online 11th Step Meditation Meetings
ORGANIZER;CN="Nancy Nichols Kearns":MAILTO:nancynichols1010@yahoo.com
END:VEVENT
BEGIN:VEVENT
DTSTART;TZID=America/New_York:20250529T190000
DTEND;TZID=America/New_York:20250529T203000
DTSTAMP:20260420T235826
CREATED:20250213T213026Z
LAST-MODIFIED:20250213T213044Z
UID:10064898-1748545200-1748550600@cp12stepoutreach.org
SUMMARY:Boston 11th Step Open AA Meditation Meeting
DESCRIPTION:30 Minute Meditation\, reading from conference approved lit and group sharing
URL:https://cp12stepoutreach.org/meeting-or-group/boston-11th-step-open-aa-meditation-meeting-2/2025-05-29/
LOCATION:Zoom Meeting
CATEGORIES:Online 11th Step Meditation Meetings
ORGANIZER;CN="Nancy Nichols Kearns":MAILTO:nancynichols1010@yahoo.com
END:VEVENT
BEGIN:VEVENT
DTSTART;TZID=America/New_York:20250522T190000
DTEND;TZID=America/New_York:20250522T203000
DTSTAMP:20260420T235826
CREATED:20250213T213026Z
LAST-MODIFIED:20250213T213044Z
UID:10064897-1747940400-1747945800@cp12stepoutreach.org
SUMMARY:Boston 11th Step Open AA Meditation Meeting
DESCRIPTION:30 Minute Meditation\, reading from conference approved lit and group sharing
URL:https://cp12stepoutreach.org/meeting-or-group/boston-11th-step-open-aa-meditation-meeting-2/2025-05-22/
LOCATION:Zoom Meeting
CATEGORIES:Online 11th Step Meditation Meetings
ORGANIZER;CN="Nancy Nichols Kearns":MAILTO:nancynichols1010@yahoo.com
END:VEVENT
BEGIN:VEVENT
DTSTART;TZID=America/New_York:20250515T190000
DTEND;TZID=America/New_York:20250515T203000
DTSTAMP:20260420T235826
CREATED:20250213T213026Z
LAST-MODIFIED:20250213T213044Z
UID:10064896-1747335600-1747341000@cp12stepoutreach.org
SUMMARY:Boston 11th Step Open AA Meditation Meeting
DESCRIPTION:30 Minute Meditation\, reading from conference approved lit and group sharing
URL:https://cp12stepoutreach.org/meeting-or-group/boston-11th-step-open-aa-meditation-meeting-2/2025-05-15/
LOCATION:Zoom Meeting
CATEGORIES:Online 11th Step Meditation Meetings
ORGANIZER;CN="Nancy Nichols Kearns":MAILTO:nancynichols1010@yahoo.com
END:VEVENT
BEGIN:VEVENT
DTSTART;TZID=America/New_York:20250508T190000
DTEND;TZID=America/New_York:20250508T203000
DTSTAMP:20260420T235826
CREATED:20250213T213026Z
LAST-MODIFIED:20250213T213044Z
UID:10064895-1746730800-1746736200@cp12stepoutreach.org
SUMMARY:Boston 11th Step Open AA Meditation Meeting
DESCRIPTION:30 Minute Meditation\, reading from conference approved lit and group sharing
URL:https://cp12stepoutreach.org/meeting-or-group/boston-11th-step-open-aa-meditation-meeting-2/2025-05-08/
LOCATION:Zoom Meeting
CATEGORIES:Online 11th Step Meditation Meetings
ORGANIZER;CN="Nancy Nichols Kearns":MAILTO:nancynichols1010@yahoo.com
END:VEVENT
END:VCALENDAR