BEGIN:VCALENDAR
VERSION:2.0
PRODID:-//12 Step Outreach - ECPv6.11.2.1//NONSGML v1.0//EN
CALSCALE:GREGORIAN
METHOD:PUBLISH
X-WR-CALNAME:12 Step Outreach
X-ORIGINAL-URL:https://cp12stepoutreach.org
X-WR-CALDESC:Events for 12 Step Outreach
REFRESH-INTERVAL;VALUE=DURATION:PT1H
X-Robots-Tag:noindex
X-PUBLISHED-TTL:PT1H
BEGIN:VTIMEZONE
TZID:America/New_York
BEGIN:DAYLIGHT
TZOFFSETFROM:-0500
TZOFFSETTO:-0400
TZNAME:EDT
DTSTART:20260308T070000
END:DAYLIGHT
BEGIN:STANDARD
TZOFFSETFROM:-0400
TZOFFSETTO:-0500
TZNAME:EST
DTSTART:20261101T060000
END:STANDARD
BEGIN:DAYLIGHT
TZOFFSETFROM:-0500
TZOFFSETTO:-0400
TZNAME:EDT
DTSTART:20270314T070000
END:DAYLIGHT
BEGIN:STANDARD
TZOFFSETFROM:-0400
TZOFFSETTO:-0500
TZNAME:EST
DTSTART:20271107T060000
END:STANDARD
END:VTIMEZONE
BEGIN:VEVENT
DTSTART;TZID=America/New_York:20260910T190000
DTEND;TZID=America/New_York:20260910T203000
DTSTAMP:20260421T050320
CREATED:20250213T213026Z
LAST-MODIFIED:20250213T213044Z
UID:10064965-1789066800-1789072200@cp12stepoutreach.org
SUMMARY:Boston 11th Step Open AA Meditation Meeting
DESCRIPTION:30 Minute Meditation\, reading from conference approved lit and group sharing
URL:https://cp12stepoutreach.org/meeting-or-group/boston-11th-step-open-aa-meditation-meeting-2/2026-09-10/
LOCATION:Zoom Meeting
CATEGORIES:Online 11th Step Meditation Meetings
ORGANIZER;CN="Nancy Nichols Kearns":MAILTO:nancynichols1010@yahoo.com
END:VEVENT
BEGIN:VEVENT
DTSTART;TZID=America/New_York:20260917T190000
DTEND;TZID=America/New_York:20260917T203000
DTSTAMP:20260421T050320
CREATED:20250213T213026Z
LAST-MODIFIED:20250213T213044Z
UID:10064966-1789671600-1789677000@cp12stepoutreach.org
SUMMARY:Boston 11th Step Open AA Meditation Meeting
DESCRIPTION:30 Minute Meditation\, reading from conference approved lit and group sharing
URL:https://cp12stepoutreach.org/meeting-or-group/boston-11th-step-open-aa-meditation-meeting-2/2026-09-17/
LOCATION:Zoom Meeting
CATEGORIES:Online 11th Step Meditation Meetings
ORGANIZER;CN="Nancy Nichols Kearns":MAILTO:nancynichols1010@yahoo.com
END:VEVENT
BEGIN:VEVENT
DTSTART;TZID=America/New_York:20260924T190000
DTEND;TZID=America/New_York:20260924T203000
DTSTAMP:20260421T050320
CREATED:20250213T213026Z
LAST-MODIFIED:20250213T213044Z
UID:10064967-1790276400-1790281800@cp12stepoutreach.org
SUMMARY:Boston 11th Step Open AA Meditation Meeting
DESCRIPTION:30 Minute Meditation\, reading from conference approved lit and group sharing
URL:https://cp12stepoutreach.org/meeting-or-group/boston-11th-step-open-aa-meditation-meeting-2/2026-09-24/
LOCATION:Zoom Meeting
CATEGORIES:Online 11th Step Meditation Meetings
ORGANIZER;CN="Nancy Nichols Kearns":MAILTO:nancynichols1010@yahoo.com
END:VEVENT
BEGIN:VEVENT
DTSTART;TZID=America/New_York:20261001T190000
DTEND;TZID=America/New_York:20261001T203000
DTSTAMP:20260421T050320
CREATED:20250213T213026Z
LAST-MODIFIED:20250213T213044Z
UID:10064968-1790881200-1790886600@cp12stepoutreach.org
SUMMARY:Boston 11th Step Open AA Meditation Meeting
DESCRIPTION:30 Minute Meditation\, reading from conference approved lit and group sharing
URL:https://cp12stepoutreach.org/meeting-or-group/boston-11th-step-open-aa-meditation-meeting-2/2026-10-01/
LOCATION:Zoom Meeting
CATEGORIES:Online 11th Step Meditation Meetings
ORGANIZER;CN="Nancy Nichols Kearns":MAILTO:nancynichols1010@yahoo.com
END:VEVENT
BEGIN:VEVENT
DTSTART;TZID=America/New_York:20261008T190000
DTEND;TZID=America/New_York:20261008T203000
DTSTAMP:20260421T050320
CREATED:20250213T213026Z
LAST-MODIFIED:20250213T213044Z
UID:10064969-1791486000-1791491400@cp12stepoutreach.org
SUMMARY:Boston 11th Step Open AA Meditation Meeting
DESCRIPTION:30 Minute Meditation\, reading from conference approved lit and group sharing
URL:https://cp12stepoutreach.org/meeting-or-group/boston-11th-step-open-aa-meditation-meeting-2/2026-10-08/
LOCATION:Zoom Meeting
CATEGORIES:Online 11th Step Meditation Meetings
ORGANIZER;CN="Nancy Nichols Kearns":MAILTO:nancynichols1010@yahoo.com
END:VEVENT
BEGIN:VEVENT
DTSTART;TZID=America/New_York:20261015T190000
DTEND;TZID=America/New_York:20261015T203000
DTSTAMP:20260421T050320
CREATED:20250213T213026Z
LAST-MODIFIED:20250213T213044Z
UID:10064970-1792090800-1792096200@cp12stepoutreach.org
SUMMARY:Boston 11th Step Open AA Meditation Meeting
DESCRIPTION:30 Minute Meditation\, reading from conference approved lit and group sharing
URL:https://cp12stepoutreach.org/meeting-or-group/boston-11th-step-open-aa-meditation-meeting-2/2026-10-15/
LOCATION:Zoom Meeting
CATEGORIES:Online 11th Step Meditation Meetings
ORGANIZER;CN="Nancy Nichols Kearns":MAILTO:nancynichols1010@yahoo.com
END:VEVENT
BEGIN:VEVENT
DTSTART;TZID=America/New_York:20261022T190000
DTEND;TZID=America/New_York:20261022T203000
DTSTAMP:20260421T050320
CREATED:20250213T213026Z
LAST-MODIFIED:20250213T213044Z
UID:10064971-1792695600-1792701000@cp12stepoutreach.org
SUMMARY:Boston 11th Step Open AA Meditation Meeting
DESCRIPTION:30 Minute Meditation\, reading from conference approved lit and group sharing
URL:https://cp12stepoutreach.org/meeting-or-group/boston-11th-step-open-aa-meditation-meeting-2/2026-10-22/
LOCATION:Zoom Meeting
CATEGORIES:Online 11th Step Meditation Meetings
ORGANIZER;CN="Nancy Nichols Kearns":MAILTO:nancynichols1010@yahoo.com
END:VEVENT
BEGIN:VEVENT
DTSTART;TZID=America/New_York:20261029T190000
DTEND;TZID=America/New_York:20261029T203000
DTSTAMP:20260421T050320
CREATED:20250213T213026Z
LAST-MODIFIED:20250213T213044Z
UID:10064972-1793300400-1793305800@cp12stepoutreach.org
SUMMARY:Boston 11th Step Open AA Meditation Meeting
DESCRIPTION:30 Minute Meditation\, reading from conference approved lit and group sharing
URL:https://cp12stepoutreach.org/meeting-or-group/boston-11th-step-open-aa-meditation-meeting-2/2026-10-29/
LOCATION:Zoom Meeting
CATEGORIES:Online 11th Step Meditation Meetings
ORGANIZER;CN="Nancy Nichols Kearns":MAILTO:nancynichols1010@yahoo.com
END:VEVENT
BEGIN:VEVENT
DTSTART;TZID=America/New_York:20261105T190000
DTEND;TZID=America/New_York:20261105T203000
DTSTAMP:20260421T050320
CREATED:20250213T213026Z
LAST-MODIFIED:20250213T213044Z
UID:10064973-1793905200-1793910600@cp12stepoutreach.org
SUMMARY:Boston 11th Step Open AA Meditation Meeting
DESCRIPTION:30 Minute Meditation\, reading from conference approved lit and group sharing
URL:https://cp12stepoutreach.org/meeting-or-group/boston-11th-step-open-aa-meditation-meeting-2/2026-11-05/
LOCATION:Zoom Meeting
CATEGORIES:Online 11th Step Meditation Meetings
ORGANIZER;CN="Nancy Nichols Kearns":MAILTO:nancynichols1010@yahoo.com
END:VEVENT
BEGIN:VEVENT
DTSTART;TZID=America/New_York:20261112T190000
DTEND;TZID=America/New_York:20261112T203000
DTSTAMP:20260421T050320
CREATED:20250213T213026Z
LAST-MODIFIED:20250213T213044Z
UID:10064974-1794510000-1794515400@cp12stepoutreach.org
SUMMARY:Boston 11th Step Open AA Meditation Meeting
DESCRIPTION:30 Minute Meditation\, reading from conference approved lit and group sharing
URL:https://cp12stepoutreach.org/meeting-or-group/boston-11th-step-open-aa-meditation-meeting-2/2026-11-12/
LOCATION:Zoom Meeting
CATEGORIES:Online 11th Step Meditation Meetings
ORGANIZER;CN="Nancy Nichols Kearns":MAILTO:nancynichols1010@yahoo.com
END:VEVENT
BEGIN:VEVENT
DTSTART;TZID=America/New_York:20261119T190000
DTEND;TZID=America/New_York:20261119T203000
DTSTAMP:20260421T050320
CREATED:20250213T213026Z
LAST-MODIFIED:20250213T213044Z
UID:10064975-1795114800-1795120200@cp12stepoutreach.org
SUMMARY:Boston 11th Step Open AA Meditation Meeting
DESCRIPTION:30 Minute Meditation\, reading from conference approved lit and group sharing
URL:https://cp12stepoutreach.org/meeting-or-group/boston-11th-step-open-aa-meditation-meeting-2/2026-11-19/
LOCATION:Zoom Meeting
CATEGORIES:Online 11th Step Meditation Meetings
ORGANIZER;CN="Nancy Nichols Kearns":MAILTO:nancynichols1010@yahoo.com
END:VEVENT
BEGIN:VEVENT
DTSTART;TZID=America/New_York:20261126T190000
DTEND;TZID=America/New_York:20261126T203000
DTSTAMP:20260421T050320
CREATED:20250213T213026Z
LAST-MODIFIED:20250213T213044Z
UID:10064976-1795719600-1795725000@cp12stepoutreach.org
SUMMARY:Boston 11th Step Open AA Meditation Meeting
DESCRIPTION:30 Minute Meditation\, reading from conference approved lit and group sharing
URL:https://cp12stepoutreach.org/meeting-or-group/boston-11th-step-open-aa-meditation-meeting-2/2026-11-26/
LOCATION:Zoom Meeting
CATEGORIES:Online 11th Step Meditation Meetings
ORGANIZER;CN="Nancy Nichols Kearns":MAILTO:nancynichols1010@yahoo.com
END:VEVENT
BEGIN:VEVENT
DTSTART;TZID=America/New_York:20261203T190000
DTEND;TZID=America/New_York:20261203T203000
DTSTAMP:20260421T050320
CREATED:20250213T213026Z
LAST-MODIFIED:20250213T213044Z
UID:10064977-1796324400-1796329800@cp12stepoutreach.org
SUMMARY:Boston 11th Step Open AA Meditation Meeting
DESCRIPTION:30 Minute Meditation\, reading from conference approved lit and group sharing
URL:https://cp12stepoutreach.org/meeting-or-group/boston-11th-step-open-aa-meditation-meeting-2/2026-12-03/
LOCATION:Zoom Meeting
CATEGORIES:Online 11th Step Meditation Meetings
ORGANIZER;CN="Nancy Nichols Kearns":MAILTO:nancynichols1010@yahoo.com
END:VEVENT
BEGIN:VEVENT
DTSTART;TZID=America/New_York:20261210T190000
DTEND;TZID=America/New_York:20261210T203000
DTSTAMP:20260421T050320
CREATED:20250213T213026Z
LAST-MODIFIED:20250213T213044Z
UID:10064978-1796929200-1796934600@cp12stepoutreach.org
SUMMARY:Boston 11th Step Open AA Meditation Meeting
DESCRIPTION:30 Minute Meditation\, reading from conference approved lit and group sharing
URL:https://cp12stepoutreach.org/meeting-or-group/boston-11th-step-open-aa-meditation-meeting-2/2026-12-10/
LOCATION:Zoom Meeting
CATEGORIES:Online 11th Step Meditation Meetings
ORGANIZER;CN="Nancy Nichols Kearns":MAILTO:nancynichols1010@yahoo.com
END:VEVENT
BEGIN:VEVENT
DTSTART;TZID=America/New_York:20261217T190000
DTEND;TZID=America/New_York:20261217T203000
DTSTAMP:20260421T050320
CREATED:20250213T213026Z
LAST-MODIFIED:20250213T213044Z
UID:10064979-1797534000-1797539400@cp12stepoutreach.org
SUMMARY:Boston 11th Step Open AA Meditation Meeting
DESCRIPTION:30 Minute Meditation\, reading from conference approved lit and group sharing
URL:https://cp12stepoutreach.org/meeting-or-group/boston-11th-step-open-aa-meditation-meeting-2/2026-12-17/
LOCATION:Zoom Meeting
CATEGORIES:Online 11th Step Meditation Meetings
ORGANIZER;CN="Nancy Nichols Kearns":MAILTO:nancynichols1010@yahoo.com
END:VEVENT
BEGIN:VEVENT
DTSTART;TZID=America/New_York:20261224T190000
DTEND;TZID=America/New_York:20261224T203000
DTSTAMP:20260421T050320
CREATED:20250213T213026Z
LAST-MODIFIED:20250213T213044Z
UID:10064980-1798138800-1798144200@cp12stepoutreach.org
SUMMARY:Boston 11th Step Open AA Meditation Meeting
DESCRIPTION:30 Minute Meditation\, reading from conference approved lit and group sharing
URL:https://cp12stepoutreach.org/meeting-or-group/boston-11th-step-open-aa-meditation-meeting-2/2026-12-24/
LOCATION:Zoom Meeting
CATEGORIES:Online 11th Step Meditation Meetings
ORGANIZER;CN="Nancy Nichols Kearns":MAILTO:nancynichols1010@yahoo.com
END:VEVENT
BEGIN:VEVENT
DTSTART;TZID=America/New_York:20261231T190000
DTEND;TZID=America/New_York:20261231T203000
DTSTAMP:20260421T050320
CREATED:20250213T213026Z
LAST-MODIFIED:20250213T213044Z
UID:10064981-1798743600-1798749000@cp12stepoutreach.org
SUMMARY:Boston 11th Step Open AA Meditation Meeting
DESCRIPTION:30 Minute Meditation\, reading from conference approved lit and group sharing
URL:https://cp12stepoutreach.org/meeting-or-group/boston-11th-step-open-aa-meditation-meeting-2/2026-12-31/
LOCATION:Zoom Meeting
CATEGORIES:Online 11th Step Meditation Meetings
ORGANIZER;CN="Nancy Nichols Kearns":MAILTO:nancynichols1010@yahoo.com
END:VEVENT
BEGIN:VEVENT
DTSTART;TZID=America/New_York:20270107T190000
DTEND;TZID=America/New_York:20270107T203000
DTSTAMP:20260421T050320
CREATED:20250213T213026Z
LAST-MODIFIED:20250213T213044Z
UID:10064982-1799348400-1799353800@cp12stepoutreach.org
SUMMARY:Boston 11th Step Open AA Meditation Meeting
DESCRIPTION:30 Minute Meditation\, reading from conference approved lit and group sharing
URL:https://cp12stepoutreach.org/meeting-or-group/boston-11th-step-open-aa-meditation-meeting-2/2027-01-07/
LOCATION:Zoom Meeting
CATEGORIES:Online 11th Step Meditation Meetings
ORGANIZER;CN="Nancy Nichols Kearns":MAILTO:nancynichols1010@yahoo.com
END:VEVENT
BEGIN:VEVENT
DTSTART;TZID=America/New_York:20270114T190000
DTEND;TZID=America/New_York:20270114T203000
DTSTAMP:20260421T050320
CREATED:20250213T213026Z
LAST-MODIFIED:20250213T213044Z
UID:10064983-1799953200-1799958600@cp12stepoutreach.org
SUMMARY:Boston 11th Step Open AA Meditation Meeting
DESCRIPTION:30 Minute Meditation\, reading from conference approved lit and group sharing
URL:https://cp12stepoutreach.org/meeting-or-group/boston-11th-step-open-aa-meditation-meeting-2/2027-01-14/
LOCATION:Zoom Meeting
CATEGORIES:Online 11th Step Meditation Meetings
ORGANIZER;CN="Nancy Nichols Kearns":MAILTO:nancynichols1010@yahoo.com
END:VEVENT
BEGIN:VEVENT
DTSTART;TZID=America/New_York:20270121T190000
DTEND;TZID=America/New_York:20270121T203000
DTSTAMP:20260421T050320
CREATED:20250213T213026Z
LAST-MODIFIED:20250213T213044Z
UID:10064984-1800558000-1800563400@cp12stepoutreach.org
SUMMARY:Boston 11th Step Open AA Meditation Meeting
DESCRIPTION:30 Minute Meditation\, reading from conference approved lit and group sharing
URL:https://cp12stepoutreach.org/meeting-or-group/boston-11th-step-open-aa-meditation-meeting-2/2027-01-21/
LOCATION:Zoom Meeting
CATEGORIES:Online 11th Step Meditation Meetings
ORGANIZER;CN="Nancy Nichols Kearns":MAILTO:nancynichols1010@yahoo.com
END:VEVENT
BEGIN:VEVENT
DTSTART;TZID=America/New_York:20270128T190000
DTEND;TZID=America/New_York:20270128T203000
DTSTAMP:20260421T050320
CREATED:20250213T213026Z
LAST-MODIFIED:20250213T213044Z
UID:10064985-1801162800-1801168200@cp12stepoutreach.org
SUMMARY:Boston 11th Step Open AA Meditation Meeting
DESCRIPTION:30 Minute Meditation\, reading from conference approved lit and group sharing
URL:https://cp12stepoutreach.org/meeting-or-group/boston-11th-step-open-aa-meditation-meeting-2/2027-01-28/
LOCATION:Zoom Meeting
CATEGORIES:Online 11th Step Meditation Meetings
ORGANIZER;CN="Nancy Nichols Kearns":MAILTO:nancynichols1010@yahoo.com
END:VEVENT
BEGIN:VEVENT
DTSTART;TZID=America/New_York:20270204T190000
DTEND;TZID=America/New_York:20270204T203000
DTSTAMP:20260421T050320
CREATED:20250213T213026Z
LAST-MODIFIED:20250213T213044Z
UID:10064986-1801767600-1801773000@cp12stepoutreach.org
SUMMARY:Boston 11th Step Open AA Meditation Meeting
DESCRIPTION:30 Minute Meditation\, reading from conference approved lit and group sharing
URL:https://cp12stepoutreach.org/meeting-or-group/boston-11th-step-open-aa-meditation-meeting-2/2027-02-04/
LOCATION:Zoom Meeting
CATEGORIES:Online 11th Step Meditation Meetings
ORGANIZER;CN="Nancy Nichols Kearns":MAILTO:nancynichols1010@yahoo.com
END:VEVENT
BEGIN:VEVENT
DTSTART;TZID=America/New_York:20270211T190000
DTEND;TZID=America/New_York:20270211T203000
DTSTAMP:20260421T050320
CREATED:20250213T213026Z
LAST-MODIFIED:20250213T213044Z
UID:10064987-1802372400-1802377800@cp12stepoutreach.org
SUMMARY:Boston 11th Step Open AA Meditation Meeting
DESCRIPTION:30 Minute Meditation\, reading from conference approved lit and group sharing
URL:https://cp12stepoutreach.org/meeting-or-group/boston-11th-step-open-aa-meditation-meeting-2/2027-02-11/
LOCATION:Zoom Meeting
CATEGORIES:Online 11th Step Meditation Meetings
ORGANIZER;CN="Nancy Nichols Kearns":MAILTO:nancynichols1010@yahoo.com
END:VEVENT
BEGIN:VEVENT
DTSTART;TZID=America/New_York:20270218T190000
DTEND;TZID=America/New_York:20270218T203000
DTSTAMP:20260421T050320
CREATED:20250213T213026Z
LAST-MODIFIED:20250213T213044Z
UID:10064988-1802977200-1802982600@cp12stepoutreach.org
SUMMARY:Boston 11th Step Open AA Meditation Meeting
DESCRIPTION:30 Minute Meditation\, reading from conference approved lit and group sharing
URL:https://cp12stepoutreach.org/meeting-or-group/boston-11th-step-open-aa-meditation-meeting-2/2027-02-18/
LOCATION:Zoom Meeting
CATEGORIES:Online 11th Step Meditation Meetings
ORGANIZER;CN="Nancy Nichols Kearns":MAILTO:nancynichols1010@yahoo.com
END:VEVENT
BEGIN:VEVENT
DTSTART;TZID=America/New_York:20270225T190000
DTEND;TZID=America/New_York:20270225T203000
DTSTAMP:20260421T050320
CREATED:20250213T213026Z
LAST-MODIFIED:20250213T213044Z
UID:10064989-1803582000-1803587400@cp12stepoutreach.org
SUMMARY:Boston 11th Step Open AA Meditation Meeting
DESCRIPTION:30 Minute Meditation\, reading from conference approved lit and group sharing
URL:https://cp12stepoutreach.org/meeting-or-group/boston-11th-step-open-aa-meditation-meeting-2/2027-02-25/
LOCATION:Zoom Meeting
CATEGORIES:Online 11th Step Meditation Meetings
ORGANIZER;CN="Nancy Nichols Kearns":MAILTO:nancynichols1010@yahoo.com
END:VEVENT
BEGIN:VEVENT
DTSTART;TZID=America/New_York:20270304T190000
DTEND;TZID=America/New_York:20270304T203000
DTSTAMP:20260421T050320
CREATED:20250213T213026Z
LAST-MODIFIED:20250213T213044Z
UID:10064990-1804186800-1804192200@cp12stepoutreach.org
SUMMARY:Boston 11th Step Open AA Meditation Meeting
DESCRIPTION:30 Minute Meditation\, reading from conference approved lit and group sharing
URL:https://cp12stepoutreach.org/meeting-or-group/boston-11th-step-open-aa-meditation-meeting-2/2027-03-04/
LOCATION:Zoom Meeting
CATEGORIES:Online 11th Step Meditation Meetings
ORGANIZER;CN="Nancy Nichols Kearns":MAILTO:nancynichols1010@yahoo.com
END:VEVENT
BEGIN:VEVENT
DTSTART;TZID=America/New_York:20270311T190000
DTEND;TZID=America/New_York:20270311T203000
DTSTAMP:20260421T050320
CREATED:20250213T213026Z
LAST-MODIFIED:20250213T213044Z
UID:10064991-1804791600-1804797000@cp12stepoutreach.org
SUMMARY:Boston 11th Step Open AA Meditation Meeting
DESCRIPTION:30 Minute Meditation\, reading from conference approved lit and group sharing
URL:https://cp12stepoutreach.org/meeting-or-group/boston-11th-step-open-aa-meditation-meeting-2/2027-03-11/
LOCATION:Zoom Meeting
CATEGORIES:Online 11th Step Meditation Meetings
ORGANIZER;CN="Nancy Nichols Kearns":MAILTO:nancynichols1010@yahoo.com
END:VEVENT
BEGIN:VEVENT
DTSTART;TZID=America/New_York:20270318T190000
DTEND;TZID=America/New_York:20270318T203000
DTSTAMP:20260421T050320
CREATED:20250213T213026Z
LAST-MODIFIED:20250213T213044Z
UID:10064992-1805396400-1805401800@cp12stepoutreach.org
SUMMARY:Boston 11th Step Open AA Meditation Meeting
DESCRIPTION:30 Minute Meditation\, reading from conference approved lit and group sharing
URL:https://cp12stepoutreach.org/meeting-or-group/boston-11th-step-open-aa-meditation-meeting-2/2027-03-18/
LOCATION:Zoom Meeting
CATEGORIES:Online 11th Step Meditation Meetings
ORGANIZER;CN="Nancy Nichols Kearns":MAILTO:nancynichols1010@yahoo.com
END:VEVENT
BEGIN:VEVENT
DTSTART;TZID=America/New_York:20270325T190000
DTEND;TZID=America/New_York:20270325T203000
DTSTAMP:20260421T050320
CREATED:20250213T213026Z
LAST-MODIFIED:20250213T213044Z
UID:10064993-1806001200-1806006600@cp12stepoutreach.org
SUMMARY:Boston 11th Step Open AA Meditation Meeting
DESCRIPTION:30 Minute Meditation\, reading from conference approved lit and group sharing
URL:https://cp12stepoutreach.org/meeting-or-group/boston-11th-step-open-aa-meditation-meeting-2/2027-03-25/
LOCATION:Zoom Meeting
CATEGORIES:Online 11th Step Meditation Meetings
ORGANIZER;CN="Nancy Nichols Kearns":MAILTO:nancynichols1010@yahoo.com
END:VEVENT
BEGIN:VEVENT
DTSTART;TZID=America/New_York:20270401T190000
DTEND;TZID=America/New_York:20270401T203000
DTSTAMP:20260421T050320
CREATED:20250213T213026Z
LAST-MODIFIED:20250213T213044Z
UID:10064994-1806606000-1806611400@cp12stepoutreach.org
SUMMARY:Boston 11th Step Open AA Meditation Meeting
DESCRIPTION:30 Minute Meditation\, reading from conference approved lit and group sharing
URL:https://cp12stepoutreach.org/meeting-or-group/boston-11th-step-open-aa-meditation-meeting-2/2027-04-01/
LOCATION:Zoom Meeting
CATEGORIES:Online 11th Step Meditation Meetings
ORGANIZER;CN="Nancy Nichols Kearns":MAILTO:nancynichols1010@yahoo.com
END:VEVENT
END:VCALENDAR