BEGIN:VCALENDAR
VERSION:2.0
PRODID:-//12 Step Outreach - ECPv6.11.2.1//NONSGML v1.0//EN
CALSCALE:GREGORIAN
METHOD:PUBLISH
X-ORIGINAL-URL:https://cp12stepoutreach.org
X-WR-CALDESC:Events for 12 Step Outreach
REFRESH-INTERVAL;VALUE=DURATION:PT1H
X-Robots-Tag:noindex
X-PUBLISHED-TTL:PT1H
BEGIN:VTIMEZONE
TZID:America/New_York
BEGIN:DAYLIGHT
TZOFFSETFROM:-0500
TZOFFSETTO:-0400
TZNAME:EDT
DTSTART:20280312T070000
END:DAYLIGHT
BEGIN:STANDARD
TZOFFSETFROM:-0400
TZOFFSETTO:-0500
TZNAME:EST
DTSTART:20281105T060000
END:STANDARD
BEGIN:DAYLIGHT
TZOFFSETFROM:-0500
TZOFFSETTO:-0400
TZNAME:EDT
DTSTART:20290311T070000
END:DAYLIGHT
BEGIN:STANDARD
TZOFFSETFROM:-0400
TZOFFSETTO:-0500
TZNAME:EST
DTSTART:20291104T060000
END:STANDARD
END:VTIMEZONE
BEGIN:VEVENT
DTSTART;TZID=America/New_York:20280810T190000
DTEND;TZID=America/New_York:20280810T203000
DTSTAMP:20260421T120152
CREATED:20250213T213026Z
LAST-MODIFIED:20250213T213044Z
UID:10065065-1849546800-1849552200@cp12stepoutreach.org
SUMMARY:Boston 11th Step Open AA Meditation Meeting
DESCRIPTION:30 Minute Meditation\, reading from conference approved lit and group sharing
URL:https://cp12stepoutreach.org/meeting-or-group/boston-11th-step-open-aa-meditation-meeting-2/2028-08-10/
LOCATION:Zoom Meeting
CATEGORIES:Online 11th Step Meditation Meetings
ORGANIZER;CN="Nancy Nichols Kearns":MAILTO:nancynichols1010@yahoo.com
END:VEVENT
BEGIN:VEVENT
DTSTART;TZID=America/New_York:20280817T190000
DTEND;TZID=America/New_York:20280817T203000
DTSTAMP:20260421T120152
CREATED:20250213T213026Z
LAST-MODIFIED:20250213T213044Z
UID:10065066-1850151600-1850157000@cp12stepoutreach.org
SUMMARY:Boston 11th Step Open AA Meditation Meeting
DESCRIPTION:30 Minute Meditation\, reading from conference approved lit and group sharing
URL:https://cp12stepoutreach.org/meeting-or-group/boston-11th-step-open-aa-meditation-meeting-2/2028-08-17/
LOCATION:Zoom Meeting
CATEGORIES:Online 11th Step Meditation Meetings
ORGANIZER;CN="Nancy Nichols Kearns":MAILTO:nancynichols1010@yahoo.com
END:VEVENT
BEGIN:VEVENT
DTSTART;TZID=America/New_York:20280824T190000
DTEND;TZID=America/New_York:20280824T203000
DTSTAMP:20260421T120152
CREATED:20250213T213026Z
LAST-MODIFIED:20250213T213044Z
UID:10065067-1850756400-1850761800@cp12stepoutreach.org
SUMMARY:Boston 11th Step Open AA Meditation Meeting
DESCRIPTION:30 Minute Meditation\, reading from conference approved lit and group sharing
URL:https://cp12stepoutreach.org/meeting-or-group/boston-11th-step-open-aa-meditation-meeting-2/2028-08-24/
LOCATION:Zoom Meeting
CATEGORIES:Online 11th Step Meditation Meetings
ORGANIZER;CN="Nancy Nichols Kearns":MAILTO:nancynichols1010@yahoo.com
END:VEVENT
BEGIN:VEVENT
DTSTART;TZID=America/New_York:20280831T190000
DTEND;TZID=America/New_York:20280831T203000
DTSTAMP:20260421T120152
CREATED:20250213T213026Z
LAST-MODIFIED:20250213T213044Z
UID:10065068-1851361200-1851366600@cp12stepoutreach.org
SUMMARY:Boston 11th Step Open AA Meditation Meeting
DESCRIPTION:30 Minute Meditation\, reading from conference approved lit and group sharing
URL:https://cp12stepoutreach.org/meeting-or-group/boston-11th-step-open-aa-meditation-meeting-2/2028-08-31/
LOCATION:Zoom Meeting
CATEGORIES:Online 11th Step Meditation Meetings
ORGANIZER;CN="Nancy Nichols Kearns":MAILTO:nancynichols1010@yahoo.com
END:VEVENT
BEGIN:VEVENT
DTSTART;TZID=America/New_York:20280907T190000
DTEND;TZID=America/New_York:20280907T203000
DTSTAMP:20260421T120152
CREATED:20250213T213026Z
LAST-MODIFIED:20250213T213044Z
UID:10065069-1851966000-1851971400@cp12stepoutreach.org
SUMMARY:Boston 11th Step Open AA Meditation Meeting
DESCRIPTION:30 Minute Meditation\, reading from conference approved lit and group sharing
URL:https://cp12stepoutreach.org/meeting-or-group/boston-11th-step-open-aa-meditation-meeting-2/2028-09-07/
LOCATION:Zoom Meeting
CATEGORIES:Online 11th Step Meditation Meetings
ORGANIZER;CN="Nancy Nichols Kearns":MAILTO:nancynichols1010@yahoo.com
END:VEVENT
BEGIN:VEVENT
DTSTART;TZID=America/New_York:20280914T190000
DTEND;TZID=America/New_York:20280914T203000
DTSTAMP:20260421T120152
CREATED:20250213T213026Z
LAST-MODIFIED:20250213T213044Z
UID:10065070-1852570800-1852576200@cp12stepoutreach.org
SUMMARY:Boston 11th Step Open AA Meditation Meeting
DESCRIPTION:30 Minute Meditation\, reading from conference approved lit and group sharing
URL:https://cp12stepoutreach.org/meeting-or-group/boston-11th-step-open-aa-meditation-meeting-2/2028-09-14/
LOCATION:Zoom Meeting
CATEGORIES:Online 11th Step Meditation Meetings
ORGANIZER;CN="Nancy Nichols Kearns":MAILTO:nancynichols1010@yahoo.com
END:VEVENT
BEGIN:VEVENT
DTSTART;TZID=America/New_York:20280921T190000
DTEND;TZID=America/New_York:20280921T203000
DTSTAMP:20260421T120152
CREATED:20250213T213026Z
LAST-MODIFIED:20250213T213044Z
UID:10065071-1853175600-1853181000@cp12stepoutreach.org
SUMMARY:Boston 11th Step Open AA Meditation Meeting
DESCRIPTION:30 Minute Meditation\, reading from conference approved lit and group sharing
URL:https://cp12stepoutreach.org/meeting-or-group/boston-11th-step-open-aa-meditation-meeting-2/2028-09-21/
LOCATION:Zoom Meeting
CATEGORIES:Online 11th Step Meditation Meetings
ORGANIZER;CN="Nancy Nichols Kearns":MAILTO:nancynichols1010@yahoo.com
END:VEVENT
BEGIN:VEVENT
DTSTART;TZID=America/New_York:20280928T190000
DTEND;TZID=America/New_York:20280928T203000
DTSTAMP:20260421T120152
CREATED:20250213T213026Z
LAST-MODIFIED:20250213T213044Z
UID:10065072-1853780400-1853785800@cp12stepoutreach.org
SUMMARY:Boston 11th Step Open AA Meditation Meeting
DESCRIPTION:30 Minute Meditation\, reading from conference approved lit and group sharing
URL:https://cp12stepoutreach.org/meeting-or-group/boston-11th-step-open-aa-meditation-meeting-2/2028-09-28/
LOCATION:Zoom Meeting
CATEGORIES:Online 11th Step Meditation Meetings
ORGANIZER;CN="Nancy Nichols Kearns":MAILTO:nancynichols1010@yahoo.com
END:VEVENT
BEGIN:VEVENT
DTSTART;TZID=America/New_York:20281005T190000
DTEND;TZID=America/New_York:20281005T203000
DTSTAMP:20260421T120152
CREATED:20250213T213026Z
LAST-MODIFIED:20250213T213044Z
UID:10065073-1854385200-1854390600@cp12stepoutreach.org
SUMMARY:Boston 11th Step Open AA Meditation Meeting
DESCRIPTION:30 Minute Meditation\, reading from conference approved lit and group sharing
URL:https://cp12stepoutreach.org/meeting-or-group/boston-11th-step-open-aa-meditation-meeting-2/2028-10-05/
LOCATION:Zoom Meeting
CATEGORIES:Online 11th Step Meditation Meetings
ORGANIZER;CN="Nancy Nichols Kearns":MAILTO:nancynichols1010@yahoo.com
END:VEVENT
BEGIN:VEVENT
DTSTART;TZID=America/New_York:20281012T190000
DTEND;TZID=America/New_York:20281012T203000
DTSTAMP:20260421T120152
CREATED:20250213T213026Z
LAST-MODIFIED:20250213T213044Z
UID:10065074-1854990000-1854995400@cp12stepoutreach.org
SUMMARY:Boston 11th Step Open AA Meditation Meeting
DESCRIPTION:30 Minute Meditation\, reading from conference approved lit and group sharing
URL:https://cp12stepoutreach.org/meeting-or-group/boston-11th-step-open-aa-meditation-meeting-2/2028-10-12/
LOCATION:Zoom Meeting
CATEGORIES:Online 11th Step Meditation Meetings
ORGANIZER;CN="Nancy Nichols Kearns":MAILTO:nancynichols1010@yahoo.com
END:VEVENT
BEGIN:VEVENT
DTSTART;TZID=America/New_York:20281019T190000
DTEND;TZID=America/New_York:20281019T203000
DTSTAMP:20260421T120152
CREATED:20250213T213026Z
LAST-MODIFIED:20250213T213044Z
UID:10065075-1855594800-1855600200@cp12stepoutreach.org
SUMMARY:Boston 11th Step Open AA Meditation Meeting
DESCRIPTION:30 Minute Meditation\, reading from conference approved lit and group sharing
URL:https://cp12stepoutreach.org/meeting-or-group/boston-11th-step-open-aa-meditation-meeting-2/2028-10-19/
LOCATION:Zoom Meeting
CATEGORIES:Online 11th Step Meditation Meetings
ORGANIZER;CN="Nancy Nichols Kearns":MAILTO:nancynichols1010@yahoo.com
END:VEVENT
BEGIN:VEVENT
DTSTART;TZID=America/New_York:20281026T190000
DTEND;TZID=America/New_York:20281026T203000
DTSTAMP:20260421T120152
CREATED:20250213T213026Z
LAST-MODIFIED:20250213T213044Z
UID:10065076-1856199600-1856205000@cp12stepoutreach.org
SUMMARY:Boston 11th Step Open AA Meditation Meeting
DESCRIPTION:30 Minute Meditation\, reading from conference approved lit and group sharing
URL:https://cp12stepoutreach.org/meeting-or-group/boston-11th-step-open-aa-meditation-meeting-2/2028-10-26/
LOCATION:Zoom Meeting
CATEGORIES:Online 11th Step Meditation Meetings
ORGANIZER;CN="Nancy Nichols Kearns":MAILTO:nancynichols1010@yahoo.com
END:VEVENT
BEGIN:VEVENT
DTSTART;TZID=America/New_York:20281102T190000
DTEND;TZID=America/New_York:20281102T203000
DTSTAMP:20260421T120152
CREATED:20250213T213026Z
LAST-MODIFIED:20250213T213044Z
UID:10065077-1856804400-1856809800@cp12stepoutreach.org
SUMMARY:Boston 11th Step Open AA Meditation Meeting
DESCRIPTION:30 Minute Meditation\, reading from conference approved lit and group sharing
URL:https://cp12stepoutreach.org/meeting-or-group/boston-11th-step-open-aa-meditation-meeting-2/2028-11-02/
LOCATION:Zoom Meeting
CATEGORIES:Online 11th Step Meditation Meetings
ORGANIZER;CN="Nancy Nichols Kearns":MAILTO:nancynichols1010@yahoo.com
END:VEVENT
BEGIN:VEVENT
DTSTART;TZID=America/New_York:20281109T190000
DTEND;TZID=America/New_York:20281109T203000
DTSTAMP:20260421T120152
CREATED:20250213T213026Z
LAST-MODIFIED:20250213T213044Z
UID:10065078-1857409200-1857414600@cp12stepoutreach.org
SUMMARY:Boston 11th Step Open AA Meditation Meeting
DESCRIPTION:30 Minute Meditation\, reading from conference approved lit and group sharing
URL:https://cp12stepoutreach.org/meeting-or-group/boston-11th-step-open-aa-meditation-meeting-2/2028-11-09/
LOCATION:Zoom Meeting
CATEGORIES:Online 11th Step Meditation Meetings
ORGANIZER;CN="Nancy Nichols Kearns":MAILTO:nancynichols1010@yahoo.com
END:VEVENT
BEGIN:VEVENT
DTSTART;TZID=America/New_York:20281116T190000
DTEND;TZID=America/New_York:20281116T203000
DTSTAMP:20260421T120152
CREATED:20250213T213026Z
LAST-MODIFIED:20250213T213044Z
UID:10065079-1858014000-1858019400@cp12stepoutreach.org
SUMMARY:Boston 11th Step Open AA Meditation Meeting
DESCRIPTION:30 Minute Meditation\, reading from conference approved lit and group sharing
URL:https://cp12stepoutreach.org/meeting-or-group/boston-11th-step-open-aa-meditation-meeting-2/2028-11-16/
LOCATION:Zoom Meeting
CATEGORIES:Online 11th Step Meditation Meetings
ORGANIZER;CN="Nancy Nichols Kearns":MAILTO:nancynichols1010@yahoo.com
END:VEVENT
BEGIN:VEVENT
DTSTART;TZID=America/New_York:20281123T190000
DTEND;TZID=America/New_York:20281123T203000
DTSTAMP:20260421T120152
CREATED:20250213T213026Z
LAST-MODIFIED:20250213T213044Z
UID:10065080-1858618800-1858624200@cp12stepoutreach.org
SUMMARY:Boston 11th Step Open AA Meditation Meeting
DESCRIPTION:30 Minute Meditation\, reading from conference approved lit and group sharing
URL:https://cp12stepoutreach.org/meeting-or-group/boston-11th-step-open-aa-meditation-meeting-2/2028-11-23/
LOCATION:Zoom Meeting
CATEGORIES:Online 11th Step Meditation Meetings
ORGANIZER;CN="Nancy Nichols Kearns":MAILTO:nancynichols1010@yahoo.com
END:VEVENT
BEGIN:VEVENT
DTSTART;TZID=America/New_York:20281130T190000
DTEND;TZID=America/New_York:20281130T203000
DTSTAMP:20260421T120152
CREATED:20250213T213026Z
LAST-MODIFIED:20250213T213044Z
UID:10065081-1859223600-1859229000@cp12stepoutreach.org
SUMMARY:Boston 11th Step Open AA Meditation Meeting
DESCRIPTION:30 Minute Meditation\, reading from conference approved lit and group sharing
URL:https://cp12stepoutreach.org/meeting-or-group/boston-11th-step-open-aa-meditation-meeting-2/2028-11-30/
LOCATION:Zoom Meeting
CATEGORIES:Online 11th Step Meditation Meetings
ORGANIZER;CN="Nancy Nichols Kearns":MAILTO:nancynichols1010@yahoo.com
END:VEVENT
BEGIN:VEVENT
DTSTART;TZID=America/New_York:20281207T190000
DTEND;TZID=America/New_York:20281207T203000
DTSTAMP:20260421T120152
CREATED:20250213T213026Z
LAST-MODIFIED:20250213T213044Z
UID:10065082-1859828400-1859833800@cp12stepoutreach.org
SUMMARY:Boston 11th Step Open AA Meditation Meeting
DESCRIPTION:30 Minute Meditation\, reading from conference approved lit and group sharing
URL:https://cp12stepoutreach.org/meeting-or-group/boston-11th-step-open-aa-meditation-meeting-2/2028-12-07/
LOCATION:Zoom Meeting
CATEGORIES:Online 11th Step Meditation Meetings
ORGANIZER;CN="Nancy Nichols Kearns":MAILTO:nancynichols1010@yahoo.com
END:VEVENT
BEGIN:VEVENT
DTSTART;TZID=America/New_York:20281214T190000
DTEND;TZID=America/New_York:20281214T203000
DTSTAMP:20260421T120152
CREATED:20250213T213026Z
LAST-MODIFIED:20250213T213044Z
UID:10065083-1860433200-1860438600@cp12stepoutreach.org
SUMMARY:Boston 11th Step Open AA Meditation Meeting
DESCRIPTION:30 Minute Meditation\, reading from conference approved lit and group sharing
URL:https://cp12stepoutreach.org/meeting-or-group/boston-11th-step-open-aa-meditation-meeting-2/2028-12-14/
LOCATION:Zoom Meeting
CATEGORIES:Online 11th Step Meditation Meetings
ORGANIZER;CN="Nancy Nichols Kearns":MAILTO:nancynichols1010@yahoo.com
END:VEVENT
BEGIN:VEVENT
DTSTART;TZID=America/New_York:20281221T190000
DTEND;TZID=America/New_York:20281221T203000
DTSTAMP:20260421T120152
CREATED:20250213T213026Z
LAST-MODIFIED:20250213T213044Z
UID:10065084-1861038000-1861043400@cp12stepoutreach.org
SUMMARY:Boston 11th Step Open AA Meditation Meeting
DESCRIPTION:30 Minute Meditation\, reading from conference approved lit and group sharing
URL:https://cp12stepoutreach.org/meeting-or-group/boston-11th-step-open-aa-meditation-meeting-2/2028-12-21/
LOCATION:Zoom Meeting
CATEGORIES:Online 11th Step Meditation Meetings
ORGANIZER;CN="Nancy Nichols Kearns":MAILTO:nancynichols1010@yahoo.com
END:VEVENT
BEGIN:VEVENT
DTSTART;TZID=America/New_York:20281228T190000
DTEND;TZID=America/New_York:20281228T203000
DTSTAMP:20260421T120152
CREATED:20250213T213026Z
LAST-MODIFIED:20250213T213044Z
UID:10065085-1861642800-1861648200@cp12stepoutreach.org
SUMMARY:Boston 11th Step Open AA Meditation Meeting
DESCRIPTION:30 Minute Meditation\, reading from conference approved lit and group sharing
URL:https://cp12stepoutreach.org/meeting-or-group/boston-11th-step-open-aa-meditation-meeting-2/2028-12-28/
LOCATION:Zoom Meeting
CATEGORIES:Online 11th Step Meditation Meetings
ORGANIZER;CN="Nancy Nichols Kearns":MAILTO:nancynichols1010@yahoo.com
END:VEVENT
BEGIN:VEVENT
DTSTART;TZID=America/New_York:20290104T190000
DTEND;TZID=America/New_York:20290104T203000
DTSTAMP:20260421T120152
CREATED:20250213T213026Z
LAST-MODIFIED:20250213T213044Z
UID:10065086-1862247600-1862253000@cp12stepoutreach.org
SUMMARY:Boston 11th Step Open AA Meditation Meeting
DESCRIPTION:30 Minute Meditation\, reading from conference approved lit and group sharing
URL:https://cp12stepoutreach.org/meeting-or-group/boston-11th-step-open-aa-meditation-meeting-2/2029-01-04/
LOCATION:Zoom Meeting
CATEGORIES:Online 11th Step Meditation Meetings
ORGANIZER;CN="Nancy Nichols Kearns":MAILTO:nancynichols1010@yahoo.com
END:VEVENT
BEGIN:VEVENT
DTSTART;TZID=America/New_York:20290111T190000
DTEND;TZID=America/New_York:20290111T203000
DTSTAMP:20260421T120152
CREATED:20250213T213026Z
LAST-MODIFIED:20250213T213044Z
UID:10065087-1862852400-1862857800@cp12stepoutreach.org
SUMMARY:Boston 11th Step Open AA Meditation Meeting
DESCRIPTION:30 Minute Meditation\, reading from conference approved lit and group sharing
URL:https://cp12stepoutreach.org/meeting-or-group/boston-11th-step-open-aa-meditation-meeting-2/2029-01-11/
LOCATION:Zoom Meeting
CATEGORIES:Online 11th Step Meditation Meetings
ORGANIZER;CN="Nancy Nichols Kearns":MAILTO:nancynichols1010@yahoo.com
END:VEVENT
BEGIN:VEVENT
DTSTART;TZID=America/New_York:20290118T190000
DTEND;TZID=America/New_York:20290118T203000
DTSTAMP:20260421T120152
CREATED:20250213T213026Z
LAST-MODIFIED:20250213T213044Z
UID:10065088-1863457200-1863462600@cp12stepoutreach.org
SUMMARY:Boston 11th Step Open AA Meditation Meeting
DESCRIPTION:30 Minute Meditation\, reading from conference approved lit and group sharing
URL:https://cp12stepoutreach.org/meeting-or-group/boston-11th-step-open-aa-meditation-meeting-2/2029-01-18/
LOCATION:Zoom Meeting
CATEGORIES:Online 11th Step Meditation Meetings
ORGANIZER;CN="Nancy Nichols Kearns":MAILTO:nancynichols1010@yahoo.com
END:VEVENT
BEGIN:VEVENT
DTSTART;TZID=America/New_York:20290125T190000
DTEND;TZID=America/New_York:20290125T203000
DTSTAMP:20260421T120152
CREATED:20250213T213026Z
LAST-MODIFIED:20250213T213044Z
UID:10065089-1864062000-1864067400@cp12stepoutreach.org
SUMMARY:Boston 11th Step Open AA Meditation Meeting
DESCRIPTION:30 Minute Meditation\, reading from conference approved lit and group sharing
URL:https://cp12stepoutreach.org/meeting-or-group/boston-11th-step-open-aa-meditation-meeting-2/2029-01-25/
LOCATION:Zoom Meeting
CATEGORIES:Online 11th Step Meditation Meetings
ORGANIZER;CN="Nancy Nichols Kearns":MAILTO:nancynichols1010@yahoo.com
END:VEVENT
BEGIN:VEVENT
DTSTART;TZID=America/New_York:20290201T190000
DTEND;TZID=America/New_York:20290201T203000
DTSTAMP:20260421T120152
CREATED:20250213T213026Z
LAST-MODIFIED:20250213T213044Z
UID:10065090-1864666800-1864672200@cp12stepoutreach.org
SUMMARY:Boston 11th Step Open AA Meditation Meeting
DESCRIPTION:30 Minute Meditation\, reading from conference approved lit and group sharing
URL:https://cp12stepoutreach.org/meeting-or-group/boston-11th-step-open-aa-meditation-meeting-2/2029-02-01/
LOCATION:Zoom Meeting
CATEGORIES:Online 11th Step Meditation Meetings
ORGANIZER;CN="Nancy Nichols Kearns":MAILTO:nancynichols1010@yahoo.com
END:VEVENT
BEGIN:VEVENT
DTSTART;TZID=America/New_York:20290208T190000
DTEND;TZID=America/New_York:20290208T203000
DTSTAMP:20260421T120152
CREATED:20250213T213026Z
LAST-MODIFIED:20250213T213044Z
UID:10065091-1865271600-1865277000@cp12stepoutreach.org
SUMMARY:Boston 11th Step Open AA Meditation Meeting
DESCRIPTION:30 Minute Meditation\, reading from conference approved lit and group sharing
URL:https://cp12stepoutreach.org/meeting-or-group/boston-11th-step-open-aa-meditation-meeting-2/2029-02-08/
LOCATION:Zoom Meeting
CATEGORIES:Online 11th Step Meditation Meetings
ORGANIZER;CN="Nancy Nichols Kearns":MAILTO:nancynichols1010@yahoo.com
END:VEVENT
BEGIN:VEVENT
DTSTART;TZID=America/New_York:20290215T190000
DTEND;TZID=America/New_York:20290215T203000
DTSTAMP:20260421T120152
CREATED:20250213T213026Z
LAST-MODIFIED:20250213T213044Z
UID:10065092-1865876400-1865881800@cp12stepoutreach.org
SUMMARY:Boston 11th Step Open AA Meditation Meeting
DESCRIPTION:30 Minute Meditation\, reading from conference approved lit and group sharing
URL:https://cp12stepoutreach.org/meeting-or-group/boston-11th-step-open-aa-meditation-meeting-2/2029-02-15/
LOCATION:Zoom Meeting
CATEGORIES:Online 11th Step Meditation Meetings
ORGANIZER;CN="Nancy Nichols Kearns":MAILTO:nancynichols1010@yahoo.com
END:VEVENT
BEGIN:VEVENT
DTSTART;TZID=America/New_York:20290222T190000
DTEND;TZID=America/New_York:20290222T203000
DTSTAMP:20260421T120152
CREATED:20250213T213026Z
LAST-MODIFIED:20250213T213044Z
UID:10065093-1866481200-1866486600@cp12stepoutreach.org
SUMMARY:Boston 11th Step Open AA Meditation Meeting
DESCRIPTION:30 Minute Meditation\, reading from conference approved lit and group sharing
URL:https://cp12stepoutreach.org/meeting-or-group/boston-11th-step-open-aa-meditation-meeting-2/2029-02-22/
LOCATION:Zoom Meeting
CATEGORIES:Online 11th Step Meditation Meetings
ORGANIZER;CN="Nancy Nichols Kearns":MAILTO:nancynichols1010@yahoo.com
END:VEVENT
BEGIN:VEVENT
DTSTART;TZID=America/New_York:20290301T190000
DTEND;TZID=America/New_York:20290301T203000
DTSTAMP:20260421T120152
CREATED:20250213T213026Z
LAST-MODIFIED:20250213T213044Z
UID:10065094-1867086000-1867091400@cp12stepoutreach.org
SUMMARY:Boston 11th Step Open AA Meditation Meeting
DESCRIPTION:30 Minute Meditation\, reading from conference approved lit and group sharing
URL:https://cp12stepoutreach.org/meeting-or-group/boston-11th-step-open-aa-meditation-meeting-2/2029-03-01/
LOCATION:Zoom Meeting
CATEGORIES:Online 11th Step Meditation Meetings
ORGANIZER;CN="Nancy Nichols Kearns":MAILTO:nancynichols1010@yahoo.com
END:VEVENT
END:VCALENDAR