BEGIN:VCALENDAR
VERSION:2.0
PRODID:-//12 Step Outreach - ECPv6.11.2.1//NONSGML v1.0//EN
CALSCALE:GREGORIAN
METHOD:PUBLISH
X-WR-CALNAME:12 Step Outreach
X-ORIGINAL-URL:https://cp12stepoutreach.org
X-WR-CALDESC:Events for 12 Step Outreach
REFRESH-INTERVAL;VALUE=DURATION:PT1H
X-Robots-Tag:noindex
X-PUBLISHED-TTL:PT1H
BEGIN:VTIMEZONE
TZID:America/New_York
BEGIN:DAYLIGHT
TZOFFSETFROM:-0500
TZOFFSETTO:-0400
TZNAME:EDT
DTSTART:20280312T070000
END:DAYLIGHT
BEGIN:STANDARD
TZOFFSETFROM:-0400
TZOFFSETTO:-0500
TZNAME:EST
DTSTART:20281105T060000
END:STANDARD
BEGIN:DAYLIGHT
TZOFFSETFROM:-0500
TZOFFSETTO:-0400
TZNAME:EDT
DTSTART:20290311T070000
END:DAYLIGHT
BEGIN:STANDARD
TZOFFSETFROM:-0400
TZOFFSETTO:-0500
TZNAME:EST
DTSTART:20291104T060000
END:STANDARD
END:VTIMEZONE
BEGIN:VEVENT
DTSTART;TZID=America/New_York:20281228T190000
DTEND;TZID=America/New_York:20281228T203000
DTSTAMP:20260421T132544
CREATED:20250213T213026Z
LAST-MODIFIED:20250213T213044Z
UID:10065085-1861642800-1861648200@cp12stepoutreach.org
SUMMARY:Boston 11th Step Open AA Meditation Meeting
DESCRIPTION:30 Minute Meditation\, reading from conference approved lit and group sharing
URL:https://cp12stepoutreach.org/meeting-or-group/boston-11th-step-open-aa-meditation-meeting-2/2028-12-28/
LOCATION:Zoom Meeting
CATEGORIES:Online 11th Step Meditation Meetings
ORGANIZER;CN="Nancy Nichols Kearns":MAILTO:nancynichols1010@yahoo.com
END:VEVENT
BEGIN:VEVENT
DTSTART;TZID=America/New_York:20290104T190000
DTEND;TZID=America/New_York:20290104T203000
DTSTAMP:20260421T132544
CREATED:20250213T213026Z
LAST-MODIFIED:20250213T213044Z
UID:10065086-1862247600-1862253000@cp12stepoutreach.org
SUMMARY:Boston 11th Step Open AA Meditation Meeting
DESCRIPTION:30 Minute Meditation\, reading from conference approved lit and group sharing
URL:https://cp12stepoutreach.org/meeting-or-group/boston-11th-step-open-aa-meditation-meeting-2/2029-01-04/
LOCATION:Zoom Meeting
CATEGORIES:Online 11th Step Meditation Meetings
ORGANIZER;CN="Nancy Nichols Kearns":MAILTO:nancynichols1010@yahoo.com
END:VEVENT
BEGIN:VEVENT
DTSTART;TZID=America/New_York:20290111T190000
DTEND;TZID=America/New_York:20290111T203000
DTSTAMP:20260421T132544
CREATED:20250213T213026Z
LAST-MODIFIED:20250213T213044Z
UID:10065087-1862852400-1862857800@cp12stepoutreach.org
SUMMARY:Boston 11th Step Open AA Meditation Meeting
DESCRIPTION:30 Minute Meditation\, reading from conference approved lit and group sharing
URL:https://cp12stepoutreach.org/meeting-or-group/boston-11th-step-open-aa-meditation-meeting-2/2029-01-11/
LOCATION:Zoom Meeting
CATEGORIES:Online 11th Step Meditation Meetings
ORGANIZER;CN="Nancy Nichols Kearns":MAILTO:nancynichols1010@yahoo.com
END:VEVENT
BEGIN:VEVENT
DTSTART;TZID=America/New_York:20290118T190000
DTEND;TZID=America/New_York:20290118T203000
DTSTAMP:20260421T132544
CREATED:20250213T213026Z
LAST-MODIFIED:20250213T213044Z
UID:10065088-1863457200-1863462600@cp12stepoutreach.org
SUMMARY:Boston 11th Step Open AA Meditation Meeting
DESCRIPTION:30 Minute Meditation\, reading from conference approved lit and group sharing
URL:https://cp12stepoutreach.org/meeting-or-group/boston-11th-step-open-aa-meditation-meeting-2/2029-01-18/
LOCATION:Zoom Meeting
CATEGORIES:Online 11th Step Meditation Meetings
ORGANIZER;CN="Nancy Nichols Kearns":MAILTO:nancynichols1010@yahoo.com
END:VEVENT
BEGIN:VEVENT
DTSTART;TZID=America/New_York:20290125T190000
DTEND;TZID=America/New_York:20290125T203000
DTSTAMP:20260421T132544
CREATED:20250213T213026Z
LAST-MODIFIED:20250213T213044Z
UID:10065089-1864062000-1864067400@cp12stepoutreach.org
SUMMARY:Boston 11th Step Open AA Meditation Meeting
DESCRIPTION:30 Minute Meditation\, reading from conference approved lit and group sharing
URL:https://cp12stepoutreach.org/meeting-or-group/boston-11th-step-open-aa-meditation-meeting-2/2029-01-25/
LOCATION:Zoom Meeting
CATEGORIES:Online 11th Step Meditation Meetings
ORGANIZER;CN="Nancy Nichols Kearns":MAILTO:nancynichols1010@yahoo.com
END:VEVENT
BEGIN:VEVENT
DTSTART;TZID=America/New_York:20290201T190000
DTEND;TZID=America/New_York:20290201T203000
DTSTAMP:20260421T132544
CREATED:20250213T213026Z
LAST-MODIFIED:20250213T213044Z
UID:10065090-1864666800-1864672200@cp12stepoutreach.org
SUMMARY:Boston 11th Step Open AA Meditation Meeting
DESCRIPTION:30 Minute Meditation\, reading from conference approved lit and group sharing
URL:https://cp12stepoutreach.org/meeting-or-group/boston-11th-step-open-aa-meditation-meeting-2/2029-02-01/
LOCATION:Zoom Meeting
CATEGORIES:Online 11th Step Meditation Meetings
ORGANIZER;CN="Nancy Nichols Kearns":MAILTO:nancynichols1010@yahoo.com
END:VEVENT
BEGIN:VEVENT
DTSTART;TZID=America/New_York:20290208T190000
DTEND;TZID=America/New_York:20290208T203000
DTSTAMP:20260421T132544
CREATED:20250213T213026Z
LAST-MODIFIED:20250213T213044Z
UID:10065091-1865271600-1865277000@cp12stepoutreach.org
SUMMARY:Boston 11th Step Open AA Meditation Meeting
DESCRIPTION:30 Minute Meditation\, reading from conference approved lit and group sharing
URL:https://cp12stepoutreach.org/meeting-or-group/boston-11th-step-open-aa-meditation-meeting-2/2029-02-08/
LOCATION:Zoom Meeting
CATEGORIES:Online 11th Step Meditation Meetings
ORGANIZER;CN="Nancy Nichols Kearns":MAILTO:nancynichols1010@yahoo.com
END:VEVENT
BEGIN:VEVENT
DTSTART;TZID=America/New_York:20290215T190000
DTEND;TZID=America/New_York:20290215T203000
DTSTAMP:20260421T132544
CREATED:20250213T213026Z
LAST-MODIFIED:20250213T213044Z
UID:10065092-1865876400-1865881800@cp12stepoutreach.org
SUMMARY:Boston 11th Step Open AA Meditation Meeting
DESCRIPTION:30 Minute Meditation\, reading from conference approved lit and group sharing
URL:https://cp12stepoutreach.org/meeting-or-group/boston-11th-step-open-aa-meditation-meeting-2/2029-02-15/
LOCATION:Zoom Meeting
CATEGORIES:Online 11th Step Meditation Meetings
ORGANIZER;CN="Nancy Nichols Kearns":MAILTO:nancynichols1010@yahoo.com
END:VEVENT
BEGIN:VEVENT
DTSTART;TZID=America/New_York:20290222T190000
DTEND;TZID=America/New_York:20290222T203000
DTSTAMP:20260421T132544
CREATED:20250213T213026Z
LAST-MODIFIED:20250213T213044Z
UID:10065093-1866481200-1866486600@cp12stepoutreach.org
SUMMARY:Boston 11th Step Open AA Meditation Meeting
DESCRIPTION:30 Minute Meditation\, reading from conference approved lit and group sharing
URL:https://cp12stepoutreach.org/meeting-or-group/boston-11th-step-open-aa-meditation-meeting-2/2029-02-22/
LOCATION:Zoom Meeting
CATEGORIES:Online 11th Step Meditation Meetings
ORGANIZER;CN="Nancy Nichols Kearns":MAILTO:nancynichols1010@yahoo.com
END:VEVENT
BEGIN:VEVENT
DTSTART;TZID=America/New_York:20290301T190000
DTEND;TZID=America/New_York:20290301T203000
DTSTAMP:20260421T132544
CREATED:20250213T213026Z
LAST-MODIFIED:20250213T213044Z
UID:10065094-1867086000-1867091400@cp12stepoutreach.org
SUMMARY:Boston 11th Step Open AA Meditation Meeting
DESCRIPTION:30 Minute Meditation\, reading from conference approved lit and group sharing
URL:https://cp12stepoutreach.org/meeting-or-group/boston-11th-step-open-aa-meditation-meeting-2/2029-03-01/
LOCATION:Zoom Meeting
CATEGORIES:Online 11th Step Meditation Meetings
ORGANIZER;CN="Nancy Nichols Kearns":MAILTO:nancynichols1010@yahoo.com
END:VEVENT
BEGIN:VEVENT
DTSTART;TZID=America/New_York:20290308T190000
DTEND;TZID=America/New_York:20290308T203000
DTSTAMP:20260421T132544
CREATED:20250213T213026Z
LAST-MODIFIED:20250213T213044Z
UID:10065095-1867690800-1867696200@cp12stepoutreach.org
SUMMARY:Boston 11th Step Open AA Meditation Meeting
DESCRIPTION:30 Minute Meditation\, reading from conference approved lit and group sharing
URL:https://cp12stepoutreach.org/meeting-or-group/boston-11th-step-open-aa-meditation-meeting-2/2029-03-08/
LOCATION:Zoom Meeting
CATEGORIES:Online 11th Step Meditation Meetings
ORGANIZER;CN="Nancy Nichols Kearns":MAILTO:nancynichols1010@yahoo.com
END:VEVENT
BEGIN:VEVENT
DTSTART;TZID=America/New_York:20290315T190000
DTEND;TZID=America/New_York:20290315T203000
DTSTAMP:20260421T132544
CREATED:20250213T213026Z
LAST-MODIFIED:20250213T213044Z
UID:10065096-1868295600-1868301000@cp12stepoutreach.org
SUMMARY:Boston 11th Step Open AA Meditation Meeting
DESCRIPTION:30 Minute Meditation\, reading from conference approved lit and group sharing
URL:https://cp12stepoutreach.org/meeting-or-group/boston-11th-step-open-aa-meditation-meeting-2/2029-03-15/
LOCATION:Zoom Meeting
CATEGORIES:Online 11th Step Meditation Meetings
ORGANIZER;CN="Nancy Nichols Kearns":MAILTO:nancynichols1010@yahoo.com
END:VEVENT
BEGIN:VEVENT
DTSTART;TZID=America/New_York:20290322T190000
DTEND;TZID=America/New_York:20290322T203000
DTSTAMP:20260421T132544
CREATED:20250213T213026Z
LAST-MODIFIED:20250213T213044Z
UID:10065097-1868900400-1868905800@cp12stepoutreach.org
SUMMARY:Boston 11th Step Open AA Meditation Meeting
DESCRIPTION:30 Minute Meditation\, reading from conference approved lit and group sharing
URL:https://cp12stepoutreach.org/meeting-or-group/boston-11th-step-open-aa-meditation-meeting-2/2029-03-22/
LOCATION:Zoom Meeting
CATEGORIES:Online 11th Step Meditation Meetings
ORGANIZER;CN="Nancy Nichols Kearns":MAILTO:nancynichols1010@yahoo.com
END:VEVENT
BEGIN:VEVENT
DTSTART;TZID=America/New_York:20290329T190000
DTEND;TZID=America/New_York:20290329T203000
DTSTAMP:20260421T132544
CREATED:20250213T213026Z
LAST-MODIFIED:20250213T213044Z
UID:10065098-1869505200-1869510600@cp12stepoutreach.org
SUMMARY:Boston 11th Step Open AA Meditation Meeting
DESCRIPTION:30 Minute Meditation\, reading from conference approved lit and group sharing
URL:https://cp12stepoutreach.org/meeting-or-group/boston-11th-step-open-aa-meditation-meeting-2/2029-03-29/
LOCATION:Zoom Meeting
CATEGORIES:Online 11th Step Meditation Meetings
ORGANIZER;CN="Nancy Nichols Kearns":MAILTO:nancynichols1010@yahoo.com
END:VEVENT
BEGIN:VEVENT
DTSTART;TZID=America/New_York:20290405T190000
DTEND;TZID=America/New_York:20290405T203000
DTSTAMP:20260421T132544
CREATED:20250213T213026Z
LAST-MODIFIED:20250213T213044Z
UID:10065099-1870110000-1870115400@cp12stepoutreach.org
SUMMARY:Boston 11th Step Open AA Meditation Meeting
DESCRIPTION:30 Minute Meditation\, reading from conference approved lit and group sharing
URL:https://cp12stepoutreach.org/meeting-or-group/boston-11th-step-open-aa-meditation-meeting-2/2029-04-05/
LOCATION:Zoom Meeting
CATEGORIES:Online 11th Step Meditation Meetings
ORGANIZER;CN="Nancy Nichols Kearns":MAILTO:nancynichols1010@yahoo.com
END:VEVENT
BEGIN:VEVENT
DTSTART;TZID=America/New_York:20290412T190000
DTEND;TZID=America/New_York:20290412T203000
DTSTAMP:20260421T132544
CREATED:20250213T213026Z
LAST-MODIFIED:20250213T213044Z
UID:10065100-1870714800-1870720200@cp12stepoutreach.org
SUMMARY:Boston 11th Step Open AA Meditation Meeting
DESCRIPTION:30 Minute Meditation\, reading from conference approved lit and group sharing
URL:https://cp12stepoutreach.org/meeting-or-group/boston-11th-step-open-aa-meditation-meeting-2/2029-04-12/
LOCATION:Zoom Meeting
CATEGORIES:Online 11th Step Meditation Meetings
ORGANIZER;CN="Nancy Nichols Kearns":MAILTO:nancynichols1010@yahoo.com
END:VEVENT
BEGIN:VEVENT
DTSTART;TZID=America/New_York:20290419T190000
DTEND;TZID=America/New_York:20290419T203000
DTSTAMP:20260421T132544
CREATED:20250213T213026Z
LAST-MODIFIED:20250213T213044Z
UID:10065101-1871319600-1871325000@cp12stepoutreach.org
SUMMARY:Boston 11th Step Open AA Meditation Meeting
DESCRIPTION:30 Minute Meditation\, reading from conference approved lit and group sharing
URL:https://cp12stepoutreach.org/meeting-or-group/boston-11th-step-open-aa-meditation-meeting-2/2029-04-19/
LOCATION:Zoom Meeting
CATEGORIES:Online 11th Step Meditation Meetings
ORGANIZER;CN="Nancy Nichols Kearns":MAILTO:nancynichols1010@yahoo.com
END:VEVENT
BEGIN:VEVENT
DTSTART;TZID=America/New_York:20290426T190000
DTEND;TZID=America/New_York:20290426T203000
DTSTAMP:20260421T132544
CREATED:20250213T213026Z
LAST-MODIFIED:20250213T213044Z
UID:10065102-1871924400-1871929800@cp12stepoutreach.org
SUMMARY:Boston 11th Step Open AA Meditation Meeting
DESCRIPTION:30 Minute Meditation\, reading from conference approved lit and group sharing
URL:https://cp12stepoutreach.org/meeting-or-group/boston-11th-step-open-aa-meditation-meeting-2/2029-04-26/
LOCATION:Zoom Meeting
CATEGORIES:Online 11th Step Meditation Meetings
ORGANIZER;CN="Nancy Nichols Kearns":MAILTO:nancynichols1010@yahoo.com
END:VEVENT
BEGIN:VEVENT
DTSTART;TZID=America/New_York:20290503T190000
DTEND;TZID=America/New_York:20290503T203000
DTSTAMP:20260421T132544
CREATED:20250213T213026Z
LAST-MODIFIED:20250213T213044Z
UID:10065103-1872529200-1872534600@cp12stepoutreach.org
SUMMARY:Boston 11th Step Open AA Meditation Meeting
DESCRIPTION:30 Minute Meditation\, reading from conference approved lit and group sharing
URL:https://cp12stepoutreach.org/meeting-or-group/boston-11th-step-open-aa-meditation-meeting-2/2029-05-03/
LOCATION:Zoom Meeting
CATEGORIES:Online 11th Step Meditation Meetings
ORGANIZER;CN="Nancy Nichols Kearns":MAILTO:nancynichols1010@yahoo.com
END:VEVENT
BEGIN:VEVENT
DTSTART;TZID=America/New_York:20290510T190000
DTEND;TZID=America/New_York:20290510T203000
DTSTAMP:20260421T132544
CREATED:20250213T213026Z
LAST-MODIFIED:20250213T213044Z
UID:10065104-1873134000-1873139400@cp12stepoutreach.org
SUMMARY:Boston 11th Step Open AA Meditation Meeting
DESCRIPTION:30 Minute Meditation\, reading from conference approved lit and group sharing
URL:https://cp12stepoutreach.org/meeting-or-group/boston-11th-step-open-aa-meditation-meeting-2/2029-05-10/
LOCATION:Zoom Meeting
CATEGORIES:Online 11th Step Meditation Meetings
ORGANIZER;CN="Nancy Nichols Kearns":MAILTO:nancynichols1010@yahoo.com
END:VEVENT
BEGIN:VEVENT
DTSTART;TZID=America/New_York:20290517T190000
DTEND;TZID=America/New_York:20290517T203000
DTSTAMP:20260421T132544
CREATED:20250213T213026Z
LAST-MODIFIED:20250213T213044Z
UID:10065105-1873738800-1873744200@cp12stepoutreach.org
SUMMARY:Boston 11th Step Open AA Meditation Meeting
DESCRIPTION:30 Minute Meditation\, reading from conference approved lit and group sharing
URL:https://cp12stepoutreach.org/meeting-or-group/boston-11th-step-open-aa-meditation-meeting-2/2029-05-17/
LOCATION:Zoom Meeting
CATEGORIES:Online 11th Step Meditation Meetings
ORGANIZER;CN="Nancy Nichols Kearns":MAILTO:nancynichols1010@yahoo.com
END:VEVENT
BEGIN:VEVENT
DTSTART;TZID=America/New_York:20290524T190000
DTEND;TZID=America/New_York:20290524T203000
DTSTAMP:20260421T132544
CREATED:20250213T213026Z
LAST-MODIFIED:20250213T213044Z
UID:10065106-1874343600-1874349000@cp12stepoutreach.org
SUMMARY:Boston 11th Step Open AA Meditation Meeting
DESCRIPTION:30 Minute Meditation\, reading from conference approved lit and group sharing
URL:https://cp12stepoutreach.org/meeting-or-group/boston-11th-step-open-aa-meditation-meeting-2/2029-05-24/
LOCATION:Zoom Meeting
CATEGORIES:Online 11th Step Meditation Meetings
ORGANIZER;CN="Nancy Nichols Kearns":MAILTO:nancynichols1010@yahoo.com
END:VEVENT
BEGIN:VEVENT
DTSTART;TZID=America/New_York:20290531T190000
DTEND;TZID=America/New_York:20290531T203000
DTSTAMP:20260421T132544
CREATED:20250213T213026Z
LAST-MODIFIED:20250213T213044Z
UID:10065107-1874948400-1874953800@cp12stepoutreach.org
SUMMARY:Boston 11th Step Open AA Meditation Meeting
DESCRIPTION:30 Minute Meditation\, reading from conference approved lit and group sharing
URL:https://cp12stepoutreach.org/meeting-or-group/boston-11th-step-open-aa-meditation-meeting-2/2029-05-31/
LOCATION:Zoom Meeting
CATEGORIES:Online 11th Step Meditation Meetings
ORGANIZER;CN="Nancy Nichols Kearns":MAILTO:nancynichols1010@yahoo.com
END:VEVENT
BEGIN:VEVENT
DTSTART;TZID=America/New_York:20290607T190000
DTEND;TZID=America/New_York:20290607T203000
DTSTAMP:20260421T132544
CREATED:20250213T213026Z
LAST-MODIFIED:20250213T213044Z
UID:10065108-1875553200-1875558600@cp12stepoutreach.org
SUMMARY:Boston 11th Step Open AA Meditation Meeting
DESCRIPTION:30 Minute Meditation\, reading from conference approved lit and group sharing
URL:https://cp12stepoutreach.org/meeting-or-group/boston-11th-step-open-aa-meditation-meeting-2/2029-06-07/
LOCATION:Zoom Meeting
CATEGORIES:Online 11th Step Meditation Meetings
ORGANIZER;CN="Nancy Nichols Kearns":MAILTO:nancynichols1010@yahoo.com
END:VEVENT
BEGIN:VEVENT
DTSTART;TZID=America/New_York:20290614T190000
DTEND;TZID=America/New_York:20290614T203000
DTSTAMP:20260421T132544
CREATED:20250213T213026Z
LAST-MODIFIED:20250213T213044Z
UID:10065109-1876158000-1876163400@cp12stepoutreach.org
SUMMARY:Boston 11th Step Open AA Meditation Meeting
DESCRIPTION:30 Minute Meditation\, reading from conference approved lit and group sharing
URL:https://cp12stepoutreach.org/meeting-or-group/boston-11th-step-open-aa-meditation-meeting-2/2029-06-14/
LOCATION:Zoom Meeting
CATEGORIES:Online 11th Step Meditation Meetings
ORGANIZER;CN="Nancy Nichols Kearns":MAILTO:nancynichols1010@yahoo.com
END:VEVENT
BEGIN:VEVENT
DTSTART;TZID=America/New_York:20290621T190000
DTEND;TZID=America/New_York:20290621T203000
DTSTAMP:20260421T132544
CREATED:20250213T213026Z
LAST-MODIFIED:20250213T213044Z
UID:10065110-1876762800-1876768200@cp12stepoutreach.org
SUMMARY:Boston 11th Step Open AA Meditation Meeting
DESCRIPTION:30 Minute Meditation\, reading from conference approved lit and group sharing
URL:https://cp12stepoutreach.org/meeting-or-group/boston-11th-step-open-aa-meditation-meeting-2/2029-06-21/
LOCATION:Zoom Meeting
CATEGORIES:Online 11th Step Meditation Meetings
ORGANIZER;CN="Nancy Nichols Kearns":MAILTO:nancynichols1010@yahoo.com
END:VEVENT
BEGIN:VEVENT
DTSTART;TZID=America/New_York:20290628T190000
DTEND;TZID=America/New_York:20290628T203000
DTSTAMP:20260421T132544
CREATED:20250213T213026Z
LAST-MODIFIED:20250213T213044Z
UID:10065111-1877367600-1877373000@cp12stepoutreach.org
SUMMARY:Boston 11th Step Open AA Meditation Meeting
DESCRIPTION:30 Minute Meditation\, reading from conference approved lit and group sharing
URL:https://cp12stepoutreach.org/meeting-or-group/boston-11th-step-open-aa-meditation-meeting-2/2029-06-28/
LOCATION:Zoom Meeting
CATEGORIES:Online 11th Step Meditation Meetings
ORGANIZER;CN="Nancy Nichols Kearns":MAILTO:nancynichols1010@yahoo.com
END:VEVENT
BEGIN:VEVENT
DTSTART;TZID=America/New_York:20290705T190000
DTEND;TZID=America/New_York:20290705T203000
DTSTAMP:20260421T132544
CREATED:20250213T213026Z
LAST-MODIFIED:20250213T213044Z
UID:10065112-1877972400-1877977800@cp12stepoutreach.org
SUMMARY:Boston 11th Step Open AA Meditation Meeting
DESCRIPTION:30 Minute Meditation\, reading from conference approved lit and group sharing
URL:https://cp12stepoutreach.org/meeting-or-group/boston-11th-step-open-aa-meditation-meeting-2/2029-07-05/
LOCATION:Zoom Meeting
CATEGORIES:Online 11th Step Meditation Meetings
ORGANIZER;CN="Nancy Nichols Kearns":MAILTO:nancynichols1010@yahoo.com
END:VEVENT
BEGIN:VEVENT
DTSTART;TZID=America/New_York:20290712T190000
DTEND;TZID=America/New_York:20290712T203000
DTSTAMP:20260421T132544
CREATED:20250213T213026Z
LAST-MODIFIED:20250213T213044Z
UID:10065113-1878577200-1878582600@cp12stepoutreach.org
SUMMARY:Boston 11th Step Open AA Meditation Meeting
DESCRIPTION:30 Minute Meditation\, reading from conference approved lit and group sharing
URL:https://cp12stepoutreach.org/meeting-or-group/boston-11th-step-open-aa-meditation-meeting-2/2029-07-12/
LOCATION:Zoom Meeting
CATEGORIES:Online 11th Step Meditation Meetings
ORGANIZER;CN="Nancy Nichols Kearns":MAILTO:nancynichols1010@yahoo.com
END:VEVENT
BEGIN:VEVENT
DTSTART;TZID=America/New_York:20290719T190000
DTEND;TZID=America/New_York:20290719T203000
DTSTAMP:20260421T132544
CREATED:20250213T213026Z
LAST-MODIFIED:20250213T213044Z
UID:10065114-1879182000-1879187400@cp12stepoutreach.org
SUMMARY:Boston 11th Step Open AA Meditation Meeting
DESCRIPTION:30 Minute Meditation\, reading from conference approved lit and group sharing
URL:https://cp12stepoutreach.org/meeting-or-group/boston-11th-step-open-aa-meditation-meeting-2/2029-07-19/
LOCATION:Zoom Meeting
CATEGORIES:Online 11th Step Meditation Meetings
ORGANIZER;CN="Nancy Nichols Kearns":MAILTO:nancynichols1010@yahoo.com
END:VEVENT
END:VCALENDAR