BEGIN:VCALENDAR
VERSION:2.0
PRODID:-//12 Step Outreach - ECPv6.11.2.1//NONSGML v1.0//EN
CALSCALE:GREGORIAN
METHOD:PUBLISH
X-ORIGINAL-URL:https://cp12stepoutreach.org
X-WR-CALDESC:Events for 12 Step Outreach
REFRESH-INTERVAL;VALUE=DURATION:PT1H
X-Robots-Tag:noindex
X-PUBLISHED-TTL:PT1H
BEGIN:VTIMEZONE
TZID:America/New_York
BEGIN:DAYLIGHT
TZOFFSETFROM:-0500
TZOFFSETTO:-0400
TZNAME:EDT
DTSTART:20290311T070000
END:DAYLIGHT
BEGIN:STANDARD
TZOFFSETFROM:-0400
TZOFFSETTO:-0500
TZNAME:EST
DTSTART:20291104T060000
END:STANDARD
END:VTIMEZONE
BEGIN:VEVENT
DTSTART;TZID=America/New_York:20290517T190000
DTEND;TZID=America/New_York:20290517T203000
DTSTAMP:20260421T150826
CREATED:20250213T213026Z
LAST-MODIFIED:20250213T213044Z
UID:10065105-1873738800-1873744200@cp12stepoutreach.org
SUMMARY:Boston 11th Step Open AA Meditation Meeting
DESCRIPTION:30 Minute Meditation\, reading from conference approved lit and group sharing
URL:https://cp12stepoutreach.org/meeting-or-group/boston-11th-step-open-aa-meditation-meeting-2/2029-05-17/
LOCATION:Zoom Meeting
CATEGORIES:Online 11th Step Meditation Meetings
ORGANIZER;CN="Nancy Nichols Kearns":MAILTO:nancynichols1010@yahoo.com
END:VEVENT
BEGIN:VEVENT
DTSTART;TZID=America/New_York:20290524T190000
DTEND;TZID=America/New_York:20290524T203000
DTSTAMP:20260421T150826
CREATED:20250213T213026Z
LAST-MODIFIED:20250213T213044Z
UID:10065106-1874343600-1874349000@cp12stepoutreach.org
SUMMARY:Boston 11th Step Open AA Meditation Meeting
DESCRIPTION:30 Minute Meditation\, reading from conference approved lit and group sharing
URL:https://cp12stepoutreach.org/meeting-or-group/boston-11th-step-open-aa-meditation-meeting-2/2029-05-24/
LOCATION:Zoom Meeting
CATEGORIES:Online 11th Step Meditation Meetings
ORGANIZER;CN="Nancy Nichols Kearns":MAILTO:nancynichols1010@yahoo.com
END:VEVENT
BEGIN:VEVENT
DTSTART;TZID=America/New_York:20290531T190000
DTEND;TZID=America/New_York:20290531T203000
DTSTAMP:20260421T150826
CREATED:20250213T213026Z
LAST-MODIFIED:20250213T213044Z
UID:10065107-1874948400-1874953800@cp12stepoutreach.org
SUMMARY:Boston 11th Step Open AA Meditation Meeting
DESCRIPTION:30 Minute Meditation\, reading from conference approved lit and group sharing
URL:https://cp12stepoutreach.org/meeting-or-group/boston-11th-step-open-aa-meditation-meeting-2/2029-05-31/
LOCATION:Zoom Meeting
CATEGORIES:Online 11th Step Meditation Meetings
ORGANIZER;CN="Nancy Nichols Kearns":MAILTO:nancynichols1010@yahoo.com
END:VEVENT
BEGIN:VEVENT
DTSTART;TZID=America/New_York:20290607T190000
DTEND;TZID=America/New_York:20290607T203000
DTSTAMP:20260421T150826
CREATED:20250213T213026Z
LAST-MODIFIED:20250213T213044Z
UID:10065108-1875553200-1875558600@cp12stepoutreach.org
SUMMARY:Boston 11th Step Open AA Meditation Meeting
DESCRIPTION:30 Minute Meditation\, reading from conference approved lit and group sharing
URL:https://cp12stepoutreach.org/meeting-or-group/boston-11th-step-open-aa-meditation-meeting-2/2029-06-07/
LOCATION:Zoom Meeting
CATEGORIES:Online 11th Step Meditation Meetings
ORGANIZER;CN="Nancy Nichols Kearns":MAILTO:nancynichols1010@yahoo.com
END:VEVENT
BEGIN:VEVENT
DTSTART;TZID=America/New_York:20290614T190000
DTEND;TZID=America/New_York:20290614T203000
DTSTAMP:20260421T150826
CREATED:20250213T213026Z
LAST-MODIFIED:20250213T213044Z
UID:10065109-1876158000-1876163400@cp12stepoutreach.org
SUMMARY:Boston 11th Step Open AA Meditation Meeting
DESCRIPTION:30 Minute Meditation\, reading from conference approved lit and group sharing
URL:https://cp12stepoutreach.org/meeting-or-group/boston-11th-step-open-aa-meditation-meeting-2/2029-06-14/
LOCATION:Zoom Meeting
CATEGORIES:Online 11th Step Meditation Meetings
ORGANIZER;CN="Nancy Nichols Kearns":MAILTO:nancynichols1010@yahoo.com
END:VEVENT
BEGIN:VEVENT
DTSTART;TZID=America/New_York:20290621T190000
DTEND;TZID=America/New_York:20290621T203000
DTSTAMP:20260421T150826
CREATED:20250213T213026Z
LAST-MODIFIED:20250213T213044Z
UID:10065110-1876762800-1876768200@cp12stepoutreach.org
SUMMARY:Boston 11th Step Open AA Meditation Meeting
DESCRIPTION:30 Minute Meditation\, reading from conference approved lit and group sharing
URL:https://cp12stepoutreach.org/meeting-or-group/boston-11th-step-open-aa-meditation-meeting-2/2029-06-21/
LOCATION:Zoom Meeting
CATEGORIES:Online 11th Step Meditation Meetings
ORGANIZER;CN="Nancy Nichols Kearns":MAILTO:nancynichols1010@yahoo.com
END:VEVENT
BEGIN:VEVENT
DTSTART;TZID=America/New_York:20290628T190000
DTEND;TZID=America/New_York:20290628T203000
DTSTAMP:20260421T150826
CREATED:20250213T213026Z
LAST-MODIFIED:20250213T213044Z
UID:10065111-1877367600-1877373000@cp12stepoutreach.org
SUMMARY:Boston 11th Step Open AA Meditation Meeting
DESCRIPTION:30 Minute Meditation\, reading from conference approved lit and group sharing
URL:https://cp12stepoutreach.org/meeting-or-group/boston-11th-step-open-aa-meditation-meeting-2/2029-06-28/
LOCATION:Zoom Meeting
CATEGORIES:Online 11th Step Meditation Meetings
ORGANIZER;CN="Nancy Nichols Kearns":MAILTO:nancynichols1010@yahoo.com
END:VEVENT
BEGIN:VEVENT
DTSTART;TZID=America/New_York:20290705T190000
DTEND;TZID=America/New_York:20290705T203000
DTSTAMP:20260421T150826
CREATED:20250213T213026Z
LAST-MODIFIED:20250213T213044Z
UID:10065112-1877972400-1877977800@cp12stepoutreach.org
SUMMARY:Boston 11th Step Open AA Meditation Meeting
DESCRIPTION:30 Minute Meditation\, reading from conference approved lit and group sharing
URL:https://cp12stepoutreach.org/meeting-or-group/boston-11th-step-open-aa-meditation-meeting-2/2029-07-05/
LOCATION:Zoom Meeting
CATEGORIES:Online 11th Step Meditation Meetings
ORGANIZER;CN="Nancy Nichols Kearns":MAILTO:nancynichols1010@yahoo.com
END:VEVENT
BEGIN:VEVENT
DTSTART;TZID=America/New_York:20290712T190000
DTEND;TZID=America/New_York:20290712T203000
DTSTAMP:20260421T150826
CREATED:20250213T213026Z
LAST-MODIFIED:20250213T213044Z
UID:10065113-1878577200-1878582600@cp12stepoutreach.org
SUMMARY:Boston 11th Step Open AA Meditation Meeting
DESCRIPTION:30 Minute Meditation\, reading from conference approved lit and group sharing
URL:https://cp12stepoutreach.org/meeting-or-group/boston-11th-step-open-aa-meditation-meeting-2/2029-07-12/
LOCATION:Zoom Meeting
CATEGORIES:Online 11th Step Meditation Meetings
ORGANIZER;CN="Nancy Nichols Kearns":MAILTO:nancynichols1010@yahoo.com
END:VEVENT
BEGIN:VEVENT
DTSTART;TZID=America/New_York:20290719T190000
DTEND;TZID=America/New_York:20290719T203000
DTSTAMP:20260421T150826
CREATED:20250213T213026Z
LAST-MODIFIED:20250213T213044Z
UID:10065114-1879182000-1879187400@cp12stepoutreach.org
SUMMARY:Boston 11th Step Open AA Meditation Meeting
DESCRIPTION:30 Minute Meditation\, reading from conference approved lit and group sharing
URL:https://cp12stepoutreach.org/meeting-or-group/boston-11th-step-open-aa-meditation-meeting-2/2029-07-19/
LOCATION:Zoom Meeting
CATEGORIES:Online 11th Step Meditation Meetings
ORGANIZER;CN="Nancy Nichols Kearns":MAILTO:nancynichols1010@yahoo.com
END:VEVENT
BEGIN:VEVENT
DTSTART;TZID=America/New_York:20290726T190000
DTEND;TZID=America/New_York:20290726T203000
DTSTAMP:20260421T150826
CREATED:20250213T213026Z
LAST-MODIFIED:20250213T213044Z
UID:10065115-1879786800-1879792200@cp12stepoutreach.org
SUMMARY:Boston 11th Step Open AA Meditation Meeting
DESCRIPTION:30 Minute Meditation\, reading from conference approved lit and group sharing
URL:https://cp12stepoutreach.org/meeting-or-group/boston-11th-step-open-aa-meditation-meeting-2/2029-07-26/
LOCATION:Zoom Meeting
CATEGORIES:Online 11th Step Meditation Meetings
ORGANIZER;CN="Nancy Nichols Kearns":MAILTO:nancynichols1010@yahoo.com
END:VEVENT
BEGIN:VEVENT
DTSTART;TZID=America/New_York:20290802T190000
DTEND;TZID=America/New_York:20290802T203000
DTSTAMP:20260421T150826
CREATED:20250213T213026Z
LAST-MODIFIED:20250213T213044Z
UID:10065116-1880391600-1880397000@cp12stepoutreach.org
SUMMARY:Boston 11th Step Open AA Meditation Meeting
DESCRIPTION:30 Minute Meditation\, reading from conference approved lit and group sharing
URL:https://cp12stepoutreach.org/meeting-or-group/boston-11th-step-open-aa-meditation-meeting-2/2029-08-02/
LOCATION:Zoom Meeting
CATEGORIES:Online 11th Step Meditation Meetings
ORGANIZER;CN="Nancy Nichols Kearns":MAILTO:nancynichols1010@yahoo.com
END:VEVENT
BEGIN:VEVENT
DTSTART;TZID=America/New_York:20290809T190000
DTEND;TZID=America/New_York:20290809T203000
DTSTAMP:20260421T150826
CREATED:20250213T213026Z
LAST-MODIFIED:20250213T213044Z
UID:10065117-1880996400-1881001800@cp12stepoutreach.org
SUMMARY:Boston 11th Step Open AA Meditation Meeting
DESCRIPTION:30 Minute Meditation\, reading from conference approved lit and group sharing
URL:https://cp12stepoutreach.org/meeting-or-group/boston-11th-step-open-aa-meditation-meeting-2/2029-08-09/
LOCATION:Zoom Meeting
CATEGORIES:Online 11th Step Meditation Meetings
ORGANIZER;CN="Nancy Nichols Kearns":MAILTO:nancynichols1010@yahoo.com
END:VEVENT
BEGIN:VEVENT
DTSTART;TZID=America/New_York:20290816T190000
DTEND;TZID=America/New_York:20290816T203000
DTSTAMP:20260421T150826
CREATED:20250213T213026Z
LAST-MODIFIED:20250213T213044Z
UID:10065118-1881601200-1881606600@cp12stepoutreach.org
SUMMARY:Boston 11th Step Open AA Meditation Meeting
DESCRIPTION:30 Minute Meditation\, reading from conference approved lit and group sharing
URL:https://cp12stepoutreach.org/meeting-or-group/boston-11th-step-open-aa-meditation-meeting-2/2029-08-16/
LOCATION:Zoom Meeting
CATEGORIES:Online 11th Step Meditation Meetings
ORGANIZER;CN="Nancy Nichols Kearns":MAILTO:nancynichols1010@yahoo.com
END:VEVENT
BEGIN:VEVENT
DTSTART;TZID=America/New_York:20290823T190000
DTEND;TZID=America/New_York:20290823T203000
DTSTAMP:20260421T150826
CREATED:20250213T213026Z
LAST-MODIFIED:20250213T213044Z
UID:10065119-1882206000-1882211400@cp12stepoutreach.org
SUMMARY:Boston 11th Step Open AA Meditation Meeting
DESCRIPTION:30 Minute Meditation\, reading from conference approved lit and group sharing
URL:https://cp12stepoutreach.org/meeting-or-group/boston-11th-step-open-aa-meditation-meeting-2/2029-08-23/
LOCATION:Zoom Meeting
CATEGORIES:Online 11th Step Meditation Meetings
ORGANIZER;CN="Nancy Nichols Kearns":MAILTO:nancynichols1010@yahoo.com
END:VEVENT
BEGIN:VEVENT
DTSTART;TZID=America/New_York:20290830T190000
DTEND;TZID=America/New_York:20290830T203000
DTSTAMP:20260421T150826
CREATED:20250213T213026Z
LAST-MODIFIED:20250213T213044Z
UID:10065120-1882810800-1882816200@cp12stepoutreach.org
SUMMARY:Boston 11th Step Open AA Meditation Meeting
DESCRIPTION:30 Minute Meditation\, reading from conference approved lit and group sharing
URL:https://cp12stepoutreach.org/meeting-or-group/boston-11th-step-open-aa-meditation-meeting-2/2029-08-30/
LOCATION:Zoom Meeting
CATEGORIES:Online 11th Step Meditation Meetings
ORGANIZER;CN="Nancy Nichols Kearns":MAILTO:nancynichols1010@yahoo.com
END:VEVENT
BEGIN:VEVENT
DTSTART;TZID=America/New_York:20290906T190000
DTEND;TZID=America/New_York:20290906T203000
DTSTAMP:20260421T150826
CREATED:20250213T213026Z
LAST-MODIFIED:20250213T213044Z
UID:10065121-1883415600-1883421000@cp12stepoutreach.org
SUMMARY:Boston 11th Step Open AA Meditation Meeting
DESCRIPTION:30 Minute Meditation\, reading from conference approved lit and group sharing
URL:https://cp12stepoutreach.org/meeting-or-group/boston-11th-step-open-aa-meditation-meeting-2/2029-09-06/
LOCATION:Zoom Meeting
CATEGORIES:Online 11th Step Meditation Meetings
ORGANIZER;CN="Nancy Nichols Kearns":MAILTO:nancynichols1010@yahoo.com
END:VEVENT
BEGIN:VEVENT
DTSTART;TZID=America/New_York:20290913T190000
DTEND;TZID=America/New_York:20290913T203000
DTSTAMP:20260421T150826
CREATED:20250213T213026Z
LAST-MODIFIED:20250213T213044Z
UID:10065122-1884020400-1884025800@cp12stepoutreach.org
SUMMARY:Boston 11th Step Open AA Meditation Meeting
DESCRIPTION:30 Minute Meditation\, reading from conference approved lit and group sharing
URL:https://cp12stepoutreach.org/meeting-or-group/boston-11th-step-open-aa-meditation-meeting-2/2029-09-13/
LOCATION:Zoom Meeting
CATEGORIES:Online 11th Step Meditation Meetings
ORGANIZER;CN="Nancy Nichols Kearns":MAILTO:nancynichols1010@yahoo.com
END:VEVENT
BEGIN:VEVENT
DTSTART;TZID=America/New_York:20290920T190000
DTEND;TZID=America/New_York:20290920T203000
DTSTAMP:20260421T150826
CREATED:20250213T213026Z
LAST-MODIFIED:20250213T213044Z
UID:10065123-1884625200-1884630600@cp12stepoutreach.org
SUMMARY:Boston 11th Step Open AA Meditation Meeting
DESCRIPTION:30 Minute Meditation\, reading from conference approved lit and group sharing
URL:https://cp12stepoutreach.org/meeting-or-group/boston-11th-step-open-aa-meditation-meeting-2/2029-09-20/
LOCATION:Zoom Meeting
CATEGORIES:Online 11th Step Meditation Meetings
ORGANIZER;CN="Nancy Nichols Kearns":MAILTO:nancynichols1010@yahoo.com
END:VEVENT
BEGIN:VEVENT
DTSTART;TZID=America/New_York:20290927T190000
DTEND;TZID=America/New_York:20290927T203000
DTSTAMP:20260421T150826
CREATED:20250213T213026Z
LAST-MODIFIED:20250213T213044Z
UID:10065124-1885230000-1885235400@cp12stepoutreach.org
SUMMARY:Boston 11th Step Open AA Meditation Meeting
DESCRIPTION:30 Minute Meditation\, reading from conference approved lit and group sharing
URL:https://cp12stepoutreach.org/meeting-or-group/boston-11th-step-open-aa-meditation-meeting-2/2029-09-27/
LOCATION:Zoom Meeting
CATEGORIES:Online 11th Step Meditation Meetings
ORGANIZER;CN="Nancy Nichols Kearns":MAILTO:nancynichols1010@yahoo.com
END:VEVENT
BEGIN:VEVENT
DTSTART;TZID=America/New_York:20291004T190000
DTEND;TZID=America/New_York:20291004T203000
DTSTAMP:20260421T150826
CREATED:20250213T213026Z
LAST-MODIFIED:20250213T213044Z
UID:10065125-1885834800-1885840200@cp12stepoutreach.org
SUMMARY:Boston 11th Step Open AA Meditation Meeting
DESCRIPTION:30 Minute Meditation\, reading from conference approved lit and group sharing
URL:https://cp12stepoutreach.org/meeting-or-group/boston-11th-step-open-aa-meditation-meeting-2/2029-10-04/
LOCATION:Zoom Meeting
CATEGORIES:Online 11th Step Meditation Meetings
ORGANIZER;CN="Nancy Nichols Kearns":MAILTO:nancynichols1010@yahoo.com
END:VEVENT
BEGIN:VEVENT
DTSTART;TZID=America/New_York:20291011T190000
DTEND;TZID=America/New_York:20291011T203000
DTSTAMP:20260421T150826
CREATED:20250213T213026Z
LAST-MODIFIED:20250213T213044Z
UID:10065126-1886439600-1886445000@cp12stepoutreach.org
SUMMARY:Boston 11th Step Open AA Meditation Meeting
DESCRIPTION:30 Minute Meditation\, reading from conference approved lit and group sharing
URL:https://cp12stepoutreach.org/meeting-or-group/boston-11th-step-open-aa-meditation-meeting-2/2029-10-11/
LOCATION:Zoom Meeting
CATEGORIES:Online 11th Step Meditation Meetings
ORGANIZER;CN="Nancy Nichols Kearns":MAILTO:nancynichols1010@yahoo.com
END:VEVENT
BEGIN:VEVENT
DTSTART;TZID=America/New_York:20291018T190000
DTEND;TZID=America/New_York:20291018T203000
DTSTAMP:20260421T150826
CREATED:20250213T213026Z
LAST-MODIFIED:20250213T213044Z
UID:10065127-1887044400-1887049800@cp12stepoutreach.org
SUMMARY:Boston 11th Step Open AA Meditation Meeting
DESCRIPTION:30 Minute Meditation\, reading from conference approved lit and group sharing
URL:https://cp12stepoutreach.org/meeting-or-group/boston-11th-step-open-aa-meditation-meeting-2/2029-10-18/
LOCATION:Zoom Meeting
CATEGORIES:Online 11th Step Meditation Meetings
ORGANIZER;CN="Nancy Nichols Kearns":MAILTO:nancynichols1010@yahoo.com
END:VEVENT
BEGIN:VEVENT
DTSTART;TZID=America/New_York:20291025T190000
DTEND;TZID=America/New_York:20291025T203000
DTSTAMP:20260421T150826
CREATED:20250213T213026Z
LAST-MODIFIED:20250213T213044Z
UID:10065128-1887649200-1887654600@cp12stepoutreach.org
SUMMARY:Boston 11th Step Open AA Meditation Meeting
DESCRIPTION:30 Minute Meditation\, reading from conference approved lit and group sharing
URL:https://cp12stepoutreach.org/meeting-or-group/boston-11th-step-open-aa-meditation-meeting-2/2029-10-25/
LOCATION:Zoom Meeting
CATEGORIES:Online 11th Step Meditation Meetings
ORGANIZER;CN="Nancy Nichols Kearns":MAILTO:nancynichols1010@yahoo.com
END:VEVENT
BEGIN:VEVENT
DTSTART;TZID=America/New_York:20291101T190000
DTEND;TZID=America/New_York:20291101T203000
DTSTAMP:20260421T150826
CREATED:20250213T213026Z
LAST-MODIFIED:20250213T213044Z
UID:10065129-1888254000-1888259400@cp12stepoutreach.org
SUMMARY:Boston 11th Step Open AA Meditation Meeting
DESCRIPTION:30 Minute Meditation\, reading from conference approved lit and group sharing
URL:https://cp12stepoutreach.org/meeting-or-group/boston-11th-step-open-aa-meditation-meeting-2/2029-11-01/
LOCATION:Zoom Meeting
CATEGORIES:Online 11th Step Meditation Meetings
ORGANIZER;CN="Nancy Nichols Kearns":MAILTO:nancynichols1010@yahoo.com
END:VEVENT
BEGIN:VEVENT
DTSTART;TZID=America/New_York:20291108T190000
DTEND;TZID=America/New_York:20291108T203000
DTSTAMP:20260421T150826
CREATED:20250213T213026Z
LAST-MODIFIED:20250213T213044Z
UID:10065130-1888858800-1888864200@cp12stepoutreach.org
SUMMARY:Boston 11th Step Open AA Meditation Meeting
DESCRIPTION:30 Minute Meditation\, reading from conference approved lit and group sharing
URL:https://cp12stepoutreach.org/meeting-or-group/boston-11th-step-open-aa-meditation-meeting-2/2029-11-08/
LOCATION:Zoom Meeting
CATEGORIES:Online 11th Step Meditation Meetings
ORGANIZER;CN="Nancy Nichols Kearns":MAILTO:nancynichols1010@yahoo.com
END:VEVENT
BEGIN:VEVENT
DTSTART;TZID=America/New_York:20291115T190000
DTEND;TZID=America/New_York:20291115T203000
DTSTAMP:20260421T150826
CREATED:20250213T213026Z
LAST-MODIFIED:20250213T213044Z
UID:10065131-1889463600-1889469000@cp12stepoutreach.org
SUMMARY:Boston 11th Step Open AA Meditation Meeting
DESCRIPTION:30 Minute Meditation\, reading from conference approved lit and group sharing
URL:https://cp12stepoutreach.org/meeting-or-group/boston-11th-step-open-aa-meditation-meeting-2/2029-11-15/
LOCATION:Zoom Meeting
CATEGORIES:Online 11th Step Meditation Meetings
ORGANIZER;CN="Nancy Nichols Kearns":MAILTO:nancynichols1010@yahoo.com
END:VEVENT
BEGIN:VEVENT
DTSTART;TZID=America/New_York:20291122T190000
DTEND;TZID=America/New_York:20291122T203000
DTSTAMP:20260421T150826
CREATED:20250213T213026Z
LAST-MODIFIED:20250213T213044Z
UID:10065132-1890068400-1890073800@cp12stepoutreach.org
SUMMARY:Boston 11th Step Open AA Meditation Meeting
DESCRIPTION:30 Minute Meditation\, reading from conference approved lit and group sharing
URL:https://cp12stepoutreach.org/meeting-or-group/boston-11th-step-open-aa-meditation-meeting-2/2029-11-22/
LOCATION:Zoom Meeting
CATEGORIES:Online 11th Step Meditation Meetings
ORGANIZER;CN="Nancy Nichols Kearns":MAILTO:nancynichols1010@yahoo.com
END:VEVENT
BEGIN:VEVENT
DTSTART;TZID=America/New_York:20291129T190000
DTEND;TZID=America/New_York:20291129T203000
DTSTAMP:20260421T150826
CREATED:20250213T213026Z
LAST-MODIFIED:20250213T213044Z
UID:10065133-1890673200-1890678600@cp12stepoutreach.org
SUMMARY:Boston 11th Step Open AA Meditation Meeting
DESCRIPTION:30 Minute Meditation\, reading from conference approved lit and group sharing
URL:https://cp12stepoutreach.org/meeting-or-group/boston-11th-step-open-aa-meditation-meeting-2/2029-11-29/
LOCATION:Zoom Meeting
CATEGORIES:Online 11th Step Meditation Meetings
ORGANIZER;CN="Nancy Nichols Kearns":MAILTO:nancynichols1010@yahoo.com
END:VEVENT
BEGIN:VEVENT
DTSTART;TZID=America/New_York:20291206T190000
DTEND;TZID=America/New_York:20291206T203000
DTSTAMP:20260421T150826
CREATED:20250213T213026Z
LAST-MODIFIED:20250213T213044Z
UID:10065134-1891278000-1891283400@cp12stepoutreach.org
SUMMARY:Boston 11th Step Open AA Meditation Meeting
DESCRIPTION:30 Minute Meditation\, reading from conference approved lit and group sharing
URL:https://cp12stepoutreach.org/meeting-or-group/boston-11th-step-open-aa-meditation-meeting-2/2029-12-06/
LOCATION:Zoom Meeting
CATEGORIES:Online 11th Step Meditation Meetings
ORGANIZER;CN="Nancy Nichols Kearns":MAILTO:nancynichols1010@yahoo.com
END:VEVENT
END:VCALENDAR