BEGIN:VCALENDAR
VERSION:2.0
PRODID:-//12 Step Outreach - ECPv6.11.2.1//NONSGML v1.0//EN
CALSCALE:GREGORIAN
METHOD:PUBLISH
X-WR-CALNAME:12 Step Outreach
X-ORIGINAL-URL:https://cp12stepoutreach.org
X-WR-CALDESC:Events for 12 Step Outreach
REFRESH-INTERVAL;VALUE=DURATION:PT1H
X-Robots-Tag:noindex
X-PUBLISHED-TTL:PT1H
BEGIN:VTIMEZONE
TZID:America/Los_Angeles
BEGIN:DAYLIGHT
TZOFFSETFROM:-0800
TZOFFSETTO:-0700
TZNAME:PDT
DTSTART:20260308T100000
END:DAYLIGHT
BEGIN:STANDARD
TZOFFSETFROM:-0700
TZOFFSETTO:-0800
TZNAME:PST
DTSTART:20261101T090000
END:STANDARD
END:VTIMEZONE
BEGIN:VEVENT
DTSTART;TZID=America/Los_Angeles:20260423T063000
DTEND;TZID=America/Los_Angeles:20260423T073000
DTSTAMP:20260421T034736
CREATED:20250207T181453Z
LAST-MODIFIED:20250207T224528Z
UID:10061598-1776925800-1776929400@cp12stepoutreach.org
SUMMARY:"On Awakening" Thursday and Friday Meeting
DESCRIPTION:BRIEF MEETING INFORMATION:\n“On Awakening” Virtual AA meeting\nThursday & Friday 6:30-7:30 AM – Pacific Time on Zoom\nZoom Meeting ID: 220-597-9191\nZoom Password: 2mGN0C\nLink: https://us02web.zoom.us/j/2205979191?pwd=ZzRyWHRLM3hnYXdacmdlRUJnZVRaQT09\nDescription: 11th step AA meeting format with a 15 min meditation\, daily reflection and sharing.\nContact: Step11pdx@gmail.com
URL:https://cp12stepoutreach.org/meeting-or-group/on-awakening-friday-meeting-2/2026-04-23/
LOCATION:Zoom Meeting
CATEGORIES:Online 11th Step Meditation Meetings
ORGANIZER;CN="On Awakening Meeting":MAILTO:step11pdx@gmail.com
END:VEVENT
BEGIN:VEVENT
DTSTART;TZID=America/Los_Angeles:20260424T063000
DTEND;TZID=America/Los_Angeles:20260424T073000
DTSTAMP:20260421T034736
CREATED:20250207T181453Z
LAST-MODIFIED:20250207T224528Z
UID:10051893-1777012200-1777015800@cp12stepoutreach.org
SUMMARY:"On Awakening" Thursday and Friday Meeting
DESCRIPTION:BRIEF MEETING INFORMATION:\n“On Awakening” Virtual AA meeting\nThursday & Friday 6:30-7:30 AM – Pacific Time on Zoom\nZoom Meeting ID: 220-597-9191\nZoom Password: 2mGN0C\nLink: https://us02web.zoom.us/j/2205979191?pwd=ZzRyWHRLM3hnYXdacmdlRUJnZVRaQT09\nDescription: 11th step AA meeting format with a 15 min meditation\, daily reflection and sharing.\nContact: Step11pdx@gmail.com
URL:https://cp12stepoutreach.org/meeting-or-group/on-awakening-friday-meeting-2/2026-04-24/
LOCATION:Zoom Meeting
CATEGORIES:Online 11th Step Meditation Meetings
ORGANIZER;CN="On Awakening Meeting":MAILTO:step11pdx@gmail.com
END:VEVENT
BEGIN:VEVENT
DTSTART;TZID=America/Los_Angeles:20260430T063000
DTEND;TZID=America/Los_Angeles:20260430T073000
DTSTAMP:20260421T034736
CREATED:20250207T181453Z
LAST-MODIFIED:20250207T224528Z
UID:10061599-1777530600-1777534200@cp12stepoutreach.org
SUMMARY:"On Awakening" Thursday and Friday Meeting
DESCRIPTION:BRIEF MEETING INFORMATION:\n“On Awakening” Virtual AA meeting\nThursday & Friday 6:30-7:30 AM – Pacific Time on Zoom\nZoom Meeting ID: 220-597-9191\nZoom Password: 2mGN0C\nLink: https://us02web.zoom.us/j/2205979191?pwd=ZzRyWHRLM3hnYXdacmdlRUJnZVRaQT09\nDescription: 11th step AA meeting format with a 15 min meditation\, daily reflection and sharing.\nContact: Step11pdx@gmail.com
URL:https://cp12stepoutreach.org/meeting-or-group/on-awakening-friday-meeting-2/2026-04-30/
LOCATION:Zoom Meeting
CATEGORIES:Online 11th Step Meditation Meetings
ORGANIZER;CN="On Awakening Meeting":MAILTO:step11pdx@gmail.com
END:VEVENT
BEGIN:VEVENT
DTSTART;TZID=America/Los_Angeles:20260501T063000
DTEND;TZID=America/Los_Angeles:20260501T073000
DTSTAMP:20260421T034736
CREATED:20250207T181453Z
LAST-MODIFIED:20250207T224528Z
UID:10051894-1777617000-1777620600@cp12stepoutreach.org
SUMMARY:"On Awakening" Thursday and Friday Meeting
DESCRIPTION:BRIEF MEETING INFORMATION:\n“On Awakening” Virtual AA meeting\nThursday & Friday 6:30-7:30 AM – Pacific Time on Zoom\nZoom Meeting ID: 220-597-9191\nZoom Password: 2mGN0C\nLink: https://us02web.zoom.us/j/2205979191?pwd=ZzRyWHRLM3hnYXdacmdlRUJnZVRaQT09\nDescription: 11th step AA meeting format with a 15 min meditation\, daily reflection and sharing.\nContact: Step11pdx@gmail.com
URL:https://cp12stepoutreach.org/meeting-or-group/on-awakening-friday-meeting-2/2026-05-01/
LOCATION:Zoom Meeting
CATEGORIES:Online 11th Step Meditation Meetings
ORGANIZER;CN="On Awakening Meeting":MAILTO:step11pdx@gmail.com
END:VEVENT
BEGIN:VEVENT
DTSTART;TZID=America/Los_Angeles:20260507T063000
DTEND;TZID=America/Los_Angeles:20260507T073000
DTSTAMP:20260421T034736
CREATED:20250207T181453Z
LAST-MODIFIED:20250207T224528Z
UID:10061600-1778135400-1778139000@cp12stepoutreach.org
SUMMARY:"On Awakening" Thursday and Friday Meeting
DESCRIPTION:BRIEF MEETING INFORMATION:\n“On Awakening” Virtual AA meeting\nThursday & Friday 6:30-7:30 AM – Pacific Time on Zoom\nZoom Meeting ID: 220-597-9191\nZoom Password: 2mGN0C\nLink: https://us02web.zoom.us/j/2205979191?pwd=ZzRyWHRLM3hnYXdacmdlRUJnZVRaQT09\nDescription: 11th step AA meeting format with a 15 min meditation\, daily reflection and sharing.\nContact: Step11pdx@gmail.com
URL:https://cp12stepoutreach.org/meeting-or-group/on-awakening-friday-meeting-2/2026-05-07/
LOCATION:Zoom Meeting
CATEGORIES:Online 11th Step Meditation Meetings
ORGANIZER;CN="On Awakening Meeting":MAILTO:step11pdx@gmail.com
END:VEVENT
BEGIN:VEVENT
DTSTART;TZID=America/Los_Angeles:20260508T063000
DTEND;TZID=America/Los_Angeles:20260508T073000
DTSTAMP:20260421T034736
CREATED:20250207T181453Z
LAST-MODIFIED:20250207T224528Z
UID:10051895-1778221800-1778225400@cp12stepoutreach.org
SUMMARY:"On Awakening" Thursday and Friday Meeting
DESCRIPTION:BRIEF MEETING INFORMATION:\n“On Awakening” Virtual AA meeting\nThursday & Friday 6:30-7:30 AM – Pacific Time on Zoom\nZoom Meeting ID: 220-597-9191\nZoom Password: 2mGN0C\nLink: https://us02web.zoom.us/j/2205979191?pwd=ZzRyWHRLM3hnYXdacmdlRUJnZVRaQT09\nDescription: 11th step AA meeting format with a 15 min meditation\, daily reflection and sharing.\nContact: Step11pdx@gmail.com
URL:https://cp12stepoutreach.org/meeting-or-group/on-awakening-friday-meeting-2/2026-05-08/
LOCATION:Zoom Meeting
CATEGORIES:Online 11th Step Meditation Meetings
ORGANIZER;CN="On Awakening Meeting":MAILTO:step11pdx@gmail.com
END:VEVENT
BEGIN:VEVENT
DTSTART;TZID=America/Los_Angeles:20260514T063000
DTEND;TZID=America/Los_Angeles:20260514T073000
DTSTAMP:20260421T034736
CREATED:20250207T181453Z
LAST-MODIFIED:20250207T224528Z
UID:10061601-1778740200-1778743800@cp12stepoutreach.org
SUMMARY:"On Awakening" Thursday and Friday Meeting
DESCRIPTION:BRIEF MEETING INFORMATION:\n“On Awakening” Virtual AA meeting\nThursday & Friday 6:30-7:30 AM – Pacific Time on Zoom\nZoom Meeting ID: 220-597-9191\nZoom Password: 2mGN0C\nLink: https://us02web.zoom.us/j/2205979191?pwd=ZzRyWHRLM3hnYXdacmdlRUJnZVRaQT09\nDescription: 11th step AA meeting format with a 15 min meditation\, daily reflection and sharing.\nContact: Step11pdx@gmail.com
URL:https://cp12stepoutreach.org/meeting-or-group/on-awakening-friday-meeting-2/2026-05-14/
LOCATION:Zoom Meeting
CATEGORIES:Online 11th Step Meditation Meetings
ORGANIZER;CN="On Awakening Meeting":MAILTO:step11pdx@gmail.com
END:VEVENT
BEGIN:VEVENT
DTSTART;TZID=America/Los_Angeles:20260515T063000
DTEND;TZID=America/Los_Angeles:20260515T073000
DTSTAMP:20260421T034736
CREATED:20250207T181453Z
LAST-MODIFIED:20250207T224528Z
UID:10051896-1778826600-1778830200@cp12stepoutreach.org
SUMMARY:"On Awakening" Thursday and Friday Meeting
DESCRIPTION:BRIEF MEETING INFORMATION:\n“On Awakening” Virtual AA meeting\nThursday & Friday 6:30-7:30 AM – Pacific Time on Zoom\nZoom Meeting ID: 220-597-9191\nZoom Password: 2mGN0C\nLink: https://us02web.zoom.us/j/2205979191?pwd=ZzRyWHRLM3hnYXdacmdlRUJnZVRaQT09\nDescription: 11th step AA meeting format with a 15 min meditation\, daily reflection and sharing.\nContact: Step11pdx@gmail.com
URL:https://cp12stepoutreach.org/meeting-or-group/on-awakening-friday-meeting-2/2026-05-15/
LOCATION:Zoom Meeting
CATEGORIES:Online 11th Step Meditation Meetings
ORGANIZER;CN="On Awakening Meeting":MAILTO:step11pdx@gmail.com
END:VEVENT
BEGIN:VEVENT
DTSTART;TZID=America/Los_Angeles:20260521T063000
DTEND;TZID=America/Los_Angeles:20260521T073000
DTSTAMP:20260421T034736
CREATED:20250207T181453Z
LAST-MODIFIED:20250207T224528Z
UID:10061602-1779345000-1779348600@cp12stepoutreach.org
SUMMARY:"On Awakening" Thursday and Friday Meeting
DESCRIPTION:BRIEF MEETING INFORMATION:\n“On Awakening” Virtual AA meeting\nThursday & Friday 6:30-7:30 AM – Pacific Time on Zoom\nZoom Meeting ID: 220-597-9191\nZoom Password: 2mGN0C\nLink: https://us02web.zoom.us/j/2205979191?pwd=ZzRyWHRLM3hnYXdacmdlRUJnZVRaQT09\nDescription: 11th step AA meeting format with a 15 min meditation\, daily reflection and sharing.\nContact: Step11pdx@gmail.com
URL:https://cp12stepoutreach.org/meeting-or-group/on-awakening-friday-meeting-2/2026-05-21/
LOCATION:Zoom Meeting
CATEGORIES:Online 11th Step Meditation Meetings
ORGANIZER;CN="On Awakening Meeting":MAILTO:step11pdx@gmail.com
END:VEVENT
BEGIN:VEVENT
DTSTART;TZID=America/Los_Angeles:20260522T063000
DTEND;TZID=America/Los_Angeles:20260522T073000
DTSTAMP:20260421T034736
CREATED:20250207T181453Z
LAST-MODIFIED:20250207T224528Z
UID:10051897-1779431400-1779435000@cp12stepoutreach.org
SUMMARY:"On Awakening" Thursday and Friday Meeting
DESCRIPTION:BRIEF MEETING INFORMATION:\n“On Awakening” Virtual AA meeting\nThursday & Friday 6:30-7:30 AM – Pacific Time on Zoom\nZoom Meeting ID: 220-597-9191\nZoom Password: 2mGN0C\nLink: https://us02web.zoom.us/j/2205979191?pwd=ZzRyWHRLM3hnYXdacmdlRUJnZVRaQT09\nDescription: 11th step AA meeting format with a 15 min meditation\, daily reflection and sharing.\nContact: Step11pdx@gmail.com
URL:https://cp12stepoutreach.org/meeting-or-group/on-awakening-friday-meeting-2/2026-05-22/
LOCATION:Zoom Meeting
CATEGORIES:Online 11th Step Meditation Meetings
ORGANIZER;CN="On Awakening Meeting":MAILTO:step11pdx@gmail.com
END:VEVENT
BEGIN:VEVENT
DTSTART;TZID=America/Los_Angeles:20260528T063000
DTEND;TZID=America/Los_Angeles:20260528T073000
DTSTAMP:20260421T034736
CREATED:20250207T181453Z
LAST-MODIFIED:20250207T224528Z
UID:10061603-1779949800-1779953400@cp12stepoutreach.org
SUMMARY:"On Awakening" Thursday and Friday Meeting
DESCRIPTION:BRIEF MEETING INFORMATION:\n“On Awakening” Virtual AA meeting\nThursday & Friday 6:30-7:30 AM – Pacific Time on Zoom\nZoom Meeting ID: 220-597-9191\nZoom Password: 2mGN0C\nLink: https://us02web.zoom.us/j/2205979191?pwd=ZzRyWHRLM3hnYXdacmdlRUJnZVRaQT09\nDescription: 11th step AA meeting format with a 15 min meditation\, daily reflection and sharing.\nContact: Step11pdx@gmail.com
URL:https://cp12stepoutreach.org/meeting-or-group/on-awakening-friday-meeting-2/2026-05-28/
LOCATION:Zoom Meeting
CATEGORIES:Online 11th Step Meditation Meetings
ORGANIZER;CN="On Awakening Meeting":MAILTO:step11pdx@gmail.com
END:VEVENT
BEGIN:VEVENT
DTSTART;TZID=America/Los_Angeles:20260529T063000
DTEND;TZID=America/Los_Angeles:20260529T073000
DTSTAMP:20260421T034736
CREATED:20250207T181453Z
LAST-MODIFIED:20250207T224528Z
UID:10051898-1780036200-1780039800@cp12stepoutreach.org
SUMMARY:"On Awakening" Thursday and Friday Meeting
DESCRIPTION:BRIEF MEETING INFORMATION:\n“On Awakening” Virtual AA meeting\nThursday & Friday 6:30-7:30 AM – Pacific Time on Zoom\nZoom Meeting ID: 220-597-9191\nZoom Password: 2mGN0C\nLink: https://us02web.zoom.us/j/2205979191?pwd=ZzRyWHRLM3hnYXdacmdlRUJnZVRaQT09\nDescription: 11th step AA meeting format with a 15 min meditation\, daily reflection and sharing.\nContact: Step11pdx@gmail.com
URL:https://cp12stepoutreach.org/meeting-or-group/on-awakening-friday-meeting-2/2026-05-29/
LOCATION:Zoom Meeting
CATEGORIES:Online 11th Step Meditation Meetings
ORGANIZER;CN="On Awakening Meeting":MAILTO:step11pdx@gmail.com
END:VEVENT
BEGIN:VEVENT
DTSTART;TZID=America/Los_Angeles:20260604T063000
DTEND;TZID=America/Los_Angeles:20260604T073000
DTSTAMP:20260421T034736
CREATED:20250207T181453Z
LAST-MODIFIED:20250207T224528Z
UID:10061604-1780554600-1780558200@cp12stepoutreach.org
SUMMARY:"On Awakening" Thursday and Friday Meeting
DESCRIPTION:BRIEF MEETING INFORMATION:\n“On Awakening” Virtual AA meeting\nThursday & Friday 6:30-7:30 AM – Pacific Time on Zoom\nZoom Meeting ID: 220-597-9191\nZoom Password: 2mGN0C\nLink: https://us02web.zoom.us/j/2205979191?pwd=ZzRyWHRLM3hnYXdacmdlRUJnZVRaQT09\nDescription: 11th step AA meeting format with a 15 min meditation\, daily reflection and sharing.\nContact: Step11pdx@gmail.com
URL:https://cp12stepoutreach.org/meeting-or-group/on-awakening-friday-meeting-2/2026-06-04/
LOCATION:Zoom Meeting
CATEGORIES:Online 11th Step Meditation Meetings
ORGANIZER;CN="On Awakening Meeting":MAILTO:step11pdx@gmail.com
END:VEVENT
BEGIN:VEVENT
DTSTART;TZID=America/Los_Angeles:20260605T063000
DTEND;TZID=America/Los_Angeles:20260605T073000
DTSTAMP:20260421T034736
CREATED:20250207T181453Z
LAST-MODIFIED:20250207T224528Z
UID:10051899-1780641000-1780644600@cp12stepoutreach.org
SUMMARY:"On Awakening" Thursday and Friday Meeting
DESCRIPTION:BRIEF MEETING INFORMATION:\n“On Awakening” Virtual AA meeting\nThursday & Friday 6:30-7:30 AM – Pacific Time on Zoom\nZoom Meeting ID: 220-597-9191\nZoom Password: 2mGN0C\nLink: https://us02web.zoom.us/j/2205979191?pwd=ZzRyWHRLM3hnYXdacmdlRUJnZVRaQT09\nDescription: 11th step AA meeting format with a 15 min meditation\, daily reflection and sharing.\nContact: Step11pdx@gmail.com
URL:https://cp12stepoutreach.org/meeting-or-group/on-awakening-friday-meeting-2/2026-06-05/
LOCATION:Zoom Meeting
CATEGORIES:Online 11th Step Meditation Meetings
ORGANIZER;CN="On Awakening Meeting":MAILTO:step11pdx@gmail.com
END:VEVENT
BEGIN:VEVENT
DTSTART;TZID=America/Los_Angeles:20260611T063000
DTEND;TZID=America/Los_Angeles:20260611T073000
DTSTAMP:20260421T034736
CREATED:20250207T181453Z
LAST-MODIFIED:20250207T224528Z
UID:10061605-1781159400-1781163000@cp12stepoutreach.org
SUMMARY:"On Awakening" Thursday and Friday Meeting
DESCRIPTION:BRIEF MEETING INFORMATION:\n“On Awakening” Virtual AA meeting\nThursday & Friday 6:30-7:30 AM – Pacific Time on Zoom\nZoom Meeting ID: 220-597-9191\nZoom Password: 2mGN0C\nLink: https://us02web.zoom.us/j/2205979191?pwd=ZzRyWHRLM3hnYXdacmdlRUJnZVRaQT09\nDescription: 11th step AA meeting format with a 15 min meditation\, daily reflection and sharing.\nContact: Step11pdx@gmail.com
URL:https://cp12stepoutreach.org/meeting-or-group/on-awakening-friday-meeting-2/2026-06-11/
LOCATION:Zoom Meeting
CATEGORIES:Online 11th Step Meditation Meetings
ORGANIZER;CN="On Awakening Meeting":MAILTO:step11pdx@gmail.com
END:VEVENT
BEGIN:VEVENT
DTSTART;TZID=America/Los_Angeles:20260612T063000
DTEND;TZID=America/Los_Angeles:20260612T073000
DTSTAMP:20260421T034736
CREATED:20250207T181453Z
LAST-MODIFIED:20250207T224528Z
UID:10051900-1781245800-1781249400@cp12stepoutreach.org
SUMMARY:"On Awakening" Thursday and Friday Meeting
DESCRIPTION:BRIEF MEETING INFORMATION:\n“On Awakening” Virtual AA meeting\nThursday & Friday 6:30-7:30 AM – Pacific Time on Zoom\nZoom Meeting ID: 220-597-9191\nZoom Password: 2mGN0C\nLink: https://us02web.zoom.us/j/2205979191?pwd=ZzRyWHRLM3hnYXdacmdlRUJnZVRaQT09\nDescription: 11th step AA meeting format with a 15 min meditation\, daily reflection and sharing.\nContact: Step11pdx@gmail.com
URL:https://cp12stepoutreach.org/meeting-or-group/on-awakening-friday-meeting-2/2026-06-12/
LOCATION:Zoom Meeting
CATEGORIES:Online 11th Step Meditation Meetings
ORGANIZER;CN="On Awakening Meeting":MAILTO:step11pdx@gmail.com
END:VEVENT
BEGIN:VEVENT
DTSTART;TZID=America/Los_Angeles:20260618T063000
DTEND;TZID=America/Los_Angeles:20260618T073000
DTSTAMP:20260421T034736
CREATED:20250207T181453Z
LAST-MODIFIED:20250207T224528Z
UID:10061606-1781764200-1781767800@cp12stepoutreach.org
SUMMARY:"On Awakening" Thursday and Friday Meeting
DESCRIPTION:BRIEF MEETING INFORMATION:\n“On Awakening” Virtual AA meeting\nThursday & Friday 6:30-7:30 AM – Pacific Time on Zoom\nZoom Meeting ID: 220-597-9191\nZoom Password: 2mGN0C\nLink: https://us02web.zoom.us/j/2205979191?pwd=ZzRyWHRLM3hnYXdacmdlRUJnZVRaQT09\nDescription: 11th step AA meeting format with a 15 min meditation\, daily reflection and sharing.\nContact: Step11pdx@gmail.com
URL:https://cp12stepoutreach.org/meeting-or-group/on-awakening-friday-meeting-2/2026-06-18/
LOCATION:Zoom Meeting
CATEGORIES:Online 11th Step Meditation Meetings
ORGANIZER;CN="On Awakening Meeting":MAILTO:step11pdx@gmail.com
END:VEVENT
BEGIN:VEVENT
DTSTART;TZID=America/Los_Angeles:20260619T063000
DTEND;TZID=America/Los_Angeles:20260619T073000
DTSTAMP:20260421T034736
CREATED:20250207T181453Z
LAST-MODIFIED:20250207T224528Z
UID:10051901-1781850600-1781854200@cp12stepoutreach.org
SUMMARY:"On Awakening" Thursday and Friday Meeting
DESCRIPTION:BRIEF MEETING INFORMATION:\n“On Awakening” Virtual AA meeting\nThursday & Friday 6:30-7:30 AM – Pacific Time on Zoom\nZoom Meeting ID: 220-597-9191\nZoom Password: 2mGN0C\nLink: https://us02web.zoom.us/j/2205979191?pwd=ZzRyWHRLM3hnYXdacmdlRUJnZVRaQT09\nDescription: 11th step AA meeting format with a 15 min meditation\, daily reflection and sharing.\nContact: Step11pdx@gmail.com
URL:https://cp12stepoutreach.org/meeting-or-group/on-awakening-friday-meeting-2/2026-06-19/
LOCATION:Zoom Meeting
CATEGORIES:Online 11th Step Meditation Meetings
ORGANIZER;CN="On Awakening Meeting":MAILTO:step11pdx@gmail.com
END:VEVENT
BEGIN:VEVENT
DTSTART;TZID=America/Los_Angeles:20260625T063000
DTEND;TZID=America/Los_Angeles:20260625T073000
DTSTAMP:20260421T034736
CREATED:20250207T181453Z
LAST-MODIFIED:20250207T224528Z
UID:10061607-1782369000-1782372600@cp12stepoutreach.org
SUMMARY:"On Awakening" Thursday and Friday Meeting
DESCRIPTION:BRIEF MEETING INFORMATION:\n“On Awakening” Virtual AA meeting\nThursday & Friday 6:30-7:30 AM – Pacific Time on Zoom\nZoom Meeting ID: 220-597-9191\nZoom Password: 2mGN0C\nLink: https://us02web.zoom.us/j/2205979191?pwd=ZzRyWHRLM3hnYXdacmdlRUJnZVRaQT09\nDescription: 11th step AA meeting format with a 15 min meditation\, daily reflection and sharing.\nContact: Step11pdx@gmail.com
URL:https://cp12stepoutreach.org/meeting-or-group/on-awakening-friday-meeting-2/2026-06-25/
LOCATION:Zoom Meeting
CATEGORIES:Online 11th Step Meditation Meetings
ORGANIZER;CN="On Awakening Meeting":MAILTO:step11pdx@gmail.com
END:VEVENT
BEGIN:VEVENT
DTSTART;TZID=America/Los_Angeles:20260626T063000
DTEND;TZID=America/Los_Angeles:20260626T073000
DTSTAMP:20260421T034736
CREATED:20250207T181453Z
LAST-MODIFIED:20250207T224528Z
UID:10051902-1782455400-1782459000@cp12stepoutreach.org
SUMMARY:"On Awakening" Thursday and Friday Meeting
DESCRIPTION:BRIEF MEETING INFORMATION:\n“On Awakening” Virtual AA meeting\nThursday & Friday 6:30-7:30 AM – Pacific Time on Zoom\nZoom Meeting ID: 220-597-9191\nZoom Password: 2mGN0C\nLink: https://us02web.zoom.us/j/2205979191?pwd=ZzRyWHRLM3hnYXdacmdlRUJnZVRaQT09\nDescription: 11th step AA meeting format with a 15 min meditation\, daily reflection and sharing.\nContact: Step11pdx@gmail.com
URL:https://cp12stepoutreach.org/meeting-or-group/on-awakening-friday-meeting-2/2026-06-26/
LOCATION:Zoom Meeting
CATEGORIES:Online 11th Step Meditation Meetings
ORGANIZER;CN="On Awakening Meeting":MAILTO:step11pdx@gmail.com
END:VEVENT
BEGIN:VEVENT
DTSTART;TZID=America/Los_Angeles:20260702T063000
DTEND;TZID=America/Los_Angeles:20260702T073000
DTSTAMP:20260421T034736
CREATED:20250207T181453Z
LAST-MODIFIED:20250207T224528Z
UID:10061608-1782973800-1782977400@cp12stepoutreach.org
SUMMARY:"On Awakening" Thursday and Friday Meeting
DESCRIPTION:BRIEF MEETING INFORMATION:\n“On Awakening” Virtual AA meeting\nThursday & Friday 6:30-7:30 AM – Pacific Time on Zoom\nZoom Meeting ID: 220-597-9191\nZoom Password: 2mGN0C\nLink: https://us02web.zoom.us/j/2205979191?pwd=ZzRyWHRLM3hnYXdacmdlRUJnZVRaQT09\nDescription: 11th step AA meeting format with a 15 min meditation\, daily reflection and sharing.\nContact: Step11pdx@gmail.com
URL:https://cp12stepoutreach.org/meeting-or-group/on-awakening-friday-meeting-2/2026-07-02/
LOCATION:Zoom Meeting
CATEGORIES:Online 11th Step Meditation Meetings
ORGANIZER;CN="On Awakening Meeting":MAILTO:step11pdx@gmail.com
END:VEVENT
BEGIN:VEVENT
DTSTART;TZID=America/Los_Angeles:20260703T063000
DTEND;TZID=America/Los_Angeles:20260703T073000
DTSTAMP:20260421T034736
CREATED:20250207T181453Z
LAST-MODIFIED:20250207T224528Z
UID:10051903-1783060200-1783063800@cp12stepoutreach.org
SUMMARY:"On Awakening" Thursday and Friday Meeting
DESCRIPTION:BRIEF MEETING INFORMATION:\n“On Awakening” Virtual AA meeting\nThursday & Friday 6:30-7:30 AM – Pacific Time on Zoom\nZoom Meeting ID: 220-597-9191\nZoom Password: 2mGN0C\nLink: https://us02web.zoom.us/j/2205979191?pwd=ZzRyWHRLM3hnYXdacmdlRUJnZVRaQT09\nDescription: 11th step AA meeting format with a 15 min meditation\, daily reflection and sharing.\nContact: Step11pdx@gmail.com
URL:https://cp12stepoutreach.org/meeting-or-group/on-awakening-friday-meeting-2/2026-07-03/
LOCATION:Zoom Meeting
CATEGORIES:Online 11th Step Meditation Meetings
ORGANIZER;CN="On Awakening Meeting":MAILTO:step11pdx@gmail.com
END:VEVENT
BEGIN:VEVENT
DTSTART;TZID=America/Los_Angeles:20260709T063000
DTEND;TZID=America/Los_Angeles:20260709T073000
DTSTAMP:20260421T034736
CREATED:20250207T181453Z
LAST-MODIFIED:20250207T224528Z
UID:10061609-1783578600-1783582200@cp12stepoutreach.org
SUMMARY:"On Awakening" Thursday and Friday Meeting
DESCRIPTION:BRIEF MEETING INFORMATION:\n“On Awakening” Virtual AA meeting\nThursday & Friday 6:30-7:30 AM – Pacific Time on Zoom\nZoom Meeting ID: 220-597-9191\nZoom Password: 2mGN0C\nLink: https://us02web.zoom.us/j/2205979191?pwd=ZzRyWHRLM3hnYXdacmdlRUJnZVRaQT09\nDescription: 11th step AA meeting format with a 15 min meditation\, daily reflection and sharing.\nContact: Step11pdx@gmail.com
URL:https://cp12stepoutreach.org/meeting-or-group/on-awakening-friday-meeting-2/2026-07-09/
LOCATION:Zoom Meeting
CATEGORIES:Online 11th Step Meditation Meetings
ORGANIZER;CN="On Awakening Meeting":MAILTO:step11pdx@gmail.com
END:VEVENT
BEGIN:VEVENT
DTSTART;TZID=America/Los_Angeles:20260710T063000
DTEND;TZID=America/Los_Angeles:20260710T073000
DTSTAMP:20260421T034736
CREATED:20250207T181453Z
LAST-MODIFIED:20250207T224528Z
UID:10051904-1783665000-1783668600@cp12stepoutreach.org
SUMMARY:"On Awakening" Thursday and Friday Meeting
DESCRIPTION:BRIEF MEETING INFORMATION:\n“On Awakening” Virtual AA meeting\nThursday & Friday 6:30-7:30 AM – Pacific Time on Zoom\nZoom Meeting ID: 220-597-9191\nZoom Password: 2mGN0C\nLink: https://us02web.zoom.us/j/2205979191?pwd=ZzRyWHRLM3hnYXdacmdlRUJnZVRaQT09\nDescription: 11th step AA meeting format with a 15 min meditation\, daily reflection and sharing.\nContact: Step11pdx@gmail.com
URL:https://cp12stepoutreach.org/meeting-or-group/on-awakening-friday-meeting-2/2026-07-10/
LOCATION:Zoom Meeting
CATEGORIES:Online 11th Step Meditation Meetings
ORGANIZER;CN="On Awakening Meeting":MAILTO:step11pdx@gmail.com
END:VEVENT
BEGIN:VEVENT
DTSTART;TZID=America/Los_Angeles:20260716T063000
DTEND;TZID=America/Los_Angeles:20260716T073000
DTSTAMP:20260421T034736
CREATED:20250207T181453Z
LAST-MODIFIED:20250207T224528Z
UID:10061610-1784183400-1784187000@cp12stepoutreach.org
SUMMARY:"On Awakening" Thursday and Friday Meeting
DESCRIPTION:BRIEF MEETING INFORMATION:\n“On Awakening” Virtual AA meeting\nThursday & Friday 6:30-7:30 AM – Pacific Time on Zoom\nZoom Meeting ID: 220-597-9191\nZoom Password: 2mGN0C\nLink: https://us02web.zoom.us/j/2205979191?pwd=ZzRyWHRLM3hnYXdacmdlRUJnZVRaQT09\nDescription: 11th step AA meeting format with a 15 min meditation\, daily reflection and sharing.\nContact: Step11pdx@gmail.com
URL:https://cp12stepoutreach.org/meeting-or-group/on-awakening-friday-meeting-2/2026-07-16/
LOCATION:Zoom Meeting
CATEGORIES:Online 11th Step Meditation Meetings
ORGANIZER;CN="On Awakening Meeting":MAILTO:step11pdx@gmail.com
END:VEVENT
BEGIN:VEVENT
DTSTART;TZID=America/Los_Angeles:20260717T063000
DTEND;TZID=America/Los_Angeles:20260717T073000
DTSTAMP:20260421T034736
CREATED:20250207T181453Z
LAST-MODIFIED:20250207T224528Z
UID:10051905-1784269800-1784273400@cp12stepoutreach.org
SUMMARY:"On Awakening" Thursday and Friday Meeting
DESCRIPTION:BRIEF MEETING INFORMATION:\n“On Awakening” Virtual AA meeting\nThursday & Friday 6:30-7:30 AM – Pacific Time on Zoom\nZoom Meeting ID: 220-597-9191\nZoom Password: 2mGN0C\nLink: https://us02web.zoom.us/j/2205979191?pwd=ZzRyWHRLM3hnYXdacmdlRUJnZVRaQT09\nDescription: 11th step AA meeting format with a 15 min meditation\, daily reflection and sharing.\nContact: Step11pdx@gmail.com
URL:https://cp12stepoutreach.org/meeting-or-group/on-awakening-friday-meeting-2/2026-07-17/
LOCATION:Zoom Meeting
CATEGORIES:Online 11th Step Meditation Meetings
ORGANIZER;CN="On Awakening Meeting":MAILTO:step11pdx@gmail.com
END:VEVENT
BEGIN:VEVENT
DTSTART;TZID=America/Los_Angeles:20260723T063000
DTEND;TZID=America/Los_Angeles:20260723T073000
DTSTAMP:20260421T034736
CREATED:20250207T181453Z
LAST-MODIFIED:20250207T224528Z
UID:10061611-1784788200-1784791800@cp12stepoutreach.org
SUMMARY:"On Awakening" Thursday and Friday Meeting
DESCRIPTION:BRIEF MEETING INFORMATION:\n“On Awakening” Virtual AA meeting\nThursday & Friday 6:30-7:30 AM – Pacific Time on Zoom\nZoom Meeting ID: 220-597-9191\nZoom Password: 2mGN0C\nLink: https://us02web.zoom.us/j/2205979191?pwd=ZzRyWHRLM3hnYXdacmdlRUJnZVRaQT09\nDescription: 11th step AA meeting format with a 15 min meditation\, daily reflection and sharing.\nContact: Step11pdx@gmail.com
URL:https://cp12stepoutreach.org/meeting-or-group/on-awakening-friday-meeting-2/2026-07-23/
LOCATION:Zoom Meeting
CATEGORIES:Online 11th Step Meditation Meetings
ORGANIZER;CN="On Awakening Meeting":MAILTO:step11pdx@gmail.com
END:VEVENT
BEGIN:VEVENT
DTSTART;TZID=America/Los_Angeles:20260724T063000
DTEND;TZID=America/Los_Angeles:20260724T073000
DTSTAMP:20260421T034736
CREATED:20250207T181453Z
LAST-MODIFIED:20250207T224528Z
UID:10051906-1784874600-1784878200@cp12stepoutreach.org
SUMMARY:"On Awakening" Thursday and Friday Meeting
DESCRIPTION:BRIEF MEETING INFORMATION:\n“On Awakening” Virtual AA meeting\nThursday & Friday 6:30-7:30 AM – Pacific Time on Zoom\nZoom Meeting ID: 220-597-9191\nZoom Password: 2mGN0C\nLink: https://us02web.zoom.us/j/2205979191?pwd=ZzRyWHRLM3hnYXdacmdlRUJnZVRaQT09\nDescription: 11th step AA meeting format with a 15 min meditation\, daily reflection and sharing.\nContact: Step11pdx@gmail.com
URL:https://cp12stepoutreach.org/meeting-or-group/on-awakening-friday-meeting-2/2026-07-24/
LOCATION:Zoom Meeting
CATEGORIES:Online 11th Step Meditation Meetings
ORGANIZER;CN="On Awakening Meeting":MAILTO:step11pdx@gmail.com
END:VEVENT
BEGIN:VEVENT
DTSTART;TZID=America/Los_Angeles:20260730T063000
DTEND;TZID=America/Los_Angeles:20260730T073000
DTSTAMP:20260421T034736
CREATED:20250207T181453Z
LAST-MODIFIED:20250207T224528Z
UID:10061612-1785393000-1785396600@cp12stepoutreach.org
SUMMARY:"On Awakening" Thursday and Friday Meeting
DESCRIPTION:BRIEF MEETING INFORMATION:\n“On Awakening” Virtual AA meeting\nThursday & Friday 6:30-7:30 AM – Pacific Time on Zoom\nZoom Meeting ID: 220-597-9191\nZoom Password: 2mGN0C\nLink: https://us02web.zoom.us/j/2205979191?pwd=ZzRyWHRLM3hnYXdacmdlRUJnZVRaQT09\nDescription: 11th step AA meeting format with a 15 min meditation\, daily reflection and sharing.\nContact: Step11pdx@gmail.com
URL:https://cp12stepoutreach.org/meeting-or-group/on-awakening-friday-meeting-2/2026-07-30/
LOCATION:Zoom Meeting
CATEGORIES:Online 11th Step Meditation Meetings
ORGANIZER;CN="On Awakening Meeting":MAILTO:step11pdx@gmail.com
END:VEVENT
BEGIN:VEVENT
DTSTART;TZID=America/Los_Angeles:20260731T063000
DTEND;TZID=America/Los_Angeles:20260731T073000
DTSTAMP:20260421T034736
CREATED:20250207T181453Z
LAST-MODIFIED:20250207T224528Z
UID:10051907-1785479400-1785483000@cp12stepoutreach.org
SUMMARY:"On Awakening" Thursday and Friday Meeting
DESCRIPTION:BRIEF MEETING INFORMATION:\n“On Awakening” Virtual AA meeting\nThursday & Friday 6:30-7:30 AM – Pacific Time on Zoom\nZoom Meeting ID: 220-597-9191\nZoom Password: 2mGN0C\nLink: https://us02web.zoom.us/j/2205979191?pwd=ZzRyWHRLM3hnYXdacmdlRUJnZVRaQT09\nDescription: 11th step AA meeting format with a 15 min meditation\, daily reflection and sharing.\nContact: Step11pdx@gmail.com
URL:https://cp12stepoutreach.org/meeting-or-group/on-awakening-friday-meeting-2/2026-07-31/
LOCATION:Zoom Meeting
CATEGORIES:Online 11th Step Meditation Meetings
ORGANIZER;CN="On Awakening Meeting":MAILTO:step11pdx@gmail.com
END:VEVENT
END:VCALENDAR