BEGIN:VCALENDAR
VERSION:2.0
PRODID:-//12 Step Outreach - ECPv6.11.2.1//NONSGML v1.0//EN
CALSCALE:GREGORIAN
METHOD:PUBLISH
X-WR-CALNAME:12 Step Outreach
X-ORIGINAL-URL:https://cp12stepoutreach.org
X-WR-CALDESC:Events for 12 Step Outreach
REFRESH-INTERVAL;VALUE=DURATION:PT1H
X-Robots-Tag:noindex
X-PUBLISHED-TTL:PT1H
BEGIN:VTIMEZONE
TZID:America/Los_Angeles
BEGIN:DAYLIGHT
TZOFFSETFROM:-0800
TZOFFSETTO:-0700
TZNAME:PDT
DTSTART:20280312T100000
END:DAYLIGHT
BEGIN:STANDARD
TZOFFSETFROM:-0700
TZOFFSETTO:-0800
TZNAME:PST
DTSTART:20281105T090000
END:STANDARD
END:VTIMEZONE
BEGIN:VEVENT
DTSTART;TZID=America/Los_Angeles:20280113T063000
DTEND;TZID=America/Los_Angeles:20280113T073000
DTSTAMP:20260421T160339
CREATED:20250207T181453Z
LAST-MODIFIED:20250207T224528Z
UID:10061688-1831357800-1831361400@cp12stepoutreach.org
SUMMARY:"On Awakening" Thursday and Friday Meeting
DESCRIPTION:BRIEF MEETING INFORMATION:\n“On Awakening” Virtual AA meeting\nThursday & Friday 6:30-7:30 AM – Pacific Time on Zoom\nZoom Meeting ID: 220-597-9191\nZoom Password: 2mGN0C\nLink: https://us02web.zoom.us/j/2205979191?pwd=ZzRyWHRLM3hnYXdacmdlRUJnZVRaQT09\nDescription: 11th step AA meeting format with a 15 min meditation\, daily reflection and sharing.\nContact: Step11pdx@gmail.com
URL:https://cp12stepoutreach.org/meeting-or-group/on-awakening-friday-meeting-2/2028-01-13/
LOCATION:Zoom Meeting
CATEGORIES:Online 11th Step Meditation Meetings
ORGANIZER;CN="On Awakening Meeting":MAILTO:step11pdx@gmail.com
END:VEVENT
BEGIN:VEVENT
DTSTART;TZID=America/Los_Angeles:20280114T063000
DTEND;TZID=America/Los_Angeles:20280114T073000
DTSTAMP:20260421T160339
CREATED:20250207T181453Z
LAST-MODIFIED:20250207T224528Z
UID:10061427-1831444200-1831447800@cp12stepoutreach.org
SUMMARY:"On Awakening" Thursday and Friday Meeting
DESCRIPTION:BRIEF MEETING INFORMATION:\n“On Awakening” Virtual AA meeting\nThursday & Friday 6:30-7:30 AM – Pacific Time on Zoom\nZoom Meeting ID: 220-597-9191\nZoom Password: 2mGN0C\nLink: https://us02web.zoom.us/j/2205979191?pwd=ZzRyWHRLM3hnYXdacmdlRUJnZVRaQT09\nDescription: 11th step AA meeting format with a 15 min meditation\, daily reflection and sharing.\nContact: Step11pdx@gmail.com
URL:https://cp12stepoutreach.org/meeting-or-group/on-awakening-friday-meeting-2/2028-01-14/
LOCATION:Zoom Meeting
CATEGORIES:Online 11th Step Meditation Meetings
ORGANIZER;CN="On Awakening Meeting":MAILTO:step11pdx@gmail.com
END:VEVENT
BEGIN:VEVENT
DTSTART;TZID=America/Los_Angeles:20280120T063000
DTEND;TZID=America/Los_Angeles:20280120T073000
DTSTAMP:20260421T160339
CREATED:20250207T181453Z
LAST-MODIFIED:20250207T224528Z
UID:10061689-1831962600-1831966200@cp12stepoutreach.org
SUMMARY:"On Awakening" Thursday and Friday Meeting
DESCRIPTION:BRIEF MEETING INFORMATION:\n“On Awakening” Virtual AA meeting\nThursday & Friday 6:30-7:30 AM – Pacific Time on Zoom\nZoom Meeting ID: 220-597-9191\nZoom Password: 2mGN0C\nLink: https://us02web.zoom.us/j/2205979191?pwd=ZzRyWHRLM3hnYXdacmdlRUJnZVRaQT09\nDescription: 11th step AA meeting format with a 15 min meditation\, daily reflection and sharing.\nContact: Step11pdx@gmail.com
URL:https://cp12stepoutreach.org/meeting-or-group/on-awakening-friday-meeting-2/2028-01-20/
LOCATION:Zoom Meeting
CATEGORIES:Online 11th Step Meditation Meetings
ORGANIZER;CN="On Awakening Meeting":MAILTO:step11pdx@gmail.com
END:VEVENT
BEGIN:VEVENT
DTSTART;TZID=America/Los_Angeles:20280121T063000
DTEND;TZID=America/Los_Angeles:20280121T073000
DTSTAMP:20260421T160339
CREATED:20250207T181453Z
LAST-MODIFIED:20250207T224528Z
UID:10061428-1832049000-1832052600@cp12stepoutreach.org
SUMMARY:"On Awakening" Thursday and Friday Meeting
DESCRIPTION:BRIEF MEETING INFORMATION:\n“On Awakening” Virtual AA meeting\nThursday & Friday 6:30-7:30 AM – Pacific Time on Zoom\nZoom Meeting ID: 220-597-9191\nZoom Password: 2mGN0C\nLink: https://us02web.zoom.us/j/2205979191?pwd=ZzRyWHRLM3hnYXdacmdlRUJnZVRaQT09\nDescription: 11th step AA meeting format with a 15 min meditation\, daily reflection and sharing.\nContact: Step11pdx@gmail.com
URL:https://cp12stepoutreach.org/meeting-or-group/on-awakening-friday-meeting-2/2028-01-21/
LOCATION:Zoom Meeting
CATEGORIES:Online 11th Step Meditation Meetings
ORGANIZER;CN="On Awakening Meeting":MAILTO:step11pdx@gmail.com
END:VEVENT
BEGIN:VEVENT
DTSTART;TZID=America/Los_Angeles:20280127T063000
DTEND;TZID=America/Los_Angeles:20280127T073000
DTSTAMP:20260421T160339
CREATED:20250207T181453Z
LAST-MODIFIED:20250207T224528Z
UID:10061690-1832567400-1832571000@cp12stepoutreach.org
SUMMARY:"On Awakening" Thursday and Friday Meeting
DESCRIPTION:BRIEF MEETING INFORMATION:\n“On Awakening” Virtual AA meeting\nThursday & Friday 6:30-7:30 AM – Pacific Time on Zoom\nZoom Meeting ID: 220-597-9191\nZoom Password: 2mGN0C\nLink: https://us02web.zoom.us/j/2205979191?pwd=ZzRyWHRLM3hnYXdacmdlRUJnZVRaQT09\nDescription: 11th step AA meeting format with a 15 min meditation\, daily reflection and sharing.\nContact: Step11pdx@gmail.com
URL:https://cp12stepoutreach.org/meeting-or-group/on-awakening-friday-meeting-2/2028-01-27/
LOCATION:Zoom Meeting
CATEGORIES:Online 11th Step Meditation Meetings
ORGANIZER;CN="On Awakening Meeting":MAILTO:step11pdx@gmail.com
END:VEVENT
BEGIN:VEVENT
DTSTART;TZID=America/Los_Angeles:20280128T063000
DTEND;TZID=America/Los_Angeles:20280128T073000
DTSTAMP:20260421T160339
CREATED:20250207T181453Z
LAST-MODIFIED:20250207T224528Z
UID:10061429-1832653800-1832657400@cp12stepoutreach.org
SUMMARY:"On Awakening" Thursday and Friday Meeting
DESCRIPTION:BRIEF MEETING INFORMATION:\n“On Awakening” Virtual AA meeting\nThursday & Friday 6:30-7:30 AM – Pacific Time on Zoom\nZoom Meeting ID: 220-597-9191\nZoom Password: 2mGN0C\nLink: https://us02web.zoom.us/j/2205979191?pwd=ZzRyWHRLM3hnYXdacmdlRUJnZVRaQT09\nDescription: 11th step AA meeting format with a 15 min meditation\, daily reflection and sharing.\nContact: Step11pdx@gmail.com
URL:https://cp12stepoutreach.org/meeting-or-group/on-awakening-friday-meeting-2/2028-01-28/
LOCATION:Zoom Meeting
CATEGORIES:Online 11th Step Meditation Meetings
ORGANIZER;CN="On Awakening Meeting":MAILTO:step11pdx@gmail.com
END:VEVENT
BEGIN:VEVENT
DTSTART;TZID=America/Los_Angeles:20280203T063000
DTEND;TZID=America/Los_Angeles:20280203T073000
DTSTAMP:20260421T160339
CREATED:20250207T181453Z
LAST-MODIFIED:20250207T224528Z
UID:10061691-1833172200-1833175800@cp12stepoutreach.org
SUMMARY:"On Awakening" Thursday and Friday Meeting
DESCRIPTION:BRIEF MEETING INFORMATION:\n“On Awakening” Virtual AA meeting\nThursday & Friday 6:30-7:30 AM – Pacific Time on Zoom\nZoom Meeting ID: 220-597-9191\nZoom Password: 2mGN0C\nLink: https://us02web.zoom.us/j/2205979191?pwd=ZzRyWHRLM3hnYXdacmdlRUJnZVRaQT09\nDescription: 11th step AA meeting format with a 15 min meditation\, daily reflection and sharing.\nContact: Step11pdx@gmail.com
URL:https://cp12stepoutreach.org/meeting-or-group/on-awakening-friday-meeting-2/2028-02-03/
LOCATION:Zoom Meeting
CATEGORIES:Online 11th Step Meditation Meetings
ORGANIZER;CN="On Awakening Meeting":MAILTO:step11pdx@gmail.com
END:VEVENT
BEGIN:VEVENT
DTSTART;TZID=America/Los_Angeles:20280204T063000
DTEND;TZID=America/Los_Angeles:20280204T073000
DTSTAMP:20260421T160339
CREATED:20250207T181453Z
LAST-MODIFIED:20250207T224528Z
UID:10061430-1833258600-1833262200@cp12stepoutreach.org
SUMMARY:"On Awakening" Thursday and Friday Meeting
DESCRIPTION:BRIEF MEETING INFORMATION:\n“On Awakening” Virtual AA meeting\nThursday & Friday 6:30-7:30 AM – Pacific Time on Zoom\nZoom Meeting ID: 220-597-9191\nZoom Password: 2mGN0C\nLink: https://us02web.zoom.us/j/2205979191?pwd=ZzRyWHRLM3hnYXdacmdlRUJnZVRaQT09\nDescription: 11th step AA meeting format with a 15 min meditation\, daily reflection and sharing.\nContact: Step11pdx@gmail.com
URL:https://cp12stepoutreach.org/meeting-or-group/on-awakening-friday-meeting-2/2028-02-04/
LOCATION:Zoom Meeting
CATEGORIES:Online 11th Step Meditation Meetings
ORGANIZER;CN="On Awakening Meeting":MAILTO:step11pdx@gmail.com
END:VEVENT
BEGIN:VEVENT
DTSTART;TZID=America/Los_Angeles:20280210T063000
DTEND;TZID=America/Los_Angeles:20280210T073000
DTSTAMP:20260421T160339
CREATED:20250207T181453Z
LAST-MODIFIED:20250207T224528Z
UID:10061692-1833777000-1833780600@cp12stepoutreach.org
SUMMARY:"On Awakening" Thursday and Friday Meeting
DESCRIPTION:BRIEF MEETING INFORMATION:\n“On Awakening” Virtual AA meeting\nThursday & Friday 6:30-7:30 AM – Pacific Time on Zoom\nZoom Meeting ID: 220-597-9191\nZoom Password: 2mGN0C\nLink: https://us02web.zoom.us/j/2205979191?pwd=ZzRyWHRLM3hnYXdacmdlRUJnZVRaQT09\nDescription: 11th step AA meeting format with a 15 min meditation\, daily reflection and sharing.\nContact: Step11pdx@gmail.com
URL:https://cp12stepoutreach.org/meeting-or-group/on-awakening-friday-meeting-2/2028-02-10/
LOCATION:Zoom Meeting
CATEGORIES:Online 11th Step Meditation Meetings
ORGANIZER;CN="On Awakening Meeting":MAILTO:step11pdx@gmail.com
END:VEVENT
BEGIN:VEVENT
DTSTART;TZID=America/Los_Angeles:20280211T063000
DTEND;TZID=America/Los_Angeles:20280211T073000
DTSTAMP:20260421T160339
CREATED:20250207T181453Z
LAST-MODIFIED:20250207T224528Z
UID:10061431-1833863400-1833867000@cp12stepoutreach.org
SUMMARY:"On Awakening" Thursday and Friday Meeting
DESCRIPTION:BRIEF MEETING INFORMATION:\n“On Awakening” Virtual AA meeting\nThursday & Friday 6:30-7:30 AM – Pacific Time on Zoom\nZoom Meeting ID: 220-597-9191\nZoom Password: 2mGN0C\nLink: https://us02web.zoom.us/j/2205979191?pwd=ZzRyWHRLM3hnYXdacmdlRUJnZVRaQT09\nDescription: 11th step AA meeting format with a 15 min meditation\, daily reflection and sharing.\nContact: Step11pdx@gmail.com
URL:https://cp12stepoutreach.org/meeting-or-group/on-awakening-friday-meeting-2/2028-02-11/
LOCATION:Zoom Meeting
CATEGORIES:Online 11th Step Meditation Meetings
ORGANIZER;CN="On Awakening Meeting":MAILTO:step11pdx@gmail.com
END:VEVENT
BEGIN:VEVENT
DTSTART;TZID=America/Los_Angeles:20280217T063000
DTEND;TZID=America/Los_Angeles:20280217T073000
DTSTAMP:20260421T160339
CREATED:20250207T181453Z
LAST-MODIFIED:20250207T224528Z
UID:10061693-1834381800-1834385400@cp12stepoutreach.org
SUMMARY:"On Awakening" Thursday and Friday Meeting
DESCRIPTION:BRIEF MEETING INFORMATION:\n“On Awakening” Virtual AA meeting\nThursday & Friday 6:30-7:30 AM – Pacific Time on Zoom\nZoom Meeting ID: 220-597-9191\nZoom Password: 2mGN0C\nLink: https://us02web.zoom.us/j/2205979191?pwd=ZzRyWHRLM3hnYXdacmdlRUJnZVRaQT09\nDescription: 11th step AA meeting format with a 15 min meditation\, daily reflection and sharing.\nContact: Step11pdx@gmail.com
URL:https://cp12stepoutreach.org/meeting-or-group/on-awakening-friday-meeting-2/2028-02-17/
LOCATION:Zoom Meeting
CATEGORIES:Online 11th Step Meditation Meetings
ORGANIZER;CN="On Awakening Meeting":MAILTO:step11pdx@gmail.com
END:VEVENT
BEGIN:VEVENT
DTSTART;TZID=America/Los_Angeles:20280218T063000
DTEND;TZID=America/Los_Angeles:20280218T073000
DTSTAMP:20260421T160339
CREATED:20250207T181453Z
LAST-MODIFIED:20250207T224528Z
UID:10061432-1834468200-1834471800@cp12stepoutreach.org
SUMMARY:"On Awakening" Thursday and Friday Meeting
DESCRIPTION:BRIEF MEETING INFORMATION:\n“On Awakening” Virtual AA meeting\nThursday & Friday 6:30-7:30 AM – Pacific Time on Zoom\nZoom Meeting ID: 220-597-9191\nZoom Password: 2mGN0C\nLink: https://us02web.zoom.us/j/2205979191?pwd=ZzRyWHRLM3hnYXdacmdlRUJnZVRaQT09\nDescription: 11th step AA meeting format with a 15 min meditation\, daily reflection and sharing.\nContact: Step11pdx@gmail.com
URL:https://cp12stepoutreach.org/meeting-or-group/on-awakening-friday-meeting-2/2028-02-18/
LOCATION:Zoom Meeting
CATEGORIES:Online 11th Step Meditation Meetings
ORGANIZER;CN="On Awakening Meeting":MAILTO:step11pdx@gmail.com
END:VEVENT
BEGIN:VEVENT
DTSTART;TZID=America/Los_Angeles:20280224T063000
DTEND;TZID=America/Los_Angeles:20280224T073000
DTSTAMP:20260421T160339
CREATED:20250207T181453Z
LAST-MODIFIED:20250207T224528Z
UID:10061694-1834986600-1834990200@cp12stepoutreach.org
SUMMARY:"On Awakening" Thursday and Friday Meeting
DESCRIPTION:BRIEF MEETING INFORMATION:\n“On Awakening” Virtual AA meeting\nThursday & Friday 6:30-7:30 AM – Pacific Time on Zoom\nZoom Meeting ID: 220-597-9191\nZoom Password: 2mGN0C\nLink: https://us02web.zoom.us/j/2205979191?pwd=ZzRyWHRLM3hnYXdacmdlRUJnZVRaQT09\nDescription: 11th step AA meeting format with a 15 min meditation\, daily reflection and sharing.\nContact: Step11pdx@gmail.com
URL:https://cp12stepoutreach.org/meeting-or-group/on-awakening-friday-meeting-2/2028-02-24/
LOCATION:Zoom Meeting
CATEGORIES:Online 11th Step Meditation Meetings
ORGANIZER;CN="On Awakening Meeting":MAILTO:step11pdx@gmail.com
END:VEVENT
BEGIN:VEVENT
DTSTART;TZID=America/Los_Angeles:20280225T063000
DTEND;TZID=America/Los_Angeles:20280225T073000
DTSTAMP:20260421T160339
CREATED:20250207T181453Z
LAST-MODIFIED:20250207T224528Z
UID:10061433-1835073000-1835076600@cp12stepoutreach.org
SUMMARY:"On Awakening" Thursday and Friday Meeting
DESCRIPTION:BRIEF MEETING INFORMATION:\n“On Awakening” Virtual AA meeting\nThursday & Friday 6:30-7:30 AM – Pacific Time on Zoom\nZoom Meeting ID: 220-597-9191\nZoom Password: 2mGN0C\nLink: https://us02web.zoom.us/j/2205979191?pwd=ZzRyWHRLM3hnYXdacmdlRUJnZVRaQT09\nDescription: 11th step AA meeting format with a 15 min meditation\, daily reflection and sharing.\nContact: Step11pdx@gmail.com
URL:https://cp12stepoutreach.org/meeting-or-group/on-awakening-friday-meeting-2/2028-02-25/
LOCATION:Zoom Meeting
CATEGORIES:Online 11th Step Meditation Meetings
ORGANIZER;CN="On Awakening Meeting":MAILTO:step11pdx@gmail.com
END:VEVENT
BEGIN:VEVENT
DTSTART;TZID=America/Los_Angeles:20280302T063000
DTEND;TZID=America/Los_Angeles:20280302T073000
DTSTAMP:20260421T160339
CREATED:20250207T181453Z
LAST-MODIFIED:20250207T224528Z
UID:10061695-1835591400-1835595000@cp12stepoutreach.org
SUMMARY:"On Awakening" Thursday and Friday Meeting
DESCRIPTION:BRIEF MEETING INFORMATION:\n“On Awakening” Virtual AA meeting\nThursday & Friday 6:30-7:30 AM – Pacific Time on Zoom\nZoom Meeting ID: 220-597-9191\nZoom Password: 2mGN0C\nLink: https://us02web.zoom.us/j/2205979191?pwd=ZzRyWHRLM3hnYXdacmdlRUJnZVRaQT09\nDescription: 11th step AA meeting format with a 15 min meditation\, daily reflection and sharing.\nContact: Step11pdx@gmail.com
URL:https://cp12stepoutreach.org/meeting-or-group/on-awakening-friday-meeting-2/2028-03-02/
LOCATION:Zoom Meeting
CATEGORIES:Online 11th Step Meditation Meetings
ORGANIZER;CN="On Awakening Meeting":MAILTO:step11pdx@gmail.com
END:VEVENT
BEGIN:VEVENT
DTSTART;TZID=America/Los_Angeles:20280303T063000
DTEND;TZID=America/Los_Angeles:20280303T073000
DTSTAMP:20260421T160339
CREATED:20250207T181453Z
LAST-MODIFIED:20250207T224528Z
UID:10061434-1835677800-1835681400@cp12stepoutreach.org
SUMMARY:"On Awakening" Thursday and Friday Meeting
DESCRIPTION:BRIEF MEETING INFORMATION:\n“On Awakening” Virtual AA meeting\nThursday & Friday 6:30-7:30 AM – Pacific Time on Zoom\nZoom Meeting ID: 220-597-9191\nZoom Password: 2mGN0C\nLink: https://us02web.zoom.us/j/2205979191?pwd=ZzRyWHRLM3hnYXdacmdlRUJnZVRaQT09\nDescription: 11th step AA meeting format with a 15 min meditation\, daily reflection and sharing.\nContact: Step11pdx@gmail.com
URL:https://cp12stepoutreach.org/meeting-or-group/on-awakening-friday-meeting-2/2028-03-03/
LOCATION:Zoom Meeting
CATEGORIES:Online 11th Step Meditation Meetings
ORGANIZER;CN="On Awakening Meeting":MAILTO:step11pdx@gmail.com
END:VEVENT
BEGIN:VEVENT
DTSTART;TZID=America/Los_Angeles:20280309T063000
DTEND;TZID=America/Los_Angeles:20280309T073000
DTSTAMP:20260421T160339
CREATED:20250207T181453Z
LAST-MODIFIED:20250207T224528Z
UID:10061696-1836196200-1836199800@cp12stepoutreach.org
SUMMARY:"On Awakening" Thursday and Friday Meeting
DESCRIPTION:BRIEF MEETING INFORMATION:\n“On Awakening” Virtual AA meeting\nThursday & Friday 6:30-7:30 AM – Pacific Time on Zoom\nZoom Meeting ID: 220-597-9191\nZoom Password: 2mGN0C\nLink: https://us02web.zoom.us/j/2205979191?pwd=ZzRyWHRLM3hnYXdacmdlRUJnZVRaQT09\nDescription: 11th step AA meeting format with a 15 min meditation\, daily reflection and sharing.\nContact: Step11pdx@gmail.com
URL:https://cp12stepoutreach.org/meeting-or-group/on-awakening-friday-meeting-2/2028-03-09/
LOCATION:Zoom Meeting
CATEGORIES:Online 11th Step Meditation Meetings
ORGANIZER;CN="On Awakening Meeting":MAILTO:step11pdx@gmail.com
END:VEVENT
BEGIN:VEVENT
DTSTART;TZID=America/Los_Angeles:20280310T063000
DTEND;TZID=America/Los_Angeles:20280310T073000
DTSTAMP:20260421T160339
CREATED:20250207T181453Z
LAST-MODIFIED:20250207T224528Z
UID:10061435-1836282600-1836286200@cp12stepoutreach.org
SUMMARY:"On Awakening" Thursday and Friday Meeting
DESCRIPTION:BRIEF MEETING INFORMATION:\n“On Awakening” Virtual AA meeting\nThursday & Friday 6:30-7:30 AM – Pacific Time on Zoom\nZoom Meeting ID: 220-597-9191\nZoom Password: 2mGN0C\nLink: https://us02web.zoom.us/j/2205979191?pwd=ZzRyWHRLM3hnYXdacmdlRUJnZVRaQT09\nDescription: 11th step AA meeting format with a 15 min meditation\, daily reflection and sharing.\nContact: Step11pdx@gmail.com
URL:https://cp12stepoutreach.org/meeting-or-group/on-awakening-friday-meeting-2/2028-03-10/
LOCATION:Zoom Meeting
CATEGORIES:Online 11th Step Meditation Meetings
ORGANIZER;CN="On Awakening Meeting":MAILTO:step11pdx@gmail.com
END:VEVENT
BEGIN:VEVENT
DTSTART;TZID=America/Los_Angeles:20280316T063000
DTEND;TZID=America/Los_Angeles:20280316T073000
DTSTAMP:20260421T160339
CREATED:20250207T181453Z
LAST-MODIFIED:20250207T224528Z
UID:10061697-1836801000-1836804600@cp12stepoutreach.org
SUMMARY:"On Awakening" Thursday and Friday Meeting
DESCRIPTION:BRIEF MEETING INFORMATION:\n“On Awakening” Virtual AA meeting\nThursday & Friday 6:30-7:30 AM – Pacific Time on Zoom\nZoom Meeting ID: 220-597-9191\nZoom Password: 2mGN0C\nLink: https://us02web.zoom.us/j/2205979191?pwd=ZzRyWHRLM3hnYXdacmdlRUJnZVRaQT09\nDescription: 11th step AA meeting format with a 15 min meditation\, daily reflection and sharing.\nContact: Step11pdx@gmail.com
URL:https://cp12stepoutreach.org/meeting-or-group/on-awakening-friday-meeting-2/2028-03-16/
LOCATION:Zoom Meeting
CATEGORIES:Online 11th Step Meditation Meetings
ORGANIZER;CN="On Awakening Meeting":MAILTO:step11pdx@gmail.com
END:VEVENT
BEGIN:VEVENT
DTSTART;TZID=America/Los_Angeles:20280317T063000
DTEND;TZID=America/Los_Angeles:20280317T073000
DTSTAMP:20260421T160339
CREATED:20250207T181453Z
LAST-MODIFIED:20250207T224528Z
UID:10061436-1836887400-1836891000@cp12stepoutreach.org
SUMMARY:"On Awakening" Thursday and Friday Meeting
DESCRIPTION:BRIEF MEETING INFORMATION:\n“On Awakening” Virtual AA meeting\nThursday & Friday 6:30-7:30 AM – Pacific Time on Zoom\nZoom Meeting ID: 220-597-9191\nZoom Password: 2mGN0C\nLink: https://us02web.zoom.us/j/2205979191?pwd=ZzRyWHRLM3hnYXdacmdlRUJnZVRaQT09\nDescription: 11th step AA meeting format with a 15 min meditation\, daily reflection and sharing.\nContact: Step11pdx@gmail.com
URL:https://cp12stepoutreach.org/meeting-or-group/on-awakening-friday-meeting-2/2028-03-17/
LOCATION:Zoom Meeting
CATEGORIES:Online 11th Step Meditation Meetings
ORGANIZER;CN="On Awakening Meeting":MAILTO:step11pdx@gmail.com
END:VEVENT
BEGIN:VEVENT
DTSTART;TZID=America/Los_Angeles:20280323T063000
DTEND;TZID=America/Los_Angeles:20280323T073000
DTSTAMP:20260421T160339
CREATED:20250207T181453Z
LAST-MODIFIED:20250207T224528Z
UID:10061698-1837405800-1837409400@cp12stepoutreach.org
SUMMARY:"On Awakening" Thursday and Friday Meeting
DESCRIPTION:BRIEF MEETING INFORMATION:\n“On Awakening” Virtual AA meeting\nThursday & Friday 6:30-7:30 AM – Pacific Time on Zoom\nZoom Meeting ID: 220-597-9191\nZoom Password: 2mGN0C\nLink: https://us02web.zoom.us/j/2205979191?pwd=ZzRyWHRLM3hnYXdacmdlRUJnZVRaQT09\nDescription: 11th step AA meeting format with a 15 min meditation\, daily reflection and sharing.\nContact: Step11pdx@gmail.com
URL:https://cp12stepoutreach.org/meeting-or-group/on-awakening-friday-meeting-2/2028-03-23/
LOCATION:Zoom Meeting
CATEGORIES:Online 11th Step Meditation Meetings
ORGANIZER;CN="On Awakening Meeting":MAILTO:step11pdx@gmail.com
END:VEVENT
BEGIN:VEVENT
DTSTART;TZID=America/Los_Angeles:20280324T063000
DTEND;TZID=America/Los_Angeles:20280324T073000
DTSTAMP:20260421T160339
CREATED:20250207T181453Z
LAST-MODIFIED:20250207T224528Z
UID:10061437-1837492200-1837495800@cp12stepoutreach.org
SUMMARY:"On Awakening" Thursday and Friday Meeting
DESCRIPTION:BRIEF MEETING INFORMATION:\n“On Awakening” Virtual AA meeting\nThursday & Friday 6:30-7:30 AM – Pacific Time on Zoom\nZoom Meeting ID: 220-597-9191\nZoom Password: 2mGN0C\nLink: https://us02web.zoom.us/j/2205979191?pwd=ZzRyWHRLM3hnYXdacmdlRUJnZVRaQT09\nDescription: 11th step AA meeting format with a 15 min meditation\, daily reflection and sharing.\nContact: Step11pdx@gmail.com
URL:https://cp12stepoutreach.org/meeting-or-group/on-awakening-friday-meeting-2/2028-03-24/
LOCATION:Zoom Meeting
CATEGORIES:Online 11th Step Meditation Meetings
ORGANIZER;CN="On Awakening Meeting":MAILTO:step11pdx@gmail.com
END:VEVENT
BEGIN:VEVENT
DTSTART;TZID=America/Los_Angeles:20280330T063000
DTEND;TZID=America/Los_Angeles:20280330T073000
DTSTAMP:20260421T160339
CREATED:20250207T181453Z
LAST-MODIFIED:20250207T224528Z
UID:10061699-1838010600-1838014200@cp12stepoutreach.org
SUMMARY:"On Awakening" Thursday and Friday Meeting
DESCRIPTION:BRIEF MEETING INFORMATION:\n“On Awakening” Virtual AA meeting\nThursday & Friday 6:30-7:30 AM – Pacific Time on Zoom\nZoom Meeting ID: 220-597-9191\nZoom Password: 2mGN0C\nLink: https://us02web.zoom.us/j/2205979191?pwd=ZzRyWHRLM3hnYXdacmdlRUJnZVRaQT09\nDescription: 11th step AA meeting format with a 15 min meditation\, daily reflection and sharing.\nContact: Step11pdx@gmail.com
URL:https://cp12stepoutreach.org/meeting-or-group/on-awakening-friday-meeting-2/2028-03-30/
LOCATION:Zoom Meeting
CATEGORIES:Online 11th Step Meditation Meetings
ORGANIZER;CN="On Awakening Meeting":MAILTO:step11pdx@gmail.com
END:VEVENT
BEGIN:VEVENT
DTSTART;TZID=America/Los_Angeles:20280331T063000
DTEND;TZID=America/Los_Angeles:20280331T073000
DTSTAMP:20260421T160339
CREATED:20250207T181453Z
LAST-MODIFIED:20250207T224528Z
UID:10061438-1838097000-1838100600@cp12stepoutreach.org
SUMMARY:"On Awakening" Thursday and Friday Meeting
DESCRIPTION:BRIEF MEETING INFORMATION:\n“On Awakening” Virtual AA meeting\nThursday & Friday 6:30-7:30 AM – Pacific Time on Zoom\nZoom Meeting ID: 220-597-9191\nZoom Password: 2mGN0C\nLink: https://us02web.zoom.us/j/2205979191?pwd=ZzRyWHRLM3hnYXdacmdlRUJnZVRaQT09\nDescription: 11th step AA meeting format with a 15 min meditation\, daily reflection and sharing.\nContact: Step11pdx@gmail.com
URL:https://cp12stepoutreach.org/meeting-or-group/on-awakening-friday-meeting-2/2028-03-31/
LOCATION:Zoom Meeting
CATEGORIES:Online 11th Step Meditation Meetings
ORGANIZER;CN="On Awakening Meeting":MAILTO:step11pdx@gmail.com
END:VEVENT
BEGIN:VEVENT
DTSTART;TZID=America/Los_Angeles:20280406T063000
DTEND;TZID=America/Los_Angeles:20280406T073000
DTSTAMP:20260421T160339
CREATED:20250207T181453Z
LAST-MODIFIED:20250207T224528Z
UID:10061700-1838615400-1838619000@cp12stepoutreach.org
SUMMARY:"On Awakening" Thursday and Friday Meeting
DESCRIPTION:BRIEF MEETING INFORMATION:\n“On Awakening” Virtual AA meeting\nThursday & Friday 6:30-7:30 AM – Pacific Time on Zoom\nZoom Meeting ID: 220-597-9191\nZoom Password: 2mGN0C\nLink: https://us02web.zoom.us/j/2205979191?pwd=ZzRyWHRLM3hnYXdacmdlRUJnZVRaQT09\nDescription: 11th step AA meeting format with a 15 min meditation\, daily reflection and sharing.\nContact: Step11pdx@gmail.com
URL:https://cp12stepoutreach.org/meeting-or-group/on-awakening-friday-meeting-2/2028-04-06/
LOCATION:Zoom Meeting
CATEGORIES:Online 11th Step Meditation Meetings
ORGANIZER;CN="On Awakening Meeting":MAILTO:step11pdx@gmail.com
END:VEVENT
BEGIN:VEVENT
DTSTART;TZID=America/Los_Angeles:20280407T063000
DTEND;TZID=America/Los_Angeles:20280407T073000
DTSTAMP:20260421T160339
CREATED:20250207T181453Z
LAST-MODIFIED:20250207T224528Z
UID:10061439-1838701800-1838705400@cp12stepoutreach.org
SUMMARY:"On Awakening" Thursday and Friday Meeting
DESCRIPTION:BRIEF MEETING INFORMATION:\n“On Awakening” Virtual AA meeting\nThursday & Friday 6:30-7:30 AM – Pacific Time on Zoom\nZoom Meeting ID: 220-597-9191\nZoom Password: 2mGN0C\nLink: https://us02web.zoom.us/j/2205979191?pwd=ZzRyWHRLM3hnYXdacmdlRUJnZVRaQT09\nDescription: 11th step AA meeting format with a 15 min meditation\, daily reflection and sharing.\nContact: Step11pdx@gmail.com
URL:https://cp12stepoutreach.org/meeting-or-group/on-awakening-friday-meeting-2/2028-04-07/
LOCATION:Zoom Meeting
CATEGORIES:Online 11th Step Meditation Meetings
ORGANIZER;CN="On Awakening Meeting":MAILTO:step11pdx@gmail.com
END:VEVENT
BEGIN:VEVENT
DTSTART;TZID=America/Los_Angeles:20280413T063000
DTEND;TZID=America/Los_Angeles:20280413T073000
DTSTAMP:20260421T160339
CREATED:20250207T181453Z
LAST-MODIFIED:20250207T224528Z
UID:10061701-1839220200-1839223800@cp12stepoutreach.org
SUMMARY:"On Awakening" Thursday and Friday Meeting
DESCRIPTION:BRIEF MEETING INFORMATION:\n“On Awakening” Virtual AA meeting\nThursday & Friday 6:30-7:30 AM – Pacific Time on Zoom\nZoom Meeting ID: 220-597-9191\nZoom Password: 2mGN0C\nLink: https://us02web.zoom.us/j/2205979191?pwd=ZzRyWHRLM3hnYXdacmdlRUJnZVRaQT09\nDescription: 11th step AA meeting format with a 15 min meditation\, daily reflection and sharing.\nContact: Step11pdx@gmail.com
URL:https://cp12stepoutreach.org/meeting-or-group/on-awakening-friday-meeting-2/2028-04-13/
LOCATION:Zoom Meeting
CATEGORIES:Online 11th Step Meditation Meetings
ORGANIZER;CN="On Awakening Meeting":MAILTO:step11pdx@gmail.com
END:VEVENT
BEGIN:VEVENT
DTSTART;TZID=America/Los_Angeles:20280414T063000
DTEND;TZID=America/Los_Angeles:20280414T073000
DTSTAMP:20260421T160339
CREATED:20250207T181453Z
LAST-MODIFIED:20250207T224528Z
UID:10061440-1839306600-1839310200@cp12stepoutreach.org
SUMMARY:"On Awakening" Thursday and Friday Meeting
DESCRIPTION:BRIEF MEETING INFORMATION:\n“On Awakening” Virtual AA meeting\nThursday & Friday 6:30-7:30 AM – Pacific Time on Zoom\nZoom Meeting ID: 220-597-9191\nZoom Password: 2mGN0C\nLink: https://us02web.zoom.us/j/2205979191?pwd=ZzRyWHRLM3hnYXdacmdlRUJnZVRaQT09\nDescription: 11th step AA meeting format with a 15 min meditation\, daily reflection and sharing.\nContact: Step11pdx@gmail.com
URL:https://cp12stepoutreach.org/meeting-or-group/on-awakening-friday-meeting-2/2028-04-14/
LOCATION:Zoom Meeting
CATEGORIES:Online 11th Step Meditation Meetings
ORGANIZER;CN="On Awakening Meeting":MAILTO:step11pdx@gmail.com
END:VEVENT
BEGIN:VEVENT
DTSTART;TZID=America/Los_Angeles:20280420T063000
DTEND;TZID=America/Los_Angeles:20280420T073000
DTSTAMP:20260421T160339
CREATED:20250207T181453Z
LAST-MODIFIED:20250207T224528Z
UID:10061702-1839825000-1839828600@cp12stepoutreach.org
SUMMARY:"On Awakening" Thursday and Friday Meeting
DESCRIPTION:BRIEF MEETING INFORMATION:\n“On Awakening” Virtual AA meeting\nThursday & Friday 6:30-7:30 AM – Pacific Time on Zoom\nZoom Meeting ID: 220-597-9191\nZoom Password: 2mGN0C\nLink: https://us02web.zoom.us/j/2205979191?pwd=ZzRyWHRLM3hnYXdacmdlRUJnZVRaQT09\nDescription: 11th step AA meeting format with a 15 min meditation\, daily reflection and sharing.\nContact: Step11pdx@gmail.com
URL:https://cp12stepoutreach.org/meeting-or-group/on-awakening-friday-meeting-2/2028-04-20/
LOCATION:Zoom Meeting
CATEGORIES:Online 11th Step Meditation Meetings
ORGANIZER;CN="On Awakening Meeting":MAILTO:step11pdx@gmail.com
END:VEVENT
BEGIN:VEVENT
DTSTART;TZID=America/Los_Angeles:20280421T063000
DTEND;TZID=America/Los_Angeles:20280421T073000
DTSTAMP:20260421T160339
CREATED:20250207T181453Z
LAST-MODIFIED:20250207T224528Z
UID:10061441-1839911400-1839915000@cp12stepoutreach.org
SUMMARY:"On Awakening" Thursday and Friday Meeting
DESCRIPTION:BRIEF MEETING INFORMATION:\n“On Awakening” Virtual AA meeting\nThursday & Friday 6:30-7:30 AM – Pacific Time on Zoom\nZoom Meeting ID: 220-597-9191\nZoom Password: 2mGN0C\nLink: https://us02web.zoom.us/j/2205979191?pwd=ZzRyWHRLM3hnYXdacmdlRUJnZVRaQT09\nDescription: 11th step AA meeting format with a 15 min meditation\, daily reflection and sharing.\nContact: Step11pdx@gmail.com
URL:https://cp12stepoutreach.org/meeting-or-group/on-awakening-friday-meeting-2/2028-04-21/
LOCATION:Zoom Meeting
CATEGORIES:Online 11th Step Meditation Meetings
ORGANIZER;CN="On Awakening Meeting":MAILTO:step11pdx@gmail.com
END:VEVENT
END:VCALENDAR