BEGIN:VCALENDAR
VERSION:2.0
PRODID:-//12 Step Outreach - ECPv6.11.2.1//NONSGML v1.0//EN
CALSCALE:GREGORIAN
METHOD:PUBLISH
X-ORIGINAL-URL:https://cp12stepoutreach.org
X-WR-CALDESC:Events for 12 Step Outreach
REFRESH-INTERVAL;VALUE=DURATION:PT1H
X-Robots-Tag:noindex
X-PUBLISHED-TTL:PT1H
BEGIN:VTIMEZONE
TZID:America/Los_Angeles
BEGIN:DAYLIGHT
TZOFFSETFROM:-0800
TZOFFSETTO:-0700
TZNAME:PDT
DTSTART:20280312T100000
END:DAYLIGHT
BEGIN:STANDARD
TZOFFSETFROM:-0700
TZOFFSETTO:-0800
TZNAME:PST
DTSTART:20281105T090000
END:STANDARD
END:VTIMEZONE
BEGIN:VEVENT
DTSTART;TZID=America/Los_Angeles:20280601T063000
DTEND;TZID=America/Los_Angeles:20280601T073000
DTSTAMP:20260421T185614
CREATED:20250207T181453Z
LAST-MODIFIED:20250207T224528Z
UID:10061708-1843453800-1843457400@cp12stepoutreach.org
SUMMARY:"On Awakening" Thursday and Friday Meeting
DESCRIPTION:BRIEF MEETING INFORMATION:\n“On Awakening” Virtual AA meeting\nThursday & Friday 6:30-7:30 AM – Pacific Time on Zoom\nZoom Meeting ID: 220-597-9191\nZoom Password: 2mGN0C\nLink: https://us02web.zoom.us/j/2205979191?pwd=ZzRyWHRLM3hnYXdacmdlRUJnZVRaQT09\nDescription: 11th step AA meeting format with a 15 min meditation\, daily reflection and sharing.\nContact: Step11pdx@gmail.com
URL:https://cp12stepoutreach.org/meeting-or-group/on-awakening-friday-meeting-2/2028-06-01/
LOCATION:Zoom Meeting
CATEGORIES:Online 11th Step Meditation Meetings
ORGANIZER;CN="On Awakening Meeting":MAILTO:step11pdx@gmail.com
END:VEVENT
BEGIN:VEVENT
DTSTART;TZID=America/Los_Angeles:20280602T063000
DTEND;TZID=America/Los_Angeles:20280602T073000
DTSTAMP:20260421T185614
CREATED:20250207T181453Z
LAST-MODIFIED:20250207T224528Z
UID:10061447-1843540200-1843543800@cp12stepoutreach.org
SUMMARY:"On Awakening" Thursday and Friday Meeting
DESCRIPTION:BRIEF MEETING INFORMATION:\n“On Awakening” Virtual AA meeting\nThursday & Friday 6:30-7:30 AM – Pacific Time on Zoom\nZoom Meeting ID: 220-597-9191\nZoom Password: 2mGN0C\nLink: https://us02web.zoom.us/j/2205979191?pwd=ZzRyWHRLM3hnYXdacmdlRUJnZVRaQT09\nDescription: 11th step AA meeting format with a 15 min meditation\, daily reflection and sharing.\nContact: Step11pdx@gmail.com
URL:https://cp12stepoutreach.org/meeting-or-group/on-awakening-friday-meeting-2/2028-06-02/
LOCATION:Zoom Meeting
CATEGORIES:Online 11th Step Meditation Meetings
ORGANIZER;CN="On Awakening Meeting":MAILTO:step11pdx@gmail.com
END:VEVENT
BEGIN:VEVENT
DTSTART;TZID=America/Los_Angeles:20280608T063000
DTEND;TZID=America/Los_Angeles:20280608T073000
DTSTAMP:20260421T185614
CREATED:20250207T181453Z
LAST-MODIFIED:20250207T224528Z
UID:10061709-1844058600-1844062200@cp12stepoutreach.org
SUMMARY:"On Awakening" Thursday and Friday Meeting
DESCRIPTION:BRIEF MEETING INFORMATION:\n“On Awakening” Virtual AA meeting\nThursday & Friday 6:30-7:30 AM – Pacific Time on Zoom\nZoom Meeting ID: 220-597-9191\nZoom Password: 2mGN0C\nLink: https://us02web.zoom.us/j/2205979191?pwd=ZzRyWHRLM3hnYXdacmdlRUJnZVRaQT09\nDescription: 11th step AA meeting format with a 15 min meditation\, daily reflection and sharing.\nContact: Step11pdx@gmail.com
URL:https://cp12stepoutreach.org/meeting-or-group/on-awakening-friday-meeting-2/2028-06-08/
LOCATION:Zoom Meeting
CATEGORIES:Online 11th Step Meditation Meetings
ORGANIZER;CN="On Awakening Meeting":MAILTO:step11pdx@gmail.com
END:VEVENT
BEGIN:VEVENT
DTSTART;TZID=America/Los_Angeles:20280609T063000
DTEND;TZID=America/Los_Angeles:20280609T073000
DTSTAMP:20260421T185614
CREATED:20250207T181453Z
LAST-MODIFIED:20250207T224528Z
UID:10061448-1844145000-1844148600@cp12stepoutreach.org
SUMMARY:"On Awakening" Thursday and Friday Meeting
DESCRIPTION:BRIEF MEETING INFORMATION:\n“On Awakening” Virtual AA meeting\nThursday & Friday 6:30-7:30 AM – Pacific Time on Zoom\nZoom Meeting ID: 220-597-9191\nZoom Password: 2mGN0C\nLink: https://us02web.zoom.us/j/2205979191?pwd=ZzRyWHRLM3hnYXdacmdlRUJnZVRaQT09\nDescription: 11th step AA meeting format with a 15 min meditation\, daily reflection and sharing.\nContact: Step11pdx@gmail.com
URL:https://cp12stepoutreach.org/meeting-or-group/on-awakening-friday-meeting-2/2028-06-09/
LOCATION:Zoom Meeting
CATEGORIES:Online 11th Step Meditation Meetings
ORGANIZER;CN="On Awakening Meeting":MAILTO:step11pdx@gmail.com
END:VEVENT
BEGIN:VEVENT
DTSTART;TZID=America/Los_Angeles:20280615T063000
DTEND;TZID=America/Los_Angeles:20280615T073000
DTSTAMP:20260421T185614
CREATED:20250207T181453Z
LAST-MODIFIED:20250207T224528Z
UID:10061710-1844663400-1844667000@cp12stepoutreach.org
SUMMARY:"On Awakening" Thursday and Friday Meeting
DESCRIPTION:BRIEF MEETING INFORMATION:\n“On Awakening” Virtual AA meeting\nThursday & Friday 6:30-7:30 AM – Pacific Time on Zoom\nZoom Meeting ID: 220-597-9191\nZoom Password: 2mGN0C\nLink: https://us02web.zoom.us/j/2205979191?pwd=ZzRyWHRLM3hnYXdacmdlRUJnZVRaQT09\nDescription: 11th step AA meeting format with a 15 min meditation\, daily reflection and sharing.\nContact: Step11pdx@gmail.com
URL:https://cp12stepoutreach.org/meeting-or-group/on-awakening-friday-meeting-2/2028-06-15/
LOCATION:Zoom Meeting
CATEGORIES:Online 11th Step Meditation Meetings
ORGANIZER;CN="On Awakening Meeting":MAILTO:step11pdx@gmail.com
END:VEVENT
BEGIN:VEVENT
DTSTART;TZID=America/Los_Angeles:20280616T063000
DTEND;TZID=America/Los_Angeles:20280616T073000
DTSTAMP:20260421T185614
CREATED:20250207T181453Z
LAST-MODIFIED:20250207T224528Z
UID:10061449-1844749800-1844753400@cp12stepoutreach.org
SUMMARY:"On Awakening" Thursday and Friday Meeting
DESCRIPTION:BRIEF MEETING INFORMATION:\n“On Awakening” Virtual AA meeting\nThursday & Friday 6:30-7:30 AM – Pacific Time on Zoom\nZoom Meeting ID: 220-597-9191\nZoom Password: 2mGN0C\nLink: https://us02web.zoom.us/j/2205979191?pwd=ZzRyWHRLM3hnYXdacmdlRUJnZVRaQT09\nDescription: 11th step AA meeting format with a 15 min meditation\, daily reflection and sharing.\nContact: Step11pdx@gmail.com
URL:https://cp12stepoutreach.org/meeting-or-group/on-awakening-friday-meeting-2/2028-06-16/
LOCATION:Zoom Meeting
CATEGORIES:Online 11th Step Meditation Meetings
ORGANIZER;CN="On Awakening Meeting":MAILTO:step11pdx@gmail.com
END:VEVENT
BEGIN:VEVENT
DTSTART;TZID=America/Los_Angeles:20280622T063000
DTEND;TZID=America/Los_Angeles:20280622T073000
DTSTAMP:20260421T185614
CREATED:20250207T181453Z
LAST-MODIFIED:20250207T224528Z
UID:10061711-1845268200-1845271800@cp12stepoutreach.org
SUMMARY:"On Awakening" Thursday and Friday Meeting
DESCRIPTION:BRIEF MEETING INFORMATION:\n“On Awakening” Virtual AA meeting\nThursday & Friday 6:30-7:30 AM – Pacific Time on Zoom\nZoom Meeting ID: 220-597-9191\nZoom Password: 2mGN0C\nLink: https://us02web.zoom.us/j/2205979191?pwd=ZzRyWHRLM3hnYXdacmdlRUJnZVRaQT09\nDescription: 11th step AA meeting format with a 15 min meditation\, daily reflection and sharing.\nContact: Step11pdx@gmail.com
URL:https://cp12stepoutreach.org/meeting-or-group/on-awakening-friday-meeting-2/2028-06-22/
LOCATION:Zoom Meeting
CATEGORIES:Online 11th Step Meditation Meetings
ORGANIZER;CN="On Awakening Meeting":MAILTO:step11pdx@gmail.com
END:VEVENT
BEGIN:VEVENT
DTSTART;TZID=America/Los_Angeles:20280623T063000
DTEND;TZID=America/Los_Angeles:20280623T073000
DTSTAMP:20260421T185614
CREATED:20250207T181453Z
LAST-MODIFIED:20250207T224528Z
UID:10061450-1845354600-1845358200@cp12stepoutreach.org
SUMMARY:"On Awakening" Thursday and Friday Meeting
DESCRIPTION:BRIEF MEETING INFORMATION:\n“On Awakening” Virtual AA meeting\nThursday & Friday 6:30-7:30 AM – Pacific Time on Zoom\nZoom Meeting ID: 220-597-9191\nZoom Password: 2mGN0C\nLink: https://us02web.zoom.us/j/2205979191?pwd=ZzRyWHRLM3hnYXdacmdlRUJnZVRaQT09\nDescription: 11th step AA meeting format with a 15 min meditation\, daily reflection and sharing.\nContact: Step11pdx@gmail.com
URL:https://cp12stepoutreach.org/meeting-or-group/on-awakening-friday-meeting-2/2028-06-23/
LOCATION:Zoom Meeting
CATEGORIES:Online 11th Step Meditation Meetings
ORGANIZER;CN="On Awakening Meeting":MAILTO:step11pdx@gmail.com
END:VEVENT
BEGIN:VEVENT
DTSTART;TZID=America/Los_Angeles:20280629T063000
DTEND;TZID=America/Los_Angeles:20280629T073000
DTSTAMP:20260421T185614
CREATED:20250207T181453Z
LAST-MODIFIED:20250207T224528Z
UID:10061712-1845873000-1845876600@cp12stepoutreach.org
SUMMARY:"On Awakening" Thursday and Friday Meeting
DESCRIPTION:BRIEF MEETING INFORMATION:\n“On Awakening” Virtual AA meeting\nThursday & Friday 6:30-7:30 AM – Pacific Time on Zoom\nZoom Meeting ID: 220-597-9191\nZoom Password: 2mGN0C\nLink: https://us02web.zoom.us/j/2205979191?pwd=ZzRyWHRLM3hnYXdacmdlRUJnZVRaQT09\nDescription: 11th step AA meeting format with a 15 min meditation\, daily reflection and sharing.\nContact: Step11pdx@gmail.com
URL:https://cp12stepoutreach.org/meeting-or-group/on-awakening-friday-meeting-2/2028-06-29/
LOCATION:Zoom Meeting
CATEGORIES:Online 11th Step Meditation Meetings
ORGANIZER;CN="On Awakening Meeting":MAILTO:step11pdx@gmail.com
END:VEVENT
BEGIN:VEVENT
DTSTART;TZID=America/Los_Angeles:20280630T063000
DTEND;TZID=America/Los_Angeles:20280630T073000
DTSTAMP:20260421T185614
CREATED:20250207T181453Z
LAST-MODIFIED:20250207T224528Z
UID:10061451-1845959400-1845963000@cp12stepoutreach.org
SUMMARY:"On Awakening" Thursday and Friday Meeting
DESCRIPTION:BRIEF MEETING INFORMATION:\n“On Awakening” Virtual AA meeting\nThursday & Friday 6:30-7:30 AM – Pacific Time on Zoom\nZoom Meeting ID: 220-597-9191\nZoom Password: 2mGN0C\nLink: https://us02web.zoom.us/j/2205979191?pwd=ZzRyWHRLM3hnYXdacmdlRUJnZVRaQT09\nDescription: 11th step AA meeting format with a 15 min meditation\, daily reflection and sharing.\nContact: Step11pdx@gmail.com
URL:https://cp12stepoutreach.org/meeting-or-group/on-awakening-friday-meeting-2/2028-06-30/
LOCATION:Zoom Meeting
CATEGORIES:Online 11th Step Meditation Meetings
ORGANIZER;CN="On Awakening Meeting":MAILTO:step11pdx@gmail.com
END:VEVENT
BEGIN:VEVENT
DTSTART;TZID=America/Los_Angeles:20280706T063000
DTEND;TZID=America/Los_Angeles:20280706T073000
DTSTAMP:20260421T185614
CREATED:20250207T181453Z
LAST-MODIFIED:20250207T224528Z
UID:10061713-1846477800-1846481400@cp12stepoutreach.org
SUMMARY:"On Awakening" Thursday and Friday Meeting
DESCRIPTION:BRIEF MEETING INFORMATION:\n“On Awakening” Virtual AA meeting\nThursday & Friday 6:30-7:30 AM – Pacific Time on Zoom\nZoom Meeting ID: 220-597-9191\nZoom Password: 2mGN0C\nLink: https://us02web.zoom.us/j/2205979191?pwd=ZzRyWHRLM3hnYXdacmdlRUJnZVRaQT09\nDescription: 11th step AA meeting format with a 15 min meditation\, daily reflection and sharing.\nContact: Step11pdx@gmail.com
URL:https://cp12stepoutreach.org/meeting-or-group/on-awakening-friday-meeting-2/2028-07-06/
LOCATION:Zoom Meeting
CATEGORIES:Online 11th Step Meditation Meetings
ORGANIZER;CN="On Awakening Meeting":MAILTO:step11pdx@gmail.com
END:VEVENT
BEGIN:VEVENT
DTSTART;TZID=America/Los_Angeles:20280707T063000
DTEND;TZID=America/Los_Angeles:20280707T073000
DTSTAMP:20260421T185614
CREATED:20250207T181453Z
LAST-MODIFIED:20250207T224528Z
UID:10061452-1846564200-1846567800@cp12stepoutreach.org
SUMMARY:"On Awakening" Thursday and Friday Meeting
DESCRIPTION:BRIEF MEETING INFORMATION:\n“On Awakening” Virtual AA meeting\nThursday & Friday 6:30-7:30 AM – Pacific Time on Zoom\nZoom Meeting ID: 220-597-9191\nZoom Password: 2mGN0C\nLink: https://us02web.zoom.us/j/2205979191?pwd=ZzRyWHRLM3hnYXdacmdlRUJnZVRaQT09\nDescription: 11th step AA meeting format with a 15 min meditation\, daily reflection and sharing.\nContact: Step11pdx@gmail.com
URL:https://cp12stepoutreach.org/meeting-or-group/on-awakening-friday-meeting-2/2028-07-07/
LOCATION:Zoom Meeting
CATEGORIES:Online 11th Step Meditation Meetings
ORGANIZER;CN="On Awakening Meeting":MAILTO:step11pdx@gmail.com
END:VEVENT
BEGIN:VEVENT
DTSTART;TZID=America/Los_Angeles:20280713T063000
DTEND;TZID=America/Los_Angeles:20280713T073000
DTSTAMP:20260421T185614
CREATED:20250207T181453Z
LAST-MODIFIED:20250207T224528Z
UID:10061714-1847082600-1847086200@cp12stepoutreach.org
SUMMARY:"On Awakening" Thursday and Friday Meeting
DESCRIPTION:BRIEF MEETING INFORMATION:\n“On Awakening” Virtual AA meeting\nThursday & Friday 6:30-7:30 AM – Pacific Time on Zoom\nZoom Meeting ID: 220-597-9191\nZoom Password: 2mGN0C\nLink: https://us02web.zoom.us/j/2205979191?pwd=ZzRyWHRLM3hnYXdacmdlRUJnZVRaQT09\nDescription: 11th step AA meeting format with a 15 min meditation\, daily reflection and sharing.\nContact: Step11pdx@gmail.com
URL:https://cp12stepoutreach.org/meeting-or-group/on-awakening-friday-meeting-2/2028-07-13/
LOCATION:Zoom Meeting
CATEGORIES:Online 11th Step Meditation Meetings
ORGANIZER;CN="On Awakening Meeting":MAILTO:step11pdx@gmail.com
END:VEVENT
BEGIN:VEVENT
DTSTART;TZID=America/Los_Angeles:20280714T063000
DTEND;TZID=America/Los_Angeles:20280714T073000
DTSTAMP:20260421T185614
CREATED:20250207T181453Z
LAST-MODIFIED:20250207T224528Z
UID:10061453-1847169000-1847172600@cp12stepoutreach.org
SUMMARY:"On Awakening" Thursday and Friday Meeting
DESCRIPTION:BRIEF MEETING INFORMATION:\n“On Awakening” Virtual AA meeting\nThursday & Friday 6:30-7:30 AM – Pacific Time on Zoom\nZoom Meeting ID: 220-597-9191\nZoom Password: 2mGN0C\nLink: https://us02web.zoom.us/j/2205979191?pwd=ZzRyWHRLM3hnYXdacmdlRUJnZVRaQT09\nDescription: 11th step AA meeting format with a 15 min meditation\, daily reflection and sharing.\nContact: Step11pdx@gmail.com
URL:https://cp12stepoutreach.org/meeting-or-group/on-awakening-friday-meeting-2/2028-07-14/
LOCATION:Zoom Meeting
CATEGORIES:Online 11th Step Meditation Meetings
ORGANIZER;CN="On Awakening Meeting":MAILTO:step11pdx@gmail.com
END:VEVENT
BEGIN:VEVENT
DTSTART;TZID=America/Los_Angeles:20280720T063000
DTEND;TZID=America/Los_Angeles:20280720T073000
DTSTAMP:20260421T185614
CREATED:20250207T181453Z
LAST-MODIFIED:20250207T224528Z
UID:10061715-1847687400-1847691000@cp12stepoutreach.org
SUMMARY:"On Awakening" Thursday and Friday Meeting
DESCRIPTION:BRIEF MEETING INFORMATION:\n“On Awakening” Virtual AA meeting\nThursday & Friday 6:30-7:30 AM – Pacific Time on Zoom\nZoom Meeting ID: 220-597-9191\nZoom Password: 2mGN0C\nLink: https://us02web.zoom.us/j/2205979191?pwd=ZzRyWHRLM3hnYXdacmdlRUJnZVRaQT09\nDescription: 11th step AA meeting format with a 15 min meditation\, daily reflection and sharing.\nContact: Step11pdx@gmail.com
URL:https://cp12stepoutreach.org/meeting-or-group/on-awakening-friday-meeting-2/2028-07-20/
LOCATION:Zoom Meeting
CATEGORIES:Online 11th Step Meditation Meetings
ORGANIZER;CN="On Awakening Meeting":MAILTO:step11pdx@gmail.com
END:VEVENT
BEGIN:VEVENT
DTSTART;TZID=America/Los_Angeles:20280721T063000
DTEND;TZID=America/Los_Angeles:20280721T073000
DTSTAMP:20260421T185614
CREATED:20250207T181453Z
LAST-MODIFIED:20250207T224528Z
UID:10061454-1847773800-1847777400@cp12stepoutreach.org
SUMMARY:"On Awakening" Thursday and Friday Meeting
DESCRIPTION:BRIEF MEETING INFORMATION:\n“On Awakening” Virtual AA meeting\nThursday & Friday 6:30-7:30 AM – Pacific Time on Zoom\nZoom Meeting ID: 220-597-9191\nZoom Password: 2mGN0C\nLink: https://us02web.zoom.us/j/2205979191?pwd=ZzRyWHRLM3hnYXdacmdlRUJnZVRaQT09\nDescription: 11th step AA meeting format with a 15 min meditation\, daily reflection and sharing.\nContact: Step11pdx@gmail.com
URL:https://cp12stepoutreach.org/meeting-or-group/on-awakening-friday-meeting-2/2028-07-21/
LOCATION:Zoom Meeting
CATEGORIES:Online 11th Step Meditation Meetings
ORGANIZER;CN="On Awakening Meeting":MAILTO:step11pdx@gmail.com
END:VEVENT
BEGIN:VEVENT
DTSTART;TZID=America/Los_Angeles:20280727T063000
DTEND;TZID=America/Los_Angeles:20280727T073000
DTSTAMP:20260421T185614
CREATED:20250207T181453Z
LAST-MODIFIED:20250207T224528Z
UID:10061716-1848292200-1848295800@cp12stepoutreach.org
SUMMARY:"On Awakening" Thursday and Friday Meeting
DESCRIPTION:BRIEF MEETING INFORMATION:\n“On Awakening” Virtual AA meeting\nThursday & Friday 6:30-7:30 AM – Pacific Time on Zoom\nZoom Meeting ID: 220-597-9191\nZoom Password: 2mGN0C\nLink: https://us02web.zoom.us/j/2205979191?pwd=ZzRyWHRLM3hnYXdacmdlRUJnZVRaQT09\nDescription: 11th step AA meeting format with a 15 min meditation\, daily reflection and sharing.\nContact: Step11pdx@gmail.com
URL:https://cp12stepoutreach.org/meeting-or-group/on-awakening-friday-meeting-2/2028-07-27/
LOCATION:Zoom Meeting
CATEGORIES:Online 11th Step Meditation Meetings
ORGANIZER;CN="On Awakening Meeting":MAILTO:step11pdx@gmail.com
END:VEVENT
BEGIN:VEVENT
DTSTART;TZID=America/Los_Angeles:20280728T063000
DTEND;TZID=America/Los_Angeles:20280728T073000
DTSTAMP:20260421T185614
CREATED:20250207T181453Z
LAST-MODIFIED:20250207T224528Z
UID:10061455-1848378600-1848382200@cp12stepoutreach.org
SUMMARY:"On Awakening" Thursday and Friday Meeting
DESCRIPTION:BRIEF MEETING INFORMATION:\n“On Awakening” Virtual AA meeting\nThursday & Friday 6:30-7:30 AM – Pacific Time on Zoom\nZoom Meeting ID: 220-597-9191\nZoom Password: 2mGN0C\nLink: https://us02web.zoom.us/j/2205979191?pwd=ZzRyWHRLM3hnYXdacmdlRUJnZVRaQT09\nDescription: 11th step AA meeting format with a 15 min meditation\, daily reflection and sharing.\nContact: Step11pdx@gmail.com
URL:https://cp12stepoutreach.org/meeting-or-group/on-awakening-friday-meeting-2/2028-07-28/
LOCATION:Zoom Meeting
CATEGORIES:Online 11th Step Meditation Meetings
ORGANIZER;CN="On Awakening Meeting":MAILTO:step11pdx@gmail.com
END:VEVENT
BEGIN:VEVENT
DTSTART;TZID=America/Los_Angeles:20280803T063000
DTEND;TZID=America/Los_Angeles:20280803T073000
DTSTAMP:20260421T185614
CREATED:20250207T181453Z
LAST-MODIFIED:20250207T224528Z
UID:10061717-1848897000-1848900600@cp12stepoutreach.org
SUMMARY:"On Awakening" Thursday and Friday Meeting
DESCRIPTION:BRIEF MEETING INFORMATION:\n“On Awakening” Virtual AA meeting\nThursday & Friday 6:30-7:30 AM – Pacific Time on Zoom\nZoom Meeting ID: 220-597-9191\nZoom Password: 2mGN0C\nLink: https://us02web.zoom.us/j/2205979191?pwd=ZzRyWHRLM3hnYXdacmdlRUJnZVRaQT09\nDescription: 11th step AA meeting format with a 15 min meditation\, daily reflection and sharing.\nContact: Step11pdx@gmail.com
URL:https://cp12stepoutreach.org/meeting-or-group/on-awakening-friday-meeting-2/2028-08-03/
LOCATION:Zoom Meeting
CATEGORIES:Online 11th Step Meditation Meetings
ORGANIZER;CN="On Awakening Meeting":MAILTO:step11pdx@gmail.com
END:VEVENT
BEGIN:VEVENT
DTSTART;TZID=America/Los_Angeles:20280804T063000
DTEND;TZID=America/Los_Angeles:20280804T073000
DTSTAMP:20260421T185614
CREATED:20250207T181453Z
LAST-MODIFIED:20250207T224528Z
UID:10061456-1848983400-1848987000@cp12stepoutreach.org
SUMMARY:"On Awakening" Thursday and Friday Meeting
DESCRIPTION:BRIEF MEETING INFORMATION:\n“On Awakening” Virtual AA meeting\nThursday & Friday 6:30-7:30 AM – Pacific Time on Zoom\nZoom Meeting ID: 220-597-9191\nZoom Password: 2mGN0C\nLink: https://us02web.zoom.us/j/2205979191?pwd=ZzRyWHRLM3hnYXdacmdlRUJnZVRaQT09\nDescription: 11th step AA meeting format with a 15 min meditation\, daily reflection and sharing.\nContact: Step11pdx@gmail.com
URL:https://cp12stepoutreach.org/meeting-or-group/on-awakening-friday-meeting-2/2028-08-04/
LOCATION:Zoom Meeting
CATEGORIES:Online 11th Step Meditation Meetings
ORGANIZER;CN="On Awakening Meeting":MAILTO:step11pdx@gmail.com
END:VEVENT
BEGIN:VEVENT
DTSTART;TZID=America/Los_Angeles:20280810T063000
DTEND;TZID=America/Los_Angeles:20280810T073000
DTSTAMP:20260421T185614
CREATED:20250207T181453Z
LAST-MODIFIED:20250207T224528Z
UID:10061718-1849501800-1849505400@cp12stepoutreach.org
SUMMARY:"On Awakening" Thursday and Friday Meeting
DESCRIPTION:BRIEF MEETING INFORMATION:\n“On Awakening” Virtual AA meeting\nThursday & Friday 6:30-7:30 AM – Pacific Time on Zoom\nZoom Meeting ID: 220-597-9191\nZoom Password: 2mGN0C\nLink: https://us02web.zoom.us/j/2205979191?pwd=ZzRyWHRLM3hnYXdacmdlRUJnZVRaQT09\nDescription: 11th step AA meeting format with a 15 min meditation\, daily reflection and sharing.\nContact: Step11pdx@gmail.com
URL:https://cp12stepoutreach.org/meeting-or-group/on-awakening-friday-meeting-2/2028-08-10/
LOCATION:Zoom Meeting
CATEGORIES:Online 11th Step Meditation Meetings
ORGANIZER;CN="On Awakening Meeting":MAILTO:step11pdx@gmail.com
END:VEVENT
BEGIN:VEVENT
DTSTART;TZID=America/Los_Angeles:20280811T063000
DTEND;TZID=America/Los_Angeles:20280811T073000
DTSTAMP:20260421T185614
CREATED:20250207T181453Z
LAST-MODIFIED:20250207T224528Z
UID:10061457-1849588200-1849591800@cp12stepoutreach.org
SUMMARY:"On Awakening" Thursday and Friday Meeting
DESCRIPTION:BRIEF MEETING INFORMATION:\n“On Awakening” Virtual AA meeting\nThursday & Friday 6:30-7:30 AM – Pacific Time on Zoom\nZoom Meeting ID: 220-597-9191\nZoom Password: 2mGN0C\nLink: https://us02web.zoom.us/j/2205979191?pwd=ZzRyWHRLM3hnYXdacmdlRUJnZVRaQT09\nDescription: 11th step AA meeting format with a 15 min meditation\, daily reflection and sharing.\nContact: Step11pdx@gmail.com
URL:https://cp12stepoutreach.org/meeting-or-group/on-awakening-friday-meeting-2/2028-08-11/
LOCATION:Zoom Meeting
CATEGORIES:Online 11th Step Meditation Meetings
ORGANIZER;CN="On Awakening Meeting":MAILTO:step11pdx@gmail.com
END:VEVENT
BEGIN:VEVENT
DTSTART;TZID=America/Los_Angeles:20280817T063000
DTEND;TZID=America/Los_Angeles:20280817T073000
DTSTAMP:20260421T185614
CREATED:20250207T181453Z
LAST-MODIFIED:20250207T224528Z
UID:10061719-1850106600-1850110200@cp12stepoutreach.org
SUMMARY:"On Awakening" Thursday and Friday Meeting
DESCRIPTION:BRIEF MEETING INFORMATION:\n“On Awakening” Virtual AA meeting\nThursday & Friday 6:30-7:30 AM – Pacific Time on Zoom\nZoom Meeting ID: 220-597-9191\nZoom Password: 2mGN0C\nLink: https://us02web.zoom.us/j/2205979191?pwd=ZzRyWHRLM3hnYXdacmdlRUJnZVRaQT09\nDescription: 11th step AA meeting format with a 15 min meditation\, daily reflection and sharing.\nContact: Step11pdx@gmail.com
URL:https://cp12stepoutreach.org/meeting-or-group/on-awakening-friday-meeting-2/2028-08-17/
LOCATION:Zoom Meeting
CATEGORIES:Online 11th Step Meditation Meetings
ORGANIZER;CN="On Awakening Meeting":MAILTO:step11pdx@gmail.com
END:VEVENT
BEGIN:VEVENT
DTSTART;TZID=America/Los_Angeles:20280818T063000
DTEND;TZID=America/Los_Angeles:20280818T073000
DTSTAMP:20260421T185614
CREATED:20250207T181453Z
LAST-MODIFIED:20250207T224528Z
UID:10061458-1850193000-1850196600@cp12stepoutreach.org
SUMMARY:"On Awakening" Thursday and Friday Meeting
DESCRIPTION:BRIEF MEETING INFORMATION:\n“On Awakening” Virtual AA meeting\nThursday & Friday 6:30-7:30 AM – Pacific Time on Zoom\nZoom Meeting ID: 220-597-9191\nZoom Password: 2mGN0C\nLink: https://us02web.zoom.us/j/2205979191?pwd=ZzRyWHRLM3hnYXdacmdlRUJnZVRaQT09\nDescription: 11th step AA meeting format with a 15 min meditation\, daily reflection and sharing.\nContact: Step11pdx@gmail.com
URL:https://cp12stepoutreach.org/meeting-or-group/on-awakening-friday-meeting-2/2028-08-18/
LOCATION:Zoom Meeting
CATEGORIES:Online 11th Step Meditation Meetings
ORGANIZER;CN="On Awakening Meeting":MAILTO:step11pdx@gmail.com
END:VEVENT
BEGIN:VEVENT
DTSTART;TZID=America/Los_Angeles:20280824T063000
DTEND;TZID=America/Los_Angeles:20280824T073000
DTSTAMP:20260421T185614
CREATED:20250207T181453Z
LAST-MODIFIED:20250207T224528Z
UID:10061720-1850711400-1850715000@cp12stepoutreach.org
SUMMARY:"On Awakening" Thursday and Friday Meeting
DESCRIPTION:BRIEF MEETING INFORMATION:\n“On Awakening” Virtual AA meeting\nThursday & Friday 6:30-7:30 AM – Pacific Time on Zoom\nZoom Meeting ID: 220-597-9191\nZoom Password: 2mGN0C\nLink: https://us02web.zoom.us/j/2205979191?pwd=ZzRyWHRLM3hnYXdacmdlRUJnZVRaQT09\nDescription: 11th step AA meeting format with a 15 min meditation\, daily reflection and sharing.\nContact: Step11pdx@gmail.com
URL:https://cp12stepoutreach.org/meeting-or-group/on-awakening-friday-meeting-2/2028-08-24/
LOCATION:Zoom Meeting
CATEGORIES:Online 11th Step Meditation Meetings
ORGANIZER;CN="On Awakening Meeting":MAILTO:step11pdx@gmail.com
END:VEVENT
BEGIN:VEVENT
DTSTART;TZID=America/Los_Angeles:20280825T063000
DTEND;TZID=America/Los_Angeles:20280825T073000
DTSTAMP:20260421T185614
CREATED:20250207T181453Z
LAST-MODIFIED:20250207T224528Z
UID:10061459-1850797800-1850801400@cp12stepoutreach.org
SUMMARY:"On Awakening" Thursday and Friday Meeting
DESCRIPTION:BRIEF MEETING INFORMATION:\n“On Awakening” Virtual AA meeting\nThursday & Friday 6:30-7:30 AM – Pacific Time on Zoom\nZoom Meeting ID: 220-597-9191\nZoom Password: 2mGN0C\nLink: https://us02web.zoom.us/j/2205979191?pwd=ZzRyWHRLM3hnYXdacmdlRUJnZVRaQT09\nDescription: 11th step AA meeting format with a 15 min meditation\, daily reflection and sharing.\nContact: Step11pdx@gmail.com
URL:https://cp12stepoutreach.org/meeting-or-group/on-awakening-friday-meeting-2/2028-08-25/
LOCATION:Zoom Meeting
CATEGORIES:Online 11th Step Meditation Meetings
ORGANIZER;CN="On Awakening Meeting":MAILTO:step11pdx@gmail.com
END:VEVENT
BEGIN:VEVENT
DTSTART;TZID=America/Los_Angeles:20280831T063000
DTEND;TZID=America/Los_Angeles:20280831T073000
DTSTAMP:20260421T185614
CREATED:20250207T181453Z
LAST-MODIFIED:20250207T224528Z
UID:10061721-1851316200-1851319800@cp12stepoutreach.org
SUMMARY:"On Awakening" Thursday and Friday Meeting
DESCRIPTION:BRIEF MEETING INFORMATION:\n“On Awakening” Virtual AA meeting\nThursday & Friday 6:30-7:30 AM – Pacific Time on Zoom\nZoom Meeting ID: 220-597-9191\nZoom Password: 2mGN0C\nLink: https://us02web.zoom.us/j/2205979191?pwd=ZzRyWHRLM3hnYXdacmdlRUJnZVRaQT09\nDescription: 11th step AA meeting format with a 15 min meditation\, daily reflection and sharing.\nContact: Step11pdx@gmail.com
URL:https://cp12stepoutreach.org/meeting-or-group/on-awakening-friday-meeting-2/2028-08-31/
LOCATION:Zoom Meeting
CATEGORIES:Online 11th Step Meditation Meetings
ORGANIZER;CN="On Awakening Meeting":MAILTO:step11pdx@gmail.com
END:VEVENT
BEGIN:VEVENT
DTSTART;TZID=America/Los_Angeles:20280901T063000
DTEND;TZID=America/Los_Angeles:20280901T073000
DTSTAMP:20260421T185614
CREATED:20250207T181453Z
LAST-MODIFIED:20250207T224528Z
UID:10061460-1851402600-1851406200@cp12stepoutreach.org
SUMMARY:"On Awakening" Thursday and Friday Meeting
DESCRIPTION:BRIEF MEETING INFORMATION:\n“On Awakening” Virtual AA meeting\nThursday & Friday 6:30-7:30 AM – Pacific Time on Zoom\nZoom Meeting ID: 220-597-9191\nZoom Password: 2mGN0C\nLink: https://us02web.zoom.us/j/2205979191?pwd=ZzRyWHRLM3hnYXdacmdlRUJnZVRaQT09\nDescription: 11th step AA meeting format with a 15 min meditation\, daily reflection and sharing.\nContact: Step11pdx@gmail.com
URL:https://cp12stepoutreach.org/meeting-or-group/on-awakening-friday-meeting-2/2028-09-01/
LOCATION:Zoom Meeting
CATEGORIES:Online 11th Step Meditation Meetings
ORGANIZER;CN="On Awakening Meeting":MAILTO:step11pdx@gmail.com
END:VEVENT
BEGIN:VEVENT
DTSTART;TZID=America/Los_Angeles:20280907T063000
DTEND;TZID=America/Los_Angeles:20280907T073000
DTSTAMP:20260421T185614
CREATED:20250207T181453Z
LAST-MODIFIED:20250207T224528Z
UID:10061722-1851921000-1851924600@cp12stepoutreach.org
SUMMARY:"On Awakening" Thursday and Friday Meeting
DESCRIPTION:BRIEF MEETING INFORMATION:\n“On Awakening” Virtual AA meeting\nThursday & Friday 6:30-7:30 AM – Pacific Time on Zoom\nZoom Meeting ID: 220-597-9191\nZoom Password: 2mGN0C\nLink: https://us02web.zoom.us/j/2205979191?pwd=ZzRyWHRLM3hnYXdacmdlRUJnZVRaQT09\nDescription: 11th step AA meeting format with a 15 min meditation\, daily reflection and sharing.\nContact: Step11pdx@gmail.com
URL:https://cp12stepoutreach.org/meeting-or-group/on-awakening-friday-meeting-2/2028-09-07/
LOCATION:Zoom Meeting
CATEGORIES:Online 11th Step Meditation Meetings
ORGANIZER;CN="On Awakening Meeting":MAILTO:step11pdx@gmail.com
END:VEVENT
BEGIN:VEVENT
DTSTART;TZID=America/Los_Angeles:20280908T063000
DTEND;TZID=America/Los_Angeles:20280908T073000
DTSTAMP:20260421T185614
CREATED:20250207T181453Z
LAST-MODIFIED:20250207T224528Z
UID:10061461-1852007400-1852011000@cp12stepoutreach.org
SUMMARY:"On Awakening" Thursday and Friday Meeting
DESCRIPTION:BRIEF MEETING INFORMATION:\n“On Awakening” Virtual AA meeting\nThursday & Friday 6:30-7:30 AM – Pacific Time on Zoom\nZoom Meeting ID: 220-597-9191\nZoom Password: 2mGN0C\nLink: https://us02web.zoom.us/j/2205979191?pwd=ZzRyWHRLM3hnYXdacmdlRUJnZVRaQT09\nDescription: 11th step AA meeting format with a 15 min meditation\, daily reflection and sharing.\nContact: Step11pdx@gmail.com
URL:https://cp12stepoutreach.org/meeting-or-group/on-awakening-friday-meeting-2/2028-09-08/
LOCATION:Zoom Meeting
CATEGORIES:Online 11th Step Meditation Meetings
ORGANIZER;CN="On Awakening Meeting":MAILTO:step11pdx@gmail.com
END:VEVENT
END:VCALENDAR