BEGIN:VCALENDAR
VERSION:2.0
PRODID:-//12 Step Outreach - ECPv6.11.2.1//NONSGML v1.0//EN
CALSCALE:GREGORIAN
METHOD:PUBLISH
X-ORIGINAL-URL:https://cp12stepoutreach.org
X-WR-CALDESC:Events for 12 Step Outreach
REFRESH-INTERVAL;VALUE=DURATION:PT1H
X-Robots-Tag:noindex
X-PUBLISHED-TTL:PT1H
BEGIN:VTIMEZONE
TZID:America/Los_Angeles
BEGIN:DAYLIGHT
TZOFFSETFROM:-0800
TZOFFSETTO:-0700
TZNAME:PDT
DTSTART:20260308T100000
END:DAYLIGHT
BEGIN:STANDARD
TZOFFSETFROM:-0700
TZOFFSETTO:-0800
TZNAME:PST
DTSTART:20261101T090000
END:STANDARD
BEGIN:DAYLIGHT
TZOFFSETFROM:-0800
TZOFFSETTO:-0700
TZNAME:PDT
DTSTART:20270314T100000
END:DAYLIGHT
BEGIN:STANDARD
TZOFFSETFROM:-0700
TZOFFSETTO:-0800
TZNAME:PST
DTSTART:20271107T090000
END:STANDARD
END:VTIMEZONE
BEGIN:VEVENT
DTSTART;TZID=America/Los_Angeles:20261119T063000
DTEND;TZID=America/Los_Angeles:20261119T073000
DTSTAMP:20260421T080310
CREATED:20250207T181453Z
LAST-MODIFIED:20250207T224528Z
UID:10061628-1795069800-1795073400@cp12stepoutreach.org
SUMMARY:"On Awakening" Thursday and Friday Meeting
DESCRIPTION:BRIEF MEETING INFORMATION:\n“On Awakening” Virtual AA meeting\nThursday & Friday 6:30-7:30 AM – Pacific Time on Zoom\nZoom Meeting ID: 220-597-9191\nZoom Password: 2mGN0C\nLink: https://us02web.zoom.us/j/2205979191?pwd=ZzRyWHRLM3hnYXdacmdlRUJnZVRaQT09\nDescription: 11th step AA meeting format with a 15 min meditation\, daily reflection and sharing.\nContact: Step11pdx@gmail.com
URL:https://cp12stepoutreach.org/meeting-or-group/on-awakening-friday-meeting-2/2026-11-19/
LOCATION:Zoom Meeting
CATEGORIES:Online 11th Step Meditation Meetings
ORGANIZER;CN="On Awakening Meeting":MAILTO:step11pdx@gmail.com
END:VEVENT
BEGIN:VEVENT
DTSTART;TZID=America/Los_Angeles:20261120T063000
DTEND;TZID=America/Los_Angeles:20261120T073000
DTSTAMP:20260421T080310
CREATED:20250207T181453Z
LAST-MODIFIED:20250207T224528Z
UID:10051923-1795156200-1795159800@cp12stepoutreach.org
SUMMARY:"On Awakening" Thursday and Friday Meeting
DESCRIPTION:BRIEF MEETING INFORMATION:\n“On Awakening” Virtual AA meeting\nThursday & Friday 6:30-7:30 AM – Pacific Time on Zoom\nZoom Meeting ID: 220-597-9191\nZoom Password: 2mGN0C\nLink: https://us02web.zoom.us/j/2205979191?pwd=ZzRyWHRLM3hnYXdacmdlRUJnZVRaQT09\nDescription: 11th step AA meeting format with a 15 min meditation\, daily reflection and sharing.\nContact: Step11pdx@gmail.com
URL:https://cp12stepoutreach.org/meeting-or-group/on-awakening-friday-meeting-2/2026-11-20/
LOCATION:Zoom Meeting
CATEGORIES:Online 11th Step Meditation Meetings
ORGANIZER;CN="On Awakening Meeting":MAILTO:step11pdx@gmail.com
END:VEVENT
BEGIN:VEVENT
DTSTART;TZID=America/Los_Angeles:20261126T063000
DTEND;TZID=America/Los_Angeles:20261126T073000
DTSTAMP:20260421T080310
CREATED:20250207T181453Z
LAST-MODIFIED:20250207T224528Z
UID:10061629-1795674600-1795678200@cp12stepoutreach.org
SUMMARY:"On Awakening" Thursday and Friday Meeting
DESCRIPTION:BRIEF MEETING INFORMATION:\n“On Awakening” Virtual AA meeting\nThursday & Friday 6:30-7:30 AM – Pacific Time on Zoom\nZoom Meeting ID: 220-597-9191\nZoom Password: 2mGN0C\nLink: https://us02web.zoom.us/j/2205979191?pwd=ZzRyWHRLM3hnYXdacmdlRUJnZVRaQT09\nDescription: 11th step AA meeting format with a 15 min meditation\, daily reflection and sharing.\nContact: Step11pdx@gmail.com
URL:https://cp12stepoutreach.org/meeting-or-group/on-awakening-friday-meeting-2/2026-11-26/
LOCATION:Zoom Meeting
CATEGORIES:Online 11th Step Meditation Meetings
ORGANIZER;CN="On Awakening Meeting":MAILTO:step11pdx@gmail.com
END:VEVENT
BEGIN:VEVENT
DTSTART;TZID=America/Los_Angeles:20261127T063000
DTEND;TZID=America/Los_Angeles:20261127T073000
DTSTAMP:20260421T080310
CREATED:20250207T181453Z
LAST-MODIFIED:20250207T224528Z
UID:10051924-1795761000-1795764600@cp12stepoutreach.org
SUMMARY:"On Awakening" Thursday and Friday Meeting
DESCRIPTION:BRIEF MEETING INFORMATION:\n“On Awakening” Virtual AA meeting\nThursday & Friday 6:30-7:30 AM – Pacific Time on Zoom\nZoom Meeting ID: 220-597-9191\nZoom Password: 2mGN0C\nLink: https://us02web.zoom.us/j/2205979191?pwd=ZzRyWHRLM3hnYXdacmdlRUJnZVRaQT09\nDescription: 11th step AA meeting format with a 15 min meditation\, daily reflection and sharing.\nContact: Step11pdx@gmail.com
URL:https://cp12stepoutreach.org/meeting-or-group/on-awakening-friday-meeting-2/2026-11-27/
LOCATION:Zoom Meeting
CATEGORIES:Online 11th Step Meditation Meetings
ORGANIZER;CN="On Awakening Meeting":MAILTO:step11pdx@gmail.com
END:VEVENT
BEGIN:VEVENT
DTSTART;TZID=America/Los_Angeles:20261203T063000
DTEND;TZID=America/Los_Angeles:20261203T073000
DTSTAMP:20260421T080310
CREATED:20250207T181453Z
LAST-MODIFIED:20250207T224528Z
UID:10061630-1796279400-1796283000@cp12stepoutreach.org
SUMMARY:"On Awakening" Thursday and Friday Meeting
DESCRIPTION:BRIEF MEETING INFORMATION:\n“On Awakening” Virtual AA meeting\nThursday & Friday 6:30-7:30 AM – Pacific Time on Zoom\nZoom Meeting ID: 220-597-9191\nZoom Password: 2mGN0C\nLink: https://us02web.zoom.us/j/2205979191?pwd=ZzRyWHRLM3hnYXdacmdlRUJnZVRaQT09\nDescription: 11th step AA meeting format with a 15 min meditation\, daily reflection and sharing.\nContact: Step11pdx@gmail.com
URL:https://cp12stepoutreach.org/meeting-or-group/on-awakening-friday-meeting-2/2026-12-03/
LOCATION:Zoom Meeting
CATEGORIES:Online 11th Step Meditation Meetings
ORGANIZER;CN="On Awakening Meeting":MAILTO:step11pdx@gmail.com
END:VEVENT
BEGIN:VEVENT
DTSTART;TZID=America/Los_Angeles:20261204T063000
DTEND;TZID=America/Los_Angeles:20261204T073000
DTSTAMP:20260421T080310
CREATED:20250207T181453Z
LAST-MODIFIED:20250207T224528Z
UID:10051925-1796365800-1796369400@cp12stepoutreach.org
SUMMARY:"On Awakening" Thursday and Friday Meeting
DESCRIPTION:BRIEF MEETING INFORMATION:\n“On Awakening” Virtual AA meeting\nThursday & Friday 6:30-7:30 AM – Pacific Time on Zoom\nZoom Meeting ID: 220-597-9191\nZoom Password: 2mGN0C\nLink: https://us02web.zoom.us/j/2205979191?pwd=ZzRyWHRLM3hnYXdacmdlRUJnZVRaQT09\nDescription: 11th step AA meeting format with a 15 min meditation\, daily reflection and sharing.\nContact: Step11pdx@gmail.com
URL:https://cp12stepoutreach.org/meeting-or-group/on-awakening-friday-meeting-2/2026-12-04/
LOCATION:Zoom Meeting
CATEGORIES:Online 11th Step Meditation Meetings
ORGANIZER;CN="On Awakening Meeting":MAILTO:step11pdx@gmail.com
END:VEVENT
BEGIN:VEVENT
DTSTART;TZID=America/Los_Angeles:20261210T063000
DTEND;TZID=America/Los_Angeles:20261210T073000
DTSTAMP:20260421T080310
CREATED:20250207T181453Z
LAST-MODIFIED:20250207T224528Z
UID:10061631-1796884200-1796887800@cp12stepoutreach.org
SUMMARY:"On Awakening" Thursday and Friday Meeting
DESCRIPTION:BRIEF MEETING INFORMATION:\n“On Awakening” Virtual AA meeting\nThursday & Friday 6:30-7:30 AM – Pacific Time on Zoom\nZoom Meeting ID: 220-597-9191\nZoom Password: 2mGN0C\nLink: https://us02web.zoom.us/j/2205979191?pwd=ZzRyWHRLM3hnYXdacmdlRUJnZVRaQT09\nDescription: 11th step AA meeting format with a 15 min meditation\, daily reflection and sharing.\nContact: Step11pdx@gmail.com
URL:https://cp12stepoutreach.org/meeting-or-group/on-awakening-friday-meeting-2/2026-12-10/
LOCATION:Zoom Meeting
CATEGORIES:Online 11th Step Meditation Meetings
ORGANIZER;CN="On Awakening Meeting":MAILTO:step11pdx@gmail.com
END:VEVENT
BEGIN:VEVENT
DTSTART;TZID=America/Los_Angeles:20261211T063000
DTEND;TZID=America/Los_Angeles:20261211T073000
DTSTAMP:20260421T080310
CREATED:20250207T181453Z
LAST-MODIFIED:20250207T224528Z
UID:10051926-1796970600-1796974200@cp12stepoutreach.org
SUMMARY:"On Awakening" Thursday and Friday Meeting
DESCRIPTION:BRIEF MEETING INFORMATION:\n“On Awakening” Virtual AA meeting\nThursday & Friday 6:30-7:30 AM – Pacific Time on Zoom\nZoom Meeting ID: 220-597-9191\nZoom Password: 2mGN0C\nLink: https://us02web.zoom.us/j/2205979191?pwd=ZzRyWHRLM3hnYXdacmdlRUJnZVRaQT09\nDescription: 11th step AA meeting format with a 15 min meditation\, daily reflection and sharing.\nContact: Step11pdx@gmail.com
URL:https://cp12stepoutreach.org/meeting-or-group/on-awakening-friday-meeting-2/2026-12-11/
LOCATION:Zoom Meeting
CATEGORIES:Online 11th Step Meditation Meetings
ORGANIZER;CN="On Awakening Meeting":MAILTO:step11pdx@gmail.com
END:VEVENT
BEGIN:VEVENT
DTSTART;TZID=America/Los_Angeles:20261217T063000
DTEND;TZID=America/Los_Angeles:20261217T073000
DTSTAMP:20260421T080310
CREATED:20250207T181453Z
LAST-MODIFIED:20250207T224528Z
UID:10061632-1797489000-1797492600@cp12stepoutreach.org
SUMMARY:"On Awakening" Thursday and Friday Meeting
DESCRIPTION:BRIEF MEETING INFORMATION:\n“On Awakening” Virtual AA meeting\nThursday & Friday 6:30-7:30 AM – Pacific Time on Zoom\nZoom Meeting ID: 220-597-9191\nZoom Password: 2mGN0C\nLink: https://us02web.zoom.us/j/2205979191?pwd=ZzRyWHRLM3hnYXdacmdlRUJnZVRaQT09\nDescription: 11th step AA meeting format with a 15 min meditation\, daily reflection and sharing.\nContact: Step11pdx@gmail.com
URL:https://cp12stepoutreach.org/meeting-or-group/on-awakening-friday-meeting-2/2026-12-17/
LOCATION:Zoom Meeting
CATEGORIES:Online 11th Step Meditation Meetings
ORGANIZER;CN="On Awakening Meeting":MAILTO:step11pdx@gmail.com
END:VEVENT
BEGIN:VEVENT
DTSTART;TZID=America/Los_Angeles:20261218T063000
DTEND;TZID=America/Los_Angeles:20261218T073000
DTSTAMP:20260421T080310
CREATED:20250207T181453Z
LAST-MODIFIED:20250207T224528Z
UID:10051927-1797575400-1797579000@cp12stepoutreach.org
SUMMARY:"On Awakening" Thursday and Friday Meeting
DESCRIPTION:BRIEF MEETING INFORMATION:\n“On Awakening” Virtual AA meeting\nThursday & Friday 6:30-7:30 AM – Pacific Time on Zoom\nZoom Meeting ID: 220-597-9191\nZoom Password: 2mGN0C\nLink: https://us02web.zoom.us/j/2205979191?pwd=ZzRyWHRLM3hnYXdacmdlRUJnZVRaQT09\nDescription: 11th step AA meeting format with a 15 min meditation\, daily reflection and sharing.\nContact: Step11pdx@gmail.com
URL:https://cp12stepoutreach.org/meeting-or-group/on-awakening-friday-meeting-2/2026-12-18/
LOCATION:Zoom Meeting
CATEGORIES:Online 11th Step Meditation Meetings
ORGANIZER;CN="On Awakening Meeting":MAILTO:step11pdx@gmail.com
END:VEVENT
BEGIN:VEVENT
DTSTART;TZID=America/Los_Angeles:20261224T063000
DTEND;TZID=America/Los_Angeles:20261224T073000
DTSTAMP:20260421T080310
CREATED:20250207T181453Z
LAST-MODIFIED:20250207T224528Z
UID:10061633-1798093800-1798097400@cp12stepoutreach.org
SUMMARY:"On Awakening" Thursday and Friday Meeting
DESCRIPTION:BRIEF MEETING INFORMATION:\n“On Awakening” Virtual AA meeting\nThursday & Friday 6:30-7:30 AM – Pacific Time on Zoom\nZoom Meeting ID: 220-597-9191\nZoom Password: 2mGN0C\nLink: https://us02web.zoom.us/j/2205979191?pwd=ZzRyWHRLM3hnYXdacmdlRUJnZVRaQT09\nDescription: 11th step AA meeting format with a 15 min meditation\, daily reflection and sharing.\nContact: Step11pdx@gmail.com
URL:https://cp12stepoutreach.org/meeting-or-group/on-awakening-friday-meeting-2/2026-12-24/
LOCATION:Zoom Meeting
CATEGORIES:Online 11th Step Meditation Meetings
ORGANIZER;CN="On Awakening Meeting":MAILTO:step11pdx@gmail.com
END:VEVENT
BEGIN:VEVENT
DTSTART;TZID=America/Los_Angeles:20261225T063000
DTEND;TZID=America/Los_Angeles:20261225T073000
DTSTAMP:20260421T080310
CREATED:20250207T181453Z
LAST-MODIFIED:20250207T224528Z
UID:10051928-1798180200-1798183800@cp12stepoutreach.org
SUMMARY:"On Awakening" Thursday and Friday Meeting
DESCRIPTION:BRIEF MEETING INFORMATION:\n“On Awakening” Virtual AA meeting\nThursday & Friday 6:30-7:30 AM – Pacific Time on Zoom\nZoom Meeting ID: 220-597-9191\nZoom Password: 2mGN0C\nLink: https://us02web.zoom.us/j/2205979191?pwd=ZzRyWHRLM3hnYXdacmdlRUJnZVRaQT09\nDescription: 11th step AA meeting format with a 15 min meditation\, daily reflection and sharing.\nContact: Step11pdx@gmail.com
URL:https://cp12stepoutreach.org/meeting-or-group/on-awakening-friday-meeting-2/2026-12-25/
LOCATION:Zoom Meeting
CATEGORIES:Online 11th Step Meditation Meetings
ORGANIZER;CN="On Awakening Meeting":MAILTO:step11pdx@gmail.com
END:VEVENT
BEGIN:VEVENT
DTSTART;TZID=America/Los_Angeles:20261231T063000
DTEND;TZID=America/Los_Angeles:20261231T073000
DTSTAMP:20260421T080310
CREATED:20250207T181453Z
LAST-MODIFIED:20250207T224528Z
UID:10061634-1798698600-1798702200@cp12stepoutreach.org
SUMMARY:"On Awakening" Thursday and Friday Meeting
DESCRIPTION:BRIEF MEETING INFORMATION:\n“On Awakening” Virtual AA meeting\nThursday & Friday 6:30-7:30 AM – Pacific Time on Zoom\nZoom Meeting ID: 220-597-9191\nZoom Password: 2mGN0C\nLink: https://us02web.zoom.us/j/2205979191?pwd=ZzRyWHRLM3hnYXdacmdlRUJnZVRaQT09\nDescription: 11th step AA meeting format with a 15 min meditation\, daily reflection and sharing.\nContact: Step11pdx@gmail.com
URL:https://cp12stepoutreach.org/meeting-or-group/on-awakening-friday-meeting-2/2026-12-31/
LOCATION:Zoom Meeting
CATEGORIES:Online 11th Step Meditation Meetings
ORGANIZER;CN="On Awakening Meeting":MAILTO:step11pdx@gmail.com
END:VEVENT
BEGIN:VEVENT
DTSTART;TZID=America/Los_Angeles:20270101T063000
DTEND;TZID=America/Los_Angeles:20270101T073000
DTSTAMP:20260421T080310
CREATED:20250207T181453Z
LAST-MODIFIED:20250207T224528Z
UID:10051929-1798785000-1798788600@cp12stepoutreach.org
SUMMARY:"On Awakening" Thursday and Friday Meeting
DESCRIPTION:BRIEF MEETING INFORMATION:\n“On Awakening” Virtual AA meeting\nThursday & Friday 6:30-7:30 AM – Pacific Time on Zoom\nZoom Meeting ID: 220-597-9191\nZoom Password: 2mGN0C\nLink: https://us02web.zoom.us/j/2205979191?pwd=ZzRyWHRLM3hnYXdacmdlRUJnZVRaQT09\nDescription: 11th step AA meeting format with a 15 min meditation\, daily reflection and sharing.\nContact: Step11pdx@gmail.com
URL:https://cp12stepoutreach.org/meeting-or-group/on-awakening-friday-meeting-2/2027-01-01/
LOCATION:Zoom Meeting
CATEGORIES:Online 11th Step Meditation Meetings
ORGANIZER;CN="On Awakening Meeting":MAILTO:step11pdx@gmail.com
END:VEVENT
BEGIN:VEVENT
DTSTART;TZID=America/Los_Angeles:20270107T063000
DTEND;TZID=America/Los_Angeles:20270107T073000
DTSTAMP:20260421T080310
CREATED:20250207T181453Z
LAST-MODIFIED:20250207T224528Z
UID:10061635-1799303400-1799307000@cp12stepoutreach.org
SUMMARY:"On Awakening" Thursday and Friday Meeting
DESCRIPTION:BRIEF MEETING INFORMATION:\n“On Awakening” Virtual AA meeting\nThursday & Friday 6:30-7:30 AM – Pacific Time on Zoom\nZoom Meeting ID: 220-597-9191\nZoom Password: 2mGN0C\nLink: https://us02web.zoom.us/j/2205979191?pwd=ZzRyWHRLM3hnYXdacmdlRUJnZVRaQT09\nDescription: 11th step AA meeting format with a 15 min meditation\, daily reflection and sharing.\nContact: Step11pdx@gmail.com
URL:https://cp12stepoutreach.org/meeting-or-group/on-awakening-friday-meeting-2/2027-01-07/
LOCATION:Zoom Meeting
CATEGORIES:Online 11th Step Meditation Meetings
ORGANIZER;CN="On Awakening Meeting":MAILTO:step11pdx@gmail.com
END:VEVENT
BEGIN:VEVENT
DTSTART;TZID=America/Los_Angeles:20270108T063000
DTEND;TZID=America/Los_Angeles:20270108T073000
DTSTAMP:20260421T080310
CREATED:20250207T181453Z
LAST-MODIFIED:20250207T224528Z
UID:10051930-1799389800-1799393400@cp12stepoutreach.org
SUMMARY:"On Awakening" Thursday and Friday Meeting
DESCRIPTION:BRIEF MEETING INFORMATION:\n“On Awakening” Virtual AA meeting\nThursday & Friday 6:30-7:30 AM – Pacific Time on Zoom\nZoom Meeting ID: 220-597-9191\nZoom Password: 2mGN0C\nLink: https://us02web.zoom.us/j/2205979191?pwd=ZzRyWHRLM3hnYXdacmdlRUJnZVRaQT09\nDescription: 11th step AA meeting format with a 15 min meditation\, daily reflection and sharing.\nContact: Step11pdx@gmail.com
URL:https://cp12stepoutreach.org/meeting-or-group/on-awakening-friday-meeting-2/2027-01-08/
LOCATION:Zoom Meeting
CATEGORIES:Online 11th Step Meditation Meetings
ORGANIZER;CN="On Awakening Meeting":MAILTO:step11pdx@gmail.com
END:VEVENT
BEGIN:VEVENT
DTSTART;TZID=America/Los_Angeles:20270114T063000
DTEND;TZID=America/Los_Angeles:20270114T073000
DTSTAMP:20260421T080310
CREATED:20250207T181453Z
LAST-MODIFIED:20250207T224528Z
UID:10061636-1799908200-1799911800@cp12stepoutreach.org
SUMMARY:"On Awakening" Thursday and Friday Meeting
DESCRIPTION:BRIEF MEETING INFORMATION:\n“On Awakening” Virtual AA meeting\nThursday & Friday 6:30-7:30 AM – Pacific Time on Zoom\nZoom Meeting ID: 220-597-9191\nZoom Password: 2mGN0C\nLink: https://us02web.zoom.us/j/2205979191?pwd=ZzRyWHRLM3hnYXdacmdlRUJnZVRaQT09\nDescription: 11th step AA meeting format with a 15 min meditation\, daily reflection and sharing.\nContact: Step11pdx@gmail.com
URL:https://cp12stepoutreach.org/meeting-or-group/on-awakening-friday-meeting-2/2027-01-14/
LOCATION:Zoom Meeting
CATEGORIES:Online 11th Step Meditation Meetings
ORGANIZER;CN="On Awakening Meeting":MAILTO:step11pdx@gmail.com
END:VEVENT
BEGIN:VEVENT
DTSTART;TZID=America/Los_Angeles:20270115T063000
DTEND;TZID=America/Los_Angeles:20270115T073000
DTSTAMP:20260421T080310
CREATED:20250207T181453Z
LAST-MODIFIED:20250207T224528Z
UID:10051931-1799994600-1799998200@cp12stepoutreach.org
SUMMARY:"On Awakening" Thursday and Friday Meeting
DESCRIPTION:BRIEF MEETING INFORMATION:\n“On Awakening” Virtual AA meeting\nThursday & Friday 6:30-7:30 AM – Pacific Time on Zoom\nZoom Meeting ID: 220-597-9191\nZoom Password: 2mGN0C\nLink: https://us02web.zoom.us/j/2205979191?pwd=ZzRyWHRLM3hnYXdacmdlRUJnZVRaQT09\nDescription: 11th step AA meeting format with a 15 min meditation\, daily reflection and sharing.\nContact: Step11pdx@gmail.com
URL:https://cp12stepoutreach.org/meeting-or-group/on-awakening-friday-meeting-2/2027-01-15/
LOCATION:Zoom Meeting
CATEGORIES:Online 11th Step Meditation Meetings
ORGANIZER;CN="On Awakening Meeting":MAILTO:step11pdx@gmail.com
END:VEVENT
BEGIN:VEVENT
DTSTART;TZID=America/Los_Angeles:20270121T063000
DTEND;TZID=America/Los_Angeles:20270121T073000
DTSTAMP:20260421T080310
CREATED:20250207T181453Z
LAST-MODIFIED:20250207T224528Z
UID:10061637-1800513000-1800516600@cp12stepoutreach.org
SUMMARY:"On Awakening" Thursday and Friday Meeting
DESCRIPTION:BRIEF MEETING INFORMATION:\n“On Awakening” Virtual AA meeting\nThursday & Friday 6:30-7:30 AM – Pacific Time on Zoom\nZoom Meeting ID: 220-597-9191\nZoom Password: 2mGN0C\nLink: https://us02web.zoom.us/j/2205979191?pwd=ZzRyWHRLM3hnYXdacmdlRUJnZVRaQT09\nDescription: 11th step AA meeting format with a 15 min meditation\, daily reflection and sharing.\nContact: Step11pdx@gmail.com
URL:https://cp12stepoutreach.org/meeting-or-group/on-awakening-friday-meeting-2/2027-01-21/
LOCATION:Zoom Meeting
CATEGORIES:Online 11th Step Meditation Meetings
ORGANIZER;CN="On Awakening Meeting":MAILTO:step11pdx@gmail.com
END:VEVENT
BEGIN:VEVENT
DTSTART;TZID=America/Los_Angeles:20270122T063000
DTEND;TZID=America/Los_Angeles:20270122T073000
DTSTAMP:20260421T080310
CREATED:20250207T181453Z
LAST-MODIFIED:20250207T224528Z
UID:10051932-1800599400-1800603000@cp12stepoutreach.org
SUMMARY:"On Awakening" Thursday and Friday Meeting
DESCRIPTION:BRIEF MEETING INFORMATION:\n“On Awakening” Virtual AA meeting\nThursday & Friday 6:30-7:30 AM – Pacific Time on Zoom\nZoom Meeting ID: 220-597-9191\nZoom Password: 2mGN0C\nLink: https://us02web.zoom.us/j/2205979191?pwd=ZzRyWHRLM3hnYXdacmdlRUJnZVRaQT09\nDescription: 11th step AA meeting format with a 15 min meditation\, daily reflection and sharing.\nContact: Step11pdx@gmail.com
URL:https://cp12stepoutreach.org/meeting-or-group/on-awakening-friday-meeting-2/2027-01-22/
LOCATION:Zoom Meeting
CATEGORIES:Online 11th Step Meditation Meetings
ORGANIZER;CN="On Awakening Meeting":MAILTO:step11pdx@gmail.com
END:VEVENT
BEGIN:VEVENT
DTSTART;TZID=America/Los_Angeles:20270128T063000
DTEND;TZID=America/Los_Angeles:20270128T073000
DTSTAMP:20260421T080310
CREATED:20250207T181453Z
LAST-MODIFIED:20250207T224528Z
UID:10061638-1801117800-1801121400@cp12stepoutreach.org
SUMMARY:"On Awakening" Thursday and Friday Meeting
DESCRIPTION:BRIEF MEETING INFORMATION:\n“On Awakening” Virtual AA meeting\nThursday & Friday 6:30-7:30 AM – Pacific Time on Zoom\nZoom Meeting ID: 220-597-9191\nZoom Password: 2mGN0C\nLink: https://us02web.zoom.us/j/2205979191?pwd=ZzRyWHRLM3hnYXdacmdlRUJnZVRaQT09\nDescription: 11th step AA meeting format with a 15 min meditation\, daily reflection and sharing.\nContact: Step11pdx@gmail.com
URL:https://cp12stepoutreach.org/meeting-or-group/on-awakening-friday-meeting-2/2027-01-28/
LOCATION:Zoom Meeting
CATEGORIES:Online 11th Step Meditation Meetings
ORGANIZER;CN="On Awakening Meeting":MAILTO:step11pdx@gmail.com
END:VEVENT
BEGIN:VEVENT
DTSTART;TZID=America/Los_Angeles:20270129T063000
DTEND;TZID=America/Los_Angeles:20270129T073000
DTSTAMP:20260421T080310
CREATED:20250207T181453Z
LAST-MODIFIED:20250207T224528Z
UID:10061377-1801204200-1801207800@cp12stepoutreach.org
SUMMARY:"On Awakening" Thursday and Friday Meeting
DESCRIPTION:BRIEF MEETING INFORMATION:\n“On Awakening” Virtual AA meeting\nThursday & Friday 6:30-7:30 AM – Pacific Time on Zoom\nZoom Meeting ID: 220-597-9191\nZoom Password: 2mGN0C\nLink: https://us02web.zoom.us/j/2205979191?pwd=ZzRyWHRLM3hnYXdacmdlRUJnZVRaQT09\nDescription: 11th step AA meeting format with a 15 min meditation\, daily reflection and sharing.\nContact: Step11pdx@gmail.com
URL:https://cp12stepoutreach.org/meeting-or-group/on-awakening-friday-meeting-2/2027-01-29/
LOCATION:Zoom Meeting
CATEGORIES:Online 11th Step Meditation Meetings
ORGANIZER;CN="On Awakening Meeting":MAILTO:step11pdx@gmail.com
END:VEVENT
BEGIN:VEVENT
DTSTART;TZID=America/Los_Angeles:20270204T063000
DTEND;TZID=America/Los_Angeles:20270204T073000
DTSTAMP:20260421T080310
CREATED:20250207T181453Z
LAST-MODIFIED:20250207T224528Z
UID:10061639-1801722600-1801726200@cp12stepoutreach.org
SUMMARY:"On Awakening" Thursday and Friday Meeting
DESCRIPTION:BRIEF MEETING INFORMATION:\n“On Awakening” Virtual AA meeting\nThursday & Friday 6:30-7:30 AM – Pacific Time on Zoom\nZoom Meeting ID: 220-597-9191\nZoom Password: 2mGN0C\nLink: https://us02web.zoom.us/j/2205979191?pwd=ZzRyWHRLM3hnYXdacmdlRUJnZVRaQT09\nDescription: 11th step AA meeting format with a 15 min meditation\, daily reflection and sharing.\nContact: Step11pdx@gmail.com
URL:https://cp12stepoutreach.org/meeting-or-group/on-awakening-friday-meeting-2/2027-02-04/
LOCATION:Zoom Meeting
CATEGORIES:Online 11th Step Meditation Meetings
ORGANIZER;CN="On Awakening Meeting":MAILTO:step11pdx@gmail.com
END:VEVENT
BEGIN:VEVENT
DTSTART;TZID=America/Los_Angeles:20270205T063000
DTEND;TZID=America/Los_Angeles:20270205T073000
DTSTAMP:20260421T080310
CREATED:20250207T181453Z
LAST-MODIFIED:20250207T224528Z
UID:10061378-1801809000-1801812600@cp12stepoutreach.org
SUMMARY:"On Awakening" Thursday and Friday Meeting
DESCRIPTION:BRIEF MEETING INFORMATION:\n“On Awakening” Virtual AA meeting\nThursday & Friday 6:30-7:30 AM – Pacific Time on Zoom\nZoom Meeting ID: 220-597-9191\nZoom Password: 2mGN0C\nLink: https://us02web.zoom.us/j/2205979191?pwd=ZzRyWHRLM3hnYXdacmdlRUJnZVRaQT09\nDescription: 11th step AA meeting format with a 15 min meditation\, daily reflection and sharing.\nContact: Step11pdx@gmail.com
URL:https://cp12stepoutreach.org/meeting-or-group/on-awakening-friday-meeting-2/2027-02-05/
LOCATION:Zoom Meeting
CATEGORIES:Online 11th Step Meditation Meetings
ORGANIZER;CN="On Awakening Meeting":MAILTO:step11pdx@gmail.com
END:VEVENT
BEGIN:VEVENT
DTSTART;TZID=America/Los_Angeles:20270211T063000
DTEND;TZID=America/Los_Angeles:20270211T073000
DTSTAMP:20260421T080310
CREATED:20250207T181453Z
LAST-MODIFIED:20250207T224528Z
UID:10061640-1802327400-1802331000@cp12stepoutreach.org
SUMMARY:"On Awakening" Thursday and Friday Meeting
DESCRIPTION:BRIEF MEETING INFORMATION:\n“On Awakening” Virtual AA meeting\nThursday & Friday 6:30-7:30 AM – Pacific Time on Zoom\nZoom Meeting ID: 220-597-9191\nZoom Password: 2mGN0C\nLink: https://us02web.zoom.us/j/2205979191?pwd=ZzRyWHRLM3hnYXdacmdlRUJnZVRaQT09\nDescription: 11th step AA meeting format with a 15 min meditation\, daily reflection and sharing.\nContact: Step11pdx@gmail.com
URL:https://cp12stepoutreach.org/meeting-or-group/on-awakening-friday-meeting-2/2027-02-11/
LOCATION:Zoom Meeting
CATEGORIES:Online 11th Step Meditation Meetings
ORGANIZER;CN="On Awakening Meeting":MAILTO:step11pdx@gmail.com
END:VEVENT
BEGIN:VEVENT
DTSTART;TZID=America/Los_Angeles:20270212T063000
DTEND;TZID=America/Los_Angeles:20270212T073000
DTSTAMP:20260421T080310
CREATED:20250207T181453Z
LAST-MODIFIED:20250207T224528Z
UID:10061379-1802413800-1802417400@cp12stepoutreach.org
SUMMARY:"On Awakening" Thursday and Friday Meeting
DESCRIPTION:BRIEF MEETING INFORMATION:\n“On Awakening” Virtual AA meeting\nThursday & Friday 6:30-7:30 AM – Pacific Time on Zoom\nZoom Meeting ID: 220-597-9191\nZoom Password: 2mGN0C\nLink: https://us02web.zoom.us/j/2205979191?pwd=ZzRyWHRLM3hnYXdacmdlRUJnZVRaQT09\nDescription: 11th step AA meeting format with a 15 min meditation\, daily reflection and sharing.\nContact: Step11pdx@gmail.com
URL:https://cp12stepoutreach.org/meeting-or-group/on-awakening-friday-meeting-2/2027-02-12/
LOCATION:Zoom Meeting
CATEGORIES:Online 11th Step Meditation Meetings
ORGANIZER;CN="On Awakening Meeting":MAILTO:step11pdx@gmail.com
END:VEVENT
BEGIN:VEVENT
DTSTART;TZID=America/Los_Angeles:20270218T063000
DTEND;TZID=America/Los_Angeles:20270218T073000
DTSTAMP:20260421T080310
CREATED:20250207T181453Z
LAST-MODIFIED:20250207T224528Z
UID:10061641-1802932200-1802935800@cp12stepoutreach.org
SUMMARY:"On Awakening" Thursday and Friday Meeting
DESCRIPTION:BRIEF MEETING INFORMATION:\n“On Awakening” Virtual AA meeting\nThursday & Friday 6:30-7:30 AM – Pacific Time on Zoom\nZoom Meeting ID: 220-597-9191\nZoom Password: 2mGN0C\nLink: https://us02web.zoom.us/j/2205979191?pwd=ZzRyWHRLM3hnYXdacmdlRUJnZVRaQT09\nDescription: 11th step AA meeting format with a 15 min meditation\, daily reflection and sharing.\nContact: Step11pdx@gmail.com
URL:https://cp12stepoutreach.org/meeting-or-group/on-awakening-friday-meeting-2/2027-02-18/
LOCATION:Zoom Meeting
CATEGORIES:Online 11th Step Meditation Meetings
ORGANIZER;CN="On Awakening Meeting":MAILTO:step11pdx@gmail.com
END:VEVENT
BEGIN:VEVENT
DTSTART;TZID=America/Los_Angeles:20270219T063000
DTEND;TZID=America/Los_Angeles:20270219T073000
DTSTAMP:20260421T080310
CREATED:20250207T181453Z
LAST-MODIFIED:20250207T224528Z
UID:10061380-1803018600-1803022200@cp12stepoutreach.org
SUMMARY:"On Awakening" Thursday and Friday Meeting
DESCRIPTION:BRIEF MEETING INFORMATION:\n“On Awakening” Virtual AA meeting\nThursday & Friday 6:30-7:30 AM – Pacific Time on Zoom\nZoom Meeting ID: 220-597-9191\nZoom Password: 2mGN0C\nLink: https://us02web.zoom.us/j/2205979191?pwd=ZzRyWHRLM3hnYXdacmdlRUJnZVRaQT09\nDescription: 11th step AA meeting format with a 15 min meditation\, daily reflection and sharing.\nContact: Step11pdx@gmail.com
URL:https://cp12stepoutreach.org/meeting-or-group/on-awakening-friday-meeting-2/2027-02-19/
LOCATION:Zoom Meeting
CATEGORIES:Online 11th Step Meditation Meetings
ORGANIZER;CN="On Awakening Meeting":MAILTO:step11pdx@gmail.com
END:VEVENT
BEGIN:VEVENT
DTSTART;TZID=America/Los_Angeles:20270225T063000
DTEND;TZID=America/Los_Angeles:20270225T073000
DTSTAMP:20260421T080310
CREATED:20250207T181453Z
LAST-MODIFIED:20250207T224528Z
UID:10061642-1803537000-1803540600@cp12stepoutreach.org
SUMMARY:"On Awakening" Thursday and Friday Meeting
DESCRIPTION:BRIEF MEETING INFORMATION:\n“On Awakening” Virtual AA meeting\nThursday & Friday 6:30-7:30 AM – Pacific Time on Zoom\nZoom Meeting ID: 220-597-9191\nZoom Password: 2mGN0C\nLink: https://us02web.zoom.us/j/2205979191?pwd=ZzRyWHRLM3hnYXdacmdlRUJnZVRaQT09\nDescription: 11th step AA meeting format with a 15 min meditation\, daily reflection and sharing.\nContact: Step11pdx@gmail.com
URL:https://cp12stepoutreach.org/meeting-or-group/on-awakening-friday-meeting-2/2027-02-25/
LOCATION:Zoom Meeting
CATEGORIES:Online 11th Step Meditation Meetings
ORGANIZER;CN="On Awakening Meeting":MAILTO:step11pdx@gmail.com
END:VEVENT
BEGIN:VEVENT
DTSTART;TZID=America/Los_Angeles:20270226T063000
DTEND;TZID=America/Los_Angeles:20270226T073000
DTSTAMP:20260421T080310
CREATED:20250207T181453Z
LAST-MODIFIED:20250207T224528Z
UID:10061381-1803623400-1803627000@cp12stepoutreach.org
SUMMARY:"On Awakening" Thursday and Friday Meeting
DESCRIPTION:BRIEF MEETING INFORMATION:\n“On Awakening” Virtual AA meeting\nThursday & Friday 6:30-7:30 AM – Pacific Time on Zoom\nZoom Meeting ID: 220-597-9191\nZoom Password: 2mGN0C\nLink: https://us02web.zoom.us/j/2205979191?pwd=ZzRyWHRLM3hnYXdacmdlRUJnZVRaQT09\nDescription: 11th step AA meeting format with a 15 min meditation\, daily reflection and sharing.\nContact: Step11pdx@gmail.com
URL:https://cp12stepoutreach.org/meeting-or-group/on-awakening-friday-meeting-2/2027-02-26/
LOCATION:Zoom Meeting
CATEGORIES:Online 11th Step Meditation Meetings
ORGANIZER;CN="On Awakening Meeting":MAILTO:step11pdx@gmail.com
END:VEVENT
END:VCALENDAR