BEGIN:VCALENDAR
VERSION:2.0
PRODID:-//12 Step Outreach - ECPv6.11.2.1//NONSGML v1.0//EN
CALSCALE:GREGORIAN
METHOD:PUBLISH
X-WR-CALNAME:12 Step Outreach
X-ORIGINAL-URL:https://cp12stepoutreach.org
X-WR-CALDESC:Events for 12 Step Outreach
REFRESH-INTERVAL;VALUE=DURATION:PT1H
X-Robots-Tag:noindex
X-PUBLISHED-TTL:PT1H
BEGIN:VTIMEZONE
TZID:America/Los_Angeles
BEGIN:DAYLIGHT
TZOFFSETFROM:-0800
TZOFFSETTO:-0700
TZNAME:PDT
DTSTART:20270314T100000
END:DAYLIGHT
BEGIN:STANDARD
TZOFFSETFROM:-0700
TZOFFSETTO:-0800
TZNAME:PST
DTSTART:20271107T090000
END:STANDARD
END:VTIMEZONE
BEGIN:VEVENT
DTSTART;TZID=America/Los_Angeles:20270617T063000
DTEND;TZID=America/Los_Angeles:20270617T073000
DTSTAMP:20260421T114950
CREATED:20250207T181453Z
LAST-MODIFIED:20250207T224528Z
UID:10061658-1813213800-1813217400@cp12stepoutreach.org
SUMMARY:"On Awakening" Thursday and Friday Meeting
DESCRIPTION:BRIEF MEETING INFORMATION:\n“On Awakening” Virtual AA meeting\nThursday & Friday 6:30-7:30 AM – Pacific Time on Zoom\nZoom Meeting ID: 220-597-9191\nZoom Password: 2mGN0C\nLink: https://us02web.zoom.us/j/2205979191?pwd=ZzRyWHRLM3hnYXdacmdlRUJnZVRaQT09\nDescription: 11th step AA meeting format with a 15 min meditation\, daily reflection and sharing.\nContact: Step11pdx@gmail.com
URL:https://cp12stepoutreach.org/meeting-or-group/on-awakening-friday-meeting-2/2027-06-17/
LOCATION:Zoom Meeting
CATEGORIES:Online 11th Step Meditation Meetings
ORGANIZER;CN="On Awakening Meeting":MAILTO:step11pdx@gmail.com
END:VEVENT
BEGIN:VEVENT
DTSTART;TZID=America/Los_Angeles:20270618T063000
DTEND;TZID=America/Los_Angeles:20270618T073000
DTSTAMP:20260421T114950
CREATED:20250207T181453Z
LAST-MODIFIED:20250207T224528Z
UID:10061397-1813300200-1813303800@cp12stepoutreach.org
SUMMARY:"On Awakening" Thursday and Friday Meeting
DESCRIPTION:BRIEF MEETING INFORMATION:\n“On Awakening” Virtual AA meeting\nThursday & Friday 6:30-7:30 AM – Pacific Time on Zoom\nZoom Meeting ID: 220-597-9191\nZoom Password: 2mGN0C\nLink: https://us02web.zoom.us/j/2205979191?pwd=ZzRyWHRLM3hnYXdacmdlRUJnZVRaQT09\nDescription: 11th step AA meeting format with a 15 min meditation\, daily reflection and sharing.\nContact: Step11pdx@gmail.com
URL:https://cp12stepoutreach.org/meeting-or-group/on-awakening-friday-meeting-2/2027-06-18/
LOCATION:Zoom Meeting
CATEGORIES:Online 11th Step Meditation Meetings
ORGANIZER;CN="On Awakening Meeting":MAILTO:step11pdx@gmail.com
END:VEVENT
BEGIN:VEVENT
DTSTART;TZID=America/Los_Angeles:20270624T063000
DTEND;TZID=America/Los_Angeles:20270624T073000
DTSTAMP:20260421T114950
CREATED:20250207T181453Z
LAST-MODIFIED:20250207T224528Z
UID:10061659-1813818600-1813822200@cp12stepoutreach.org
SUMMARY:"On Awakening" Thursday and Friday Meeting
DESCRIPTION:BRIEF MEETING INFORMATION:\n“On Awakening” Virtual AA meeting\nThursday & Friday 6:30-7:30 AM – Pacific Time on Zoom\nZoom Meeting ID: 220-597-9191\nZoom Password: 2mGN0C\nLink: https://us02web.zoom.us/j/2205979191?pwd=ZzRyWHRLM3hnYXdacmdlRUJnZVRaQT09\nDescription: 11th step AA meeting format with a 15 min meditation\, daily reflection and sharing.\nContact: Step11pdx@gmail.com
URL:https://cp12stepoutreach.org/meeting-or-group/on-awakening-friday-meeting-2/2027-06-24/
LOCATION:Zoom Meeting
CATEGORIES:Online 11th Step Meditation Meetings
ORGANIZER;CN="On Awakening Meeting":MAILTO:step11pdx@gmail.com
END:VEVENT
BEGIN:VEVENT
DTSTART;TZID=America/Los_Angeles:20270625T063000
DTEND;TZID=America/Los_Angeles:20270625T073000
DTSTAMP:20260421T114950
CREATED:20250207T181453Z
LAST-MODIFIED:20250207T224528Z
UID:10061398-1813905000-1813908600@cp12stepoutreach.org
SUMMARY:"On Awakening" Thursday and Friday Meeting
DESCRIPTION:BRIEF MEETING INFORMATION:\n“On Awakening” Virtual AA meeting\nThursday & Friday 6:30-7:30 AM – Pacific Time on Zoom\nZoom Meeting ID: 220-597-9191\nZoom Password: 2mGN0C\nLink: https://us02web.zoom.us/j/2205979191?pwd=ZzRyWHRLM3hnYXdacmdlRUJnZVRaQT09\nDescription: 11th step AA meeting format with a 15 min meditation\, daily reflection and sharing.\nContact: Step11pdx@gmail.com
URL:https://cp12stepoutreach.org/meeting-or-group/on-awakening-friday-meeting-2/2027-06-25/
LOCATION:Zoom Meeting
CATEGORIES:Online 11th Step Meditation Meetings
ORGANIZER;CN="On Awakening Meeting":MAILTO:step11pdx@gmail.com
END:VEVENT
BEGIN:VEVENT
DTSTART;TZID=America/Los_Angeles:20270701T063000
DTEND;TZID=America/Los_Angeles:20270701T073000
DTSTAMP:20260421T114950
CREATED:20250207T181453Z
LAST-MODIFIED:20250207T224528Z
UID:10061660-1814423400-1814427000@cp12stepoutreach.org
SUMMARY:"On Awakening" Thursday and Friday Meeting
DESCRIPTION:BRIEF MEETING INFORMATION:\n“On Awakening” Virtual AA meeting\nThursday & Friday 6:30-7:30 AM – Pacific Time on Zoom\nZoom Meeting ID: 220-597-9191\nZoom Password: 2mGN0C\nLink: https://us02web.zoom.us/j/2205979191?pwd=ZzRyWHRLM3hnYXdacmdlRUJnZVRaQT09\nDescription: 11th step AA meeting format with a 15 min meditation\, daily reflection and sharing.\nContact: Step11pdx@gmail.com
URL:https://cp12stepoutreach.org/meeting-or-group/on-awakening-friday-meeting-2/2027-07-01/
LOCATION:Zoom Meeting
CATEGORIES:Online 11th Step Meditation Meetings
ORGANIZER;CN="On Awakening Meeting":MAILTO:step11pdx@gmail.com
END:VEVENT
BEGIN:VEVENT
DTSTART;TZID=America/Los_Angeles:20270702T063000
DTEND;TZID=America/Los_Angeles:20270702T073000
DTSTAMP:20260421T114950
CREATED:20250207T181453Z
LAST-MODIFIED:20250207T224528Z
UID:10061399-1814509800-1814513400@cp12stepoutreach.org
SUMMARY:"On Awakening" Thursday and Friday Meeting
DESCRIPTION:BRIEF MEETING INFORMATION:\n“On Awakening” Virtual AA meeting\nThursday & Friday 6:30-7:30 AM – Pacific Time on Zoom\nZoom Meeting ID: 220-597-9191\nZoom Password: 2mGN0C\nLink: https://us02web.zoom.us/j/2205979191?pwd=ZzRyWHRLM3hnYXdacmdlRUJnZVRaQT09\nDescription: 11th step AA meeting format with a 15 min meditation\, daily reflection and sharing.\nContact: Step11pdx@gmail.com
URL:https://cp12stepoutreach.org/meeting-or-group/on-awakening-friday-meeting-2/2027-07-02/
LOCATION:Zoom Meeting
CATEGORIES:Online 11th Step Meditation Meetings
ORGANIZER;CN="On Awakening Meeting":MAILTO:step11pdx@gmail.com
END:VEVENT
BEGIN:VEVENT
DTSTART;TZID=America/Los_Angeles:20270708T063000
DTEND;TZID=America/Los_Angeles:20270708T073000
DTSTAMP:20260421T114950
CREATED:20250207T181453Z
LAST-MODIFIED:20250207T224528Z
UID:10061661-1815028200-1815031800@cp12stepoutreach.org
SUMMARY:"On Awakening" Thursday and Friday Meeting
DESCRIPTION:BRIEF MEETING INFORMATION:\n“On Awakening” Virtual AA meeting\nThursday & Friday 6:30-7:30 AM – Pacific Time on Zoom\nZoom Meeting ID: 220-597-9191\nZoom Password: 2mGN0C\nLink: https://us02web.zoom.us/j/2205979191?pwd=ZzRyWHRLM3hnYXdacmdlRUJnZVRaQT09\nDescription: 11th step AA meeting format with a 15 min meditation\, daily reflection and sharing.\nContact: Step11pdx@gmail.com
URL:https://cp12stepoutreach.org/meeting-or-group/on-awakening-friday-meeting-2/2027-07-08/
LOCATION:Zoom Meeting
CATEGORIES:Online 11th Step Meditation Meetings
ORGANIZER;CN="On Awakening Meeting":MAILTO:step11pdx@gmail.com
END:VEVENT
BEGIN:VEVENT
DTSTART;TZID=America/Los_Angeles:20270709T063000
DTEND;TZID=America/Los_Angeles:20270709T073000
DTSTAMP:20260421T114950
CREATED:20250207T181453Z
LAST-MODIFIED:20250207T224528Z
UID:10061400-1815114600-1815118200@cp12stepoutreach.org
SUMMARY:"On Awakening" Thursday and Friday Meeting
DESCRIPTION:BRIEF MEETING INFORMATION:\n“On Awakening” Virtual AA meeting\nThursday & Friday 6:30-7:30 AM – Pacific Time on Zoom\nZoom Meeting ID: 220-597-9191\nZoom Password: 2mGN0C\nLink: https://us02web.zoom.us/j/2205979191?pwd=ZzRyWHRLM3hnYXdacmdlRUJnZVRaQT09\nDescription: 11th step AA meeting format with a 15 min meditation\, daily reflection and sharing.\nContact: Step11pdx@gmail.com
URL:https://cp12stepoutreach.org/meeting-or-group/on-awakening-friday-meeting-2/2027-07-09/
LOCATION:Zoom Meeting
CATEGORIES:Online 11th Step Meditation Meetings
ORGANIZER;CN="On Awakening Meeting":MAILTO:step11pdx@gmail.com
END:VEVENT
BEGIN:VEVENT
DTSTART;TZID=America/Los_Angeles:20270715T063000
DTEND;TZID=America/Los_Angeles:20270715T073000
DTSTAMP:20260421T114950
CREATED:20250207T181453Z
LAST-MODIFIED:20250207T224528Z
UID:10061662-1815633000-1815636600@cp12stepoutreach.org
SUMMARY:"On Awakening" Thursday and Friday Meeting
DESCRIPTION:BRIEF MEETING INFORMATION:\n“On Awakening” Virtual AA meeting\nThursday & Friday 6:30-7:30 AM – Pacific Time on Zoom\nZoom Meeting ID: 220-597-9191\nZoom Password: 2mGN0C\nLink: https://us02web.zoom.us/j/2205979191?pwd=ZzRyWHRLM3hnYXdacmdlRUJnZVRaQT09\nDescription: 11th step AA meeting format with a 15 min meditation\, daily reflection and sharing.\nContact: Step11pdx@gmail.com
URL:https://cp12stepoutreach.org/meeting-or-group/on-awakening-friday-meeting-2/2027-07-15/
LOCATION:Zoom Meeting
CATEGORIES:Online 11th Step Meditation Meetings
ORGANIZER;CN="On Awakening Meeting":MAILTO:step11pdx@gmail.com
END:VEVENT
BEGIN:VEVENT
DTSTART;TZID=America/Los_Angeles:20270716T063000
DTEND;TZID=America/Los_Angeles:20270716T073000
DTSTAMP:20260421T114950
CREATED:20250207T181453Z
LAST-MODIFIED:20250207T224528Z
UID:10061401-1815719400-1815723000@cp12stepoutreach.org
SUMMARY:"On Awakening" Thursday and Friday Meeting
DESCRIPTION:BRIEF MEETING INFORMATION:\n“On Awakening” Virtual AA meeting\nThursday & Friday 6:30-7:30 AM – Pacific Time on Zoom\nZoom Meeting ID: 220-597-9191\nZoom Password: 2mGN0C\nLink: https://us02web.zoom.us/j/2205979191?pwd=ZzRyWHRLM3hnYXdacmdlRUJnZVRaQT09\nDescription: 11th step AA meeting format with a 15 min meditation\, daily reflection and sharing.\nContact: Step11pdx@gmail.com
URL:https://cp12stepoutreach.org/meeting-or-group/on-awakening-friday-meeting-2/2027-07-16/
LOCATION:Zoom Meeting
CATEGORIES:Online 11th Step Meditation Meetings
ORGANIZER;CN="On Awakening Meeting":MAILTO:step11pdx@gmail.com
END:VEVENT
BEGIN:VEVENT
DTSTART;TZID=America/Los_Angeles:20270722T063000
DTEND;TZID=America/Los_Angeles:20270722T073000
DTSTAMP:20260421T114950
CREATED:20250207T181453Z
LAST-MODIFIED:20250207T224528Z
UID:10061663-1816237800-1816241400@cp12stepoutreach.org
SUMMARY:"On Awakening" Thursday and Friday Meeting
DESCRIPTION:BRIEF MEETING INFORMATION:\n“On Awakening” Virtual AA meeting\nThursday & Friday 6:30-7:30 AM – Pacific Time on Zoom\nZoom Meeting ID: 220-597-9191\nZoom Password: 2mGN0C\nLink: https://us02web.zoom.us/j/2205979191?pwd=ZzRyWHRLM3hnYXdacmdlRUJnZVRaQT09\nDescription: 11th step AA meeting format with a 15 min meditation\, daily reflection and sharing.\nContact: Step11pdx@gmail.com
URL:https://cp12stepoutreach.org/meeting-or-group/on-awakening-friday-meeting-2/2027-07-22/
LOCATION:Zoom Meeting
CATEGORIES:Online 11th Step Meditation Meetings
ORGANIZER;CN="On Awakening Meeting":MAILTO:step11pdx@gmail.com
END:VEVENT
BEGIN:VEVENT
DTSTART;TZID=America/Los_Angeles:20270723T063000
DTEND;TZID=America/Los_Angeles:20270723T073000
DTSTAMP:20260421T114950
CREATED:20250207T181453Z
LAST-MODIFIED:20250207T224528Z
UID:10061402-1816324200-1816327800@cp12stepoutreach.org
SUMMARY:"On Awakening" Thursday and Friday Meeting
DESCRIPTION:BRIEF MEETING INFORMATION:\n“On Awakening” Virtual AA meeting\nThursday & Friday 6:30-7:30 AM – Pacific Time on Zoom\nZoom Meeting ID: 220-597-9191\nZoom Password: 2mGN0C\nLink: https://us02web.zoom.us/j/2205979191?pwd=ZzRyWHRLM3hnYXdacmdlRUJnZVRaQT09\nDescription: 11th step AA meeting format with a 15 min meditation\, daily reflection and sharing.\nContact: Step11pdx@gmail.com
URL:https://cp12stepoutreach.org/meeting-or-group/on-awakening-friday-meeting-2/2027-07-23/
LOCATION:Zoom Meeting
CATEGORIES:Online 11th Step Meditation Meetings
ORGANIZER;CN="On Awakening Meeting":MAILTO:step11pdx@gmail.com
END:VEVENT
BEGIN:VEVENT
DTSTART;TZID=America/Los_Angeles:20270729T063000
DTEND;TZID=America/Los_Angeles:20270729T073000
DTSTAMP:20260421T114950
CREATED:20250207T181453Z
LAST-MODIFIED:20250207T224528Z
UID:10061664-1816842600-1816846200@cp12stepoutreach.org
SUMMARY:"On Awakening" Thursday and Friday Meeting
DESCRIPTION:BRIEF MEETING INFORMATION:\n“On Awakening” Virtual AA meeting\nThursday & Friday 6:30-7:30 AM – Pacific Time on Zoom\nZoom Meeting ID: 220-597-9191\nZoom Password: 2mGN0C\nLink: https://us02web.zoom.us/j/2205979191?pwd=ZzRyWHRLM3hnYXdacmdlRUJnZVRaQT09\nDescription: 11th step AA meeting format with a 15 min meditation\, daily reflection and sharing.\nContact: Step11pdx@gmail.com
URL:https://cp12stepoutreach.org/meeting-or-group/on-awakening-friday-meeting-2/2027-07-29/
LOCATION:Zoom Meeting
CATEGORIES:Online 11th Step Meditation Meetings
ORGANIZER;CN="On Awakening Meeting":MAILTO:step11pdx@gmail.com
END:VEVENT
BEGIN:VEVENT
DTSTART;TZID=America/Los_Angeles:20270730T063000
DTEND;TZID=America/Los_Angeles:20270730T073000
DTSTAMP:20260421T114950
CREATED:20250207T181453Z
LAST-MODIFIED:20250207T224528Z
UID:10061403-1816929000-1816932600@cp12stepoutreach.org
SUMMARY:"On Awakening" Thursday and Friday Meeting
DESCRIPTION:BRIEF MEETING INFORMATION:\n“On Awakening” Virtual AA meeting\nThursday & Friday 6:30-7:30 AM – Pacific Time on Zoom\nZoom Meeting ID: 220-597-9191\nZoom Password: 2mGN0C\nLink: https://us02web.zoom.us/j/2205979191?pwd=ZzRyWHRLM3hnYXdacmdlRUJnZVRaQT09\nDescription: 11th step AA meeting format with a 15 min meditation\, daily reflection and sharing.\nContact: Step11pdx@gmail.com
URL:https://cp12stepoutreach.org/meeting-or-group/on-awakening-friday-meeting-2/2027-07-30/
LOCATION:Zoom Meeting
CATEGORIES:Online 11th Step Meditation Meetings
ORGANIZER;CN="On Awakening Meeting":MAILTO:step11pdx@gmail.com
END:VEVENT
BEGIN:VEVENT
DTSTART;TZID=America/Los_Angeles:20270805T063000
DTEND;TZID=America/Los_Angeles:20270805T073000
DTSTAMP:20260421T114950
CREATED:20250207T181453Z
LAST-MODIFIED:20250207T224528Z
UID:10061665-1817447400-1817451000@cp12stepoutreach.org
SUMMARY:"On Awakening" Thursday and Friday Meeting
DESCRIPTION:BRIEF MEETING INFORMATION:\n“On Awakening” Virtual AA meeting\nThursday & Friday 6:30-7:30 AM – Pacific Time on Zoom\nZoom Meeting ID: 220-597-9191\nZoom Password: 2mGN0C\nLink: https://us02web.zoom.us/j/2205979191?pwd=ZzRyWHRLM3hnYXdacmdlRUJnZVRaQT09\nDescription: 11th step AA meeting format with a 15 min meditation\, daily reflection and sharing.\nContact: Step11pdx@gmail.com
URL:https://cp12stepoutreach.org/meeting-or-group/on-awakening-friday-meeting-2/2027-08-05/
LOCATION:Zoom Meeting
CATEGORIES:Online 11th Step Meditation Meetings
ORGANIZER;CN="On Awakening Meeting":MAILTO:step11pdx@gmail.com
END:VEVENT
BEGIN:VEVENT
DTSTART;TZID=America/Los_Angeles:20270806T063000
DTEND;TZID=America/Los_Angeles:20270806T073000
DTSTAMP:20260421T114950
CREATED:20250207T181453Z
LAST-MODIFIED:20250207T224528Z
UID:10061404-1817533800-1817537400@cp12stepoutreach.org
SUMMARY:"On Awakening" Thursday and Friday Meeting
DESCRIPTION:BRIEF MEETING INFORMATION:\n“On Awakening” Virtual AA meeting\nThursday & Friday 6:30-7:30 AM – Pacific Time on Zoom\nZoom Meeting ID: 220-597-9191\nZoom Password: 2mGN0C\nLink: https://us02web.zoom.us/j/2205979191?pwd=ZzRyWHRLM3hnYXdacmdlRUJnZVRaQT09\nDescription: 11th step AA meeting format with a 15 min meditation\, daily reflection and sharing.\nContact: Step11pdx@gmail.com
URL:https://cp12stepoutreach.org/meeting-or-group/on-awakening-friday-meeting-2/2027-08-06/
LOCATION:Zoom Meeting
CATEGORIES:Online 11th Step Meditation Meetings
ORGANIZER;CN="On Awakening Meeting":MAILTO:step11pdx@gmail.com
END:VEVENT
BEGIN:VEVENT
DTSTART;TZID=America/Los_Angeles:20270812T063000
DTEND;TZID=America/Los_Angeles:20270812T073000
DTSTAMP:20260421T114950
CREATED:20250207T181453Z
LAST-MODIFIED:20250207T224528Z
UID:10061666-1818052200-1818055800@cp12stepoutreach.org
SUMMARY:"On Awakening" Thursday and Friday Meeting
DESCRIPTION:BRIEF MEETING INFORMATION:\n“On Awakening” Virtual AA meeting\nThursday & Friday 6:30-7:30 AM – Pacific Time on Zoom\nZoom Meeting ID: 220-597-9191\nZoom Password: 2mGN0C\nLink: https://us02web.zoom.us/j/2205979191?pwd=ZzRyWHRLM3hnYXdacmdlRUJnZVRaQT09\nDescription: 11th step AA meeting format with a 15 min meditation\, daily reflection and sharing.\nContact: Step11pdx@gmail.com
URL:https://cp12stepoutreach.org/meeting-or-group/on-awakening-friday-meeting-2/2027-08-12/
LOCATION:Zoom Meeting
CATEGORIES:Online 11th Step Meditation Meetings
ORGANIZER;CN="On Awakening Meeting":MAILTO:step11pdx@gmail.com
END:VEVENT
BEGIN:VEVENT
DTSTART;TZID=America/Los_Angeles:20270813T063000
DTEND;TZID=America/Los_Angeles:20270813T073000
DTSTAMP:20260421T114950
CREATED:20250207T181453Z
LAST-MODIFIED:20250207T224528Z
UID:10061405-1818138600-1818142200@cp12stepoutreach.org
SUMMARY:"On Awakening" Thursday and Friday Meeting
DESCRIPTION:BRIEF MEETING INFORMATION:\n“On Awakening” Virtual AA meeting\nThursday & Friday 6:30-7:30 AM – Pacific Time on Zoom\nZoom Meeting ID: 220-597-9191\nZoom Password: 2mGN0C\nLink: https://us02web.zoom.us/j/2205979191?pwd=ZzRyWHRLM3hnYXdacmdlRUJnZVRaQT09\nDescription: 11th step AA meeting format with a 15 min meditation\, daily reflection and sharing.\nContact: Step11pdx@gmail.com
URL:https://cp12stepoutreach.org/meeting-or-group/on-awakening-friday-meeting-2/2027-08-13/
LOCATION:Zoom Meeting
CATEGORIES:Online 11th Step Meditation Meetings
ORGANIZER;CN="On Awakening Meeting":MAILTO:step11pdx@gmail.com
END:VEVENT
BEGIN:VEVENT
DTSTART;TZID=America/Los_Angeles:20270819T063000
DTEND;TZID=America/Los_Angeles:20270819T073000
DTSTAMP:20260421T114950
CREATED:20250207T181453Z
LAST-MODIFIED:20250207T224528Z
UID:10061667-1818657000-1818660600@cp12stepoutreach.org
SUMMARY:"On Awakening" Thursday and Friday Meeting
DESCRIPTION:BRIEF MEETING INFORMATION:\n“On Awakening” Virtual AA meeting\nThursday & Friday 6:30-7:30 AM – Pacific Time on Zoom\nZoom Meeting ID: 220-597-9191\nZoom Password: 2mGN0C\nLink: https://us02web.zoom.us/j/2205979191?pwd=ZzRyWHRLM3hnYXdacmdlRUJnZVRaQT09\nDescription: 11th step AA meeting format with a 15 min meditation\, daily reflection and sharing.\nContact: Step11pdx@gmail.com
URL:https://cp12stepoutreach.org/meeting-or-group/on-awakening-friday-meeting-2/2027-08-19/
LOCATION:Zoom Meeting
CATEGORIES:Online 11th Step Meditation Meetings
ORGANIZER;CN="On Awakening Meeting":MAILTO:step11pdx@gmail.com
END:VEVENT
BEGIN:VEVENT
DTSTART;TZID=America/Los_Angeles:20270820T063000
DTEND;TZID=America/Los_Angeles:20270820T073000
DTSTAMP:20260421T114950
CREATED:20250207T181453Z
LAST-MODIFIED:20250207T224528Z
UID:10061406-1818743400-1818747000@cp12stepoutreach.org
SUMMARY:"On Awakening" Thursday and Friday Meeting
DESCRIPTION:BRIEF MEETING INFORMATION:\n“On Awakening” Virtual AA meeting\nThursday & Friday 6:30-7:30 AM – Pacific Time on Zoom\nZoom Meeting ID: 220-597-9191\nZoom Password: 2mGN0C\nLink: https://us02web.zoom.us/j/2205979191?pwd=ZzRyWHRLM3hnYXdacmdlRUJnZVRaQT09\nDescription: 11th step AA meeting format with a 15 min meditation\, daily reflection and sharing.\nContact: Step11pdx@gmail.com
URL:https://cp12stepoutreach.org/meeting-or-group/on-awakening-friday-meeting-2/2027-08-20/
LOCATION:Zoom Meeting
CATEGORIES:Online 11th Step Meditation Meetings
ORGANIZER;CN="On Awakening Meeting":MAILTO:step11pdx@gmail.com
END:VEVENT
BEGIN:VEVENT
DTSTART;TZID=America/Los_Angeles:20270826T063000
DTEND;TZID=America/Los_Angeles:20270826T073000
DTSTAMP:20260421T114950
CREATED:20250207T181453Z
LAST-MODIFIED:20250207T224528Z
UID:10061668-1819261800-1819265400@cp12stepoutreach.org
SUMMARY:"On Awakening" Thursday and Friday Meeting
DESCRIPTION:BRIEF MEETING INFORMATION:\n“On Awakening” Virtual AA meeting\nThursday & Friday 6:30-7:30 AM – Pacific Time on Zoom\nZoom Meeting ID: 220-597-9191\nZoom Password: 2mGN0C\nLink: https://us02web.zoom.us/j/2205979191?pwd=ZzRyWHRLM3hnYXdacmdlRUJnZVRaQT09\nDescription: 11th step AA meeting format with a 15 min meditation\, daily reflection and sharing.\nContact: Step11pdx@gmail.com
URL:https://cp12stepoutreach.org/meeting-or-group/on-awakening-friday-meeting-2/2027-08-26/
LOCATION:Zoom Meeting
CATEGORIES:Online 11th Step Meditation Meetings
ORGANIZER;CN="On Awakening Meeting":MAILTO:step11pdx@gmail.com
END:VEVENT
BEGIN:VEVENT
DTSTART;TZID=America/Los_Angeles:20270827T063000
DTEND;TZID=America/Los_Angeles:20270827T073000
DTSTAMP:20260421T114950
CREATED:20250207T181453Z
LAST-MODIFIED:20250207T224528Z
UID:10061407-1819348200-1819351800@cp12stepoutreach.org
SUMMARY:"On Awakening" Thursday and Friday Meeting
DESCRIPTION:BRIEF MEETING INFORMATION:\n“On Awakening” Virtual AA meeting\nThursday & Friday 6:30-7:30 AM – Pacific Time on Zoom\nZoom Meeting ID: 220-597-9191\nZoom Password: 2mGN0C\nLink: https://us02web.zoom.us/j/2205979191?pwd=ZzRyWHRLM3hnYXdacmdlRUJnZVRaQT09\nDescription: 11th step AA meeting format with a 15 min meditation\, daily reflection and sharing.\nContact: Step11pdx@gmail.com
URL:https://cp12stepoutreach.org/meeting-or-group/on-awakening-friday-meeting-2/2027-08-27/
LOCATION:Zoom Meeting
CATEGORIES:Online 11th Step Meditation Meetings
ORGANIZER;CN="On Awakening Meeting":MAILTO:step11pdx@gmail.com
END:VEVENT
BEGIN:VEVENT
DTSTART;TZID=America/Los_Angeles:20270902T063000
DTEND;TZID=America/Los_Angeles:20270902T073000
DTSTAMP:20260421T114950
CREATED:20250207T181453Z
LAST-MODIFIED:20250207T224528Z
UID:10061669-1819866600-1819870200@cp12stepoutreach.org
SUMMARY:"On Awakening" Thursday and Friday Meeting
DESCRIPTION:BRIEF MEETING INFORMATION:\n“On Awakening” Virtual AA meeting\nThursday & Friday 6:30-7:30 AM – Pacific Time on Zoom\nZoom Meeting ID: 220-597-9191\nZoom Password: 2mGN0C\nLink: https://us02web.zoom.us/j/2205979191?pwd=ZzRyWHRLM3hnYXdacmdlRUJnZVRaQT09\nDescription: 11th step AA meeting format with a 15 min meditation\, daily reflection and sharing.\nContact: Step11pdx@gmail.com
URL:https://cp12stepoutreach.org/meeting-or-group/on-awakening-friday-meeting-2/2027-09-02/
LOCATION:Zoom Meeting
CATEGORIES:Online 11th Step Meditation Meetings
ORGANIZER;CN="On Awakening Meeting":MAILTO:step11pdx@gmail.com
END:VEVENT
BEGIN:VEVENT
DTSTART;TZID=America/Los_Angeles:20270903T063000
DTEND;TZID=America/Los_Angeles:20270903T073000
DTSTAMP:20260421T114950
CREATED:20250207T181453Z
LAST-MODIFIED:20250207T224528Z
UID:10061408-1819953000-1819956600@cp12stepoutreach.org
SUMMARY:"On Awakening" Thursday and Friday Meeting
DESCRIPTION:BRIEF MEETING INFORMATION:\n“On Awakening” Virtual AA meeting\nThursday & Friday 6:30-7:30 AM – Pacific Time on Zoom\nZoom Meeting ID: 220-597-9191\nZoom Password: 2mGN0C\nLink: https://us02web.zoom.us/j/2205979191?pwd=ZzRyWHRLM3hnYXdacmdlRUJnZVRaQT09\nDescription: 11th step AA meeting format with a 15 min meditation\, daily reflection and sharing.\nContact: Step11pdx@gmail.com
URL:https://cp12stepoutreach.org/meeting-or-group/on-awakening-friday-meeting-2/2027-09-03/
LOCATION:Zoom Meeting
CATEGORIES:Online 11th Step Meditation Meetings
ORGANIZER;CN="On Awakening Meeting":MAILTO:step11pdx@gmail.com
END:VEVENT
BEGIN:VEVENT
DTSTART;TZID=America/Los_Angeles:20270909T063000
DTEND;TZID=America/Los_Angeles:20270909T073000
DTSTAMP:20260421T114950
CREATED:20250207T181453Z
LAST-MODIFIED:20250207T224528Z
UID:10061670-1820471400-1820475000@cp12stepoutreach.org
SUMMARY:"On Awakening" Thursday and Friday Meeting
DESCRIPTION:BRIEF MEETING INFORMATION:\n“On Awakening” Virtual AA meeting\nThursday & Friday 6:30-7:30 AM – Pacific Time on Zoom\nZoom Meeting ID: 220-597-9191\nZoom Password: 2mGN0C\nLink: https://us02web.zoom.us/j/2205979191?pwd=ZzRyWHRLM3hnYXdacmdlRUJnZVRaQT09\nDescription: 11th step AA meeting format with a 15 min meditation\, daily reflection and sharing.\nContact: Step11pdx@gmail.com
URL:https://cp12stepoutreach.org/meeting-or-group/on-awakening-friday-meeting-2/2027-09-09/
LOCATION:Zoom Meeting
CATEGORIES:Online 11th Step Meditation Meetings
ORGANIZER;CN="On Awakening Meeting":MAILTO:step11pdx@gmail.com
END:VEVENT
BEGIN:VEVENT
DTSTART;TZID=America/Los_Angeles:20270910T063000
DTEND;TZID=America/Los_Angeles:20270910T073000
DTSTAMP:20260421T114950
CREATED:20250207T181453Z
LAST-MODIFIED:20250207T224528Z
UID:10061409-1820557800-1820561400@cp12stepoutreach.org
SUMMARY:"On Awakening" Thursday and Friday Meeting
DESCRIPTION:BRIEF MEETING INFORMATION:\n“On Awakening” Virtual AA meeting\nThursday & Friday 6:30-7:30 AM – Pacific Time on Zoom\nZoom Meeting ID: 220-597-9191\nZoom Password: 2mGN0C\nLink: https://us02web.zoom.us/j/2205979191?pwd=ZzRyWHRLM3hnYXdacmdlRUJnZVRaQT09\nDescription: 11th step AA meeting format with a 15 min meditation\, daily reflection and sharing.\nContact: Step11pdx@gmail.com
URL:https://cp12stepoutreach.org/meeting-or-group/on-awakening-friday-meeting-2/2027-09-10/
LOCATION:Zoom Meeting
CATEGORIES:Online 11th Step Meditation Meetings
ORGANIZER;CN="On Awakening Meeting":MAILTO:step11pdx@gmail.com
END:VEVENT
BEGIN:VEVENT
DTSTART;TZID=America/Los_Angeles:20270916T063000
DTEND;TZID=America/Los_Angeles:20270916T073000
DTSTAMP:20260421T114950
CREATED:20250207T181453Z
LAST-MODIFIED:20250207T224528Z
UID:10061671-1821076200-1821079800@cp12stepoutreach.org
SUMMARY:"On Awakening" Thursday and Friday Meeting
DESCRIPTION:BRIEF MEETING INFORMATION:\n“On Awakening” Virtual AA meeting\nThursday & Friday 6:30-7:30 AM – Pacific Time on Zoom\nZoom Meeting ID: 220-597-9191\nZoom Password: 2mGN0C\nLink: https://us02web.zoom.us/j/2205979191?pwd=ZzRyWHRLM3hnYXdacmdlRUJnZVRaQT09\nDescription: 11th step AA meeting format with a 15 min meditation\, daily reflection and sharing.\nContact: Step11pdx@gmail.com
URL:https://cp12stepoutreach.org/meeting-or-group/on-awakening-friday-meeting-2/2027-09-16/
LOCATION:Zoom Meeting
CATEGORIES:Online 11th Step Meditation Meetings
ORGANIZER;CN="On Awakening Meeting":MAILTO:step11pdx@gmail.com
END:VEVENT
BEGIN:VEVENT
DTSTART;TZID=America/Los_Angeles:20270917T063000
DTEND;TZID=America/Los_Angeles:20270917T073000
DTSTAMP:20260421T114950
CREATED:20250207T181453Z
LAST-MODIFIED:20250207T224528Z
UID:10061410-1821162600-1821166200@cp12stepoutreach.org
SUMMARY:"On Awakening" Thursday and Friday Meeting
DESCRIPTION:BRIEF MEETING INFORMATION:\n“On Awakening” Virtual AA meeting\nThursday & Friday 6:30-7:30 AM – Pacific Time on Zoom\nZoom Meeting ID: 220-597-9191\nZoom Password: 2mGN0C\nLink: https://us02web.zoom.us/j/2205979191?pwd=ZzRyWHRLM3hnYXdacmdlRUJnZVRaQT09\nDescription: 11th step AA meeting format with a 15 min meditation\, daily reflection and sharing.\nContact: Step11pdx@gmail.com
URL:https://cp12stepoutreach.org/meeting-or-group/on-awakening-friday-meeting-2/2027-09-17/
LOCATION:Zoom Meeting
CATEGORIES:Online 11th Step Meditation Meetings
ORGANIZER;CN="On Awakening Meeting":MAILTO:step11pdx@gmail.com
END:VEVENT
BEGIN:VEVENT
DTSTART;TZID=America/Los_Angeles:20270923T063000
DTEND;TZID=America/Los_Angeles:20270923T073000
DTSTAMP:20260421T114950
CREATED:20250207T181453Z
LAST-MODIFIED:20250207T224528Z
UID:10061672-1821681000-1821684600@cp12stepoutreach.org
SUMMARY:"On Awakening" Thursday and Friday Meeting
DESCRIPTION:BRIEF MEETING INFORMATION:\n“On Awakening” Virtual AA meeting\nThursday & Friday 6:30-7:30 AM – Pacific Time on Zoom\nZoom Meeting ID: 220-597-9191\nZoom Password: 2mGN0C\nLink: https://us02web.zoom.us/j/2205979191?pwd=ZzRyWHRLM3hnYXdacmdlRUJnZVRaQT09\nDescription: 11th step AA meeting format with a 15 min meditation\, daily reflection and sharing.\nContact: Step11pdx@gmail.com
URL:https://cp12stepoutreach.org/meeting-or-group/on-awakening-friday-meeting-2/2027-09-23/
LOCATION:Zoom Meeting
CATEGORIES:Online 11th Step Meditation Meetings
ORGANIZER;CN="On Awakening Meeting":MAILTO:step11pdx@gmail.com
END:VEVENT
BEGIN:VEVENT
DTSTART;TZID=America/Los_Angeles:20270924T063000
DTEND;TZID=America/Los_Angeles:20270924T073000
DTSTAMP:20260421T114950
CREATED:20250207T181453Z
LAST-MODIFIED:20250207T224528Z
UID:10061411-1821767400-1821771000@cp12stepoutreach.org
SUMMARY:"On Awakening" Thursday and Friday Meeting
DESCRIPTION:BRIEF MEETING INFORMATION:\n“On Awakening” Virtual AA meeting\nThursday & Friday 6:30-7:30 AM – Pacific Time on Zoom\nZoom Meeting ID: 220-597-9191\nZoom Password: 2mGN0C\nLink: https://us02web.zoom.us/j/2205979191?pwd=ZzRyWHRLM3hnYXdacmdlRUJnZVRaQT09\nDescription: 11th step AA meeting format with a 15 min meditation\, daily reflection and sharing.\nContact: Step11pdx@gmail.com
URL:https://cp12stepoutreach.org/meeting-or-group/on-awakening-friday-meeting-2/2027-09-24/
LOCATION:Zoom Meeting
CATEGORIES:Online 11th Step Meditation Meetings
ORGANIZER;CN="On Awakening Meeting":MAILTO:step11pdx@gmail.com
END:VEVENT
END:VCALENDAR