BEGIN:VCALENDAR
VERSION:2.0
PRODID:-//12 Step Outreach - ECPv6.11.2.1//NONSGML v1.0//EN
CALSCALE:GREGORIAN
METHOD:PUBLISH
X-WR-CALNAME:12 Step Outreach
X-ORIGINAL-URL:https://cp12stepoutreach.org
X-WR-CALDESC:Events for 12 Step Outreach
REFRESH-INTERVAL;VALUE=DURATION:PT1H
X-Robots-Tag:noindex
X-PUBLISHED-TTL:PT1H
BEGIN:VTIMEZONE
TZID:America/Chicago
BEGIN:DAYLIGHT
TZOFFSETFROM:-0600
TZOFFSETTO:-0500
TZNAME:CDT
DTSTART:20270314T080000
END:DAYLIGHT
BEGIN:STANDARD
TZOFFSETFROM:-0500
TZOFFSETTO:-0600
TZNAME:CST
DTSTART:20271107T070000
END:STANDARD
END:VTIMEZONE
BEGIN:VEVENT
DTSTART;TZID=America/Chicago:20270130T093000
DTEND;TZID=America/Chicago:20270130T103000
DTSTAMP:20260419T124651
CREATED:20250213T214143Z
LAST-MODIFIED:20250213T214143Z
UID:10065668-1801301400-1801305000@cp12stepoutreach.org
SUMMARY:Saturday Group - 12 Step Spirituality - Minneapolis\, Minnesota
DESCRIPTION:Zoom Link: https://zoom.us/j/392510399
URL:https://cp12stepoutreach.org/meeting-or-group/saturday-group-12-step-spirituality-minneapolis-minnesota/2027-01-30/
LOCATION:1st Universalist Church\, Minneapolis\, Minnesota\, 55408\, United States
CATEGORIES:Online 12 Step Centering Prayer Groups
ORGANIZER;CN="Adam Gordon":MAILTO:agordon@minnesotacontemplativeoutreach.org
END:VEVENT
BEGIN:VEVENT
DTSTART;TZID=America/Chicago:20270206T093000
DTEND;TZID=America/Chicago:20270206T103000
DTSTAMP:20260419T124651
CREATED:20250213T214143Z
LAST-MODIFIED:20250213T214143Z
UID:10065669-1801906200-1801909800@cp12stepoutreach.org
SUMMARY:Saturday Group - 12 Step Spirituality - Minneapolis\, Minnesota
DESCRIPTION:Zoom Link: https://zoom.us/j/392510399
URL:https://cp12stepoutreach.org/meeting-or-group/saturday-group-12-step-spirituality-minneapolis-minnesota/2027-02-06/
LOCATION:1st Universalist Church\, Minneapolis\, Minnesota\, 55408\, United States
CATEGORIES:Online 12 Step Centering Prayer Groups
ORGANIZER;CN="Adam Gordon":MAILTO:agordon@minnesotacontemplativeoutreach.org
END:VEVENT
BEGIN:VEVENT
DTSTART;TZID=America/Chicago:20270213T093000
DTEND;TZID=America/Chicago:20270213T103000
DTSTAMP:20260419T124651
CREATED:20250213T214143Z
LAST-MODIFIED:20250213T214143Z
UID:10065670-1802511000-1802514600@cp12stepoutreach.org
SUMMARY:Saturday Group - 12 Step Spirituality - Minneapolis\, Minnesota
DESCRIPTION:Zoom Link: https://zoom.us/j/392510399
URL:https://cp12stepoutreach.org/meeting-or-group/saturday-group-12-step-spirituality-minneapolis-minnesota/2027-02-13/
LOCATION:1st Universalist Church\, Minneapolis\, Minnesota\, 55408\, United States
CATEGORIES:Online 12 Step Centering Prayer Groups
ORGANIZER;CN="Adam Gordon":MAILTO:agordon@minnesotacontemplativeoutreach.org
END:VEVENT
BEGIN:VEVENT
DTSTART;TZID=America/Chicago:20270220T093000
DTEND;TZID=America/Chicago:20270220T103000
DTSTAMP:20260419T124651
CREATED:20250213T214143Z
LAST-MODIFIED:20250213T214143Z
UID:10065671-1803115800-1803119400@cp12stepoutreach.org
SUMMARY:Saturday Group - 12 Step Spirituality - Minneapolis\, Minnesota
DESCRIPTION:Zoom Link: https://zoom.us/j/392510399
URL:https://cp12stepoutreach.org/meeting-or-group/saturday-group-12-step-spirituality-minneapolis-minnesota/2027-02-20/
LOCATION:1st Universalist Church\, Minneapolis\, Minnesota\, 55408\, United States
CATEGORIES:Online 12 Step Centering Prayer Groups
ORGANIZER;CN="Adam Gordon":MAILTO:agordon@minnesotacontemplativeoutreach.org
END:VEVENT
BEGIN:VEVENT
DTSTART;TZID=America/Chicago:20270227T093000
DTEND;TZID=America/Chicago:20270227T103000
DTSTAMP:20260419T124651
CREATED:20250213T214143Z
LAST-MODIFIED:20250213T214143Z
UID:10065672-1803720600-1803724200@cp12stepoutreach.org
SUMMARY:Saturday Group - 12 Step Spirituality - Minneapolis\, Minnesota
DESCRIPTION:Zoom Link: https://zoom.us/j/392510399
URL:https://cp12stepoutreach.org/meeting-or-group/saturday-group-12-step-spirituality-minneapolis-minnesota/2027-02-27/
LOCATION:1st Universalist Church\, Minneapolis\, Minnesota\, 55408\, United States
CATEGORIES:Online 12 Step Centering Prayer Groups
ORGANIZER;CN="Adam Gordon":MAILTO:agordon@minnesotacontemplativeoutreach.org
END:VEVENT
BEGIN:VEVENT
DTSTART;TZID=America/Chicago:20270306T093000
DTEND;TZID=America/Chicago:20270306T103000
DTSTAMP:20260419T124651
CREATED:20250213T214143Z
LAST-MODIFIED:20250213T214143Z
UID:10065673-1804325400-1804329000@cp12stepoutreach.org
SUMMARY:Saturday Group - 12 Step Spirituality - Minneapolis\, Minnesota
DESCRIPTION:Zoom Link: https://zoom.us/j/392510399
URL:https://cp12stepoutreach.org/meeting-or-group/saturday-group-12-step-spirituality-minneapolis-minnesota/2027-03-06/
LOCATION:1st Universalist Church\, Minneapolis\, Minnesota\, 55408\, United States
CATEGORIES:Online 12 Step Centering Prayer Groups
ORGANIZER;CN="Adam Gordon":MAILTO:agordon@minnesotacontemplativeoutreach.org
END:VEVENT
BEGIN:VEVENT
DTSTART;TZID=America/Chicago:20270313T093000
DTEND;TZID=America/Chicago:20270313T103000
DTSTAMP:20260419T124651
CREATED:20250213T214143Z
LAST-MODIFIED:20250213T214143Z
UID:10065674-1804930200-1804933800@cp12stepoutreach.org
SUMMARY:Saturday Group - 12 Step Spirituality - Minneapolis\, Minnesota
DESCRIPTION:Zoom Link: https://zoom.us/j/392510399
URL:https://cp12stepoutreach.org/meeting-or-group/saturday-group-12-step-spirituality-minneapolis-minnesota/2027-03-13/
LOCATION:1st Universalist Church\, Minneapolis\, Minnesota\, 55408\, United States
CATEGORIES:Online 12 Step Centering Prayer Groups
ORGANIZER;CN="Adam Gordon":MAILTO:agordon@minnesotacontemplativeoutreach.org
END:VEVENT
BEGIN:VEVENT
DTSTART;TZID=America/Chicago:20270320T093000
DTEND;TZID=America/Chicago:20270320T103000
DTSTAMP:20260419T124651
CREATED:20250213T214143Z
LAST-MODIFIED:20250213T214143Z
UID:10065675-1805535000-1805538600@cp12stepoutreach.org
SUMMARY:Saturday Group - 12 Step Spirituality - Minneapolis\, Minnesota
DESCRIPTION:Zoom Link: https://zoom.us/j/392510399
URL:https://cp12stepoutreach.org/meeting-or-group/saturday-group-12-step-spirituality-minneapolis-minnesota/2027-03-20/
LOCATION:1st Universalist Church\, Minneapolis\, Minnesota\, 55408\, United States
CATEGORIES:Online 12 Step Centering Prayer Groups
ORGANIZER;CN="Adam Gordon":MAILTO:agordon@minnesotacontemplativeoutreach.org
END:VEVENT
BEGIN:VEVENT
DTSTART;TZID=America/Chicago:20270327T093000
DTEND;TZID=America/Chicago:20270327T103000
DTSTAMP:20260419T124651
CREATED:20250213T214143Z
LAST-MODIFIED:20250213T214143Z
UID:10065676-1806139800-1806143400@cp12stepoutreach.org
SUMMARY:Saturday Group - 12 Step Spirituality - Minneapolis\, Minnesota
DESCRIPTION:Zoom Link: https://zoom.us/j/392510399
URL:https://cp12stepoutreach.org/meeting-or-group/saturday-group-12-step-spirituality-minneapolis-minnesota/2027-03-27/
LOCATION:1st Universalist Church\, Minneapolis\, Minnesota\, 55408\, United States
CATEGORIES:Online 12 Step Centering Prayer Groups
ORGANIZER;CN="Adam Gordon":MAILTO:agordon@minnesotacontemplativeoutreach.org
END:VEVENT
BEGIN:VEVENT
DTSTART;TZID=America/Chicago:20270403T093000
DTEND;TZID=America/Chicago:20270403T103000
DTSTAMP:20260419T124651
CREATED:20250213T214143Z
LAST-MODIFIED:20250213T214143Z
UID:10065677-1806744600-1806748200@cp12stepoutreach.org
SUMMARY:Saturday Group - 12 Step Spirituality - Minneapolis\, Minnesota
DESCRIPTION:Zoom Link: https://zoom.us/j/392510399
URL:https://cp12stepoutreach.org/meeting-or-group/saturday-group-12-step-spirituality-minneapolis-minnesota/2027-04-03/
LOCATION:1st Universalist Church\, Minneapolis\, Minnesota\, 55408\, United States
CATEGORIES:Online 12 Step Centering Prayer Groups
ORGANIZER;CN="Adam Gordon":MAILTO:agordon@minnesotacontemplativeoutreach.org
END:VEVENT
BEGIN:VEVENT
DTSTART;TZID=America/Chicago:20270410T093000
DTEND;TZID=America/Chicago:20270410T103000
DTSTAMP:20260419T124651
CREATED:20250213T214143Z
LAST-MODIFIED:20250213T214143Z
UID:10065678-1807349400-1807353000@cp12stepoutreach.org
SUMMARY:Saturday Group - 12 Step Spirituality - Minneapolis\, Minnesota
DESCRIPTION:Zoom Link: https://zoom.us/j/392510399
URL:https://cp12stepoutreach.org/meeting-or-group/saturday-group-12-step-spirituality-minneapolis-minnesota/2027-04-10/
LOCATION:1st Universalist Church\, Minneapolis\, Minnesota\, 55408\, United States
CATEGORIES:Online 12 Step Centering Prayer Groups
ORGANIZER;CN="Adam Gordon":MAILTO:agordon@minnesotacontemplativeoutreach.org
END:VEVENT
BEGIN:VEVENT
DTSTART;TZID=America/Chicago:20270417T093000
DTEND;TZID=America/Chicago:20270417T103000
DTSTAMP:20260419T124651
CREATED:20250213T214143Z
LAST-MODIFIED:20250213T214143Z
UID:10065679-1807954200-1807957800@cp12stepoutreach.org
SUMMARY:Saturday Group - 12 Step Spirituality - Minneapolis\, Minnesota
DESCRIPTION:Zoom Link: https://zoom.us/j/392510399
URL:https://cp12stepoutreach.org/meeting-or-group/saturday-group-12-step-spirituality-minneapolis-minnesota/2027-04-17/
LOCATION:1st Universalist Church\, Minneapolis\, Minnesota\, 55408\, United States
CATEGORIES:Online 12 Step Centering Prayer Groups
ORGANIZER;CN="Adam Gordon":MAILTO:agordon@minnesotacontemplativeoutreach.org
END:VEVENT
BEGIN:VEVENT
DTSTART;TZID=America/Chicago:20270424T093000
DTEND;TZID=America/Chicago:20270424T103000
DTSTAMP:20260419T124651
CREATED:20250213T214143Z
LAST-MODIFIED:20250213T214143Z
UID:10065680-1808559000-1808562600@cp12stepoutreach.org
SUMMARY:Saturday Group - 12 Step Spirituality - Minneapolis\, Minnesota
DESCRIPTION:Zoom Link: https://zoom.us/j/392510399
URL:https://cp12stepoutreach.org/meeting-or-group/saturday-group-12-step-spirituality-minneapolis-minnesota/2027-04-24/
LOCATION:1st Universalist Church\, Minneapolis\, Minnesota\, 55408\, United States
CATEGORIES:Online 12 Step Centering Prayer Groups
ORGANIZER;CN="Adam Gordon":MAILTO:agordon@minnesotacontemplativeoutreach.org
END:VEVENT
BEGIN:VEVENT
DTSTART;TZID=America/Chicago:20270501T093000
DTEND;TZID=America/Chicago:20270501T103000
DTSTAMP:20260419T124651
CREATED:20250213T214143Z
LAST-MODIFIED:20250213T214143Z
UID:10065681-1809163800-1809167400@cp12stepoutreach.org
SUMMARY:Saturday Group - 12 Step Spirituality - Minneapolis\, Minnesota
DESCRIPTION:Zoom Link: https://zoom.us/j/392510399
URL:https://cp12stepoutreach.org/meeting-or-group/saturday-group-12-step-spirituality-minneapolis-minnesota/2027-05-01/
LOCATION:1st Universalist Church\, Minneapolis\, Minnesota\, 55408\, United States
CATEGORIES:Online 12 Step Centering Prayer Groups
ORGANIZER;CN="Adam Gordon":MAILTO:agordon@minnesotacontemplativeoutreach.org
END:VEVENT
BEGIN:VEVENT
DTSTART;TZID=America/Chicago:20270508T093000
DTEND;TZID=America/Chicago:20270508T103000
DTSTAMP:20260419T124651
CREATED:20250213T214143Z
LAST-MODIFIED:20250213T214143Z
UID:10065682-1809768600-1809772200@cp12stepoutreach.org
SUMMARY:Saturday Group - 12 Step Spirituality - Minneapolis\, Minnesota
DESCRIPTION:Zoom Link: https://zoom.us/j/392510399
URL:https://cp12stepoutreach.org/meeting-or-group/saturday-group-12-step-spirituality-minneapolis-minnesota/2027-05-08/
LOCATION:1st Universalist Church\, Minneapolis\, Minnesota\, 55408\, United States
CATEGORIES:Online 12 Step Centering Prayer Groups
ORGANIZER;CN="Adam Gordon":MAILTO:agordon@minnesotacontemplativeoutreach.org
END:VEVENT
BEGIN:VEVENT
DTSTART;TZID=America/Chicago:20270515T093000
DTEND;TZID=America/Chicago:20270515T103000
DTSTAMP:20260419T124651
CREATED:20250213T214143Z
LAST-MODIFIED:20250213T214143Z
UID:10065683-1810373400-1810377000@cp12stepoutreach.org
SUMMARY:Saturday Group - 12 Step Spirituality - Minneapolis\, Minnesota
DESCRIPTION:Zoom Link: https://zoom.us/j/392510399
URL:https://cp12stepoutreach.org/meeting-or-group/saturday-group-12-step-spirituality-minneapolis-minnesota/2027-05-15/
LOCATION:1st Universalist Church\, Minneapolis\, Minnesota\, 55408\, United States
CATEGORIES:Online 12 Step Centering Prayer Groups
ORGANIZER;CN="Adam Gordon":MAILTO:agordon@minnesotacontemplativeoutreach.org
END:VEVENT
BEGIN:VEVENT
DTSTART;TZID=America/Chicago:20270522T093000
DTEND;TZID=America/Chicago:20270522T103000
DTSTAMP:20260419T124651
CREATED:20250213T214143Z
LAST-MODIFIED:20250213T214143Z
UID:10065684-1810978200-1810981800@cp12stepoutreach.org
SUMMARY:Saturday Group - 12 Step Spirituality - Minneapolis\, Minnesota
DESCRIPTION:Zoom Link: https://zoom.us/j/392510399
URL:https://cp12stepoutreach.org/meeting-or-group/saturday-group-12-step-spirituality-minneapolis-minnesota/2027-05-22/
LOCATION:1st Universalist Church\, Minneapolis\, Minnesota\, 55408\, United States
CATEGORIES:Online 12 Step Centering Prayer Groups
ORGANIZER;CN="Adam Gordon":MAILTO:agordon@minnesotacontemplativeoutreach.org
END:VEVENT
BEGIN:VEVENT
DTSTART;TZID=America/Chicago:20270529T093000
DTEND;TZID=America/Chicago:20270529T103000
DTSTAMP:20260419T124651
CREATED:20250213T214143Z
LAST-MODIFIED:20250213T214143Z
UID:10065685-1811583000-1811586600@cp12stepoutreach.org
SUMMARY:Saturday Group - 12 Step Spirituality - Minneapolis\, Minnesota
DESCRIPTION:Zoom Link: https://zoom.us/j/392510399
URL:https://cp12stepoutreach.org/meeting-or-group/saturday-group-12-step-spirituality-minneapolis-minnesota/2027-05-29/
LOCATION:1st Universalist Church\, Minneapolis\, Minnesota\, 55408\, United States
CATEGORIES:Online 12 Step Centering Prayer Groups
ORGANIZER;CN="Adam Gordon":MAILTO:agordon@minnesotacontemplativeoutreach.org
END:VEVENT
BEGIN:VEVENT
DTSTART;TZID=America/Chicago:20270605T093000
DTEND;TZID=America/Chicago:20270605T103000
DTSTAMP:20260419T124651
CREATED:20250213T214143Z
LAST-MODIFIED:20250213T214143Z
UID:10065686-1812187800-1812191400@cp12stepoutreach.org
SUMMARY:Saturday Group - 12 Step Spirituality - Minneapolis\, Minnesota
DESCRIPTION:Zoom Link: https://zoom.us/j/392510399
URL:https://cp12stepoutreach.org/meeting-or-group/saturday-group-12-step-spirituality-minneapolis-minnesota/2027-06-05/
LOCATION:1st Universalist Church\, Minneapolis\, Minnesota\, 55408\, United States
CATEGORIES:Online 12 Step Centering Prayer Groups
ORGANIZER;CN="Adam Gordon":MAILTO:agordon@minnesotacontemplativeoutreach.org
END:VEVENT
BEGIN:VEVENT
DTSTART;TZID=America/Chicago:20270612T093000
DTEND;TZID=America/Chicago:20270612T103000
DTSTAMP:20260419T124651
CREATED:20250213T214143Z
LAST-MODIFIED:20250213T214143Z
UID:10065687-1812792600-1812796200@cp12stepoutreach.org
SUMMARY:Saturday Group - 12 Step Spirituality - Minneapolis\, Minnesota
DESCRIPTION:Zoom Link: https://zoom.us/j/392510399
URL:https://cp12stepoutreach.org/meeting-or-group/saturday-group-12-step-spirituality-minneapolis-minnesota/2027-06-12/
LOCATION:1st Universalist Church\, Minneapolis\, Minnesota\, 55408\, United States
CATEGORIES:Online 12 Step Centering Prayer Groups
ORGANIZER;CN="Adam Gordon":MAILTO:agordon@minnesotacontemplativeoutreach.org
END:VEVENT
BEGIN:VEVENT
DTSTART;TZID=America/Chicago:20270619T093000
DTEND;TZID=America/Chicago:20270619T103000
DTSTAMP:20260419T124651
CREATED:20250213T214143Z
LAST-MODIFIED:20250213T214143Z
UID:10065688-1813397400-1813401000@cp12stepoutreach.org
SUMMARY:Saturday Group - 12 Step Spirituality - Minneapolis\, Minnesota
DESCRIPTION:Zoom Link: https://zoom.us/j/392510399
URL:https://cp12stepoutreach.org/meeting-or-group/saturday-group-12-step-spirituality-minneapolis-minnesota/2027-06-19/
LOCATION:1st Universalist Church\, Minneapolis\, Minnesota\, 55408\, United States
CATEGORIES:Online 12 Step Centering Prayer Groups
ORGANIZER;CN="Adam Gordon":MAILTO:agordon@minnesotacontemplativeoutreach.org
END:VEVENT
BEGIN:VEVENT
DTSTART;TZID=America/Chicago:20270626T093000
DTEND;TZID=America/Chicago:20270626T103000
DTSTAMP:20260419T124651
CREATED:20250213T214143Z
LAST-MODIFIED:20250213T214143Z
UID:10065689-1814002200-1814005800@cp12stepoutreach.org
SUMMARY:Saturday Group - 12 Step Spirituality - Minneapolis\, Minnesota
DESCRIPTION:Zoom Link: https://zoom.us/j/392510399
URL:https://cp12stepoutreach.org/meeting-or-group/saturday-group-12-step-spirituality-minneapolis-minnesota/2027-06-26/
LOCATION:1st Universalist Church\, Minneapolis\, Minnesota\, 55408\, United States
CATEGORIES:Online 12 Step Centering Prayer Groups
ORGANIZER;CN="Adam Gordon":MAILTO:agordon@minnesotacontemplativeoutreach.org
END:VEVENT
BEGIN:VEVENT
DTSTART;TZID=America/Chicago:20270703T093000
DTEND;TZID=America/Chicago:20270703T103000
DTSTAMP:20260419T124651
CREATED:20250213T214143Z
LAST-MODIFIED:20250213T214143Z
UID:10065690-1814607000-1814610600@cp12stepoutreach.org
SUMMARY:Saturday Group - 12 Step Spirituality - Minneapolis\, Minnesota
DESCRIPTION:Zoom Link: https://zoom.us/j/392510399
URL:https://cp12stepoutreach.org/meeting-or-group/saturday-group-12-step-spirituality-minneapolis-minnesota/2027-07-03/
LOCATION:1st Universalist Church\, Minneapolis\, Minnesota\, 55408\, United States
CATEGORIES:Online 12 Step Centering Prayer Groups
ORGANIZER;CN="Adam Gordon":MAILTO:agordon@minnesotacontemplativeoutreach.org
END:VEVENT
BEGIN:VEVENT
DTSTART;TZID=America/Chicago:20270710T093000
DTEND;TZID=America/Chicago:20270710T103000
DTSTAMP:20260419T124651
CREATED:20250213T214143Z
LAST-MODIFIED:20250213T214143Z
UID:10065691-1815211800-1815215400@cp12stepoutreach.org
SUMMARY:Saturday Group - 12 Step Spirituality - Minneapolis\, Minnesota
DESCRIPTION:Zoom Link: https://zoom.us/j/392510399
URL:https://cp12stepoutreach.org/meeting-or-group/saturday-group-12-step-spirituality-minneapolis-minnesota/2027-07-10/
LOCATION:1st Universalist Church\, Minneapolis\, Minnesota\, 55408\, United States
CATEGORIES:Online 12 Step Centering Prayer Groups
ORGANIZER;CN="Adam Gordon":MAILTO:agordon@minnesotacontemplativeoutreach.org
END:VEVENT
BEGIN:VEVENT
DTSTART;TZID=America/Chicago:20270717T093000
DTEND;TZID=America/Chicago:20270717T103000
DTSTAMP:20260419T124651
CREATED:20250213T214143Z
LAST-MODIFIED:20250213T214143Z
UID:10065692-1815816600-1815820200@cp12stepoutreach.org
SUMMARY:Saturday Group - 12 Step Spirituality - Minneapolis\, Minnesota
DESCRIPTION:Zoom Link: https://zoom.us/j/392510399
URL:https://cp12stepoutreach.org/meeting-or-group/saturday-group-12-step-spirituality-minneapolis-minnesota/2027-07-17/
LOCATION:1st Universalist Church\, Minneapolis\, Minnesota\, 55408\, United States
CATEGORIES:Online 12 Step Centering Prayer Groups
ORGANIZER;CN="Adam Gordon":MAILTO:agordon@minnesotacontemplativeoutreach.org
END:VEVENT
BEGIN:VEVENT
DTSTART;TZID=America/Chicago:20270724T093000
DTEND;TZID=America/Chicago:20270724T103000
DTSTAMP:20260419T124651
CREATED:20250213T214143Z
LAST-MODIFIED:20250213T214143Z
UID:10065693-1816421400-1816425000@cp12stepoutreach.org
SUMMARY:Saturday Group - 12 Step Spirituality - Minneapolis\, Minnesota
DESCRIPTION:Zoom Link: https://zoom.us/j/392510399
URL:https://cp12stepoutreach.org/meeting-or-group/saturday-group-12-step-spirituality-minneapolis-minnesota/2027-07-24/
LOCATION:1st Universalist Church\, Minneapolis\, Minnesota\, 55408\, United States
CATEGORIES:Online 12 Step Centering Prayer Groups
ORGANIZER;CN="Adam Gordon":MAILTO:agordon@minnesotacontemplativeoutreach.org
END:VEVENT
BEGIN:VEVENT
DTSTART;TZID=America/Chicago:20270731T093000
DTEND;TZID=America/Chicago:20270731T103000
DTSTAMP:20260419T124651
CREATED:20250213T214143Z
LAST-MODIFIED:20250213T214143Z
UID:10065694-1817026200-1817029800@cp12stepoutreach.org
SUMMARY:Saturday Group - 12 Step Spirituality - Minneapolis\, Minnesota
DESCRIPTION:Zoom Link: https://zoom.us/j/392510399
URL:https://cp12stepoutreach.org/meeting-or-group/saturday-group-12-step-spirituality-minneapolis-minnesota/2027-07-31/
LOCATION:1st Universalist Church\, Minneapolis\, Minnesota\, 55408\, United States
CATEGORIES:Online 12 Step Centering Prayer Groups
ORGANIZER;CN="Adam Gordon":MAILTO:agordon@minnesotacontemplativeoutreach.org
END:VEVENT
BEGIN:VEVENT
DTSTART;TZID=America/Chicago:20270807T093000
DTEND;TZID=America/Chicago:20270807T103000
DTSTAMP:20260419T124651
CREATED:20250213T214143Z
LAST-MODIFIED:20250213T214143Z
UID:10065695-1817631000-1817634600@cp12stepoutreach.org
SUMMARY:Saturday Group - 12 Step Spirituality - Minneapolis\, Minnesota
DESCRIPTION:Zoom Link: https://zoom.us/j/392510399
URL:https://cp12stepoutreach.org/meeting-or-group/saturday-group-12-step-spirituality-minneapolis-minnesota/2027-08-07/
LOCATION:1st Universalist Church\, Minneapolis\, Minnesota\, 55408\, United States
CATEGORIES:Online 12 Step Centering Prayer Groups
ORGANIZER;CN="Adam Gordon":MAILTO:agordon@minnesotacontemplativeoutreach.org
END:VEVENT
BEGIN:VEVENT
DTSTART;TZID=America/Chicago:20270814T093000
DTEND;TZID=America/Chicago:20270814T103000
DTSTAMP:20260419T124651
CREATED:20250213T214143Z
LAST-MODIFIED:20250213T214143Z
UID:10065696-1818235800-1818239400@cp12stepoutreach.org
SUMMARY:Saturday Group - 12 Step Spirituality - Minneapolis\, Minnesota
DESCRIPTION:Zoom Link: https://zoom.us/j/392510399
URL:https://cp12stepoutreach.org/meeting-or-group/saturday-group-12-step-spirituality-minneapolis-minnesota/2027-08-14/
LOCATION:1st Universalist Church\, Minneapolis\, Minnesota\, 55408\, United States
CATEGORIES:Online 12 Step Centering Prayer Groups
ORGANIZER;CN="Adam Gordon":MAILTO:agordon@minnesotacontemplativeoutreach.org
END:VEVENT
BEGIN:VEVENT
DTSTART;TZID=America/Chicago:20270821T093000
DTEND;TZID=America/Chicago:20270821T103000
DTSTAMP:20260419T124651
CREATED:20250213T214143Z
LAST-MODIFIED:20250213T214143Z
UID:10065697-1818840600-1818844200@cp12stepoutreach.org
SUMMARY:Saturday Group - 12 Step Spirituality - Minneapolis\, Minnesota
DESCRIPTION:Zoom Link: https://zoom.us/j/392510399
URL:https://cp12stepoutreach.org/meeting-or-group/saturday-group-12-step-spirituality-minneapolis-minnesota/2027-08-21/
LOCATION:1st Universalist Church\, Minneapolis\, Minnesota\, 55408\, United States
CATEGORIES:Online 12 Step Centering Prayer Groups
ORGANIZER;CN="Adam Gordon":MAILTO:agordon@minnesotacontemplativeoutreach.org
END:VEVENT
END:VCALENDAR