BEGIN:VCALENDAR
VERSION:2.0
PRODID:-//12 Step Outreach - ECPv6.11.2.1//NONSGML v1.0//EN
CALSCALE:GREGORIAN
METHOD:PUBLISH
X-ORIGINAL-URL:https://cp12stepoutreach.org
X-WR-CALDESC:Events for 12 Step Outreach
REFRESH-INTERVAL;VALUE=DURATION:PT1H
X-Robots-Tag:noindex
X-PUBLISHED-TTL:PT1H
BEGIN:VTIMEZONE
TZID:America/Chicago
BEGIN:DAYLIGHT
TZOFFSETFROM:-0600
TZOFFSETTO:-0500
TZNAME:CDT
DTSTART:20270314T080000
END:DAYLIGHT
BEGIN:STANDARD
TZOFFSETFROM:-0500
TZOFFSETTO:-0600
TZNAME:CST
DTSTART:20271107T070000
END:STANDARD
BEGIN:DAYLIGHT
TZOFFSETFROM:-0600
TZOFFSETTO:-0500
TZNAME:CDT
DTSTART:20280312T080000
END:DAYLIGHT
BEGIN:STANDARD
TZOFFSETFROM:-0500
TZOFFSETTO:-0600
TZNAME:CST
DTSTART:20281105T070000
END:STANDARD
END:VTIMEZONE
BEGIN:VEVENT
DTSTART;TZID=America/Chicago:20270619T093000
DTEND;TZID=America/Chicago:20270619T103000
DTSTAMP:20260419T142236
CREATED:20250213T214143Z
LAST-MODIFIED:20250213T214143Z
UID:10065688-1813397400-1813401000@cp12stepoutreach.org
SUMMARY:Saturday Group - 12 Step Spirituality - Minneapolis\, Minnesota
DESCRIPTION:Zoom Link: https://zoom.us/j/392510399
URL:https://cp12stepoutreach.org/meeting-or-group/saturday-group-12-step-spirituality-minneapolis-minnesota/2027-06-19/
LOCATION:1st Universalist Church\, Minneapolis\, Minnesota\, 55408\, United States
CATEGORIES:Online 12 Step Centering Prayer Groups
ORGANIZER;CN="Adam Gordon":MAILTO:agordon@minnesotacontemplativeoutreach.org
END:VEVENT
BEGIN:VEVENT
DTSTART;TZID=America/Chicago:20270626T093000
DTEND;TZID=America/Chicago:20270626T103000
DTSTAMP:20260419T142236
CREATED:20250213T214143Z
LAST-MODIFIED:20250213T214143Z
UID:10065689-1814002200-1814005800@cp12stepoutreach.org
SUMMARY:Saturday Group - 12 Step Spirituality - Minneapolis\, Minnesota
DESCRIPTION:Zoom Link: https://zoom.us/j/392510399
URL:https://cp12stepoutreach.org/meeting-or-group/saturday-group-12-step-spirituality-minneapolis-minnesota/2027-06-26/
LOCATION:1st Universalist Church\, Minneapolis\, Minnesota\, 55408\, United States
CATEGORIES:Online 12 Step Centering Prayer Groups
ORGANIZER;CN="Adam Gordon":MAILTO:agordon@minnesotacontemplativeoutreach.org
END:VEVENT
BEGIN:VEVENT
DTSTART;TZID=America/Chicago:20270703T093000
DTEND;TZID=America/Chicago:20270703T103000
DTSTAMP:20260419T142236
CREATED:20250213T214143Z
LAST-MODIFIED:20250213T214143Z
UID:10065690-1814607000-1814610600@cp12stepoutreach.org
SUMMARY:Saturday Group - 12 Step Spirituality - Minneapolis\, Minnesota
DESCRIPTION:Zoom Link: https://zoom.us/j/392510399
URL:https://cp12stepoutreach.org/meeting-or-group/saturday-group-12-step-spirituality-minneapolis-minnesota/2027-07-03/
LOCATION:1st Universalist Church\, Minneapolis\, Minnesota\, 55408\, United States
CATEGORIES:Online 12 Step Centering Prayer Groups
ORGANIZER;CN="Adam Gordon":MAILTO:agordon@minnesotacontemplativeoutreach.org
END:VEVENT
BEGIN:VEVENT
DTSTART;TZID=America/Chicago:20270710T093000
DTEND;TZID=America/Chicago:20270710T103000
DTSTAMP:20260419T142236
CREATED:20250213T214143Z
LAST-MODIFIED:20250213T214143Z
UID:10065691-1815211800-1815215400@cp12stepoutreach.org
SUMMARY:Saturday Group - 12 Step Spirituality - Minneapolis\, Minnesota
DESCRIPTION:Zoom Link: https://zoom.us/j/392510399
URL:https://cp12stepoutreach.org/meeting-or-group/saturday-group-12-step-spirituality-minneapolis-minnesota/2027-07-10/
LOCATION:1st Universalist Church\, Minneapolis\, Minnesota\, 55408\, United States
CATEGORIES:Online 12 Step Centering Prayer Groups
ORGANIZER;CN="Adam Gordon":MAILTO:agordon@minnesotacontemplativeoutreach.org
END:VEVENT
BEGIN:VEVENT
DTSTART;TZID=America/Chicago:20270717T093000
DTEND;TZID=America/Chicago:20270717T103000
DTSTAMP:20260419T142236
CREATED:20250213T214143Z
LAST-MODIFIED:20250213T214143Z
UID:10065692-1815816600-1815820200@cp12stepoutreach.org
SUMMARY:Saturday Group - 12 Step Spirituality - Minneapolis\, Minnesota
DESCRIPTION:Zoom Link: https://zoom.us/j/392510399
URL:https://cp12stepoutreach.org/meeting-or-group/saturday-group-12-step-spirituality-minneapolis-minnesota/2027-07-17/
LOCATION:1st Universalist Church\, Minneapolis\, Minnesota\, 55408\, United States
CATEGORIES:Online 12 Step Centering Prayer Groups
ORGANIZER;CN="Adam Gordon":MAILTO:agordon@minnesotacontemplativeoutreach.org
END:VEVENT
BEGIN:VEVENT
DTSTART;TZID=America/Chicago:20270724T093000
DTEND;TZID=America/Chicago:20270724T103000
DTSTAMP:20260419T142236
CREATED:20250213T214143Z
LAST-MODIFIED:20250213T214143Z
UID:10065693-1816421400-1816425000@cp12stepoutreach.org
SUMMARY:Saturday Group - 12 Step Spirituality - Minneapolis\, Minnesota
DESCRIPTION:Zoom Link: https://zoom.us/j/392510399
URL:https://cp12stepoutreach.org/meeting-or-group/saturday-group-12-step-spirituality-minneapolis-minnesota/2027-07-24/
LOCATION:1st Universalist Church\, Minneapolis\, Minnesota\, 55408\, United States
CATEGORIES:Online 12 Step Centering Prayer Groups
ORGANIZER;CN="Adam Gordon":MAILTO:agordon@minnesotacontemplativeoutreach.org
END:VEVENT
BEGIN:VEVENT
DTSTART;TZID=America/Chicago:20270731T093000
DTEND;TZID=America/Chicago:20270731T103000
DTSTAMP:20260419T142236
CREATED:20250213T214143Z
LAST-MODIFIED:20250213T214143Z
UID:10065694-1817026200-1817029800@cp12stepoutreach.org
SUMMARY:Saturday Group - 12 Step Spirituality - Minneapolis\, Minnesota
DESCRIPTION:Zoom Link: https://zoom.us/j/392510399
URL:https://cp12stepoutreach.org/meeting-or-group/saturday-group-12-step-spirituality-minneapolis-minnesota/2027-07-31/
LOCATION:1st Universalist Church\, Minneapolis\, Minnesota\, 55408\, United States
CATEGORIES:Online 12 Step Centering Prayer Groups
ORGANIZER;CN="Adam Gordon":MAILTO:agordon@minnesotacontemplativeoutreach.org
END:VEVENT
BEGIN:VEVENT
DTSTART;TZID=America/Chicago:20270807T093000
DTEND;TZID=America/Chicago:20270807T103000
DTSTAMP:20260419T142236
CREATED:20250213T214143Z
LAST-MODIFIED:20250213T214143Z
UID:10065695-1817631000-1817634600@cp12stepoutreach.org
SUMMARY:Saturday Group - 12 Step Spirituality - Minneapolis\, Minnesota
DESCRIPTION:Zoom Link: https://zoom.us/j/392510399
URL:https://cp12stepoutreach.org/meeting-or-group/saturday-group-12-step-spirituality-minneapolis-minnesota/2027-08-07/
LOCATION:1st Universalist Church\, Minneapolis\, Minnesota\, 55408\, United States
CATEGORIES:Online 12 Step Centering Prayer Groups
ORGANIZER;CN="Adam Gordon":MAILTO:agordon@minnesotacontemplativeoutreach.org
END:VEVENT
BEGIN:VEVENT
DTSTART;TZID=America/Chicago:20270814T093000
DTEND;TZID=America/Chicago:20270814T103000
DTSTAMP:20260419T142236
CREATED:20250213T214143Z
LAST-MODIFIED:20250213T214143Z
UID:10065696-1818235800-1818239400@cp12stepoutreach.org
SUMMARY:Saturday Group - 12 Step Spirituality - Minneapolis\, Minnesota
DESCRIPTION:Zoom Link: https://zoom.us/j/392510399
URL:https://cp12stepoutreach.org/meeting-or-group/saturday-group-12-step-spirituality-minneapolis-minnesota/2027-08-14/
LOCATION:1st Universalist Church\, Minneapolis\, Minnesota\, 55408\, United States
CATEGORIES:Online 12 Step Centering Prayer Groups
ORGANIZER;CN="Adam Gordon":MAILTO:agordon@minnesotacontemplativeoutreach.org
END:VEVENT
BEGIN:VEVENT
DTSTART;TZID=America/Chicago:20270821T093000
DTEND;TZID=America/Chicago:20270821T103000
DTSTAMP:20260419T142236
CREATED:20250213T214143Z
LAST-MODIFIED:20250213T214143Z
UID:10065697-1818840600-1818844200@cp12stepoutreach.org
SUMMARY:Saturday Group - 12 Step Spirituality - Minneapolis\, Minnesota
DESCRIPTION:Zoom Link: https://zoom.us/j/392510399
URL:https://cp12stepoutreach.org/meeting-or-group/saturday-group-12-step-spirituality-minneapolis-minnesota/2027-08-21/
LOCATION:1st Universalist Church\, Minneapolis\, Minnesota\, 55408\, United States
CATEGORIES:Online 12 Step Centering Prayer Groups
ORGANIZER;CN="Adam Gordon":MAILTO:agordon@minnesotacontemplativeoutreach.org
END:VEVENT
BEGIN:VEVENT
DTSTART;TZID=America/Chicago:20270828T093000
DTEND;TZID=America/Chicago:20270828T103000
DTSTAMP:20260419T142236
CREATED:20250213T214143Z
LAST-MODIFIED:20250213T214143Z
UID:10065698-1819445400-1819449000@cp12stepoutreach.org
SUMMARY:Saturday Group - 12 Step Spirituality - Minneapolis\, Minnesota
DESCRIPTION:Zoom Link: https://zoom.us/j/392510399
URL:https://cp12stepoutreach.org/meeting-or-group/saturday-group-12-step-spirituality-minneapolis-minnesota/2027-08-28/
LOCATION:1st Universalist Church\, Minneapolis\, Minnesota\, 55408\, United States
CATEGORIES:Online 12 Step Centering Prayer Groups
ORGANIZER;CN="Adam Gordon":MAILTO:agordon@minnesotacontemplativeoutreach.org
END:VEVENT
BEGIN:VEVENT
DTSTART;TZID=America/Chicago:20270904T093000
DTEND;TZID=America/Chicago:20270904T103000
DTSTAMP:20260419T142236
CREATED:20250213T214143Z
LAST-MODIFIED:20250213T214143Z
UID:10065699-1820050200-1820053800@cp12stepoutreach.org
SUMMARY:Saturday Group - 12 Step Spirituality - Minneapolis\, Minnesota
DESCRIPTION:Zoom Link: https://zoom.us/j/392510399
URL:https://cp12stepoutreach.org/meeting-or-group/saturday-group-12-step-spirituality-minneapolis-minnesota/2027-09-04/
LOCATION:1st Universalist Church\, Minneapolis\, Minnesota\, 55408\, United States
CATEGORIES:Online 12 Step Centering Prayer Groups
ORGANIZER;CN="Adam Gordon":MAILTO:agordon@minnesotacontemplativeoutreach.org
END:VEVENT
BEGIN:VEVENT
DTSTART;TZID=America/Chicago:20270911T093000
DTEND;TZID=America/Chicago:20270911T103000
DTSTAMP:20260419T142236
CREATED:20250213T214143Z
LAST-MODIFIED:20250213T214143Z
UID:10065700-1820655000-1820658600@cp12stepoutreach.org
SUMMARY:Saturday Group - 12 Step Spirituality - Minneapolis\, Minnesota
DESCRIPTION:Zoom Link: https://zoom.us/j/392510399
URL:https://cp12stepoutreach.org/meeting-or-group/saturday-group-12-step-spirituality-minneapolis-minnesota/2027-09-11/
LOCATION:1st Universalist Church\, Minneapolis\, Minnesota\, 55408\, United States
CATEGORIES:Online 12 Step Centering Prayer Groups
ORGANIZER;CN="Adam Gordon":MAILTO:agordon@minnesotacontemplativeoutreach.org
END:VEVENT
BEGIN:VEVENT
DTSTART;TZID=America/Chicago:20270918T093000
DTEND;TZID=America/Chicago:20270918T103000
DTSTAMP:20260419T142236
CREATED:20250213T214143Z
LAST-MODIFIED:20250213T214143Z
UID:10065701-1821259800-1821263400@cp12stepoutreach.org
SUMMARY:Saturday Group - 12 Step Spirituality - Minneapolis\, Minnesota
DESCRIPTION:Zoom Link: https://zoom.us/j/392510399
URL:https://cp12stepoutreach.org/meeting-or-group/saturday-group-12-step-spirituality-minneapolis-minnesota/2027-09-18/
LOCATION:1st Universalist Church\, Minneapolis\, Minnesota\, 55408\, United States
CATEGORIES:Online 12 Step Centering Prayer Groups
ORGANIZER;CN="Adam Gordon":MAILTO:agordon@minnesotacontemplativeoutreach.org
END:VEVENT
BEGIN:VEVENT
DTSTART;TZID=America/Chicago:20270925T093000
DTEND;TZID=America/Chicago:20270925T103000
DTSTAMP:20260419T142236
CREATED:20250213T214143Z
LAST-MODIFIED:20250213T214143Z
UID:10065702-1821864600-1821868200@cp12stepoutreach.org
SUMMARY:Saturday Group - 12 Step Spirituality - Minneapolis\, Minnesota
DESCRIPTION:Zoom Link: https://zoom.us/j/392510399
URL:https://cp12stepoutreach.org/meeting-or-group/saturday-group-12-step-spirituality-minneapolis-minnesota/2027-09-25/
LOCATION:1st Universalist Church\, Minneapolis\, Minnesota\, 55408\, United States
CATEGORIES:Online 12 Step Centering Prayer Groups
ORGANIZER;CN="Adam Gordon":MAILTO:agordon@minnesotacontemplativeoutreach.org
END:VEVENT
BEGIN:VEVENT
DTSTART;TZID=America/Chicago:20271002T093000
DTEND;TZID=America/Chicago:20271002T103000
DTSTAMP:20260419T142236
CREATED:20250213T214143Z
LAST-MODIFIED:20250213T214143Z
UID:10065703-1822469400-1822473000@cp12stepoutreach.org
SUMMARY:Saturday Group - 12 Step Spirituality - Minneapolis\, Minnesota
DESCRIPTION:Zoom Link: https://zoom.us/j/392510399
URL:https://cp12stepoutreach.org/meeting-or-group/saturday-group-12-step-spirituality-minneapolis-minnesota/2027-10-02/
LOCATION:1st Universalist Church\, Minneapolis\, Minnesota\, 55408\, United States
CATEGORIES:Online 12 Step Centering Prayer Groups
ORGANIZER;CN="Adam Gordon":MAILTO:agordon@minnesotacontemplativeoutreach.org
END:VEVENT
BEGIN:VEVENT
DTSTART;TZID=America/Chicago:20271009T093000
DTEND;TZID=America/Chicago:20271009T103000
DTSTAMP:20260419T142236
CREATED:20250213T214143Z
LAST-MODIFIED:20250213T214143Z
UID:10065704-1823074200-1823077800@cp12stepoutreach.org
SUMMARY:Saturday Group - 12 Step Spirituality - Minneapolis\, Minnesota
DESCRIPTION:Zoom Link: https://zoom.us/j/392510399
URL:https://cp12stepoutreach.org/meeting-or-group/saturday-group-12-step-spirituality-minneapolis-minnesota/2027-10-09/
LOCATION:1st Universalist Church\, Minneapolis\, Minnesota\, 55408\, United States
CATEGORIES:Online 12 Step Centering Prayer Groups
ORGANIZER;CN="Adam Gordon":MAILTO:agordon@minnesotacontemplativeoutreach.org
END:VEVENT
BEGIN:VEVENT
DTSTART;TZID=America/Chicago:20271016T093000
DTEND;TZID=America/Chicago:20271016T103000
DTSTAMP:20260419T142236
CREATED:20250213T214143Z
LAST-MODIFIED:20250213T214143Z
UID:10065705-1823679000-1823682600@cp12stepoutreach.org
SUMMARY:Saturday Group - 12 Step Spirituality - Minneapolis\, Minnesota
DESCRIPTION:Zoom Link: https://zoom.us/j/392510399
URL:https://cp12stepoutreach.org/meeting-or-group/saturday-group-12-step-spirituality-minneapolis-minnesota/2027-10-16/
LOCATION:1st Universalist Church\, Minneapolis\, Minnesota\, 55408\, United States
CATEGORIES:Online 12 Step Centering Prayer Groups
ORGANIZER;CN="Adam Gordon":MAILTO:agordon@minnesotacontemplativeoutreach.org
END:VEVENT
BEGIN:VEVENT
DTSTART;TZID=America/Chicago:20271023T093000
DTEND;TZID=America/Chicago:20271023T103000
DTSTAMP:20260419T142236
CREATED:20250213T214143Z
LAST-MODIFIED:20250213T214143Z
UID:10065706-1824283800-1824287400@cp12stepoutreach.org
SUMMARY:Saturday Group - 12 Step Spirituality - Minneapolis\, Minnesota
DESCRIPTION:Zoom Link: https://zoom.us/j/392510399
URL:https://cp12stepoutreach.org/meeting-or-group/saturday-group-12-step-spirituality-minneapolis-minnesota/2027-10-23/
LOCATION:1st Universalist Church\, Minneapolis\, Minnesota\, 55408\, United States
CATEGORIES:Online 12 Step Centering Prayer Groups
ORGANIZER;CN="Adam Gordon":MAILTO:agordon@minnesotacontemplativeoutreach.org
END:VEVENT
BEGIN:VEVENT
DTSTART;TZID=America/Chicago:20271030T093000
DTEND;TZID=America/Chicago:20271030T103000
DTSTAMP:20260419T142236
CREATED:20250213T214143Z
LAST-MODIFIED:20250213T214143Z
UID:10065707-1824888600-1824892200@cp12stepoutreach.org
SUMMARY:Saturday Group - 12 Step Spirituality - Minneapolis\, Minnesota
DESCRIPTION:Zoom Link: https://zoom.us/j/392510399
URL:https://cp12stepoutreach.org/meeting-or-group/saturday-group-12-step-spirituality-minneapolis-minnesota/2027-10-30/
LOCATION:1st Universalist Church\, Minneapolis\, Minnesota\, 55408\, United States
CATEGORIES:Online 12 Step Centering Prayer Groups
ORGANIZER;CN="Adam Gordon":MAILTO:agordon@minnesotacontemplativeoutreach.org
END:VEVENT
BEGIN:VEVENT
DTSTART;TZID=America/Chicago:20271106T093000
DTEND;TZID=America/Chicago:20271106T103000
DTSTAMP:20260419T142236
CREATED:20250213T214143Z
LAST-MODIFIED:20250213T214143Z
UID:10065708-1825493400-1825497000@cp12stepoutreach.org
SUMMARY:Saturday Group - 12 Step Spirituality - Minneapolis\, Minnesota
DESCRIPTION:Zoom Link: https://zoom.us/j/392510399
URL:https://cp12stepoutreach.org/meeting-or-group/saturday-group-12-step-spirituality-minneapolis-minnesota/2027-11-06/
LOCATION:1st Universalist Church\, Minneapolis\, Minnesota\, 55408\, United States
CATEGORIES:Online 12 Step Centering Prayer Groups
ORGANIZER;CN="Adam Gordon":MAILTO:agordon@minnesotacontemplativeoutreach.org
END:VEVENT
BEGIN:VEVENT
DTSTART;TZID=America/Chicago:20271113T093000
DTEND;TZID=America/Chicago:20271113T103000
DTSTAMP:20260419T142236
CREATED:20250213T214143Z
LAST-MODIFIED:20250213T214143Z
UID:10065709-1826098200-1826101800@cp12stepoutreach.org
SUMMARY:Saturday Group - 12 Step Spirituality - Minneapolis\, Minnesota
DESCRIPTION:Zoom Link: https://zoom.us/j/392510399
URL:https://cp12stepoutreach.org/meeting-or-group/saturday-group-12-step-spirituality-minneapolis-minnesota/2027-11-13/
LOCATION:1st Universalist Church\, Minneapolis\, Minnesota\, 55408\, United States
CATEGORIES:Online 12 Step Centering Prayer Groups
ORGANIZER;CN="Adam Gordon":MAILTO:agordon@minnesotacontemplativeoutreach.org
END:VEVENT
BEGIN:VEVENT
DTSTART;TZID=America/Chicago:20271120T093000
DTEND;TZID=America/Chicago:20271120T103000
DTSTAMP:20260419T142236
CREATED:20250213T214143Z
LAST-MODIFIED:20250213T214143Z
UID:10065710-1826703000-1826706600@cp12stepoutreach.org
SUMMARY:Saturday Group - 12 Step Spirituality - Minneapolis\, Minnesota
DESCRIPTION:Zoom Link: https://zoom.us/j/392510399
URL:https://cp12stepoutreach.org/meeting-or-group/saturday-group-12-step-spirituality-minneapolis-minnesota/2027-11-20/
LOCATION:1st Universalist Church\, Minneapolis\, Minnesota\, 55408\, United States
CATEGORIES:Online 12 Step Centering Prayer Groups
ORGANIZER;CN="Adam Gordon":MAILTO:agordon@minnesotacontemplativeoutreach.org
END:VEVENT
BEGIN:VEVENT
DTSTART;TZID=America/Chicago:20271127T093000
DTEND;TZID=America/Chicago:20271127T103000
DTSTAMP:20260419T142236
CREATED:20250213T214143Z
LAST-MODIFIED:20250213T214143Z
UID:10065711-1827307800-1827311400@cp12stepoutreach.org
SUMMARY:Saturday Group - 12 Step Spirituality - Minneapolis\, Minnesota
DESCRIPTION:Zoom Link: https://zoom.us/j/392510399
URL:https://cp12stepoutreach.org/meeting-or-group/saturday-group-12-step-spirituality-minneapolis-minnesota/2027-11-27/
LOCATION:1st Universalist Church\, Minneapolis\, Minnesota\, 55408\, United States
CATEGORIES:Online 12 Step Centering Prayer Groups
ORGANIZER;CN="Adam Gordon":MAILTO:agordon@minnesotacontemplativeoutreach.org
END:VEVENT
BEGIN:VEVENT
DTSTART;TZID=America/Chicago:20271204T093000
DTEND;TZID=America/Chicago:20271204T103000
DTSTAMP:20260419T142236
CREATED:20250213T214143Z
LAST-MODIFIED:20250213T214143Z
UID:10065712-1827912600-1827916200@cp12stepoutreach.org
SUMMARY:Saturday Group - 12 Step Spirituality - Minneapolis\, Minnesota
DESCRIPTION:Zoom Link: https://zoom.us/j/392510399
URL:https://cp12stepoutreach.org/meeting-or-group/saturday-group-12-step-spirituality-minneapolis-minnesota/2027-12-04/
LOCATION:1st Universalist Church\, Minneapolis\, Minnesota\, 55408\, United States
CATEGORIES:Online 12 Step Centering Prayer Groups
ORGANIZER;CN="Adam Gordon":MAILTO:agordon@minnesotacontemplativeoutreach.org
END:VEVENT
BEGIN:VEVENT
DTSTART;TZID=America/Chicago:20271211T093000
DTEND;TZID=America/Chicago:20271211T103000
DTSTAMP:20260419T142236
CREATED:20250213T214143Z
LAST-MODIFIED:20250213T214143Z
UID:10065713-1828517400-1828521000@cp12stepoutreach.org
SUMMARY:Saturday Group - 12 Step Spirituality - Minneapolis\, Minnesota
DESCRIPTION:Zoom Link: https://zoom.us/j/392510399
URL:https://cp12stepoutreach.org/meeting-or-group/saturday-group-12-step-spirituality-minneapolis-minnesota/2027-12-11/
LOCATION:1st Universalist Church\, Minneapolis\, Minnesota\, 55408\, United States
CATEGORIES:Online 12 Step Centering Prayer Groups
ORGANIZER;CN="Adam Gordon":MAILTO:agordon@minnesotacontemplativeoutreach.org
END:VEVENT
BEGIN:VEVENT
DTSTART;TZID=America/Chicago:20271218T093000
DTEND;TZID=America/Chicago:20271218T103000
DTSTAMP:20260419T142236
CREATED:20250213T214143Z
LAST-MODIFIED:20250213T214143Z
UID:10065714-1829122200-1829125800@cp12stepoutreach.org
SUMMARY:Saturday Group - 12 Step Spirituality - Minneapolis\, Minnesota
DESCRIPTION:Zoom Link: https://zoom.us/j/392510399
URL:https://cp12stepoutreach.org/meeting-or-group/saturday-group-12-step-spirituality-minneapolis-minnesota/2027-12-18/
LOCATION:1st Universalist Church\, Minneapolis\, Minnesota\, 55408\, United States
CATEGORIES:Online 12 Step Centering Prayer Groups
ORGANIZER;CN="Adam Gordon":MAILTO:agordon@minnesotacontemplativeoutreach.org
END:VEVENT
BEGIN:VEVENT
DTSTART;TZID=America/Chicago:20271225T093000
DTEND;TZID=America/Chicago:20271225T103000
DTSTAMP:20260419T142236
CREATED:20250213T214143Z
LAST-MODIFIED:20250213T214143Z
UID:10065715-1829727000-1829730600@cp12stepoutreach.org
SUMMARY:Saturday Group - 12 Step Spirituality - Minneapolis\, Minnesota
DESCRIPTION:Zoom Link: https://zoom.us/j/392510399
URL:https://cp12stepoutreach.org/meeting-or-group/saturday-group-12-step-spirituality-minneapolis-minnesota/2027-12-25/
LOCATION:1st Universalist Church\, Minneapolis\, Minnesota\, 55408\, United States
CATEGORIES:Online 12 Step Centering Prayer Groups
ORGANIZER;CN="Adam Gordon":MAILTO:agordon@minnesotacontemplativeoutreach.org
END:VEVENT
BEGIN:VEVENT
DTSTART;TZID=America/Chicago:20280101T093000
DTEND;TZID=America/Chicago:20280101T103000
DTSTAMP:20260419T142236
CREATED:20250213T214143Z
LAST-MODIFIED:20250213T214143Z
UID:10065716-1830331800-1830335400@cp12stepoutreach.org
SUMMARY:Saturday Group - 12 Step Spirituality - Minneapolis\, Minnesota
DESCRIPTION:Zoom Link: https://zoom.us/j/392510399
URL:https://cp12stepoutreach.org/meeting-or-group/saturday-group-12-step-spirituality-minneapolis-minnesota/2028-01-01/
LOCATION:1st Universalist Church\, Minneapolis\, Minnesota\, 55408\, United States
CATEGORIES:Online 12 Step Centering Prayer Groups
ORGANIZER;CN="Adam Gordon":MAILTO:agordon@minnesotacontemplativeoutreach.org
END:VEVENT
BEGIN:VEVENT
DTSTART;TZID=America/Chicago:20280108T093000
DTEND;TZID=America/Chicago:20280108T103000
DTSTAMP:20260419T142236
CREATED:20250213T214143Z
LAST-MODIFIED:20250213T214143Z
UID:10065717-1830936600-1830940200@cp12stepoutreach.org
SUMMARY:Saturday Group - 12 Step Spirituality - Minneapolis\, Minnesota
DESCRIPTION:Zoom Link: https://zoom.us/j/392510399
URL:https://cp12stepoutreach.org/meeting-or-group/saturday-group-12-step-spirituality-minneapolis-minnesota/2028-01-08/
LOCATION:1st Universalist Church\, Minneapolis\, Minnesota\, 55408\, United States
CATEGORIES:Online 12 Step Centering Prayer Groups
ORGANIZER;CN="Adam Gordon":MAILTO:agordon@minnesotacontemplativeoutreach.org
END:VEVENT
END:VCALENDAR