BEGIN:VCALENDAR
VERSION:2.0
PRODID:-//12 Step Outreach - ECPv6.11.2.1//NONSGML v1.0//EN
CALSCALE:GREGORIAN
METHOD:PUBLISH
X-ORIGINAL-URL:https://cp12stepoutreach.org
X-WR-CALDESC:Events for 12 Step Outreach
REFRESH-INTERVAL;VALUE=DURATION:PT1H
X-Robots-Tag:noindex
X-PUBLISHED-TTL:PT1H
BEGIN:VTIMEZONE
TZID:America/Chicago
BEGIN:DAYLIGHT
TZOFFSETFROM:-0600
TZOFFSETTO:-0500
TZNAME:CDT
DTSTART:20280312T080000
END:DAYLIGHT
BEGIN:STANDARD
TZOFFSETFROM:-0500
TZOFFSETTO:-0600
TZNAME:CST
DTSTART:20281105T070000
END:STANDARD
BEGIN:DAYLIGHT
TZOFFSETFROM:-0600
TZOFFSETTO:-0500
TZNAME:CDT
DTSTART:20290311T080000
END:DAYLIGHT
BEGIN:STANDARD
TZOFFSETFROM:-0500
TZOFFSETTO:-0600
TZNAME:CST
DTSTART:20291104T070000
END:STANDARD
END:VTIMEZONE
BEGIN:VEVENT
DTSTART;TZID=America/Chicago:20280812T093000
DTEND;TZID=America/Chicago:20280812T103000
DTSTAMP:20260419T182853
CREATED:20250213T214143Z
LAST-MODIFIED:20250213T214143Z
UID:10065748-1849685400-1849689000@cp12stepoutreach.org
SUMMARY:Saturday Group - 12 Step Spirituality - Minneapolis\, Minnesota
DESCRIPTION:Zoom Link: https://zoom.us/j/392510399
URL:https://cp12stepoutreach.org/meeting-or-group/saturday-group-12-step-spirituality-minneapolis-minnesota/2028-08-12/
LOCATION:1st Universalist Church\, Minneapolis\, Minnesota\, 55408\, United States
CATEGORIES:Online 12 Step Centering Prayer Groups
ORGANIZER;CN="Adam Gordon":MAILTO:agordon@minnesotacontemplativeoutreach.org
END:VEVENT
BEGIN:VEVENT
DTSTART;TZID=America/Chicago:20280819T093000
DTEND;TZID=America/Chicago:20280819T103000
DTSTAMP:20260419T182853
CREATED:20250213T214143Z
LAST-MODIFIED:20250213T214143Z
UID:10065749-1850290200-1850293800@cp12stepoutreach.org
SUMMARY:Saturday Group - 12 Step Spirituality - Minneapolis\, Minnesota
DESCRIPTION:Zoom Link: https://zoom.us/j/392510399
URL:https://cp12stepoutreach.org/meeting-or-group/saturday-group-12-step-spirituality-minneapolis-minnesota/2028-08-19/
LOCATION:1st Universalist Church\, Minneapolis\, Minnesota\, 55408\, United States
CATEGORIES:Online 12 Step Centering Prayer Groups
ORGANIZER;CN="Adam Gordon":MAILTO:agordon@minnesotacontemplativeoutreach.org
END:VEVENT
BEGIN:VEVENT
DTSTART;TZID=America/Chicago:20280826T093000
DTEND;TZID=America/Chicago:20280826T103000
DTSTAMP:20260419T182853
CREATED:20250213T214143Z
LAST-MODIFIED:20250213T214143Z
UID:10065750-1850895000-1850898600@cp12stepoutreach.org
SUMMARY:Saturday Group - 12 Step Spirituality - Minneapolis\, Minnesota
DESCRIPTION:Zoom Link: https://zoom.us/j/392510399
URL:https://cp12stepoutreach.org/meeting-or-group/saturday-group-12-step-spirituality-minneapolis-minnesota/2028-08-26/
LOCATION:1st Universalist Church\, Minneapolis\, Minnesota\, 55408\, United States
CATEGORIES:Online 12 Step Centering Prayer Groups
ORGANIZER;CN="Adam Gordon":MAILTO:agordon@minnesotacontemplativeoutreach.org
END:VEVENT
BEGIN:VEVENT
DTSTART;TZID=America/Chicago:20280902T093000
DTEND;TZID=America/Chicago:20280902T103000
DTSTAMP:20260419T182853
CREATED:20250213T214143Z
LAST-MODIFIED:20250213T214143Z
UID:10065751-1851499800-1851503400@cp12stepoutreach.org
SUMMARY:Saturday Group - 12 Step Spirituality - Minneapolis\, Minnesota
DESCRIPTION:Zoom Link: https://zoom.us/j/392510399
URL:https://cp12stepoutreach.org/meeting-or-group/saturday-group-12-step-spirituality-minneapolis-minnesota/2028-09-02/
LOCATION:1st Universalist Church\, Minneapolis\, Minnesota\, 55408\, United States
CATEGORIES:Online 12 Step Centering Prayer Groups
ORGANIZER;CN="Adam Gordon":MAILTO:agordon@minnesotacontemplativeoutreach.org
END:VEVENT
BEGIN:VEVENT
DTSTART;TZID=America/Chicago:20280909T093000
DTEND;TZID=America/Chicago:20280909T103000
DTSTAMP:20260419T182853
CREATED:20250213T214143Z
LAST-MODIFIED:20250213T214143Z
UID:10065752-1852104600-1852108200@cp12stepoutreach.org
SUMMARY:Saturday Group - 12 Step Spirituality - Minneapolis\, Minnesota
DESCRIPTION:Zoom Link: https://zoom.us/j/392510399
URL:https://cp12stepoutreach.org/meeting-or-group/saturday-group-12-step-spirituality-minneapolis-minnesota/2028-09-09/
LOCATION:1st Universalist Church\, Minneapolis\, Minnesota\, 55408\, United States
CATEGORIES:Online 12 Step Centering Prayer Groups
ORGANIZER;CN="Adam Gordon":MAILTO:agordon@minnesotacontemplativeoutreach.org
END:VEVENT
BEGIN:VEVENT
DTSTART;TZID=America/Chicago:20280916T093000
DTEND;TZID=America/Chicago:20280916T103000
DTSTAMP:20260419T182853
CREATED:20250213T214143Z
LAST-MODIFIED:20250213T214143Z
UID:10065753-1852709400-1852713000@cp12stepoutreach.org
SUMMARY:Saturday Group - 12 Step Spirituality - Minneapolis\, Minnesota
DESCRIPTION:Zoom Link: https://zoom.us/j/392510399
URL:https://cp12stepoutreach.org/meeting-or-group/saturday-group-12-step-spirituality-minneapolis-minnesota/2028-09-16/
LOCATION:1st Universalist Church\, Minneapolis\, Minnesota\, 55408\, United States
CATEGORIES:Online 12 Step Centering Prayer Groups
ORGANIZER;CN="Adam Gordon":MAILTO:agordon@minnesotacontemplativeoutreach.org
END:VEVENT
BEGIN:VEVENT
DTSTART;TZID=America/Chicago:20280923T093000
DTEND;TZID=America/Chicago:20280923T103000
DTSTAMP:20260419T182853
CREATED:20250213T214143Z
LAST-MODIFIED:20250213T214143Z
UID:10065754-1853314200-1853317800@cp12stepoutreach.org
SUMMARY:Saturday Group - 12 Step Spirituality - Minneapolis\, Minnesota
DESCRIPTION:Zoom Link: https://zoom.us/j/392510399
URL:https://cp12stepoutreach.org/meeting-or-group/saturday-group-12-step-spirituality-minneapolis-minnesota/2028-09-23/
LOCATION:1st Universalist Church\, Minneapolis\, Minnesota\, 55408\, United States
CATEGORIES:Online 12 Step Centering Prayer Groups
ORGANIZER;CN="Adam Gordon":MAILTO:agordon@minnesotacontemplativeoutreach.org
END:VEVENT
BEGIN:VEVENT
DTSTART;TZID=America/Chicago:20280930T093000
DTEND;TZID=America/Chicago:20280930T103000
DTSTAMP:20260419T182853
CREATED:20250213T214143Z
LAST-MODIFIED:20250213T214143Z
UID:10065755-1853919000-1853922600@cp12stepoutreach.org
SUMMARY:Saturday Group - 12 Step Spirituality - Minneapolis\, Minnesota
DESCRIPTION:Zoom Link: https://zoom.us/j/392510399
URL:https://cp12stepoutreach.org/meeting-or-group/saturday-group-12-step-spirituality-minneapolis-minnesota/2028-09-30/
LOCATION:1st Universalist Church\, Minneapolis\, Minnesota\, 55408\, United States
CATEGORIES:Online 12 Step Centering Prayer Groups
ORGANIZER;CN="Adam Gordon":MAILTO:agordon@minnesotacontemplativeoutreach.org
END:VEVENT
BEGIN:VEVENT
DTSTART;TZID=America/Chicago:20281007T093000
DTEND;TZID=America/Chicago:20281007T103000
DTSTAMP:20260419T182853
CREATED:20250213T214143Z
LAST-MODIFIED:20250213T214143Z
UID:10065756-1854523800-1854527400@cp12stepoutreach.org
SUMMARY:Saturday Group - 12 Step Spirituality - Minneapolis\, Minnesota
DESCRIPTION:Zoom Link: https://zoom.us/j/392510399
URL:https://cp12stepoutreach.org/meeting-or-group/saturday-group-12-step-spirituality-minneapolis-minnesota/2028-10-07/
LOCATION:1st Universalist Church\, Minneapolis\, Minnesota\, 55408\, United States
CATEGORIES:Online 12 Step Centering Prayer Groups
ORGANIZER;CN="Adam Gordon":MAILTO:agordon@minnesotacontemplativeoutreach.org
END:VEVENT
BEGIN:VEVENT
DTSTART;TZID=America/Chicago:20281014T093000
DTEND;TZID=America/Chicago:20281014T103000
DTSTAMP:20260419T182853
CREATED:20250213T214143Z
LAST-MODIFIED:20250213T214143Z
UID:10065757-1855128600-1855132200@cp12stepoutreach.org
SUMMARY:Saturday Group - 12 Step Spirituality - Minneapolis\, Minnesota
DESCRIPTION:Zoom Link: https://zoom.us/j/392510399
URL:https://cp12stepoutreach.org/meeting-or-group/saturday-group-12-step-spirituality-minneapolis-minnesota/2028-10-14/
LOCATION:1st Universalist Church\, Minneapolis\, Minnesota\, 55408\, United States
CATEGORIES:Online 12 Step Centering Prayer Groups
ORGANIZER;CN="Adam Gordon":MAILTO:agordon@minnesotacontemplativeoutreach.org
END:VEVENT
BEGIN:VEVENT
DTSTART;TZID=America/Chicago:20281021T093000
DTEND;TZID=America/Chicago:20281021T103000
DTSTAMP:20260419T182853
CREATED:20250213T214143Z
LAST-MODIFIED:20250213T214143Z
UID:10065758-1855733400-1855737000@cp12stepoutreach.org
SUMMARY:Saturday Group - 12 Step Spirituality - Minneapolis\, Minnesota
DESCRIPTION:Zoom Link: https://zoom.us/j/392510399
URL:https://cp12stepoutreach.org/meeting-or-group/saturday-group-12-step-spirituality-minneapolis-minnesota/2028-10-21/
LOCATION:1st Universalist Church\, Minneapolis\, Minnesota\, 55408\, United States
CATEGORIES:Online 12 Step Centering Prayer Groups
ORGANIZER;CN="Adam Gordon":MAILTO:agordon@minnesotacontemplativeoutreach.org
END:VEVENT
BEGIN:VEVENT
DTSTART;TZID=America/Chicago:20281028T093000
DTEND;TZID=America/Chicago:20281028T103000
DTSTAMP:20260419T182853
CREATED:20250213T214143Z
LAST-MODIFIED:20250213T214143Z
UID:10065759-1856338200-1856341800@cp12stepoutreach.org
SUMMARY:Saturday Group - 12 Step Spirituality - Minneapolis\, Minnesota
DESCRIPTION:Zoom Link: https://zoom.us/j/392510399
URL:https://cp12stepoutreach.org/meeting-or-group/saturday-group-12-step-spirituality-minneapolis-minnesota/2028-10-28/
LOCATION:1st Universalist Church\, Minneapolis\, Minnesota\, 55408\, United States
CATEGORIES:Online 12 Step Centering Prayer Groups
ORGANIZER;CN="Adam Gordon":MAILTO:agordon@minnesotacontemplativeoutreach.org
END:VEVENT
BEGIN:VEVENT
DTSTART;TZID=America/Chicago:20281104T093000
DTEND;TZID=America/Chicago:20281104T103000
DTSTAMP:20260419T182853
CREATED:20250213T214143Z
LAST-MODIFIED:20250213T214143Z
UID:10065760-1856943000-1856946600@cp12stepoutreach.org
SUMMARY:Saturday Group - 12 Step Spirituality - Minneapolis\, Minnesota
DESCRIPTION:Zoom Link: https://zoom.us/j/392510399
URL:https://cp12stepoutreach.org/meeting-or-group/saturday-group-12-step-spirituality-minneapolis-minnesota/2028-11-04/
LOCATION:1st Universalist Church\, Minneapolis\, Minnesota\, 55408\, United States
CATEGORIES:Online 12 Step Centering Prayer Groups
ORGANIZER;CN="Adam Gordon":MAILTO:agordon@minnesotacontemplativeoutreach.org
END:VEVENT
BEGIN:VEVENT
DTSTART;TZID=America/Chicago:20281111T093000
DTEND;TZID=America/Chicago:20281111T103000
DTSTAMP:20260419T182853
CREATED:20250213T214143Z
LAST-MODIFIED:20250213T214143Z
UID:10065761-1857547800-1857551400@cp12stepoutreach.org
SUMMARY:Saturday Group - 12 Step Spirituality - Minneapolis\, Minnesota
DESCRIPTION:Zoom Link: https://zoom.us/j/392510399
URL:https://cp12stepoutreach.org/meeting-or-group/saturday-group-12-step-spirituality-minneapolis-minnesota/2028-11-11/
LOCATION:1st Universalist Church\, Minneapolis\, Minnesota\, 55408\, United States
CATEGORIES:Online 12 Step Centering Prayer Groups
ORGANIZER;CN="Adam Gordon":MAILTO:agordon@minnesotacontemplativeoutreach.org
END:VEVENT
BEGIN:VEVENT
DTSTART;TZID=America/Chicago:20281118T093000
DTEND;TZID=America/Chicago:20281118T103000
DTSTAMP:20260419T182853
CREATED:20250213T214143Z
LAST-MODIFIED:20250213T214143Z
UID:10065762-1858152600-1858156200@cp12stepoutreach.org
SUMMARY:Saturday Group - 12 Step Spirituality - Minneapolis\, Minnesota
DESCRIPTION:Zoom Link: https://zoom.us/j/392510399
URL:https://cp12stepoutreach.org/meeting-or-group/saturday-group-12-step-spirituality-minneapolis-minnesota/2028-11-18/
LOCATION:1st Universalist Church\, Minneapolis\, Minnesota\, 55408\, United States
CATEGORIES:Online 12 Step Centering Prayer Groups
ORGANIZER;CN="Adam Gordon":MAILTO:agordon@minnesotacontemplativeoutreach.org
END:VEVENT
BEGIN:VEVENT
DTSTART;TZID=America/Chicago:20281125T093000
DTEND;TZID=America/Chicago:20281125T103000
DTSTAMP:20260419T182853
CREATED:20250213T214143Z
LAST-MODIFIED:20250213T214143Z
UID:10065763-1858757400-1858761000@cp12stepoutreach.org
SUMMARY:Saturday Group - 12 Step Spirituality - Minneapolis\, Minnesota
DESCRIPTION:Zoom Link: https://zoom.us/j/392510399
URL:https://cp12stepoutreach.org/meeting-or-group/saturday-group-12-step-spirituality-minneapolis-minnesota/2028-11-25/
LOCATION:1st Universalist Church\, Minneapolis\, Minnesota\, 55408\, United States
CATEGORIES:Online 12 Step Centering Prayer Groups
ORGANIZER;CN="Adam Gordon":MAILTO:agordon@minnesotacontemplativeoutreach.org
END:VEVENT
BEGIN:VEVENT
DTSTART;TZID=America/Chicago:20281202T093000
DTEND;TZID=America/Chicago:20281202T103000
DTSTAMP:20260419T182853
CREATED:20250213T214143Z
LAST-MODIFIED:20250213T214143Z
UID:10065764-1859362200-1859365800@cp12stepoutreach.org
SUMMARY:Saturday Group - 12 Step Spirituality - Minneapolis\, Minnesota
DESCRIPTION:Zoom Link: https://zoom.us/j/392510399
URL:https://cp12stepoutreach.org/meeting-or-group/saturday-group-12-step-spirituality-minneapolis-minnesota/2028-12-02/
LOCATION:1st Universalist Church\, Minneapolis\, Minnesota\, 55408\, United States
CATEGORIES:Online 12 Step Centering Prayer Groups
ORGANIZER;CN="Adam Gordon":MAILTO:agordon@minnesotacontemplativeoutreach.org
END:VEVENT
BEGIN:VEVENT
DTSTART;TZID=America/Chicago:20281209T093000
DTEND;TZID=America/Chicago:20281209T103000
DTSTAMP:20260419T182853
CREATED:20250213T214143Z
LAST-MODIFIED:20250213T214143Z
UID:10065765-1859967000-1859970600@cp12stepoutreach.org
SUMMARY:Saturday Group - 12 Step Spirituality - Minneapolis\, Minnesota
DESCRIPTION:Zoom Link: https://zoom.us/j/392510399
URL:https://cp12stepoutreach.org/meeting-or-group/saturday-group-12-step-spirituality-minneapolis-minnesota/2028-12-09/
LOCATION:1st Universalist Church\, Minneapolis\, Minnesota\, 55408\, United States
CATEGORIES:Online 12 Step Centering Prayer Groups
ORGANIZER;CN="Adam Gordon":MAILTO:agordon@minnesotacontemplativeoutreach.org
END:VEVENT
BEGIN:VEVENT
DTSTART;TZID=America/Chicago:20281216T093000
DTEND;TZID=America/Chicago:20281216T103000
DTSTAMP:20260419T182853
CREATED:20250213T214143Z
LAST-MODIFIED:20250213T214143Z
UID:10065766-1860571800-1860575400@cp12stepoutreach.org
SUMMARY:Saturday Group - 12 Step Spirituality - Minneapolis\, Minnesota
DESCRIPTION:Zoom Link: https://zoom.us/j/392510399
URL:https://cp12stepoutreach.org/meeting-or-group/saturday-group-12-step-spirituality-minneapolis-minnesota/2028-12-16/
LOCATION:1st Universalist Church\, Minneapolis\, Minnesota\, 55408\, United States
CATEGORIES:Online 12 Step Centering Prayer Groups
ORGANIZER;CN="Adam Gordon":MAILTO:agordon@minnesotacontemplativeoutreach.org
END:VEVENT
BEGIN:VEVENT
DTSTART;TZID=America/Chicago:20281223T093000
DTEND;TZID=America/Chicago:20281223T103000
DTSTAMP:20260419T182853
CREATED:20250213T214143Z
LAST-MODIFIED:20250213T214143Z
UID:10065767-1861176600-1861180200@cp12stepoutreach.org
SUMMARY:Saturday Group - 12 Step Spirituality - Minneapolis\, Minnesota
DESCRIPTION:Zoom Link: https://zoom.us/j/392510399
URL:https://cp12stepoutreach.org/meeting-or-group/saturday-group-12-step-spirituality-minneapolis-minnesota/2028-12-23/
LOCATION:1st Universalist Church\, Minneapolis\, Minnesota\, 55408\, United States
CATEGORIES:Online 12 Step Centering Prayer Groups
ORGANIZER;CN="Adam Gordon":MAILTO:agordon@minnesotacontemplativeoutreach.org
END:VEVENT
BEGIN:VEVENT
DTSTART;TZID=America/Chicago:20281230T093000
DTEND;TZID=America/Chicago:20281230T103000
DTSTAMP:20260419T182853
CREATED:20250213T214143Z
LAST-MODIFIED:20250213T214143Z
UID:10065768-1861781400-1861785000@cp12stepoutreach.org
SUMMARY:Saturday Group - 12 Step Spirituality - Minneapolis\, Minnesota
DESCRIPTION:Zoom Link: https://zoom.us/j/392510399
URL:https://cp12stepoutreach.org/meeting-or-group/saturday-group-12-step-spirituality-minneapolis-minnesota/2028-12-30/
LOCATION:1st Universalist Church\, Minneapolis\, Minnesota\, 55408\, United States
CATEGORIES:Online 12 Step Centering Prayer Groups
ORGANIZER;CN="Adam Gordon":MAILTO:agordon@minnesotacontemplativeoutreach.org
END:VEVENT
BEGIN:VEVENT
DTSTART;TZID=America/Chicago:20290106T093000
DTEND;TZID=America/Chicago:20290106T103000
DTSTAMP:20260419T182853
CREATED:20250213T214143Z
LAST-MODIFIED:20250213T214143Z
UID:10065769-1862386200-1862389800@cp12stepoutreach.org
SUMMARY:Saturday Group - 12 Step Spirituality - Minneapolis\, Minnesota
DESCRIPTION:Zoom Link: https://zoom.us/j/392510399
URL:https://cp12stepoutreach.org/meeting-or-group/saturday-group-12-step-spirituality-minneapolis-minnesota/2029-01-06/
LOCATION:1st Universalist Church\, Minneapolis\, Minnesota\, 55408\, United States
CATEGORIES:Online 12 Step Centering Prayer Groups
ORGANIZER;CN="Adam Gordon":MAILTO:agordon@minnesotacontemplativeoutreach.org
END:VEVENT
BEGIN:VEVENT
DTSTART;TZID=America/Chicago:20290113T093000
DTEND;TZID=America/Chicago:20290113T103000
DTSTAMP:20260419T182853
CREATED:20250213T214143Z
LAST-MODIFIED:20250213T214143Z
UID:10065770-1862991000-1862994600@cp12stepoutreach.org
SUMMARY:Saturday Group - 12 Step Spirituality - Minneapolis\, Minnesota
DESCRIPTION:Zoom Link: https://zoom.us/j/392510399
URL:https://cp12stepoutreach.org/meeting-or-group/saturday-group-12-step-spirituality-minneapolis-minnesota/2029-01-13/
LOCATION:1st Universalist Church\, Minneapolis\, Minnesota\, 55408\, United States
CATEGORIES:Online 12 Step Centering Prayer Groups
ORGANIZER;CN="Adam Gordon":MAILTO:agordon@minnesotacontemplativeoutreach.org
END:VEVENT
BEGIN:VEVENT
DTSTART;TZID=America/Chicago:20290120T093000
DTEND;TZID=America/Chicago:20290120T103000
DTSTAMP:20260419T182853
CREATED:20250213T214143Z
LAST-MODIFIED:20250213T214143Z
UID:10065771-1863595800-1863599400@cp12stepoutreach.org
SUMMARY:Saturday Group - 12 Step Spirituality - Minneapolis\, Minnesota
DESCRIPTION:Zoom Link: https://zoom.us/j/392510399
URL:https://cp12stepoutreach.org/meeting-or-group/saturday-group-12-step-spirituality-minneapolis-minnesota/2029-01-20/
LOCATION:1st Universalist Church\, Minneapolis\, Minnesota\, 55408\, United States
CATEGORIES:Online 12 Step Centering Prayer Groups
ORGANIZER;CN="Adam Gordon":MAILTO:agordon@minnesotacontemplativeoutreach.org
END:VEVENT
BEGIN:VEVENT
DTSTART;TZID=America/Chicago:20290127T093000
DTEND;TZID=America/Chicago:20290127T103000
DTSTAMP:20260419T182853
CREATED:20250213T214143Z
LAST-MODIFIED:20250213T214143Z
UID:10065772-1864200600-1864204200@cp12stepoutreach.org
SUMMARY:Saturday Group - 12 Step Spirituality - Minneapolis\, Minnesota
DESCRIPTION:Zoom Link: https://zoom.us/j/392510399
URL:https://cp12stepoutreach.org/meeting-or-group/saturday-group-12-step-spirituality-minneapolis-minnesota/2029-01-27/
LOCATION:1st Universalist Church\, Minneapolis\, Minnesota\, 55408\, United States
CATEGORIES:Online 12 Step Centering Prayer Groups
ORGANIZER;CN="Adam Gordon":MAILTO:agordon@minnesotacontemplativeoutreach.org
END:VEVENT
BEGIN:VEVENT
DTSTART;TZID=America/Chicago:20290203T093000
DTEND;TZID=America/Chicago:20290203T103000
DTSTAMP:20260419T182853
CREATED:20250213T214143Z
LAST-MODIFIED:20250213T214143Z
UID:10065773-1864805400-1864809000@cp12stepoutreach.org
SUMMARY:Saturday Group - 12 Step Spirituality - Minneapolis\, Minnesota
DESCRIPTION:Zoom Link: https://zoom.us/j/392510399
URL:https://cp12stepoutreach.org/meeting-or-group/saturday-group-12-step-spirituality-minneapolis-minnesota/2029-02-03/
LOCATION:1st Universalist Church\, Minneapolis\, Minnesota\, 55408\, United States
CATEGORIES:Online 12 Step Centering Prayer Groups
ORGANIZER;CN="Adam Gordon":MAILTO:agordon@minnesotacontemplativeoutreach.org
END:VEVENT
BEGIN:VEVENT
DTSTART;TZID=America/Chicago:20290210T093000
DTEND;TZID=America/Chicago:20290210T103000
DTSTAMP:20260419T182853
CREATED:20250213T214143Z
LAST-MODIFIED:20250213T214143Z
UID:10065774-1865410200-1865413800@cp12stepoutreach.org
SUMMARY:Saturday Group - 12 Step Spirituality - Minneapolis\, Minnesota
DESCRIPTION:Zoom Link: https://zoom.us/j/392510399
URL:https://cp12stepoutreach.org/meeting-or-group/saturday-group-12-step-spirituality-minneapolis-minnesota/2029-02-10/
LOCATION:1st Universalist Church\, Minneapolis\, Minnesota\, 55408\, United States
CATEGORIES:Online 12 Step Centering Prayer Groups
ORGANIZER;CN="Adam Gordon":MAILTO:agordon@minnesotacontemplativeoutreach.org
END:VEVENT
BEGIN:VEVENT
DTSTART;TZID=America/Chicago:20290217T093000
DTEND;TZID=America/Chicago:20290217T103000
DTSTAMP:20260419T182853
CREATED:20250213T214143Z
LAST-MODIFIED:20250213T214143Z
UID:10065775-1866015000-1866018600@cp12stepoutreach.org
SUMMARY:Saturday Group - 12 Step Spirituality - Minneapolis\, Minnesota
DESCRIPTION:Zoom Link: https://zoom.us/j/392510399
URL:https://cp12stepoutreach.org/meeting-or-group/saturday-group-12-step-spirituality-minneapolis-minnesota/2029-02-17/
LOCATION:1st Universalist Church\, Minneapolis\, Minnesota\, 55408\, United States
CATEGORIES:Online 12 Step Centering Prayer Groups
ORGANIZER;CN="Adam Gordon":MAILTO:agordon@minnesotacontemplativeoutreach.org
END:VEVENT
BEGIN:VEVENT
DTSTART;TZID=America/Chicago:20290224T093000
DTEND;TZID=America/Chicago:20290224T103000
DTSTAMP:20260419T182853
CREATED:20250213T214143Z
LAST-MODIFIED:20250213T214143Z
UID:10065776-1866619800-1866623400@cp12stepoutreach.org
SUMMARY:Saturday Group - 12 Step Spirituality - Minneapolis\, Minnesota
DESCRIPTION:Zoom Link: https://zoom.us/j/392510399
URL:https://cp12stepoutreach.org/meeting-or-group/saturday-group-12-step-spirituality-minneapolis-minnesota/2029-02-24/
LOCATION:1st Universalist Church\, Minneapolis\, Minnesota\, 55408\, United States
CATEGORIES:Online 12 Step Centering Prayer Groups
ORGANIZER;CN="Adam Gordon":MAILTO:agordon@minnesotacontemplativeoutreach.org
END:VEVENT
BEGIN:VEVENT
DTSTART;TZID=America/Chicago:20290303T093000
DTEND;TZID=America/Chicago:20290303T103000
DTSTAMP:20260419T182853
CREATED:20250213T214143Z
LAST-MODIFIED:20250213T214143Z
UID:10065777-1867224600-1867228200@cp12stepoutreach.org
SUMMARY:Saturday Group - 12 Step Spirituality - Minneapolis\, Minnesota
DESCRIPTION:Zoom Link: https://zoom.us/j/392510399
URL:https://cp12stepoutreach.org/meeting-or-group/saturday-group-12-step-spirituality-minneapolis-minnesota/2029-03-03/
LOCATION:1st Universalist Church\, Minneapolis\, Minnesota\, 55408\, United States
CATEGORIES:Online 12 Step Centering Prayer Groups
ORGANIZER;CN="Adam Gordon":MAILTO:agordon@minnesotacontemplativeoutreach.org
END:VEVENT
END:VCALENDAR