BEGIN:VCALENDAR
VERSION:2.0
PRODID:-//12 Step Outreach - ECPv6.11.2.1//NONSGML v1.0//EN
CALSCALE:GREGORIAN
METHOD:PUBLISH
X-ORIGINAL-URL:https://cp12stepoutreach.org
X-WR-CALDESC:Events for 12 Step Outreach
REFRESH-INTERVAL;VALUE=DURATION:PT1H
X-Robots-Tag:noindex
X-PUBLISHED-TTL:PT1H
BEGIN:VTIMEZONE
TZID:America/Chicago
BEGIN:DAYLIGHT
TZOFFSETFROM:-0600
TZOFFSETTO:-0500
TZNAME:CDT
DTSTART:20280312T080000
END:DAYLIGHT
BEGIN:STANDARD
TZOFFSETFROM:-0500
TZOFFSETTO:-0600
TZNAME:CST
DTSTART:20281105T070000
END:STANDARD
BEGIN:DAYLIGHT
TZOFFSETFROM:-0600
TZOFFSETTO:-0500
TZNAME:CDT
DTSTART:20290311T080000
END:DAYLIGHT
BEGIN:STANDARD
TZOFFSETFROM:-0500
TZOFFSETTO:-0600
TZNAME:CST
DTSTART:20291104T070000
END:STANDARD
END:VTIMEZONE
BEGIN:VEVENT
DTSTART;TZID=America/Chicago:20281230T093000
DTEND;TZID=America/Chicago:20281230T103000
DTSTAMP:20260419T195730
CREATED:20250213T214143Z
LAST-MODIFIED:20250213T214143Z
UID:10065768-1861781400-1861785000@cp12stepoutreach.org
SUMMARY:Saturday Group - 12 Step Spirituality - Minneapolis\, Minnesota
DESCRIPTION:Zoom Link: https://zoom.us/j/392510399
URL:https://cp12stepoutreach.org/meeting-or-group/saturday-group-12-step-spirituality-minneapolis-minnesota/2028-12-30/
LOCATION:1st Universalist Church\, Minneapolis\, Minnesota\, 55408\, United States
CATEGORIES:Online 12 Step Centering Prayer Groups
ORGANIZER;CN="Adam Gordon":MAILTO:agordon@minnesotacontemplativeoutreach.org
END:VEVENT
BEGIN:VEVENT
DTSTART;TZID=America/Chicago:20290106T093000
DTEND;TZID=America/Chicago:20290106T103000
DTSTAMP:20260419T195730
CREATED:20250213T214143Z
LAST-MODIFIED:20250213T214143Z
UID:10065769-1862386200-1862389800@cp12stepoutreach.org
SUMMARY:Saturday Group - 12 Step Spirituality - Minneapolis\, Minnesota
DESCRIPTION:Zoom Link: https://zoom.us/j/392510399
URL:https://cp12stepoutreach.org/meeting-or-group/saturday-group-12-step-spirituality-minneapolis-minnesota/2029-01-06/
LOCATION:1st Universalist Church\, Minneapolis\, Minnesota\, 55408\, United States
CATEGORIES:Online 12 Step Centering Prayer Groups
ORGANIZER;CN="Adam Gordon":MAILTO:agordon@minnesotacontemplativeoutreach.org
END:VEVENT
BEGIN:VEVENT
DTSTART;TZID=America/Chicago:20290113T093000
DTEND;TZID=America/Chicago:20290113T103000
DTSTAMP:20260419T195730
CREATED:20250213T214143Z
LAST-MODIFIED:20250213T214143Z
UID:10065770-1862991000-1862994600@cp12stepoutreach.org
SUMMARY:Saturday Group - 12 Step Spirituality - Minneapolis\, Minnesota
DESCRIPTION:Zoom Link: https://zoom.us/j/392510399
URL:https://cp12stepoutreach.org/meeting-or-group/saturday-group-12-step-spirituality-minneapolis-minnesota/2029-01-13/
LOCATION:1st Universalist Church\, Minneapolis\, Minnesota\, 55408\, United States
CATEGORIES:Online 12 Step Centering Prayer Groups
ORGANIZER;CN="Adam Gordon":MAILTO:agordon@minnesotacontemplativeoutreach.org
END:VEVENT
BEGIN:VEVENT
DTSTART;TZID=America/Chicago:20290120T093000
DTEND;TZID=America/Chicago:20290120T103000
DTSTAMP:20260419T195730
CREATED:20250213T214143Z
LAST-MODIFIED:20250213T214143Z
UID:10065771-1863595800-1863599400@cp12stepoutreach.org
SUMMARY:Saturday Group - 12 Step Spirituality - Minneapolis\, Minnesota
DESCRIPTION:Zoom Link: https://zoom.us/j/392510399
URL:https://cp12stepoutreach.org/meeting-or-group/saturday-group-12-step-spirituality-minneapolis-minnesota/2029-01-20/
LOCATION:1st Universalist Church\, Minneapolis\, Minnesota\, 55408\, United States
CATEGORIES:Online 12 Step Centering Prayer Groups
ORGANIZER;CN="Adam Gordon":MAILTO:agordon@minnesotacontemplativeoutreach.org
END:VEVENT
BEGIN:VEVENT
DTSTART;TZID=America/Chicago:20290127T093000
DTEND;TZID=America/Chicago:20290127T103000
DTSTAMP:20260419T195730
CREATED:20250213T214143Z
LAST-MODIFIED:20250213T214143Z
UID:10065772-1864200600-1864204200@cp12stepoutreach.org
SUMMARY:Saturday Group - 12 Step Spirituality - Minneapolis\, Minnesota
DESCRIPTION:Zoom Link: https://zoom.us/j/392510399
URL:https://cp12stepoutreach.org/meeting-or-group/saturday-group-12-step-spirituality-minneapolis-minnesota/2029-01-27/
LOCATION:1st Universalist Church\, Minneapolis\, Minnesota\, 55408\, United States
CATEGORIES:Online 12 Step Centering Prayer Groups
ORGANIZER;CN="Adam Gordon":MAILTO:agordon@minnesotacontemplativeoutreach.org
END:VEVENT
BEGIN:VEVENT
DTSTART;TZID=America/Chicago:20290203T093000
DTEND;TZID=America/Chicago:20290203T103000
DTSTAMP:20260419T195730
CREATED:20250213T214143Z
LAST-MODIFIED:20250213T214143Z
UID:10065773-1864805400-1864809000@cp12stepoutreach.org
SUMMARY:Saturday Group - 12 Step Spirituality - Minneapolis\, Minnesota
DESCRIPTION:Zoom Link: https://zoom.us/j/392510399
URL:https://cp12stepoutreach.org/meeting-or-group/saturday-group-12-step-spirituality-minneapolis-minnesota/2029-02-03/
LOCATION:1st Universalist Church\, Minneapolis\, Minnesota\, 55408\, United States
CATEGORIES:Online 12 Step Centering Prayer Groups
ORGANIZER;CN="Adam Gordon":MAILTO:agordon@minnesotacontemplativeoutreach.org
END:VEVENT
BEGIN:VEVENT
DTSTART;TZID=America/Chicago:20290210T093000
DTEND;TZID=America/Chicago:20290210T103000
DTSTAMP:20260419T195730
CREATED:20250213T214143Z
LAST-MODIFIED:20250213T214143Z
UID:10065774-1865410200-1865413800@cp12stepoutreach.org
SUMMARY:Saturday Group - 12 Step Spirituality - Minneapolis\, Minnesota
DESCRIPTION:Zoom Link: https://zoom.us/j/392510399
URL:https://cp12stepoutreach.org/meeting-or-group/saturday-group-12-step-spirituality-minneapolis-minnesota/2029-02-10/
LOCATION:1st Universalist Church\, Minneapolis\, Minnesota\, 55408\, United States
CATEGORIES:Online 12 Step Centering Prayer Groups
ORGANIZER;CN="Adam Gordon":MAILTO:agordon@minnesotacontemplativeoutreach.org
END:VEVENT
BEGIN:VEVENT
DTSTART;TZID=America/Chicago:20290217T093000
DTEND;TZID=America/Chicago:20290217T103000
DTSTAMP:20260419T195730
CREATED:20250213T214143Z
LAST-MODIFIED:20250213T214143Z
UID:10065775-1866015000-1866018600@cp12stepoutreach.org
SUMMARY:Saturday Group - 12 Step Spirituality - Minneapolis\, Minnesota
DESCRIPTION:Zoom Link: https://zoom.us/j/392510399
URL:https://cp12stepoutreach.org/meeting-or-group/saturday-group-12-step-spirituality-minneapolis-minnesota/2029-02-17/
LOCATION:1st Universalist Church\, Minneapolis\, Minnesota\, 55408\, United States
CATEGORIES:Online 12 Step Centering Prayer Groups
ORGANIZER;CN="Adam Gordon":MAILTO:agordon@minnesotacontemplativeoutreach.org
END:VEVENT
BEGIN:VEVENT
DTSTART;TZID=America/Chicago:20290224T093000
DTEND;TZID=America/Chicago:20290224T103000
DTSTAMP:20260419T195730
CREATED:20250213T214143Z
LAST-MODIFIED:20250213T214143Z
UID:10065776-1866619800-1866623400@cp12stepoutreach.org
SUMMARY:Saturday Group - 12 Step Spirituality - Minneapolis\, Minnesota
DESCRIPTION:Zoom Link: https://zoom.us/j/392510399
URL:https://cp12stepoutreach.org/meeting-or-group/saturday-group-12-step-spirituality-minneapolis-minnesota/2029-02-24/
LOCATION:1st Universalist Church\, Minneapolis\, Minnesota\, 55408\, United States
CATEGORIES:Online 12 Step Centering Prayer Groups
ORGANIZER;CN="Adam Gordon":MAILTO:agordon@minnesotacontemplativeoutreach.org
END:VEVENT
BEGIN:VEVENT
DTSTART;TZID=America/Chicago:20290303T093000
DTEND;TZID=America/Chicago:20290303T103000
DTSTAMP:20260419T195730
CREATED:20250213T214143Z
LAST-MODIFIED:20250213T214143Z
UID:10065777-1867224600-1867228200@cp12stepoutreach.org
SUMMARY:Saturday Group - 12 Step Spirituality - Minneapolis\, Minnesota
DESCRIPTION:Zoom Link: https://zoom.us/j/392510399
URL:https://cp12stepoutreach.org/meeting-or-group/saturday-group-12-step-spirituality-minneapolis-minnesota/2029-03-03/
LOCATION:1st Universalist Church\, Minneapolis\, Minnesota\, 55408\, United States
CATEGORIES:Online 12 Step Centering Prayer Groups
ORGANIZER;CN="Adam Gordon":MAILTO:agordon@minnesotacontemplativeoutreach.org
END:VEVENT
BEGIN:VEVENT
DTSTART;TZID=America/Chicago:20290310T093000
DTEND;TZID=America/Chicago:20290310T103000
DTSTAMP:20260419T195730
CREATED:20250213T214143Z
LAST-MODIFIED:20250213T214143Z
UID:10065778-1867829400-1867833000@cp12stepoutreach.org
SUMMARY:Saturday Group - 12 Step Spirituality - Minneapolis\, Minnesota
DESCRIPTION:Zoom Link: https://zoom.us/j/392510399
URL:https://cp12stepoutreach.org/meeting-or-group/saturday-group-12-step-spirituality-minneapolis-minnesota/2029-03-10/
LOCATION:1st Universalist Church\, Minneapolis\, Minnesota\, 55408\, United States
CATEGORIES:Online 12 Step Centering Prayer Groups
ORGANIZER;CN="Adam Gordon":MAILTO:agordon@minnesotacontemplativeoutreach.org
END:VEVENT
BEGIN:VEVENT
DTSTART;TZID=America/Chicago:20290317T093000
DTEND;TZID=America/Chicago:20290317T103000
DTSTAMP:20260419T195730
CREATED:20250213T214143Z
LAST-MODIFIED:20250213T214143Z
UID:10065779-1868434200-1868437800@cp12stepoutreach.org
SUMMARY:Saturday Group - 12 Step Spirituality - Minneapolis\, Minnesota
DESCRIPTION:Zoom Link: https://zoom.us/j/392510399
URL:https://cp12stepoutreach.org/meeting-or-group/saturday-group-12-step-spirituality-minneapolis-minnesota/2029-03-17/
LOCATION:1st Universalist Church\, Minneapolis\, Minnesota\, 55408\, United States
CATEGORIES:Online 12 Step Centering Prayer Groups
ORGANIZER;CN="Adam Gordon":MAILTO:agordon@minnesotacontemplativeoutreach.org
END:VEVENT
BEGIN:VEVENT
DTSTART;TZID=America/Chicago:20290324T093000
DTEND;TZID=America/Chicago:20290324T103000
DTSTAMP:20260419T195730
CREATED:20250213T214143Z
LAST-MODIFIED:20250213T214143Z
UID:10065780-1869039000-1869042600@cp12stepoutreach.org
SUMMARY:Saturday Group - 12 Step Spirituality - Minneapolis\, Minnesota
DESCRIPTION:Zoom Link: https://zoom.us/j/392510399
URL:https://cp12stepoutreach.org/meeting-or-group/saturday-group-12-step-spirituality-minneapolis-minnesota/2029-03-24/
LOCATION:1st Universalist Church\, Minneapolis\, Minnesota\, 55408\, United States
CATEGORIES:Online 12 Step Centering Prayer Groups
ORGANIZER;CN="Adam Gordon":MAILTO:agordon@minnesotacontemplativeoutreach.org
END:VEVENT
BEGIN:VEVENT
DTSTART;TZID=America/Chicago:20290331T093000
DTEND;TZID=America/Chicago:20290331T103000
DTSTAMP:20260419T195730
CREATED:20250213T214143Z
LAST-MODIFIED:20250213T214143Z
UID:10065781-1869643800-1869647400@cp12stepoutreach.org
SUMMARY:Saturday Group - 12 Step Spirituality - Minneapolis\, Minnesota
DESCRIPTION:Zoom Link: https://zoom.us/j/392510399
URL:https://cp12stepoutreach.org/meeting-or-group/saturday-group-12-step-spirituality-minneapolis-minnesota/2029-03-31/
LOCATION:1st Universalist Church\, Minneapolis\, Minnesota\, 55408\, United States
CATEGORIES:Online 12 Step Centering Prayer Groups
ORGANIZER;CN="Adam Gordon":MAILTO:agordon@minnesotacontemplativeoutreach.org
END:VEVENT
BEGIN:VEVENT
DTSTART;TZID=America/Chicago:20290407T093000
DTEND;TZID=America/Chicago:20290407T103000
DTSTAMP:20260419T195730
CREATED:20250213T214143Z
LAST-MODIFIED:20250213T214143Z
UID:10065782-1870248600-1870252200@cp12stepoutreach.org
SUMMARY:Saturday Group - 12 Step Spirituality - Minneapolis\, Minnesota
DESCRIPTION:Zoom Link: https://zoom.us/j/392510399
URL:https://cp12stepoutreach.org/meeting-or-group/saturday-group-12-step-spirituality-minneapolis-minnesota/2029-04-07/
LOCATION:1st Universalist Church\, Minneapolis\, Minnesota\, 55408\, United States
CATEGORIES:Online 12 Step Centering Prayer Groups
ORGANIZER;CN="Adam Gordon":MAILTO:agordon@minnesotacontemplativeoutreach.org
END:VEVENT
BEGIN:VEVENT
DTSTART;TZID=America/Chicago:20290414T093000
DTEND;TZID=America/Chicago:20290414T103000
DTSTAMP:20260419T195730
CREATED:20250213T214143Z
LAST-MODIFIED:20250213T214143Z
UID:10065783-1870853400-1870857000@cp12stepoutreach.org
SUMMARY:Saturday Group - 12 Step Spirituality - Minneapolis\, Minnesota
DESCRIPTION:Zoom Link: https://zoom.us/j/392510399
URL:https://cp12stepoutreach.org/meeting-or-group/saturday-group-12-step-spirituality-minneapolis-minnesota/2029-04-14/
LOCATION:1st Universalist Church\, Minneapolis\, Minnesota\, 55408\, United States
CATEGORIES:Online 12 Step Centering Prayer Groups
ORGANIZER;CN="Adam Gordon":MAILTO:agordon@minnesotacontemplativeoutreach.org
END:VEVENT
BEGIN:VEVENT
DTSTART;TZID=America/Chicago:20290421T093000
DTEND;TZID=America/Chicago:20290421T103000
DTSTAMP:20260419T195730
CREATED:20250213T214143Z
LAST-MODIFIED:20250213T214143Z
UID:10065784-1871458200-1871461800@cp12stepoutreach.org
SUMMARY:Saturday Group - 12 Step Spirituality - Minneapolis\, Minnesota
DESCRIPTION:Zoom Link: https://zoom.us/j/392510399
URL:https://cp12stepoutreach.org/meeting-or-group/saturday-group-12-step-spirituality-minneapolis-minnesota/2029-04-21/
LOCATION:1st Universalist Church\, Minneapolis\, Minnesota\, 55408\, United States
CATEGORIES:Online 12 Step Centering Prayer Groups
ORGANIZER;CN="Adam Gordon":MAILTO:agordon@minnesotacontemplativeoutreach.org
END:VEVENT
BEGIN:VEVENT
DTSTART;TZID=America/Chicago:20290428T093000
DTEND;TZID=America/Chicago:20290428T103000
DTSTAMP:20260419T195730
CREATED:20250213T214143Z
LAST-MODIFIED:20250213T214143Z
UID:10065785-1872063000-1872066600@cp12stepoutreach.org
SUMMARY:Saturday Group - 12 Step Spirituality - Minneapolis\, Minnesota
DESCRIPTION:Zoom Link: https://zoom.us/j/392510399
URL:https://cp12stepoutreach.org/meeting-or-group/saturday-group-12-step-spirituality-minneapolis-minnesota/2029-04-28/
LOCATION:1st Universalist Church\, Minneapolis\, Minnesota\, 55408\, United States
CATEGORIES:Online 12 Step Centering Prayer Groups
ORGANIZER;CN="Adam Gordon":MAILTO:agordon@minnesotacontemplativeoutreach.org
END:VEVENT
BEGIN:VEVENT
DTSTART;TZID=America/Chicago:20290505T093000
DTEND;TZID=America/Chicago:20290505T103000
DTSTAMP:20260419T195730
CREATED:20250213T214143Z
LAST-MODIFIED:20250213T214143Z
UID:10065786-1872667800-1872671400@cp12stepoutreach.org
SUMMARY:Saturday Group - 12 Step Spirituality - Minneapolis\, Minnesota
DESCRIPTION:Zoom Link: https://zoom.us/j/392510399
URL:https://cp12stepoutreach.org/meeting-or-group/saturday-group-12-step-spirituality-minneapolis-minnesota/2029-05-05/
LOCATION:1st Universalist Church\, Minneapolis\, Minnesota\, 55408\, United States
CATEGORIES:Online 12 Step Centering Prayer Groups
ORGANIZER;CN="Adam Gordon":MAILTO:agordon@minnesotacontemplativeoutreach.org
END:VEVENT
BEGIN:VEVENT
DTSTART;TZID=America/Chicago:20290512T093000
DTEND;TZID=America/Chicago:20290512T103000
DTSTAMP:20260419T195730
CREATED:20250213T214143Z
LAST-MODIFIED:20250213T214143Z
UID:10065787-1873272600-1873276200@cp12stepoutreach.org
SUMMARY:Saturday Group - 12 Step Spirituality - Minneapolis\, Minnesota
DESCRIPTION:Zoom Link: https://zoom.us/j/392510399
URL:https://cp12stepoutreach.org/meeting-or-group/saturday-group-12-step-spirituality-minneapolis-minnesota/2029-05-12/
LOCATION:1st Universalist Church\, Minneapolis\, Minnesota\, 55408\, United States
CATEGORIES:Online 12 Step Centering Prayer Groups
ORGANIZER;CN="Adam Gordon":MAILTO:agordon@minnesotacontemplativeoutreach.org
END:VEVENT
BEGIN:VEVENT
DTSTART;TZID=America/Chicago:20290519T093000
DTEND;TZID=America/Chicago:20290519T103000
DTSTAMP:20260419T195730
CREATED:20250213T214143Z
LAST-MODIFIED:20250213T214143Z
UID:10065788-1873877400-1873881000@cp12stepoutreach.org
SUMMARY:Saturday Group - 12 Step Spirituality - Minneapolis\, Minnesota
DESCRIPTION:Zoom Link: https://zoom.us/j/392510399
URL:https://cp12stepoutreach.org/meeting-or-group/saturday-group-12-step-spirituality-minneapolis-minnesota/2029-05-19/
LOCATION:1st Universalist Church\, Minneapolis\, Minnesota\, 55408\, United States
CATEGORIES:Online 12 Step Centering Prayer Groups
ORGANIZER;CN="Adam Gordon":MAILTO:agordon@minnesotacontemplativeoutreach.org
END:VEVENT
BEGIN:VEVENT
DTSTART;TZID=America/Chicago:20290526T093000
DTEND;TZID=America/Chicago:20290526T103000
DTSTAMP:20260419T195730
CREATED:20250213T214143Z
LAST-MODIFIED:20250213T214143Z
UID:10065789-1874482200-1874485800@cp12stepoutreach.org
SUMMARY:Saturday Group - 12 Step Spirituality - Minneapolis\, Minnesota
DESCRIPTION:Zoom Link: https://zoom.us/j/392510399
URL:https://cp12stepoutreach.org/meeting-or-group/saturday-group-12-step-spirituality-minneapolis-minnesota/2029-05-26/
LOCATION:1st Universalist Church\, Minneapolis\, Minnesota\, 55408\, United States
CATEGORIES:Online 12 Step Centering Prayer Groups
ORGANIZER;CN="Adam Gordon":MAILTO:agordon@minnesotacontemplativeoutreach.org
END:VEVENT
BEGIN:VEVENT
DTSTART;TZID=America/Chicago:20290602T093000
DTEND;TZID=America/Chicago:20290602T103000
DTSTAMP:20260419T195730
CREATED:20250213T214143Z
LAST-MODIFIED:20250213T214143Z
UID:10065790-1875087000-1875090600@cp12stepoutreach.org
SUMMARY:Saturday Group - 12 Step Spirituality - Minneapolis\, Minnesota
DESCRIPTION:Zoom Link: https://zoom.us/j/392510399
URL:https://cp12stepoutreach.org/meeting-or-group/saturday-group-12-step-spirituality-minneapolis-minnesota/2029-06-02/
LOCATION:1st Universalist Church\, Minneapolis\, Minnesota\, 55408\, United States
CATEGORIES:Online 12 Step Centering Prayer Groups
ORGANIZER;CN="Adam Gordon":MAILTO:agordon@minnesotacontemplativeoutreach.org
END:VEVENT
BEGIN:VEVENT
DTSTART;TZID=America/Chicago:20290609T093000
DTEND;TZID=America/Chicago:20290609T103000
DTSTAMP:20260419T195730
CREATED:20250213T214143Z
LAST-MODIFIED:20250213T214143Z
UID:10065791-1875691800-1875695400@cp12stepoutreach.org
SUMMARY:Saturday Group - 12 Step Spirituality - Minneapolis\, Minnesota
DESCRIPTION:Zoom Link: https://zoom.us/j/392510399
URL:https://cp12stepoutreach.org/meeting-or-group/saturday-group-12-step-spirituality-minneapolis-minnesota/2029-06-09/
LOCATION:1st Universalist Church\, Minneapolis\, Minnesota\, 55408\, United States
CATEGORIES:Online 12 Step Centering Prayer Groups
ORGANIZER;CN="Adam Gordon":MAILTO:agordon@minnesotacontemplativeoutreach.org
END:VEVENT
BEGIN:VEVENT
DTSTART;TZID=America/Chicago:20290616T093000
DTEND;TZID=America/Chicago:20290616T103000
DTSTAMP:20260419T195730
CREATED:20250213T214143Z
LAST-MODIFIED:20250213T214143Z
UID:10065792-1876296600-1876300200@cp12stepoutreach.org
SUMMARY:Saturday Group - 12 Step Spirituality - Minneapolis\, Minnesota
DESCRIPTION:Zoom Link: https://zoom.us/j/392510399
URL:https://cp12stepoutreach.org/meeting-or-group/saturday-group-12-step-spirituality-minneapolis-minnesota/2029-06-16/
LOCATION:1st Universalist Church\, Minneapolis\, Minnesota\, 55408\, United States
CATEGORIES:Online 12 Step Centering Prayer Groups
ORGANIZER;CN="Adam Gordon":MAILTO:agordon@minnesotacontemplativeoutreach.org
END:VEVENT
BEGIN:VEVENT
DTSTART;TZID=America/Chicago:20290623T093000
DTEND;TZID=America/Chicago:20290623T103000
DTSTAMP:20260419T195730
CREATED:20250213T214143Z
LAST-MODIFIED:20250213T214143Z
UID:10065793-1876901400-1876905000@cp12stepoutreach.org
SUMMARY:Saturday Group - 12 Step Spirituality - Minneapolis\, Minnesota
DESCRIPTION:Zoom Link: https://zoom.us/j/392510399
URL:https://cp12stepoutreach.org/meeting-or-group/saturday-group-12-step-spirituality-minneapolis-minnesota/2029-06-23/
LOCATION:1st Universalist Church\, Minneapolis\, Minnesota\, 55408\, United States
CATEGORIES:Online 12 Step Centering Prayer Groups
ORGANIZER;CN="Adam Gordon":MAILTO:agordon@minnesotacontemplativeoutreach.org
END:VEVENT
BEGIN:VEVENT
DTSTART;TZID=America/Chicago:20290630T093000
DTEND;TZID=America/Chicago:20290630T103000
DTSTAMP:20260419T195730
CREATED:20250213T214143Z
LAST-MODIFIED:20250213T214143Z
UID:10065794-1877506200-1877509800@cp12stepoutreach.org
SUMMARY:Saturday Group - 12 Step Spirituality - Minneapolis\, Minnesota
DESCRIPTION:Zoom Link: https://zoom.us/j/392510399
URL:https://cp12stepoutreach.org/meeting-or-group/saturday-group-12-step-spirituality-minneapolis-minnesota/2029-06-30/
LOCATION:1st Universalist Church\, Minneapolis\, Minnesota\, 55408\, United States
CATEGORIES:Online 12 Step Centering Prayer Groups
ORGANIZER;CN="Adam Gordon":MAILTO:agordon@minnesotacontemplativeoutreach.org
END:VEVENT
BEGIN:VEVENT
DTSTART;TZID=America/Chicago:20290707T093000
DTEND;TZID=America/Chicago:20290707T103000
DTSTAMP:20260419T195730
CREATED:20250213T214143Z
LAST-MODIFIED:20250213T214143Z
UID:10065795-1878111000-1878114600@cp12stepoutreach.org
SUMMARY:Saturday Group - 12 Step Spirituality - Minneapolis\, Minnesota
DESCRIPTION:Zoom Link: https://zoom.us/j/392510399
URL:https://cp12stepoutreach.org/meeting-or-group/saturday-group-12-step-spirituality-minneapolis-minnesota/2029-07-07/
LOCATION:1st Universalist Church\, Minneapolis\, Minnesota\, 55408\, United States
CATEGORIES:Online 12 Step Centering Prayer Groups
ORGANIZER;CN="Adam Gordon":MAILTO:agordon@minnesotacontemplativeoutreach.org
END:VEVENT
BEGIN:VEVENT
DTSTART;TZID=America/Chicago:20290714T093000
DTEND;TZID=America/Chicago:20290714T103000
DTSTAMP:20260419T195730
CREATED:20250213T214143Z
LAST-MODIFIED:20250213T214143Z
UID:10065796-1878715800-1878719400@cp12stepoutreach.org
SUMMARY:Saturday Group - 12 Step Spirituality - Minneapolis\, Minnesota
DESCRIPTION:Zoom Link: https://zoom.us/j/392510399
URL:https://cp12stepoutreach.org/meeting-or-group/saturday-group-12-step-spirituality-minneapolis-minnesota/2029-07-14/
LOCATION:1st Universalist Church\, Minneapolis\, Minnesota\, 55408\, United States
CATEGORIES:Online 12 Step Centering Prayer Groups
ORGANIZER;CN="Adam Gordon":MAILTO:agordon@minnesotacontemplativeoutreach.org
END:VEVENT
BEGIN:VEVENT
DTSTART;TZID=America/Chicago:20290721T093000
DTEND;TZID=America/Chicago:20290721T103000
DTSTAMP:20260419T195730
CREATED:20250213T214143Z
LAST-MODIFIED:20250213T214143Z
UID:10065797-1879320600-1879324200@cp12stepoutreach.org
SUMMARY:Saturday Group - 12 Step Spirituality - Minneapolis\, Minnesota
DESCRIPTION:Zoom Link: https://zoom.us/j/392510399
URL:https://cp12stepoutreach.org/meeting-or-group/saturday-group-12-step-spirituality-minneapolis-minnesota/2029-07-21/
LOCATION:1st Universalist Church\, Minneapolis\, Minnesota\, 55408\, United States
CATEGORIES:Online 12 Step Centering Prayer Groups
ORGANIZER;CN="Adam Gordon":MAILTO:agordon@minnesotacontemplativeoutreach.org
END:VEVENT
END:VCALENDAR