BEGIN:VCALENDAR
VERSION:2.0
PRODID:-//12 Step Outreach - ECPv6.11.2.1//NONSGML v1.0//EN
CALSCALE:GREGORIAN
METHOD:PUBLISH
X-WR-CALNAME:12 Step Outreach
X-ORIGINAL-URL:https://cp12stepoutreach.org
X-WR-CALDESC:Events for 12 Step Outreach
REFRESH-INTERVAL;VALUE=DURATION:PT1H
X-Robots-Tag:noindex
X-PUBLISHED-TTL:PT1H
BEGIN:VTIMEZONE
TZID:America/Chicago
BEGIN:DAYLIGHT
TZOFFSETFROM:-0600
TZOFFSETTO:-0500
TZNAME:CDT
DTSTART:20290311T080000
END:DAYLIGHT
BEGIN:STANDARD
TZOFFSETFROM:-0500
TZOFFSETTO:-0600
TZNAME:CST
DTSTART:20291104T070000
END:STANDARD
END:VTIMEZONE
BEGIN:VEVENT
DTSTART;TZID=America/Chicago:20290519T093000
DTEND;TZID=America/Chicago:20290519T103000
DTSTAMP:20260419T212541
CREATED:20250213T214143Z
LAST-MODIFIED:20250213T214143Z
UID:10065788-1873877400-1873881000@cp12stepoutreach.org
SUMMARY:Saturday Group - 12 Step Spirituality - Minneapolis\, Minnesota
DESCRIPTION:Zoom Link: https://zoom.us/j/392510399
URL:https://cp12stepoutreach.org/meeting-or-group/saturday-group-12-step-spirituality-minneapolis-minnesota/2029-05-19/
LOCATION:1st Universalist Church\, Minneapolis\, Minnesota\, 55408\, United States
CATEGORIES:Online 12 Step Centering Prayer Groups
ORGANIZER;CN="Adam Gordon":MAILTO:agordon@minnesotacontemplativeoutreach.org
END:VEVENT
BEGIN:VEVENT
DTSTART;TZID=America/Chicago:20290526T093000
DTEND;TZID=America/Chicago:20290526T103000
DTSTAMP:20260419T212541
CREATED:20250213T214143Z
LAST-MODIFIED:20250213T214143Z
UID:10065789-1874482200-1874485800@cp12stepoutreach.org
SUMMARY:Saturday Group - 12 Step Spirituality - Minneapolis\, Minnesota
DESCRIPTION:Zoom Link: https://zoom.us/j/392510399
URL:https://cp12stepoutreach.org/meeting-or-group/saturday-group-12-step-spirituality-minneapolis-minnesota/2029-05-26/
LOCATION:1st Universalist Church\, Minneapolis\, Minnesota\, 55408\, United States
CATEGORIES:Online 12 Step Centering Prayer Groups
ORGANIZER;CN="Adam Gordon":MAILTO:agordon@minnesotacontemplativeoutreach.org
END:VEVENT
BEGIN:VEVENT
DTSTART;TZID=America/Chicago:20290602T093000
DTEND;TZID=America/Chicago:20290602T103000
DTSTAMP:20260419T212541
CREATED:20250213T214143Z
LAST-MODIFIED:20250213T214143Z
UID:10065790-1875087000-1875090600@cp12stepoutreach.org
SUMMARY:Saturday Group - 12 Step Spirituality - Minneapolis\, Minnesota
DESCRIPTION:Zoom Link: https://zoom.us/j/392510399
URL:https://cp12stepoutreach.org/meeting-or-group/saturday-group-12-step-spirituality-minneapolis-minnesota/2029-06-02/
LOCATION:1st Universalist Church\, Minneapolis\, Minnesota\, 55408\, United States
CATEGORIES:Online 12 Step Centering Prayer Groups
ORGANIZER;CN="Adam Gordon":MAILTO:agordon@minnesotacontemplativeoutreach.org
END:VEVENT
BEGIN:VEVENT
DTSTART;TZID=America/Chicago:20290609T093000
DTEND;TZID=America/Chicago:20290609T103000
DTSTAMP:20260419T212541
CREATED:20250213T214143Z
LAST-MODIFIED:20250213T214143Z
UID:10065791-1875691800-1875695400@cp12stepoutreach.org
SUMMARY:Saturday Group - 12 Step Spirituality - Minneapolis\, Minnesota
DESCRIPTION:Zoom Link: https://zoom.us/j/392510399
URL:https://cp12stepoutreach.org/meeting-or-group/saturday-group-12-step-spirituality-minneapolis-minnesota/2029-06-09/
LOCATION:1st Universalist Church\, Minneapolis\, Minnesota\, 55408\, United States
CATEGORIES:Online 12 Step Centering Prayer Groups
ORGANIZER;CN="Adam Gordon":MAILTO:agordon@minnesotacontemplativeoutreach.org
END:VEVENT
BEGIN:VEVENT
DTSTART;TZID=America/Chicago:20290616T093000
DTEND;TZID=America/Chicago:20290616T103000
DTSTAMP:20260419T212541
CREATED:20250213T214143Z
LAST-MODIFIED:20250213T214143Z
UID:10065792-1876296600-1876300200@cp12stepoutreach.org
SUMMARY:Saturday Group - 12 Step Spirituality - Minneapolis\, Minnesota
DESCRIPTION:Zoom Link: https://zoom.us/j/392510399
URL:https://cp12stepoutreach.org/meeting-or-group/saturday-group-12-step-spirituality-minneapolis-minnesota/2029-06-16/
LOCATION:1st Universalist Church\, Minneapolis\, Minnesota\, 55408\, United States
CATEGORIES:Online 12 Step Centering Prayer Groups
ORGANIZER;CN="Adam Gordon":MAILTO:agordon@minnesotacontemplativeoutreach.org
END:VEVENT
BEGIN:VEVENT
DTSTART;TZID=America/Chicago:20290623T093000
DTEND;TZID=America/Chicago:20290623T103000
DTSTAMP:20260419T212541
CREATED:20250213T214143Z
LAST-MODIFIED:20250213T214143Z
UID:10065793-1876901400-1876905000@cp12stepoutreach.org
SUMMARY:Saturday Group - 12 Step Spirituality - Minneapolis\, Minnesota
DESCRIPTION:Zoom Link: https://zoom.us/j/392510399
URL:https://cp12stepoutreach.org/meeting-or-group/saturday-group-12-step-spirituality-minneapolis-minnesota/2029-06-23/
LOCATION:1st Universalist Church\, Minneapolis\, Minnesota\, 55408\, United States
CATEGORIES:Online 12 Step Centering Prayer Groups
ORGANIZER;CN="Adam Gordon":MAILTO:agordon@minnesotacontemplativeoutreach.org
END:VEVENT
BEGIN:VEVENT
DTSTART;TZID=America/Chicago:20290630T093000
DTEND;TZID=America/Chicago:20290630T103000
DTSTAMP:20260419T212541
CREATED:20250213T214143Z
LAST-MODIFIED:20250213T214143Z
UID:10065794-1877506200-1877509800@cp12stepoutreach.org
SUMMARY:Saturday Group - 12 Step Spirituality - Minneapolis\, Minnesota
DESCRIPTION:Zoom Link: https://zoom.us/j/392510399
URL:https://cp12stepoutreach.org/meeting-or-group/saturday-group-12-step-spirituality-minneapolis-minnesota/2029-06-30/
LOCATION:1st Universalist Church\, Minneapolis\, Minnesota\, 55408\, United States
CATEGORIES:Online 12 Step Centering Prayer Groups
ORGANIZER;CN="Adam Gordon":MAILTO:agordon@minnesotacontemplativeoutreach.org
END:VEVENT
BEGIN:VEVENT
DTSTART;TZID=America/Chicago:20290707T093000
DTEND;TZID=America/Chicago:20290707T103000
DTSTAMP:20260419T212541
CREATED:20250213T214143Z
LAST-MODIFIED:20250213T214143Z
UID:10065795-1878111000-1878114600@cp12stepoutreach.org
SUMMARY:Saturday Group - 12 Step Spirituality - Minneapolis\, Minnesota
DESCRIPTION:Zoom Link: https://zoom.us/j/392510399
URL:https://cp12stepoutreach.org/meeting-or-group/saturday-group-12-step-spirituality-minneapolis-minnesota/2029-07-07/
LOCATION:1st Universalist Church\, Minneapolis\, Minnesota\, 55408\, United States
CATEGORIES:Online 12 Step Centering Prayer Groups
ORGANIZER;CN="Adam Gordon":MAILTO:agordon@minnesotacontemplativeoutreach.org
END:VEVENT
BEGIN:VEVENT
DTSTART;TZID=America/Chicago:20290714T093000
DTEND;TZID=America/Chicago:20290714T103000
DTSTAMP:20260419T212541
CREATED:20250213T214143Z
LAST-MODIFIED:20250213T214143Z
UID:10065796-1878715800-1878719400@cp12stepoutreach.org
SUMMARY:Saturday Group - 12 Step Spirituality - Minneapolis\, Minnesota
DESCRIPTION:Zoom Link: https://zoom.us/j/392510399
URL:https://cp12stepoutreach.org/meeting-or-group/saturday-group-12-step-spirituality-minneapolis-minnesota/2029-07-14/
LOCATION:1st Universalist Church\, Minneapolis\, Minnesota\, 55408\, United States
CATEGORIES:Online 12 Step Centering Prayer Groups
ORGANIZER;CN="Adam Gordon":MAILTO:agordon@minnesotacontemplativeoutreach.org
END:VEVENT
BEGIN:VEVENT
DTSTART;TZID=America/Chicago:20290721T093000
DTEND;TZID=America/Chicago:20290721T103000
DTSTAMP:20260419T212541
CREATED:20250213T214143Z
LAST-MODIFIED:20250213T214143Z
UID:10065797-1879320600-1879324200@cp12stepoutreach.org
SUMMARY:Saturday Group - 12 Step Spirituality - Minneapolis\, Minnesota
DESCRIPTION:Zoom Link: https://zoom.us/j/392510399
URL:https://cp12stepoutreach.org/meeting-or-group/saturday-group-12-step-spirituality-minneapolis-minnesota/2029-07-21/
LOCATION:1st Universalist Church\, Minneapolis\, Minnesota\, 55408\, United States
CATEGORIES:Online 12 Step Centering Prayer Groups
ORGANIZER;CN="Adam Gordon":MAILTO:agordon@minnesotacontemplativeoutreach.org
END:VEVENT
BEGIN:VEVENT
DTSTART;TZID=America/Chicago:20290728T093000
DTEND;TZID=America/Chicago:20290728T103000
DTSTAMP:20260419T212541
CREATED:20250213T214143Z
LAST-MODIFIED:20250213T214143Z
UID:10065798-1879925400-1879929000@cp12stepoutreach.org
SUMMARY:Saturday Group - 12 Step Spirituality - Minneapolis\, Minnesota
DESCRIPTION:Zoom Link: https://zoom.us/j/392510399
URL:https://cp12stepoutreach.org/meeting-or-group/saturday-group-12-step-spirituality-minneapolis-minnesota/2029-07-28/
LOCATION:1st Universalist Church\, Minneapolis\, Minnesota\, 55408\, United States
CATEGORIES:Online 12 Step Centering Prayer Groups
ORGANIZER;CN="Adam Gordon":MAILTO:agordon@minnesotacontemplativeoutreach.org
END:VEVENT
BEGIN:VEVENT
DTSTART;TZID=America/Chicago:20290804T093000
DTEND;TZID=America/Chicago:20290804T103000
DTSTAMP:20260419T212541
CREATED:20250213T214143Z
LAST-MODIFIED:20250213T214143Z
UID:10065799-1880530200-1880533800@cp12stepoutreach.org
SUMMARY:Saturday Group - 12 Step Spirituality - Minneapolis\, Minnesota
DESCRIPTION:Zoom Link: https://zoom.us/j/392510399
URL:https://cp12stepoutreach.org/meeting-or-group/saturday-group-12-step-spirituality-minneapolis-minnesota/2029-08-04/
LOCATION:1st Universalist Church\, Minneapolis\, Minnesota\, 55408\, United States
CATEGORIES:Online 12 Step Centering Prayer Groups
ORGANIZER;CN="Adam Gordon":MAILTO:agordon@minnesotacontemplativeoutreach.org
END:VEVENT
BEGIN:VEVENT
DTSTART;TZID=America/Chicago:20290811T093000
DTEND;TZID=America/Chicago:20290811T103000
DTSTAMP:20260419T212541
CREATED:20250213T214143Z
LAST-MODIFIED:20250213T214143Z
UID:10065800-1881135000-1881138600@cp12stepoutreach.org
SUMMARY:Saturday Group - 12 Step Spirituality - Minneapolis\, Minnesota
DESCRIPTION:Zoom Link: https://zoom.us/j/392510399
URL:https://cp12stepoutreach.org/meeting-or-group/saturday-group-12-step-spirituality-minneapolis-minnesota/2029-08-11/
LOCATION:1st Universalist Church\, Minneapolis\, Minnesota\, 55408\, United States
CATEGORIES:Online 12 Step Centering Prayer Groups
ORGANIZER;CN="Adam Gordon":MAILTO:agordon@minnesotacontemplativeoutreach.org
END:VEVENT
BEGIN:VEVENT
DTSTART;TZID=America/Chicago:20290818T093000
DTEND;TZID=America/Chicago:20290818T103000
DTSTAMP:20260419T212541
CREATED:20250213T214143Z
LAST-MODIFIED:20250213T214143Z
UID:10065801-1881739800-1881743400@cp12stepoutreach.org
SUMMARY:Saturday Group - 12 Step Spirituality - Minneapolis\, Minnesota
DESCRIPTION:Zoom Link: https://zoom.us/j/392510399
URL:https://cp12stepoutreach.org/meeting-or-group/saturday-group-12-step-spirituality-minneapolis-minnesota/2029-08-18/
LOCATION:1st Universalist Church\, Minneapolis\, Minnesota\, 55408\, United States
CATEGORIES:Online 12 Step Centering Prayer Groups
ORGANIZER;CN="Adam Gordon":MAILTO:agordon@minnesotacontemplativeoutreach.org
END:VEVENT
BEGIN:VEVENT
DTSTART;TZID=America/Chicago:20290825T093000
DTEND;TZID=America/Chicago:20290825T103000
DTSTAMP:20260419T212541
CREATED:20250213T214143Z
LAST-MODIFIED:20250213T214143Z
UID:10065802-1882344600-1882348200@cp12stepoutreach.org
SUMMARY:Saturday Group - 12 Step Spirituality - Minneapolis\, Minnesota
DESCRIPTION:Zoom Link: https://zoom.us/j/392510399
URL:https://cp12stepoutreach.org/meeting-or-group/saturday-group-12-step-spirituality-minneapolis-minnesota/2029-08-25/
LOCATION:1st Universalist Church\, Minneapolis\, Minnesota\, 55408\, United States
CATEGORIES:Online 12 Step Centering Prayer Groups
ORGANIZER;CN="Adam Gordon":MAILTO:agordon@minnesotacontemplativeoutreach.org
END:VEVENT
BEGIN:VEVENT
DTSTART;TZID=America/Chicago:20290901T093000
DTEND;TZID=America/Chicago:20290901T103000
DTSTAMP:20260419T212541
CREATED:20250213T214143Z
LAST-MODIFIED:20250213T214143Z
UID:10065803-1882949400-1882953000@cp12stepoutreach.org
SUMMARY:Saturday Group - 12 Step Spirituality - Minneapolis\, Minnesota
DESCRIPTION:Zoom Link: https://zoom.us/j/392510399
URL:https://cp12stepoutreach.org/meeting-or-group/saturday-group-12-step-spirituality-minneapolis-minnesota/2029-09-01/
LOCATION:1st Universalist Church\, Minneapolis\, Minnesota\, 55408\, United States
CATEGORIES:Online 12 Step Centering Prayer Groups
ORGANIZER;CN="Adam Gordon":MAILTO:agordon@minnesotacontemplativeoutreach.org
END:VEVENT
BEGIN:VEVENT
DTSTART;TZID=America/Chicago:20290908T093000
DTEND;TZID=America/Chicago:20290908T103000
DTSTAMP:20260419T212541
CREATED:20250213T214143Z
LAST-MODIFIED:20250213T214143Z
UID:10065804-1883554200-1883557800@cp12stepoutreach.org
SUMMARY:Saturday Group - 12 Step Spirituality - Minneapolis\, Minnesota
DESCRIPTION:Zoom Link: https://zoom.us/j/392510399
URL:https://cp12stepoutreach.org/meeting-or-group/saturday-group-12-step-spirituality-minneapolis-minnesota/2029-09-08/
LOCATION:1st Universalist Church\, Minneapolis\, Minnesota\, 55408\, United States
CATEGORIES:Online 12 Step Centering Prayer Groups
ORGANIZER;CN="Adam Gordon":MAILTO:agordon@minnesotacontemplativeoutreach.org
END:VEVENT
BEGIN:VEVENT
DTSTART;TZID=America/Chicago:20290915T093000
DTEND;TZID=America/Chicago:20290915T103000
DTSTAMP:20260419T212541
CREATED:20250213T214143Z
LAST-MODIFIED:20250213T214143Z
UID:10065805-1884159000-1884162600@cp12stepoutreach.org
SUMMARY:Saturday Group - 12 Step Spirituality - Minneapolis\, Minnesota
DESCRIPTION:Zoom Link: https://zoom.us/j/392510399
URL:https://cp12stepoutreach.org/meeting-or-group/saturday-group-12-step-spirituality-minneapolis-minnesota/2029-09-15/
LOCATION:1st Universalist Church\, Minneapolis\, Minnesota\, 55408\, United States
CATEGORIES:Online 12 Step Centering Prayer Groups
ORGANIZER;CN="Adam Gordon":MAILTO:agordon@minnesotacontemplativeoutreach.org
END:VEVENT
BEGIN:VEVENT
DTSTART;TZID=America/Chicago:20290922T093000
DTEND;TZID=America/Chicago:20290922T103000
DTSTAMP:20260419T212541
CREATED:20250213T214143Z
LAST-MODIFIED:20250213T214143Z
UID:10065806-1884763800-1884767400@cp12stepoutreach.org
SUMMARY:Saturday Group - 12 Step Spirituality - Minneapolis\, Minnesota
DESCRIPTION:Zoom Link: https://zoom.us/j/392510399
URL:https://cp12stepoutreach.org/meeting-or-group/saturday-group-12-step-spirituality-minneapolis-minnesota/2029-09-22/
LOCATION:1st Universalist Church\, Minneapolis\, Minnesota\, 55408\, United States
CATEGORIES:Online 12 Step Centering Prayer Groups
ORGANIZER;CN="Adam Gordon":MAILTO:agordon@minnesotacontemplativeoutreach.org
END:VEVENT
BEGIN:VEVENT
DTSTART;TZID=America/Chicago:20290929T093000
DTEND;TZID=America/Chicago:20290929T103000
DTSTAMP:20260419T212541
CREATED:20250213T214143Z
LAST-MODIFIED:20250213T214143Z
UID:10065807-1885368600-1885372200@cp12stepoutreach.org
SUMMARY:Saturday Group - 12 Step Spirituality - Minneapolis\, Minnesota
DESCRIPTION:Zoom Link: https://zoom.us/j/392510399
URL:https://cp12stepoutreach.org/meeting-or-group/saturday-group-12-step-spirituality-minneapolis-minnesota/2029-09-29/
LOCATION:1st Universalist Church\, Minneapolis\, Minnesota\, 55408\, United States
CATEGORIES:Online 12 Step Centering Prayer Groups
ORGANIZER;CN="Adam Gordon":MAILTO:agordon@minnesotacontemplativeoutreach.org
END:VEVENT
BEGIN:VEVENT
DTSTART;TZID=America/Chicago:20291006T093000
DTEND;TZID=America/Chicago:20291006T103000
DTSTAMP:20260419T212541
CREATED:20250213T214143Z
LAST-MODIFIED:20250213T214143Z
UID:10065808-1885973400-1885977000@cp12stepoutreach.org
SUMMARY:Saturday Group - 12 Step Spirituality - Minneapolis\, Minnesota
DESCRIPTION:Zoom Link: https://zoom.us/j/392510399
URL:https://cp12stepoutreach.org/meeting-or-group/saturday-group-12-step-spirituality-minneapolis-minnesota/2029-10-06/
LOCATION:1st Universalist Church\, Minneapolis\, Minnesota\, 55408\, United States
CATEGORIES:Online 12 Step Centering Prayer Groups
ORGANIZER;CN="Adam Gordon":MAILTO:agordon@minnesotacontemplativeoutreach.org
END:VEVENT
BEGIN:VEVENT
DTSTART;TZID=America/Chicago:20291013T093000
DTEND;TZID=America/Chicago:20291013T103000
DTSTAMP:20260419T212541
CREATED:20250213T214143Z
LAST-MODIFIED:20250213T214143Z
UID:10065809-1886578200-1886581800@cp12stepoutreach.org
SUMMARY:Saturday Group - 12 Step Spirituality - Minneapolis\, Minnesota
DESCRIPTION:Zoom Link: https://zoom.us/j/392510399
URL:https://cp12stepoutreach.org/meeting-or-group/saturday-group-12-step-spirituality-minneapolis-minnesota/2029-10-13/
LOCATION:1st Universalist Church\, Minneapolis\, Minnesota\, 55408\, United States
CATEGORIES:Online 12 Step Centering Prayer Groups
ORGANIZER;CN="Adam Gordon":MAILTO:agordon@minnesotacontemplativeoutreach.org
END:VEVENT
BEGIN:VEVENT
DTSTART;TZID=America/Chicago:20291020T093000
DTEND;TZID=America/Chicago:20291020T103000
DTSTAMP:20260419T212541
CREATED:20250213T214143Z
LAST-MODIFIED:20250213T214143Z
UID:10065810-1887183000-1887186600@cp12stepoutreach.org
SUMMARY:Saturday Group - 12 Step Spirituality - Minneapolis\, Minnesota
DESCRIPTION:Zoom Link: https://zoom.us/j/392510399
URL:https://cp12stepoutreach.org/meeting-or-group/saturday-group-12-step-spirituality-minneapolis-minnesota/2029-10-20/
LOCATION:1st Universalist Church\, Minneapolis\, Minnesota\, 55408\, United States
CATEGORIES:Online 12 Step Centering Prayer Groups
ORGANIZER;CN="Adam Gordon":MAILTO:agordon@minnesotacontemplativeoutreach.org
END:VEVENT
BEGIN:VEVENT
DTSTART;TZID=America/Chicago:20291027T093000
DTEND;TZID=America/Chicago:20291027T103000
DTSTAMP:20260419T212541
CREATED:20250213T214143Z
LAST-MODIFIED:20250213T214143Z
UID:10065811-1887787800-1887791400@cp12stepoutreach.org
SUMMARY:Saturday Group - 12 Step Spirituality - Minneapolis\, Minnesota
DESCRIPTION:Zoom Link: https://zoom.us/j/392510399
URL:https://cp12stepoutreach.org/meeting-or-group/saturday-group-12-step-spirituality-minneapolis-minnesota/2029-10-27/
LOCATION:1st Universalist Church\, Minneapolis\, Minnesota\, 55408\, United States
CATEGORIES:Online 12 Step Centering Prayer Groups
ORGANIZER;CN="Adam Gordon":MAILTO:agordon@minnesotacontemplativeoutreach.org
END:VEVENT
BEGIN:VEVENT
DTSTART;TZID=America/Chicago:20291103T093000
DTEND;TZID=America/Chicago:20291103T103000
DTSTAMP:20260419T212541
CREATED:20250213T214143Z
LAST-MODIFIED:20250213T214143Z
UID:10065812-1888392600-1888396200@cp12stepoutreach.org
SUMMARY:Saturday Group - 12 Step Spirituality - Minneapolis\, Minnesota
DESCRIPTION:Zoom Link: https://zoom.us/j/392510399
URL:https://cp12stepoutreach.org/meeting-or-group/saturday-group-12-step-spirituality-minneapolis-minnesota/2029-11-03/
LOCATION:1st Universalist Church\, Minneapolis\, Minnesota\, 55408\, United States
CATEGORIES:Online 12 Step Centering Prayer Groups
ORGANIZER;CN="Adam Gordon":MAILTO:agordon@minnesotacontemplativeoutreach.org
END:VEVENT
BEGIN:VEVENT
DTSTART;TZID=America/Chicago:20291110T093000
DTEND;TZID=America/Chicago:20291110T103000
DTSTAMP:20260419T212541
CREATED:20250213T214143Z
LAST-MODIFIED:20250213T214143Z
UID:10065813-1888997400-1889001000@cp12stepoutreach.org
SUMMARY:Saturday Group - 12 Step Spirituality - Minneapolis\, Minnesota
DESCRIPTION:Zoom Link: https://zoom.us/j/392510399
URL:https://cp12stepoutreach.org/meeting-or-group/saturday-group-12-step-spirituality-minneapolis-minnesota/2029-11-10/
LOCATION:1st Universalist Church\, Minneapolis\, Minnesota\, 55408\, United States
CATEGORIES:Online 12 Step Centering Prayer Groups
ORGANIZER;CN="Adam Gordon":MAILTO:agordon@minnesotacontemplativeoutreach.org
END:VEVENT
BEGIN:VEVENT
DTSTART;TZID=America/Chicago:20291117T093000
DTEND;TZID=America/Chicago:20291117T103000
DTSTAMP:20260419T212541
CREATED:20250213T214143Z
LAST-MODIFIED:20250213T214143Z
UID:10065814-1889602200-1889605800@cp12stepoutreach.org
SUMMARY:Saturday Group - 12 Step Spirituality - Minneapolis\, Minnesota
DESCRIPTION:Zoom Link: https://zoom.us/j/392510399
URL:https://cp12stepoutreach.org/meeting-or-group/saturday-group-12-step-spirituality-minneapolis-minnesota/2029-11-17/
LOCATION:1st Universalist Church\, Minneapolis\, Minnesota\, 55408\, United States
CATEGORIES:Online 12 Step Centering Prayer Groups
ORGANIZER;CN="Adam Gordon":MAILTO:agordon@minnesotacontemplativeoutreach.org
END:VEVENT
BEGIN:VEVENT
DTSTART;TZID=America/Chicago:20291124T093000
DTEND;TZID=America/Chicago:20291124T103000
DTSTAMP:20260419T212541
CREATED:20250213T214143Z
LAST-MODIFIED:20250213T214143Z
UID:10065815-1890207000-1890210600@cp12stepoutreach.org
SUMMARY:Saturday Group - 12 Step Spirituality - Minneapolis\, Minnesota
DESCRIPTION:Zoom Link: https://zoom.us/j/392510399
URL:https://cp12stepoutreach.org/meeting-or-group/saturday-group-12-step-spirituality-minneapolis-minnesota/2029-11-24/
LOCATION:1st Universalist Church\, Minneapolis\, Minnesota\, 55408\, United States
CATEGORIES:Online 12 Step Centering Prayer Groups
ORGANIZER;CN="Adam Gordon":MAILTO:agordon@minnesotacontemplativeoutreach.org
END:VEVENT
BEGIN:VEVENT
DTSTART;TZID=America/Chicago:20291201T093000
DTEND;TZID=America/Chicago:20291201T103000
DTSTAMP:20260419T212541
CREATED:20250213T214143Z
LAST-MODIFIED:20250213T214143Z
UID:10065816-1890811800-1890815400@cp12stepoutreach.org
SUMMARY:Saturday Group - 12 Step Spirituality - Minneapolis\, Minnesota
DESCRIPTION:Zoom Link: https://zoom.us/j/392510399
URL:https://cp12stepoutreach.org/meeting-or-group/saturday-group-12-step-spirituality-minneapolis-minnesota/2029-12-01/
LOCATION:1st Universalist Church\, Minneapolis\, Minnesota\, 55408\, United States
CATEGORIES:Online 12 Step Centering Prayer Groups
ORGANIZER;CN="Adam Gordon":MAILTO:agordon@minnesotacontemplativeoutreach.org
END:VEVENT
BEGIN:VEVENT
DTSTART;TZID=America/Chicago:20291208T093000
DTEND;TZID=America/Chicago:20291208T103000
DTSTAMP:20260419T212541
CREATED:20250213T214143Z
LAST-MODIFIED:20250213T214143Z
UID:10065817-1891416600-1891420200@cp12stepoutreach.org
SUMMARY:Saturday Group - 12 Step Spirituality - Minneapolis\, Minnesota
DESCRIPTION:Zoom Link: https://zoom.us/j/392510399
URL:https://cp12stepoutreach.org/meeting-or-group/saturday-group-12-step-spirituality-minneapolis-minnesota/2029-12-08/
LOCATION:1st Universalist Church\, Minneapolis\, Minnesota\, 55408\, United States
CATEGORIES:Online 12 Step Centering Prayer Groups
ORGANIZER;CN="Adam Gordon":MAILTO:agordon@minnesotacontemplativeoutreach.org
END:VEVENT
END:VCALENDAR